{"text_format":"1","workbook":"xlsx","n_sheets":5,"sheets":["Kold","Brand","firsidig","Ark1","Makro"],"not_rendered":{"charts":5,"images":4,"macros":1,"external_links":0,"defined_names":21,"comments":2,"pivot_tables":0},"unopened":[],"bounds":{"document_bytes":16777216,"sheet_cells":100000,"rows_first":2000,"rows_last":500,"rows_between":2000,"halvings":0,"cell_chars":16384,"cell_head_chars":4096},"cells_cut":0,"cells_raw":0,"read":"whole","date_system":"1900"}

{"sheet":"Kold","index":0,"n_rows":86,"n_cols":75,"rows_kept":86,"cut":false,"hidden":false,"merged":[[31,18,32,21],[34,18,34,21],[23,3,23,8],[1,2,1,9],[34,10,34,12],[2,2,2,6],[4,2,4,6],[3,2,3,6],[2,8,2,9],[3,8,3,9],[4,8,4,9],[33,10,33,12],[2,11,4,16],[1,10,1,12],[1,13,1,16]]}
[]
[null,"Bruger:",{"$f":"Makro!D20","v":0},null,null,null,null,null,null,null,"Søjleberegning",null,null,"Betonelement-Foreningen feb 2019"]
[null,"Sagsnavn:","Betonelementhuset",null,null,null,null,"Sag nr.:","23 - 4545",null,null,{"$f":"AU18&AU19&AU20&AU21&AU22&AU23&AU24&AU25&AU26&AU27&AU28&AU29&AU30","v":"For ny bruger: Klik på knappen 'angiv nyt brugernavn' for ibrugtagning."}]
[null,"Bygningsdel:","Søjle i modul D/12, stueetage",null,null,null,null,"Dato:","2007-01-02"]
[null,"Emne:","Normale lastkombinationer",null,null,null,null,"Init:","JFJ",null,null,null,null,null,null,null,null,null,null,null,null,null,null,null,null,null,null,null,null,null,null,null,null,null,null,null,null,null,null,"Aktivt ark:",1,-1]
[]
[null,null,null,null,null,null,null,null,null,null," Materialer",null,"fck",40,"Regningsmæssige parametre"]
[null,null,null,null,null,null,null,null,null,null,null,null,"fyk",550,null,"fcd",{"$f":"N7/(N9)","v":28.571428571428573}]
[null,null,null,null,null,null,null,null,null,null,null,null,"gc",1.4,null,"fyd",{"$f":"N8/MAX(1,N10)","v":458.33333333333337},null,null,null,null,null,null,null,null,null,null,null,null,null,null,null,null,null,null,null,null,null,null,1,{"$f":"AW10*1000+0.001","v":0.10100000000010001},{"$f":"IF(Makro!$E$20=1,\"-\",AX10*1000)","v":"-"},null,null,"Forskydningscheck",null,null,null,"N","M","hc","e0","sac","sat",null,"Lastpunkt",1,2,3,4,5,6,4,"A"]
[null,null,null,null,null,null,null,null,null,null,null,null,"gs",1.2,null,"Ecd",{"$f":"1000*22*((N7+8)/10)^0.3/N9","v":25157.473063524587},null,null,null,null,null,null,null,null,null,null,null,null,null,null,null,null,null,null,null,null,null,null,2,{"$f":"AW11*1000","v":170.47542052121938},{"$f":"IF(Makro!$E$20=1,\"-\",AX11*1000)","v":"-"},null,null,"f_ctd",{"$f":"SQRT(N7/10)/N9","v":1.4285714285714286},"MPa",null,{"$f":"IF($AO$5=1,'Ark1'!M10,0)*$AY$38","v":1.0000000000010001E-4},{"$f":"IF($AO$5=1,'Ark1'!N10,0)*$AY$38","v":0.11972425269907729},{"$f":"IF($AO$5=1,'Ark1'!O10,0)","v":0.12945607170440351},{"$f":"IF($AO$5=1,'Ark1'!P10,0)","v":3.2742931933764949E-4},{"$f":"IF($AO$5=1,'Ark1'!Q10,0)","v":90.812088468865227},{"$f":"IF($AO$5=1,'Ark1'!R10,0)","v":458.32747875640376},null,"Indeks",{"$f":"Makro!B1","v":1},{"$f":"Makro!C1","v":1},{"$f":"Makro!D1","v":1},{"$f":"Makro!E1","v":1},{"$f":"Makro!F1","v":1},{"$f":"Makro!G1","v":1},9,"B"]
[null,null,null,null,null,null,null,null,null,null," Søjlelængde",null,"Ls",6000,"Krybetal",null,null,null,null,null,null,null,null,null,null,null,null,null,null,null,null,null,null,null,null,null,null,null,null,3,316.43621289546218,{"$f":"IF(Makro!$E$20=1,\"-\",AX12*1000)","v":"-"},null,null,"r",{"$f":"AP41/(N12*N13)","v":2.6595493363723117E-3},null,null,{"$f":"IF($AO$5=1,'Ark1'!M11,0)*$AY$38","v":0.17047542052121939},{"$f":"IF($AO$5=1,'Ark1'!N11,0)*$AY$38","v":0.14993221347010191},{"$f":"IF($AO$5=1,'Ark1'!O11,0)","v":0.15398187908114286},{"$f":"IF($AO$5=1,'Ark1'!P11,0)","v":4.5739675128514293E-4},{"$f":"IF($AO$5=1,'Ark1'!Q11,0)","v":144.31314469897774},{"$f":"IF($AO$5=1,'Ark1'!R11,0)","v":458.33333333333337},null,null,{"$f":"INDEX($BL$9:$BL$17,Makro!B1)","v":"A"},{"$f":"INDEX($BL$9:$BL$17,Makro!C1)","v":"A"},{"$f":"INDEX($BL$9:$BL$17,Makro!D1)","v":"A"},{"$f":"INDEX($BL$9:$BL$17,Makro!E1)","v":"A"},{"$f":"INDEX($BL$9:$BL$17,Makro!F1)","v":"A"},{"$f":"INDEX($BL$9:$BL$17,Makro!G1)","v":"A"},{"$f":"INDEX(BL9:BL17,BK10)","v":"I"},"C"]
[null,null,null,null,null,null,null,null,null,null," Tværsnit",null,"h",540,null,"RH",0.55000000000000004,null,null,null,null,null,null,null,null,null,null,null,null,null,null,null,null,null,null,null,null,null,null,4,470.21947046681458,{"$f":"IF(Makro!$E$20=1,\"-\",AX13*1000)","v":"-"},null,null,"k",{"$f":"MAX(1,1.6-N12/1000)","v":1.06},null,null,{"$f":"IF($AO$5=1,'Ark1'!M12,0)*$AY$38","v":0.3164362128954622},{"$f":"IF($AO$5=1,'Ark1'!N12,0)*$AY$38","v":0.17351047945057924},{"$f":"IF($AO$5=1,'Ark1'!O12,0)","v":0.17394964462770141},{"$f":"IF($AO$5=1,'Ark1'!P12,0)","v":5.4994191131377409E-4},{"$f":"IF($AO$5=1,'Ark1'!Q12,0)","v":186.22781758609173},{"$f":"IF($AO$5=1,'Ark1'!R12,0)","v":458.33333333333337},null,"N",{"$f":"INDEX($AN$30:$AQ$38,Makro!B1,2)","v":1331.46},{"$f":"INDEX($AN$30:$AQ$38,Makro!C1,2)","v":1331.46},{"$f":"INDEX($AN$30:$AQ$38,Makro!D1,2)","v":1331.46},{"$f":"INDEX($AN$30:$AQ$38,Makro!E1,2)","v":1331.46},{"$f":"INDEX($AN$30:$AQ$38,Makro!F1,2)","v":1331.46},{"$f":"INDEX($AN$30:$AQ$38,Makro!G1,2)","v":1331.46},{"$f":"INDEX($AN$30:$AQ$38,BK10,2)","v":3458.0999999999995},"D"]
[null,null,null,null,null,null,null,null,null,null,null,null,"b",420,null,"to",28,null,null,null,null,null,null,null,null,null,null,null,null,null,null,null,null,null,null,null,null,null,null,5,740.15753508828334,{"$f":"IF(Makro!$E$20=1,\"-\",AX14*1000)","v":"-"},null,null,"s_p",null,"MPa",null,{"$f":"IF($AO$5=1,'Ark1'!M13,0)*$AY$38","v":0.47021947046681456},{"$f":"IF($AO$5=1,'Ark1'!N13,0)*$AY$38","v":0.19669678299193105},{"$f":"IF($AO$5=1,'Ark1'!O13,0)","v":0.19020714713826217},{"$f":"IF($AO$5=1,'Ark1'!P13,0)","v":6.4833572344321494E-4},{"$f":"IF($AO$5=1,'Ark1'!Q13,0)","v":229.42791036080226},{"$f":"IF($AO$5=1,'Ark1'!R13,0)","v":458.33333333333337},null,"N",{"$f":"INDEX(Lastresult,1+5*(BE9-1),16)*1000","v":1331.5272225862152},1331.5272225862152,1331.5272225862152,1331.5272225862152,1331.5272225862152,1331.5272225862152,1331.5272225862152,"E"]
[null,null,null,null,null,null,null,null,null,null,null,null,"c",60,null,"fo",{"$f":"AT41","v":1.7607656586918623},null,null,null,null,null,null,null,null,null,null,null,null,null,null,null,null,null,null,null,null,null,null,6,1034.7016556980968,{"$f":"IF(Makro!$E$20=1,\"-\",AX15*1000)","v":"-"},null,null,"t_0d",{"$f":"0.25*AT12*(1.2+40*AT11)*AT10+0.15*AT13","v":0.49455888995078079},"MPa",null,{"$f":"IF($AO$5=1,'Ark1'!M14,0)*$AY$38","v":0.7401575350882833},{"$f":"IF($AO$5=1,'Ark1'!N14,0)*$AY$38","v":0.23365973616129712},{"$f":"IF($AO$5=1,'Ark1'!O14,0)","v":0.20976979172988638},{"$f":"IF($AO$5=1,'Ark1'!P14,0)","v":8.317346547287057E-4},{"$f":"IF($AO$5=1,'Ark1'!Q14,0)","v":306.97597092325702},{"$f":"IF($AO$5=1,'Ark1'!R14,0)","v":458.33333333333337},null,"M",{"$f":"INDEX($AN$30:$AQ$38,Makro!B1,4)","v":94.0608},{"$f":"INDEX($AN$30:$AQ$38,Makro!C1,4)","v":94.0608},{"$f":"INDEX($AN$30:$AQ$38,Makro!D1,4)","v":94.0608},{"$f":"INDEX($AN$30:$AQ$38,Makro!E1,4)","v":94.0608},{"$f":"INDEX($AN$30:$AQ$38,Makro!F1,4)","v":94.0608},{"$f":"INDEX($AN$30:$AQ$38,Makro!G1,4)","v":94.0608},{"$f":"INDEX($AN$30:$AQ$38,BK10,4)","v":172.71119999999996},"F"]
[null,null,null,null,null,null,null,null,null,null,"Trykarm.",null,"da",16,null,"M0Eqp/M0Ed",0.9,null,null,null,null,null,null,null,null,null,null,null,null,null,null,null,null,null,null,null,null,null,null,7,1392.2713572708783,{"$f":"IF(Makro!$E$20=1,\"-\",AX16*1000)","v":"-"},null,null,null,null,null,null,{"$f":"IF($AO$5=1,'Ark1'!M15,0)*$AY$38","v":1.0347016556980968},{"$f":"IF($AO$5=1,'Ark1'!N15,0)*$AY$38","v":0.26872442002423014},{"$f":"IF($AO$5=1,'Ark1'!O15,0)","v":0.23210975825278549},{"$f":"IF($AO$5=1,'Ark1'!P15,0)","v":1.0081012683895029E-3},{"$f":"IF($AO$5=1,'Ark1'!Q15,0)","v":386.41552107443147},{"$f":"IF($AO$5=1,'Ark1'!R15,0)","v":458.33333333333337},null,"Mud ",{"$f":"INDEX(Lastresult,1+5*(BE9-1),17)*1000","v":298.79952145679647},298.79952145679647,298.79952145679647,298.79952145679647,298.79952145679647,298.79952145679647,298.79952145679647,"G"]
[null,null,null,null,null,null,null,null,null,null,null,null,"Antal",3,null,"fef",{"$f":"Q15*Q14","v":1.584689092822676},null,null,null,null,null,null,null,null,null,null,null,null,null,null,null,null,null,null,null,null,null,null,8,1844.7793111921364,{"$f":"IF(Makro!$E$20=1,\"-\",AX17*1000)","v":"-"},null,null,"t_d",{"$f":"0.5*N11*MAX(Q25:Q28)/(0.8*N12*N13)","v":0.1984126984126984},"MPa",null,{"$f":"IF($AO$5=1,'Ark1'!M16,0)*$AY$38","v":1.3922713572708783},{"$f":"IF($AO$5=1,'Ark1'!N16,0)*$AY$38","v":0.3035794013999768},{"$f":"IF($AO$5=1,'Ark1'!O16,0)","v":0.25773794179237436},{"$f":"IF($AO$5=1,'Ark1'!P16,0)","v":1.2225765494064118E-3},{"$f":"IF($AO$5=1,'Ark1'!Q16,0)","v":458.33333333333337},{"$f":"IF($AO$5=1,'Ark1'!R16,0)","v":458.33333333333337},null,"u",{"$f":"INDEX(Lastresult,1+5*(BE9-1),15)*1000","v":43.492855488182634},43.492855488182634,43.492855488182634,43.492855488182634,43.492855488182634,43.492855488182634,43.492855488182634,"H"]
[null,null,null,null,null,null,null,null,null,null,"Trækarm.",null,"da",16,"Bøjler",{"$f":"\"Generelt:        ø \"&CEILING(MAX(6,N15/4,N17/4),1)&\" / \"&CEILING(MIN(20*MIN(N15,N17),MIN(N12,N13),400),1)&\" mm\"","v":"Generelt:        ø 6 / 320 mm"},null,null,null,null,null,null,null,null,null,null,null,null,null,null,null,null,null,null,null,null,null,null,null,9,2401.3333050596816,{"$f":"IF(Makro!$E$20=1,\"-\",AX18*1000)","v":"-"},null,null,null,null,null,null,{"$f":"IF($AO$5=1,'Ark1'!M17,0)*$AY$38","v":1.8447793111921365},{"$f":"IF($AO$5=1,'Ark1'!N17,0)*$AY$38","v":0.33027919574682274},{"$f":"IF($AO$5=1,'Ark1'!O17,0)","v":0.28728229315396503},{"$f":"IF($AO$5=1,'Ark1'!P17,0)","v":1.5532805370088755E-3},{"$f":"IF($AO$5=1,'Ark1'!Q17,0)","v":458.33333333333337},{"$f":"IF($AO$5=1,'Ark1'!R17,0)","v":458.33333333333337},null,"wr","-","-","-","-","-","-","-","I"]
[null,null,null,null,null,null,null,null,null,null,null,null,"Antal",3,null,{"$f":"\"Top og bund: ø \"&CEILING(MAX(6,N15/4,N17/4),1)&\" / \"&CEILING(0.6*MIN(20*MIN(N15,N17),MIN(N12,N13),400),1)&\" mm\"","v":"Top og bund: ø 6 / 192 mm"},null,null,null,null,null,null,null,null,null,null,null,null,null,null,null,null,null,null,null,null,null,null,null,10,2990.8824557713488,{"$f":"IF(Makro!$E$20=1,\"-\",AX19*1000)","v":"-"},null,null,"Ingen negative inddata",{"$f":"IF(MIN(N7,N8,N9,N10,N11,N14,N15,N16,N17,N18,AP40,AP41,N12,N13,N25:Q34,N35:P35,Q12,Q13,Q15,N23)<0,1,0)","v":0},{"$f":"IF(AT18=1,AS18&\" !   \",\"\")","v":""},null,{"$f":"IF($AO$5=1,'Ark1'!M18,0)*$AY$38","v":2.4013333050596817},{"$f":"IF($AO$5=1,'Ark1'!N18,0)*$AY$38","v":0.34160090469493976},{"$f":"IF($AO$5=1,'Ark1'!O18,0)","v":0.32152034227515802},{"$f":"IF($AO$5=1,'Ark1'!P18,0)","v":1.9733666059115963E-3},{"$f":"IF($AO$5=1,'Ark1'!Q18,0)","v":458.33333333333337},{"$f":"IF($AO$5=1,'Ark1'!R18,0)","v":458.33333333333337},null,"e0 ",{"$f":"INDEX(Lastresult,1+5*(BE9-1),3)*1000","v":1.1821243708783344},1.1821243708783344,1.1821243708783344,1.1821243708783344,1.1821243708783344,1.1821243708783344,1.1821243708783344]
[null,null,null,null,null,null,null,null,null,null,"Anvendelsestilstand",null,null,null,"Kritisk last (central)",null,null,null,null,null,null,null,null,null,null,null,null,null,null,null,null,null,null,null,null,null,null,null,null,11,3505.7265706422481,{"$f":"IF(Makro!$E$20=1,\"-\",AX20*1000)","v":"-"},null,null,"f_ck højst 50 MPa",{"$f":"IF(N7>50,1,0)","v":0},"",null,{"$f":"IF($AO$5=1,'Ark1'!M19,0)*$AY$38","v":2.9908824557713487},{"$f":"IF($AO$5=1,'Ark1'!N19,0)*$AY$38","v":0.3203077294277713},{"$f":"IF($AO$5=1,'Ark1'!O19,0)","v":0.36142247287457469},{"$f":"IF($AO$5=1,'Ark1'!P19,0)","v":2.3445454838367072E-3},{"$f":"IF($AO$5=1,'Ark1'!Q19,0)","v":458.33333333333337},{"$f":"IF($AO$5=1,'Ark1'!R19,0)","v":397.63463384304356},null,"sc0",{"$f":"('Ark1'!$O$31*'Ark1'!$O$30*Kold!BE18/1000-(Kold!BE18/1000)^2)*$Q$8/('Ark1'!$O$30^2+('Ark1'!$O$31-2)*'Ark1'!$O$30*Kold!BE18/1000)","v":22.157865279445346},{"$f":"('Ark1'!$O$31*'Ark1'!$O$30*Kold!BF18/1000-(Kold!BF18/1000)^2)*$Q$8/('Ark1'!$O$30^2+('Ark1'!$O$31-2)*'Ark1'!$O$30*Kold!BF18/1000)","v":22.157865279445346},{"$f":"('Ark1'!$O$31*'Ark1'!$O$30*Kold!BG18/1000-(Kold!BG18/1000)^2)*$Q$8/('Ark1'!$O$30^2+('Ark1'!$O$31-2)*'Ark1'!$O$30*Kold!BG18/1000)","v":22.157865279445346},{"$f":"('Ark1'!$O$31*'Ark1'!$O$30*Kold!BH18/1000-(Kold!BH18/1000)^2)*$Q$8/('Ark1'!$O$30^2+('Ark1'!$O$31-2)*'Ark1'!$O$30*Kold!BH18/1000)","v":22.157865279445346},{"$f":"('Ark1'!$O$31*'Ark1'!$O$30*Kold!BI18/1000-(Kold!BI18/1000)^2)*$Q$8/('Ark1'!$O$30^2+('Ark1'!$O$31-2)*'Ark1'!$O$30*Kold!BI18/1000)","v":22.157865279445346},{"$f":"('Ark1'!$O$31*'Ark1'!$O$30*Kold!BJ18/1000-(Kold!BJ18/1000)^2)*$Q$8/('Ark1'!$O$30^2+('Ark1'!$O$31-2)*'Ark1'!$O$30*Kold!BJ18/1000)","v":22.157865279445346},{"$f":"('Ark1'!$O$31*'Ark1'!$O$30*Kold!BK18/1000-(Kold!BK18/1000)^2)*$Q$8/('Ark1'!$O$30^2+('Ark1'!$O$31-2)*'Ark1'!$O$30*Kold!BK18/1000)","v":22.157865279445346}]
[null,null,null,null,null,null,null,null,null,null,null,"I anvendelsestilstand skønnes  a",null,null,null,"scrd",{"$f":"Q8/(1+12*Q8*N11^2/(PI()^2*Q10*N12^2))","v":24.41010842076092},null,null,null,null,null,null,null,null,null,null,null,null,null,null,null,null,null,null,null,null,null,null,12,4078.3575099945192,{"$f":"IF(Makro!$E$20=1,\"-\",AX21*1000)","v":"-"},null,null,"f_ck mindst 20 MPa",{"$f":"IF(N7<20,1,0)","v":0},"",null,{"$f":"IF($AO$5=1,'Ark1'!M20,0)*$AY$38","v":3.5057265706422482},{"$f":"IF($AO$5=1,'Ark1'!N20,0)*$AY$38","v":0.28060371324305455},{"$f":"IF($AO$5=1,'Ark1'!O20,0)","v":0.40821011767341625},{"$f":"IF($AO$5=1,'Ark1'!P20,0)","v":2.3796898034895218E-3},{"$f":"IF($AO$5=1,'Ark1'!Q20,0)","v":458.33333333333337},{"$f":"IF($AO$5=1,'Ark1'!R20,0)","v":216.34065104151506},null,"sst",{"$f":"INDEX(Lastresult,1+5*(BE9-1),12)","v":458.33333333333337},458.33333333333337,458.33333333333337,458.33333333333337,458.33333333333337,458.33333333333337,458.33333333333337]
[null,null,null,null,null,null,null,null,null,null,null,"til en passende værdi afhængig af",null,null,null,"fc",{"$f":"AP40/(N12*N13)","v":2.6595493363723117E-3},null,null,null,null,null,null,null,null,null,null,null,null,null,null,null,null,null,null,null,null,null,null,13,4684.9730488693967,{"$f":"IF(Makro!$E$20=1,\"-\",AX22*1000)","v":"-"},null,null,"b og h mindst 90 mm",{"$f":"IF(MIN(N12,N13)<90,1,0)","v":0},"",null,{"$f":"IF($AO$5=1,'Ark1'!M21,0)*$AY$38","v":4.0783575099945191},{"$f":"IF($AO$5=1,'Ark1'!N21,0)*$AY$38","v":0.22486151456318773},{"$f":"IF($AO$5=1,'Ark1'!O21,0)","v":0.46343492031952305},{"$f":"IF($AO$5=1,'Ark1'!P21,0)","v":2.3994489083901563E-3},{"$f":"IF($AO$5=1,'Ark1'!Q21,0)","v":458.33333333333337},{"$f":"IF($AO$5=1,'Ark1'!R21,0)","v":44.335803816560166},null,"ssc",{"$f":"INDEX(Lastresult,1+5*(BE9-1),10)","v":458.33333333333337},458.33333333333337,458.33333333333337,458.33333333333337,458.33333333333337,458.33333333333337,458.33333333333337]
[null,null,null,null,null,null,null,null,null,null,null,"forholdet mellem lang- og kort-",null,null,null,"ft",{"$f":"AP41/(N12*N13)","v":2.6595493363723117E-3},null,null,null,null,null,null,null,null,null,null,null,null,null,null,null,null,null,null,null,null,null,null,14,5193.2025702185538,{"$f":"IF(Makro!$E$20=1,\"-\",AX23*1000)","v":"-"},null,null,{"$f":"\"A_c og A_t må højst være \"&BB35&\" mm^2\"","v":"A_c og A_t må højst være 4536 mm^2"},{"$f":"IF(OR(AP40>BB35,AP41>BB35),1,0)","v":0},"",null,{"$f":"IF($AO$5=1,'Ark1'!M22,0)*$AY$38","v":4.6849730488693968},{"$f":"IF($AO$5=1,'Ark1'!N22,0)*$AY$38","v":0.14825150726227698},{"$f":"IF($AO$5=1,'Ark1'!O22,0)","v":0.52908775969114819},{"$f":"IF($AO$5=1,'Ark1'!P22,0)","v":2.3625267353352903E-3},{"$f":"IF($AO$5=1,'Ark1'!Q22,0)","v":458.33333333333337},{"$f":"IF($AO$5=1,'Ark1'!R22,0)","v":-113.30798989905054},null,"hc ",{"$f":"INDEX(Lastresult,1+5*(BE9-1),2)*1000","v":252.90421059977115},252.90421059977115,252.90421059977115,252.90421059977115,252.90421059977115,252.90421059977115,252.90421059977115]
[null,null,null,null,null,null,null,null,null,null,null,"tidslast:","aanv. =",15,null,"Ncr",{"$f":"MIN(N12*N13*Q20*(1+(200000/Q10)*2*MIN(Q21,Q22)),N12*N13*Q20*(1+(Q9/Q20)*2*MIN(Q21,Q22)))/1000","v":5770.3192583658465},null,null,null,null,null,null,null,null,null,null,null,null,null,null,null,null,null,null,null,null,null,null,15,5501.963563618714,{"$f":"IF(Makro!$E$20=1,\"-\",AX24*1000)","v":"-"},null,null,"a højst h/3",{"$f":"IF(N14>N12/3,1,0)","v":0},"",null,{"$f":"IF($AO$5=1,'Ark1'!M23,0)*$AY$38","v":5.1932025702185536},{"$f":"IF($AO$5=1,'Ark1'!N23,0)*$AY$38","v":7.4743440098927388E-2},{"$f":"IF($AO$5=1,'Ark1'!O23,0)","v":0.60775093154630122},{"$f":"IF($AO$5=1,'Ark1'!P23,0)","v":2.2403171511680316E-3},{"$f":"IF($AO$5=1,'Ark1'!Q23,0)","v":458.33333333333337},{"$f":"IF($AO$5=1,'Ark1'!R23,0)","v":-243.43681201224064}]
[null,null,"Kontrolparametre","Brudlasttilfælde",null,null,null,null,null,"Anv. -"," Brudlasttilfælde",null,null,"     N1  (kN)","N0  (kN)","   N2  (kN)","w  (kN/m)",null,null,null,null,null,null,null,null,null,null,null,null,null,null,null,null,null,null,null,null,null,null,16,5501.963563618714,{"$f":"IF(Makro!$E$20=1,\"-\",AX25*1000)","v":"-"},null,null,"Armeringsdiameteren skal være større end 8 mm",{"$f":"IF(OR(N15<8,N17<8),1,0)","v":0},"",null,{"$f":"IF($AO$5=1,'Ark1'!M24,0)*$AY$38","v":5.5019635636187143},{"$f":"IF($AO$5=1,'Ark1'!N24,0)*$AY$38","v":3.5739726210757272E-2},{"$f":"IF($AO$5=1,'Ark1'!O24,0)","v":0.70281369836511054},{"$f":"IF($AO$5=1,'Ark1'!P24,0)","v":2.0897030912682734E-3},{"$f":"IF($AO$5=1,'Ark1'!Q24,0)","v":458.33333333333337},{"$f":"IF($AO$5=1,'Ark1'!R24,0)","v":-342.47159833541008}]
[null,null,null,{"$f":"IF($AO$5=1,BE11,\"-\")","v":"A"},{"$f":"IF($AO$5=1,BF11,\"-\")","v":"A"},{"$f":"IF($AO$5=1,BG11,\"-\")","v":"A"},{"$f":"IF($AO$5=1,BK11,\"-\")","v":"I"},{"$f":"IF($AO$5=1,BL11,\"-\")","v":"C"},{"$f":"IF($AO$5=1,BJ11,\"-\")","v":"A"},"tilfælde","A",null,null,107.64,1146.5999999999999,77.22,12,null,null,null,null,null,null,null,null,null,null,null,null,null,null,null,null,null,null,null,null,null,null,17,5501.963563618714,{"$f":"IF(Makro!$E$20=1,\"-\",AX26*1000)","v":"-"},null,null,"f_yk højst 600 MPa",{"$f":"IF(N8>600,1,0)","v":0},"",null,{"$f":"IF($AO$5=1,'Ark1'!M25,0)*$AY$38","v":5.5019635636187143},{"$f":"IF($AO$5=1,'Ark1'!N25,0)*$AY$38","v":3.5739726210757272E-2},{"$f":"IF($AO$5=1,'Ark1'!O25,0)","v":0.70281369836511054},{"$f":"IF($AO$5=1,'Ark1'!P25,0)","v":2.0897030912682734E-3},{"$f":"IF($AO$5=1,'Ark1'!Q25,0)","v":458.33333333333337},{"$f":"IF($AO$5=1,'Ark1'!R25,0)","v":-342.47159833541008}]
[null,"NEd","(kN)",{"$f":"IF($AO$5=1,BE13,\"-\")","v":1331.5272225862152},{"$f":"IF($AO$5=1,BF13,\"-\")","v":1331.5272225862152},{"$f":"IF($AO$5=1,BG13,\"-\")","v":1331.5272225862152},{"$f":"IF($AO$5=1,BH13,\"-\")","v":1331.5272225862152},{"$f":"IF($AO$5=1,BI13,\"-\")","v":1331.5272225862152},{"$f":"IF($AO$5=1,BJ13,\"-\")","v":1331.5272225862152},{"$f":"N34+O34+P34","v":600},"B",null,null,609.17999999999995,1146.5999999999999,77.22,12,null,null,null,null,null,null,null,null,null,null,null,null,null,null,null,null,null,null,null,null,null,null,18,5501.963563618714,{"$f":"IF(Makro!$E$20=1,\"-\",AX27*1000)","v":"-"},null,null,{"$f":"\"A_c og A_t skal være større end \"&AY35&\" mm^2\"","v":"A_c og A_t skal være større end 377 mm^2"},{"$f":"IF(OR(AP40<AY35,AP41<AY35),1,0)","v":0},{"$f":"IF(AT26=1,AS26&\" !   \",\"\")","v":""},null,{"$f":"IF($AO$5=1,'Ark1'!M26,0)*$AY$38","v":5.5019635636187143},{"$f":"IF($AO$5=1,'Ark1'!N26,0)*$AY$38","v":3.5739726210757272E-2},{"$f":"IF($AO$5=1,'Ark1'!O26,0)","v":0.70281369836511054},{"$f":"IF($AO$5=1,'Ark1'!P26,0)","v":2.0897030912682734E-3},{"$f":"IF($AO$5=1,'Ark1'!Q26,0)","v":458.33333333333337},{"$f":"IF($AO$5=1,'Ark1'!R26,0)","v":-342.47159833541008}]
[null,"M0Ed"," (kNm)",94.0608,94.0608,94.0608,94.0608,94.0608,94.0608,{"$f":"(N34*N35+O34*O35-P34*P35)/1000+0.125*Q34*(N11/1000)^2","v":157.80000000000001},"C",null,null,609.17999999999995,2205.84,77.22,12,null,null,null,null,null,null,null,null,null,null,null,null,null,null,null,null,null,null,null,null,null,null,19,5501.963563618714,{"$f":"IF(Makro!$E$20=1,\"-\",AX28*1000)","v":"-"},null,null,"Partialkoefficienter mindst 1,0",{"$f":"IF(MIN(N9,N10)<1,1,0)","v":0},"",null,{"$f":"IF($AO$5=1,'Ark1'!M27,0)*$AY$38","v":5.5019635636187143},{"$f":"IF($AO$5=1,'Ark1'!N27,0)*$AY$38","v":3.5739726210757272E-2},{"$f":"IF($AO$5=1,'Ark1'!O27,0)","v":0.70281369836511054},{"$f":"IF($AO$5=1,'Ark1'!P27,0)","v":2.0897030912682734E-3},{"$f":"IF($AO$5=1,'Ark1'!Q27,0)","v":458.33333333333337},{"$f":"IF($AO$5=1,'Ark1'!R27,0)","v":-342.47159833541008}]
[null,"M0Rd ","(kNm)",{"$f":"IF($AO$5=1,BE15,\"-\")","v":298.79952145679647},298.79952145679647,298.79952145679647,298.79952145679647,298.79952145679647,298.79952145679647,{"$f":"IF(AT57+0.00001<0.9*AR51,\"ustabil\",\"-\")","v":"-"},"D",null,null,609.17999999999995,2205.84,435.24,12,null,null,null,null,null,null,null,null,null,null,null,null,null,null,null,null,null,null,null,null,null,null,null,null,null,null,null,"Søjlelængde må højst være 60 h",{"$f":"IF(N11>60*N12,1,0)","v":0},{"$f":"IF(AT28=1,AS28&\" !   \",\"\")","v":""},null,{"$f":"IF($AO$5=1,'Ark1'!M28,0)*$AY$38","v":5.5019635636187143},{"$f":"IF($AO$5=1,'Ark1'!N28,0)*$AY$38","v":3.5739726210757272E-2},{"$f":"IF($AO$5=1,'Ark1'!O28,0)","v":0.70281369836511054},{"$f":"IF($AO$5=1,'Ark1'!P28,0)","v":2.0897030912682734E-3},{"$f":"IF($AO$5=1,'Ark1'!Q28,0)","v":458.33333333333337},{"$f":"IF($AO$5=1,'Ark1'!R28,0)","v":-342.47159833541008}]
[null,"u","(mm)",43.492855488182634,43.492855488182634,43.492855488182634,43.492855488182634,43.492855488182634,43.492855488182634,{"$f":"AQ86","v":15.925590788554299},"E",null,null,609.17999999999995,1146.5999999999999,77.22,6,null,null,null,null,null,null,null,null,null,null,null,null,null,null,null,null,null,null,null,null,null,null,null,null,null,null,null,"Programmet indstillet til brandberegning !",{"$f":"IF(AO5=1,0,1)","v":0},{"$f":"IF(AT29=1,AS29&\" !   \",\"\")","v":""}]
[null,"wk","(mm)","-","-","-","-","-","-",{"$f":"IF(AQ81=0,\"urevnet\",AS86)","v":0.24615363537510301},"F",null,null,609.17999999999995,2205.84,77.22,6,null,null,null,null,null,null,null,null,null,null,null,null,null,null,null,null,null,null,null,null,null,null,null,{"$f":"N25+O25+P25","v":1331.46},null,{"$f":"(N25*$N$35+O25*$O$35-P25*$P$35)/1000+0.125*Q25*($N$11/1000)^2","v":94.0608},null,"For ny bruger: Klik på knappen 'angiv nyt brugernavn' for ibrugtagning.",{"$f":"Makro!E20","v":1},{"$f":"IF(AT30=1,AS30,\"\")","v":"For ny bruger: Klik på knappen 'angiv nyt brugernavn' for ibrugtagning."}]
[null,"e0 / (1+f) ","(o/oo)",1.1821243708783344,1.1821243708783344,1.1821243708783344,1.1821243708783344,1.1821243708783344,1.1821243708783344,"-","G",null,null,609.17999999999995,2205.84,435.24,6,null,null,null,null,null,null,null,null,null,null,null,null,null,null,null,null,null,null,null,null,null,null,null,1832.9999999999998,null,274.61519999999996,null,"Beregning af krybetal",null,null,null,"Minimumsarmering"]
[null,"sc0","(Mpa)",22.157865279445346,22.157865279445346,22.157865279445346,22.157865279445346,22.157865279445346,22.157865279445346,{"$f":"IF($J$28=\"-\",IF(AQ81=0,AP78,AQ78),\"-\")","v":12.992233108350428},"H",null,null,609.17999999999995,2413.6799999999998,77.22,6,null," NB:  Resultaterne skal altid kontrolleres af ansvarlig statiker",null,null,null,null,null,null,null,null,null,null,null,null,null,null,null,null,null,null,null,null,null,2892.24,null,295.79999999999995,null,"to",{"$f":"Q13","v":28},null,null,null,"Maks N",{"$f":"MAX($AO$30:$AO$38)*1000","v":3458099.9999999995},"N"]
[null,"sst","(Mpa)",458.33333333333337,458.33333333333337,458.33333333333337,458.33333333333337,458.33333333333337,458.33333333333337,{"$f":"IF($J$28=\"-\",IF(AQ81=0,AP76,AQ76),\"-\")","v":205.87186045419637},"I",null,null,609.17999999999995,2413.6799999999998,435.24,6,null,null,null,null,null,null,null,null,null,null,null,null,null,null,null,null,null,null,null,null,null,null,null,3250.26,null,195.55439999999996,null,"RH",{"$f":"Q12*100","v":55.000000000000007},null,null,null,"Ac",{"$f":"$N$12*$N$13","v":226800},"mm2"]
[null,"ssc","(Mpa)",458.33333333333337,458.33333333333337,458.33333333333337,458.33333333333337,458.33333333333337,458.33333333333337,{"$f":"IF($J$28=\"-\",IF(AQ81=0,AP79,AQ79),\"-\")","v":144.78907699032484}," Anvendelsestilfælde:",null,null,480,62,58,0,null,"Vejledning:",null,null,"Betonelementbyggeriers statik",null,null,null,null,null,null,null,null,null,null,null,null,null,null,null,null,null,null,1832.9999999999998,null,247.61519999999999,null,"h",{"$f":"N12","v":540},null,null,null,"Asmin",{"$f":"ROUND(MAX(0.002*AY33,0.1*$AY$32/Q9),0)","v":754},"mm2","Asmax",{"$f":"ROUND(MAX(0.04*AY33,0.1*$AY$32/Q9),0)","v":9072}]
[null,"x","(mm)",252.90421059977115,252.90421059977115,252.90421059977115,252.90421059977115,252.90421059977115,252.90421059977115,{"$f":"IF(AND($J$28=\"-\",J26>0),IF(AQ81=0,\"urevnet\",AR57*1000),\"-\")","v":233.41940844368369}," Excentriciteter (mm) :",null,null,360,20,280,null,null,"Polyteknisk Forlag 2010 eller www.bef.dk",null,null,null,null,null,null,null,null,null,null,null,null,null,null,null,null,null,null,null,null,null,2892.24,null,268.79999999999995,null,"b",{"$f":"N13","v":420},null,null,null,"½ Asmin",{"$f":"ROUND(AY34/2,0)","v":377},"mm2","½ Asmax",{"$f":"BB34*0.5","v":4536}]
[null,null,null,null,null,null,null,null,null,null,null,null,null,null,null,null,null,null,null,null,null,null,null,null,null,null,null,null,null,null,null,null,null,null,null,null,null,null,null,null,3250.26,null,168.55439999999996,null,"ho",{"$f":"2*AT34*AT35/(2*(AT34+AT35))","v":236.25}]
[null,null,null,null,null,null,null,null,null,null,null,null,null,null,null,null,null,null,null,null,null,null,null,null,null,null,null,null,null,null,null,null,null,null,null,null,null,null,null,null,3100.0799999999995,null,272.95679999999993,null,"fck",{"$f":"N7","v":40},null,null,"Nulstilling for fejl"]
[null,null,null,null,null,null,null,null,null,null,null,null,null,null,null,null,null,null,null,null,null,null,null,null,null,null,null,null,null,null,null,null,null,null,null,null,null,null,null,null,3458.0999999999995,null,172.71119999999996,null,"fcm",{"$f":"AT37+8","v":48},null,null,null,"Testfaktor",{"$f":"IF(MAX(AT18,AT19,AT20,AT22,AT23,AT24,AT27,AT28)=1,0,1)","v":1}]
[null,null,null,null,null,null,null,null,null,null,null,null,null,null,null,null,null,null,null,null,null,null,null,null,null,null,null,null,null,null,null,null,null,null,null,null,null,null,null,null,null,null,null,null,"a1",{"$f":"IF(AT38<35,1,(35/AT38)^0.7)","v":0.80163886576355325}]
[null,null,null,null,null,null,null,null,null,null,null,null,null,null,null,null,null,null,null,null,null,null,null,null,null,null,null,null,null,null,null,null,null,null,null,null,null,null,null,"Trykarmering",null,{"$f":"N15^2*N16*PI()/4","v":603.18578948924028},"mm^2",null,"a2",{"$f":"IF(AT38<35,1,(35/AT38)^0.2)","v":0.93878331309243723}]
[null,null,null,null,null,null,null,null,null,null,null,null,null,null,null,null,null,null,null,null,null,null,null,null,null,null,null,null,null,null,null,null,null,null,null,null,null,null,null,"Trækarmering",null,{"$f":"N17^2*N18*PI()/4","v":603.18578948924028},"mm^2",null,"f",{"$f":"(1/(0.1+AT32^0.2))*(16.8/AT38^0.5)*(1+10*AT39*(1-AT33/100)/AT36^(1/3))*AT40","v":1.7607656586918623}]
[]
[]
[null,null,null,null,null,null,null,null,null,null,null,null,null,null,null,null,null,null,null,null,null,null,null,null,null,null,null,null,null,null,null,null,null,null,null,null,null,null,null,"gc",1,null,"ANVENDELSESLAST",null,null,"Mo",null,"sc,max","sc,min","sc","st","hc","u","a","Mt","a*fc","a*ft","B","C","D","p","q","C'","y'","b","m","Ec","Atr","Syt","Iyt","z","Io","sc","sm","hc"]
[null,null,null,null,null,null,null,null,null,null,null,null,null,null,null,null,null,null,null,null,null,null,null,null,null,null,null,null,null,null,null,null,null,null,null,null,null,null,null,"ga",1,null,null,null,null,{"$f":"BC45-AR48*BA45","v":0.16425100532450121},null,{"$f":"IF(BL45*SQRT(4*ABS(BI45)/3)-BF45/3<=AO51,BC45/(BN45*AO52*AO51^2),BU45)","v":13.622182895930129},{"$f":"IF(BL45*SQRT(4*ABS(BI45)/3)-BF45/3<=AO51,0,BV45)","v":0},{"$f":"BB45*(AZ45-AO53)*AV45/AZ45","v":150.17106459749471},{"$f":"BB45*(AO51-AO53-AZ45)*AV45/AZ45","v":228.96068729270579},{"$f":"IF(BL45*SQRT(4*ABS(BI45)/3)-BF45/3<=AO51,BL45*SQRT(4*ABS(BI45)/3)-BF45/3,BW45)","v":0.22635865188419746},{"$f":"0.1*(AV45/(AZ45*BO45))*AO57^2","v":1.6248503652437164E-2},{"$f":"AO54","v":15},{"$f":"IF(J27>0,AR51+AO51*AR48/20,0)+0.000000000001","v":0.17400027000100002},{"$f":"BB45*AO55/(AO51*AO52)","v":3.9893240045584671E-2},{"$f":"BB45*AO56/(AO51*AO52)","v":3.9893240045584671E-2},{"$f":"-6*AO51*(0.25-0.5*BC45/(AO51*AR50))","v":5.9986850224162974E-2},{"$f":"-6*AO51*(BD45*(0.5*AO51-AO53)-BE45*(0.5*AO51-AO53)-(BD45+BE45)*AO51*BC45/(AO51*AR50))","v":7.4966243585388462E-2},{"$f":"6*AO51*((BD45*AO53-BE45*(AO51-AO53))*(0.5*AO51-AO53)-(BD45*AO53+BE45*(AO51-AO53))*BC45/AR50)","v":-3.1641097189401529E-2},{"$f":"(3*BG45-BF45^2)/3","v":7.3766769518783082E-2},{"$f":"(9*BG45*BF45-27*BH45-2*BF45^3)/27","v":3.3124103982191754E-2},{"$f":"0.5*BJ45*(3/ABS(BI45))^(3/2)","v":4.2954125194549295},{"$f":"IF(BI45>0,SINH(ASINH(BK45)/3),IF(BK45>=1,COSH(ACOSH(BK45)/3),IF(BK45<=-1,-COSH(ACOSH(ABS(BK45))/3),COS(ACOS(BK45)/3))))","v":0.78552559636974606},{"$f":"AZ45/AO51","v":0.4191826886744397},{"$f":"0.5*BM45*(0.5-BM45/3)+BD45*(0.5-AO53/AO51)*(BM45-AO53/AO51)/BM45+BE45*(0.5-AO53/AO51)*(1-AO53/AO51-BM45)/BM45","v":0.10429570045139806},{"$f":"IF(BL45*SQRT(4*ABS(BI45)/3)-BF45/3<=AO51,AO50*(1-AO49*AV45/AO48),AO50*(1-AO49*AV45/AO48-(1-1)*BV45/AO48))","v":13333.333333333334},{"$f":"(1+BD45+BE45)*AO51*AO52","v":0.24489557368467724},{"$f":"0.5*(AO51-AO53)*(BE45-BD45)*AO51*AO52","v":0},{"$f":"AO52*AO51^3/12+(0.5*AO51-AO53)^2*(BD45+BE45)*AO52*AO51","v":6.3092547994942653E-3},{"$f":"BQ45/BP45","v":0},{"$f":"BR45-BP45*BS45^2","v":6.3092547994942653E-3},{"$f":"AR50/BP45+(BC45+BS45*AR50)*(0.5*AO51+BS45)/BT45","v":9.8962805188716771},{"$f":"AR50/BP45+(BC45+BS45*AR50)*(-0.5*AO51+BS45)/BT45","v":-4.9961511210854912},{"$f":"AR50*BT45/((BC45+AR50*BS45)*BP45)+(0.5*AO51+BS45)","v":0.35883941651627255}]
[null,null,null,null,null,null,null,null,null,null,null,null,null,null,null,null,null,null,null,null,null,null,null,null,null,null,null,null,null,null,null,null,null,null,null,null,null,null,null,"fck",{"$f":"N7","v":40},"MPa",null,null,null,{"$f":"BC46-AR48*BA46","v":0.15845802394686542},{"$f":"BA46/BA45","v":0.9325052741206622},{"$f":"IF(BL46*SQRT(4*ABS(BI46)/3)-BF46/3<=AO51,BC46/(BN46*AO52*AO51^2),BU46)","v":13.056478715442795},{"$f":"IF(BL46*SQRT(4*ABS(BI46)/3)-BF46/3<=AO51,0,BV46)","v":0},{"$f":"BB46*(AZ46-AO53)*AV46/AZ46","v":145.3411295567536},{"$f":"BB46*(AO51-AO53-AZ46)*AV46/AZ46","v":208.20122866746479},{"$f":"IF(BL46*SQRT(4*ABS(BI46)/3)-BF46/3<=AO51,BL46*SQRT(4*ABS(BI46)/3)-BF46/3,BW46)","v":0.2326618409189955},{"$f":"0.1*(AV46/(AZ46*BO46))*AO57^2","v":1.5151815352466499E-2},{"$f":"AO54","v":15},{"$f":"AR51+BA45*AR48","v":0.16754926467649883},{"$f":"BB46*AO55/(AO51*AO52)","v":3.9893240045584671E-2},{"$f":"BB46*AO56/(AO51*AO52)","v":3.9893240045584671E-2},{"$f":"-6*AO51*(0.25-0.5*BC46/(AO51*AR50))","v":2.7732361176474513E-2},{"$f":"-6*AO51*(BD46*(0.5*AO51-AO53)-BE46*(0.5*AO51-AO53)-(BD46+BE46)*AO51*BC46/(AO51*AR50))","v":7.2186893665273894E-2},{"$f":"6*AO51*((BD46*AO53-BE46*(AO51-AO53))*(0.5*AO51-AO53)-(BD46*AO53+BE46*(AO51-AO53))*BC46/AR50)","v":-3.0890672710970592E-2},{"$f":"(3*BG46-BF46^2)/3","v":7.1930532379799753E-2},{"$f":"(9*BG46*BF46-27*BH46-2*BF46^3)/27","v":3.1556397157023769E-2},{"$f":"0.5*BJ46*(3/ABS(BI46))^(3/2)","v":4.2498087633044594},{"$f":"IF(BI46>0,SINH(ASINH(BK46)/3),IF(BK46>=1,COSH(ACOSH(BK46)/3),IF(BK46<=-1,-COSH(ACOSH(ABS(BK46))/3),COS(ACOS(BK46)/3))))","v":0.7811250495413008},{"$f":"AZ46/AO51","v":0.43085526096110277},{"$f":"0.5*BM46*(0.5-BM46/3)+BD46*(0.5-AO53/AO51)*(BM46-AO53/AO51)/BM46+BE46*(0.5-AO53/AO51)*(1-AO53/AO51-BM46)/BM46","v":0.10478030325448438},{"$f":"IF(BL46*SQRT(4*ABS(BI46)/3)-BF46/3<=AO51,AO50*(1-AO49*AV46/AO48),AO50*(1-AO49*AV46/AO48-(1-1)*BV46/AO48))","v":13333.333333333334},{"$f":"(1+BD46+BE46)*AO51*AO52","v":0.24489557368467724},{"$f":"0.5*(AO51-AO53)*(BE46-BD46)*AO51*AO52","v":0},{"$f":"AO52*AO51^3/12+(0.5*AO51-AO53)^2*(BD46+BE46)*AO52*AO51","v":6.3092547994942653E-3},{"$f":"BQ46/BP46","v":0},{"$f":"BR46-BP46*BS46^2","v":6.3092547994942653E-3},{"$f":"AR50/BP46+(BC46+BS46*AR50)*(0.5*AO51+BS46)/BT46","v":9.6202144075846618},{"$f":"AR50/BP46+(BC46+BS46*AR50)*(-0.5*AO51+BS46)/BT46","v":-4.7200850097984759},{"$f":"AR50*BT46/((BC46+AR50*BS46)*BP46)+(0.5*AO51+BS46)","v":0.36225992421040409}]
[null,null,null,null,null,null,null,null,null,null,null,null,null,null,null,null,null,null,null,null,null,null,null,null,null,null,null,null,null,null,null,null,null,null,null,null,null,null,null,"Es",200000,"MPa","Max_N",{"$f":"(AO51*AO52+AO54*(AO55+AO56))*AO48/(1+(12*(AO48/AO50)/PI()^2)*(AO57/AO51)^2)","v":6.7542662678554173},null,{"$f":"BC47-AR48*BA47","v":0.15786660180839368},{"$f":"BA47/BA46","v":0.99267406832858784},{"$f":"IF(BL47*SQRT(4*ABS(BI47)/3)-BF47/3<=AO51,BC47/(BN47*AO52*AO51^2),BU47)","v":12.998735458154227},{"$f":"IF(BL47*SQRT(4*ABS(BI47)/3)-BF47/3<=AO51,0,BV47)","v":0},{"$f":"BB47*(AZ47-AO53)*AV47/AZ47","v":144.84498457732516},{"$f":"BB47*(AO51-AO53-AZ47)*AV47/AZ47","v":206.10734648759265},{"$f":"IF(BL47*SQRT(4*ABS(BI47)/3)-BF47/3<=AO51,BL47*SQRT(4*ABS(BI47)/3)-BF47/3,BW47)","v":0.23334232640051497},{"$f":"0.1*(AV47/(AZ47*BO47))*AO57^2","v":1.5040814188496477E-2},{"$f":"AO54","v":15},{"$f":"AR51+BA46*AR48","v":0.16689124072963346},{"$f":"BB47*AO55/(AO51*AO52)","v":3.9893240045584671E-2},{"$f":"BB47*AO56/(AO51*AO52)","v":3.9893240045584671E-2},{"$f":"-6*AO51*(0.25-0.5*BC47/(AO51*AR50))","v":2.4442296276562699E-2},{"$f":"-6*AO51*(BD47*(0.5*AO51-AO53)-BE47*(0.5*AO51-AO53)-(BD47+BE47)*AO51*BC47/(AO51*AR50))","v":7.190339075182757E-2},{"$f":"6*AO51*((BD47*AO53-BE47*(AO51-AO53))*(0.5*AO51-AO53)-(BD47*AO53+BE47*(AO51-AO53))*BC47/AR50)","v":-3.0814126924340088E-2},{"$f":"(3*BG47-BF47^2)/3","v":7.1704248802737153E-2},{"$f":"(9*BG47*BF47-27*BH47-2*BF47^3)/27","v":3.139887325401735E-2},{"$f":"0.5*BJ47*(3/ABS(BI47))^(3/2)","v":4.2486270968440953},0.78101055588565438,{"$f":"AZ47/AO51","v":0.43211541926021291},{"$f":"0.5*BM47*(0.5-BM47/3)+BD47*(0.5-AO53/AO51)*(BM47-AO53/AO51)/BM47+BE47*(0.5-AO53/AO51)*(1-AO53/AO51-BM47)/BM47","v":0.10483242400694114},{"$f":"IF(BL47*SQRT(4*ABS(BI47)/3)-BF47/3<=AO51,AO50*(1-AO49*AV47/AO48),AO50*(1-AO49*AV47/AO48-(1-1)*BV47/AO48))","v":13333.333333333334},{"$f":"(1+BD47+BE47)*AO51*AO52","v":0.24489557368467724},{"$f":"0.5*(AO51-AO53)*(BE47-BD47)*AO51*AO52","v":0},{"$f":"AO52*AO51^3/12+(0.5*AO51-AO53)^2*(BD47+BE47)*AO52*AO51","v":6.3092547994942653E-3},0,6.3092547994942653E-3,{"$f":"AR50/BP47+(BC47+BS47*AR50)*(0.5*AO51+BS47)/BT47","v":9.5920547482746752},{"$f":"AR50/BP47+(BC47+BS47*AR50)*(-0.5*AO51+BS47)/BT47","v":-4.691925350488491},{"$f":"AR50*BT47/((BC47+AR50*BS47)*BP47)+(0.5*AO51+BS47)","v":0.36262368949371682}]
[null,null,null,null,null,null,null,null,null,null,null,null,null,null,null,null,null,null,null,null,null,null,null,null,null,null,null,null,null,null,null,null,null,null,null,null,null,null,null,"fcd",{"$f":"AO46/AO44","v":40},"MPa","Nd",{"$f":"J26/1000+0.00001","v":0.60000999999999993},"MN",{"$f":"BC48-AR48*BA48","v":0.15780673539700946},0.99925366576234242,{"$f":"IF(BL48*SQRT(4*ABS(BI48)/3)-BF48/3<=AO51,BC48/(BN48*AO52*AO51^2),BU48)","v":12.992890683866959},{"$f":"IF(BL48*SQRT(4*ABS(BI48)/3)-BF48/3<=AO51,0,BV48)","v":0},{"$f":"BB48*(AZ48-AO53)*AV48/AZ48","v":144.79473121165316},{"$f":"BB48*(AO51-AO53-AZ48)*AV48/AZ48","v":205.89567211280513},{"$f":"IF(BL48*SQRT(4*ABS(BI48)/3)-BF48/3<=AO51,BL48*SQRT(4*ABS(BI48)/3)-BF48/3,BW48)","v":0.23341160902150351},{"$f":"0.1*(AV48/(AZ48*BO48))*AO57^2","v":1.5029588713905357E-2},{"$f":"AO54","v":15},{"$f":"AR51+BA47*AR48","v":0.1668246389212398},{"$f":"BB48*AO55/(AO51*AO52)","v":3.9893240045584671E-2},{"$f":"BB48*AO56/(AO51*AO52)","v":3.9893240045584671E-2},{"$f":"-6*AO51*(0.25-0.5*BC48/(AO51*AR50))","v":2.4109292784652674E-2},{"$f":"-6*AO51*(BD48*(0.5*AO51-AO53)-BE48*(0.5*AO51-AO53)-(BD48+BE48)*AO51*BC48/(AO51*AR50))","v":7.1874696041231798E-2},{"$f":"6*AO51*((BD48*AO53-BE48*(AO51-AO53))*(0.5*AO51-AO53)-(BD48*AO53+BE48*(AO51-AO53))*BC48/AR50)","v":-3.0806379352479228E-2},7.168094337503976E-2,3.1382957329421882E-2,4.2485446246627188,0.78100256412801472,{"$f":"AZ48/AO51","v":0.43224372041019166},{"$f":"0.5*BM48*(0.5-BM48/3)+BD48*(0.5-AO53/AO51)*(BM48-AO53/AO51)/BM48+BE48*(0.5-AO53/AO51)*(1-AO53/AO51-BM48)/BM48","v":0.10483772762460349},{"$f":"IF(BL48*SQRT(4*ABS(BI48)/3)-BF48/3<=AO51,AO50*(1-AO49*AV48/AO48),AO50*(1-AO49*AV48/AO48-(1-1)*BV48/AO48))","v":13333.333333333334},{"$f":"(1+BD48+BE48)*AO51*AO52","v":0.24489557368467724},{"$f":"0.5*(AO51-AO53)*(BE48-BD48)*AO51*AO52","v":0},{"$f":"AO52*AO51^3/12+(0.5*AO51-AO53)^2*(BD48+BE48)*AO52*AO51","v":6.3092547994942653E-3},0,6.3092547994942653E-3,{"$f":"AR50/BP48+(BC48+BS48*AR50)*(0.5*AO51+BS48)/BT48","v":9.5892045720117469},{"$f":"AR50/BP48+(BC48+BS48*AR50)*(-0.5*AO51+BS48)/BT48","v":-4.6890751742255627},{"$f":"AR50*BT48/((BC48+AR50*BS48)*BP48)+(0.5*AO51+BS48)","v":0.36266066787568885}]
[null,null,null,null,null,null,null,null,null,null,null,null,null,null,null,null,null,null,null,null,null,null,null,null,null,null,null,null,null,null,null,null,null,null,null,null,null,null,null,"k",0,null,"Nf",0,"MN",{"$f":"BC49-AR48*BA49","v":0.15780068108758291},0.99992447384460792,{"$f":"IF(BL49*SQRT(4*ABS(BI49)/3)-BF49/3<=AO51,BC49/(BN49*AO52*AO51^2),BU49)","v":12.99229960277053},{"$f":"IF(BL49*SQRT(4*ABS(BI49)/3)-BF49/3<=AO51,0,BV49)","v":0},{"$f":"BB49*(AZ49-AO53)*AV49/AZ49","v":144.78964875204903},{"$f":"BB49*(AO51-AO53-AZ49)*AV49/AZ49","v":205.87426827451335},{"$f":"IF(BL49*SQRT(4*ABS(BI49)/3)-BF49/3<=AO51,BL49*SQRT(4*ABS(BI49)/3)-BF49/3,BW49)","v":0.23341861971858996},{"$f":"0.1*(AV49/(AZ49*BO49))*AO57^2","v":1.5028453586852671E-2},{"$f":"AO54","v":15},{"$f":"AR51+BA48*AR48","v":0.16681790352423037},{"$f":"BB49*AO55/(AO51*AO52)","v":3.9893240045584671E-2},{"$f":"BB49*AO56/(AO51*AO52)","v":3.9893240045584671E-2},{"$f":"-6*AO51*(0.25-0.5*BC49/(AO51*AR50))","v":2.4075616360879223E-2},{"$f":"-6*AO51*(BD49*(0.5*AO51-AO53)-BE49*(0.5*AO51-AO53)-(BD49+BE49)*AO51*BC49/(AO51*AR50))","v":7.187179416405165E-2},{"$f":"6*AO51*((BD49*AO53-BE49*(AO51-AO53))*(0.5*AO51-AO53)-(BD49*AO53+BE49*(AO51-AO53))*BC49/AR50)","v":-3.080559584564059E-2},7.1678582396332902E-2,3.1381348050706519E-2,4.2485366660565091,0.78100179291332028,{"$f":"AZ49/AO51","v":0.43225670318257398},{"$f":"0.5*BM49*(0.5-BM49/3)+BD49*(0.5-AO53/AO51)*(BM49-AO53/AO51)/BM49+BE49*(0.5-AO53/AO51)*(1-AO53/AO51-BM49)/BM49","v":0.10483826426523651},{"$f":"IF(BL49*SQRT(4*ABS(BI49)/3)-BF49/3<=AO51,AO50*(1-AO49*AV49/AO48),AO50*(1-AO49*AV49/AO48-(1-1)*BV49/AO48))","v":13333.333333333334},{"$f":"(1+BD49+BE49)*AO51*AO52","v":0.24489557368467724},{"$f":"0.5*(AO51-AO53)*(BE49-BD49)*AO51*AO52","v":0},{"$f":"AO52*AO51^3/12+(0.5*AO51-AO53)^2*(BD49+BE49)*AO52*AO51","v":6.3092547994942653E-3},0,6.3092547994942653E-3,{"$f":"AR50/BP49+(BC49+BS49*AR50)*(0.5*AO51+BS49)/BT49","v":9.5889163355638072},{"$f":"AR50/BP49+(BC49+BS49*AR50)*(-0.5*AO51+BS49)/BT49","v":-4.688786937777623},{"$f":"AR50*BT49/((BC49+AR50*BS49)*BP49)+(0.5*AO51+BS49)","v":0.36266440911911729}]
[null,null,null,null,null,null,null,null,null,null,null,null,null,null,null,null,null,null,null,null,null,null,null,null,null,null,null,null,null,null,null,null,null,null,null,null,null,null,null,"E",{"$f":"AO47/AO54","v":13333.333333333334},"MPa","N",{"$f":"AR49+AR48","v":0.60000999999999993},"MN",{"$f":"BC50-AR48*BA50","v":0.15780006887140441},0.99999236223738697,{"$f":"IF(BL50*SQRT(4*ABS(BI50)/3)-BF50/3<=AO51,BC50/(BN50*AO52*AO51^2),BU50)","v":12.992239832248448},{"$f":"IF(BL50*SQRT(4*ABS(BI50)/3)-BF50/3<=AO51,0,BV50)","v":0},{"$f":"BB50*(AZ50-AO53)*AV50/AZ50","v":144.78913480675428},{"$f":"BB50*(AO51-AO53-AZ50)*AV50/AZ50","v":205.87210393205291},{"$f":"IF(BL50*SQRT(4*ABS(BI50)/3)-BF50/3<=AO51,BL50*SQRT(4*ABS(BI50)/3)-BF50/3,BW50)","v":0.23341932868757326},{"$f":"0.1*(AV50/(AZ50*BO50))*AO57^2","v":1.5028338803091734E-2},{"$f":"AO54","v":15},{"$f":"AR51+BA49*AR48","v":0.16681722243664748},{"$f":"BB50*AO55/(AO51*AO52)","v":3.9893240045584671E-2},{"$f":"BB50*AO56/(AO51*AO52)","v":3.9893240045584671E-2},{"$f":"-6*AO51*(0.25-0.5*BC50/(AO51*AR50))","v":2.4072210979721023E-2},{"$f":"-6*AO51*(BD50*(0.5*AO51-AO53)-BE50*(0.5*AO51-AO53)-(BD50+BE50)*AO51*BC50/(AO51*AR50))","v":7.187150072440561E-2},{"$f":"6*AO51*((BD50*AO53-BE50*(AO51-AO53))*(0.5*AO51-AO53)-(BD50*AO53+BE50*(AO51-AO53))*BC50/AR50)","v":-3.080551661693616E-2},{"$f":"(3*BG50-BF50^2)/3","v":7.167834361058821E-2},{"$f":"(9*BG50*BF50-27*BH50-2*BF50^3)/27","v":3.138118532238162E-2},{"$f":"0.5*BJ50*(3/ABS(BI50))^(3/2)","v":4.248535865182923},{"$f":"IF(BI50>0,SINH(ASINH(BK50)/3),IF(BK50>=1,COSH(ACOSH(BK50)/3),IF(BK50<=-1,-COSH(ACOSH(ABS(BK50))/3),COS(ACOS(BK50)/3))))","v":0.78100171530601858},{"$f":"AZ50/AO51","v":0.43225801608809861},{"$f":"0.5*BM50*(0.5-BM50/3)+BD50*(0.5-AO53/AO51)*(BM50-AO53/AO51)/BM50+BE50*(0.5-AO53/AO51)*(1-AO53/AO51-BM50)/BM50","v":0.10483831853363351},{"$f":"IF(BL50*SQRT(4*ABS(BI50)/3)-BF50/3<=AO51,AO50*(1-AO49*AV50/AO48),AO50*(1-AO49*AV50/AO48-(1-1)*BV50/AO48))","v":13333.333333333334},{"$f":"(1+BD50+BE50)*AO51*AO52","v":0.24489557368467724},{"$f":"0.5*(AO51-AO53)*(BE50-BD50)*AO51*AO52","v":0},{"$f":"AO52*AO51^3/12+(0.5*AO51-AO53)^2*(BD50+BE50)*AO52*AO51","v":6.3092547994942653E-3},0,6.3092547994942653E-3,{"$f":"AR50/BP50+(BC50+BS50*AR50)*(0.5*AO51+BS50)/BT50","v":9.5888871889128602},{"$f":"AR50/BP50+(BC50+BS50*AR50)*(-0.5*AO51+BS50)/BT50","v":-4.688757791126676},{"$f":"AR50*BT50/((BC50+AR50*BS50)*BP50)+(0.5*AO51+BS50)","v":0.36266478745282593}]
[null,null,null,null,null,null,null,null,null,null,null,null,null,null,null,null,null,null,null,null,null,null,null,null,null,null,null,null,null,null,null,null,null,null,null,null,null,null,null,"h",{"$f":"$N$12/1000","v":0.54},"m","Mo",{"$f":"J27/1000","v":0.15780000000000002},"MNm",{"$f":"BC51-AR48*BA51","v":0.15780000696425289},0.99999922766615579,{"$f":"IF(BL51*SQRT(4*ABS(BI51)/3)-BF51/3<=AO51,BC51/(BN51*AO52*AO51^2),BU51)","v":12.992233788268047},{"$f":"IF(BL51*SQRT(4*ABS(BI51)/3)-BF51/3<=AO51,0,BV51)","v":0},{"$f":"BB51*(AZ51-AO53)*AV51/AZ51","v":144.78908283669719},{"$f":"BB51*(AO51-AO53-AZ51)*AV51/AZ51","v":205.8718850745675},{"$f":"IF(BL51*SQRT(4*ABS(BI51)/3)-BF51/3<=AO51,BL51*SQRT(4*ABS(BI51)/3)-BF51/3,BW51)","v":0.23341940037877626},{"$f":"0.1*(AV51/(AZ51*BO51))*AO57^2","v":1.5028327196197054E-2},{"$f":"AO54","v":15},{"$f":"AR51+BA50*AR48","v":0.1668171535652431},{"$f":"BB51*AO55/(AO51*AO52)","v":3.9893240045584671E-2},{"$f":"BB51*AO56/(AO51*AO52)","v":3.9893240045584671E-2},{"$f":"-6*AO51*(0.25-0.5*BC51/(AO51*AR50))","v":2.4071866628438392E-2},{"$f":"-6*AO51*(BD51*(0.5*AO51-AO53)-BE51*(0.5*AO51-AO53)-(BD51+BE51)*AO51*BC51/(AO51*AR50))","v":7.1871471051862701E-2},{"$f":"6*AO51*((BD51*AO53-BE51*(AO51-AO53))*(0.5*AO51-AO53)-(BD51*AO53+BE51*(AO51-AO53))*BC51/AR50)","v":-3.0805508605349571E-2},7.1678319464203596E-2,3.1381168867364674E-2,4.2485357842387259,0.78100170746225728,{"$f":"AZ51/AO51","v":0.43225814884958563},{"$f":"0.5*BM51*(0.5-BM51/3)+BD51*(0.5-AO53/AO51)*(BM51-AO53/AO51)/BM51+BE51*(0.5-AO53/AO51)*(1-AO53/AO51-BM51)/BM51","v":0.10483832402127036},{"$f":"IF(BL51*SQRT(4*ABS(BI51)/3)-BF51/3<=AO51,AO50*(1-AO49*AV51/AO48),AO50*(1-AO49*AV51/AO48-(1-1)*BV51/AO48))","v":13333.333333333334},{"$f":"(1+BD51+BE51)*AO51*AO52","v":0.24489557368467724},{"$f":"0.5*(AO51-AO53)*(BE51-BD51)*AO51*AO52","v":0},{"$f":"AO52*AO51^3/12+(0.5*AO51-AO53)^2*(BD51+BE51)*AO52*AO51","v":6.3092547994942653E-3},0,6.3092547994942653E-3,{"$f":"AR50/BP51+(BC51+BS51*AR50)*(0.5*AO51+BS51)/BT51","v":9.5888842416108773},{"$f":"AR50/BP51+(BC51+BS51*AR50)*(-0.5*AO51+BS51)/BT51","v":-4.6887548438246913},{"$f":"AR50*BT51/((BC51+AR50*BS51)*BP51)+(0.5*AO51+BS51)","v":0.36266482571000697}]
[null,null,null,null,null,null,null,null,null,null,null,null,null,null,null,null,null,null,null,null,null,null,null,null,null,null,null,null,null,null,null,null,null,null,null,null,null,null,null,"b",{"$f":"$N$13/1000","v":0.42},"m","u",{"$f":"BA57","v":1.5028325890479477E-2},"m",{"$f":"BC52-AR48*BA52","v":0.15780000070422284},0.99999992190181197,{"$f":"IF(BL52*SQRT(4*ABS(BI52)/3)-BF52/3<=AO51,BC52/(BN52*AO52*AO51^2),BU52)","v":12.992233177102808},{"$f":"IF(BL52*SQRT(4*ABS(BI52)/3)-BF52/3<=AO51,0,BV52)","v":0},{"$f":"BB52*(AZ52-AO53)*AV52/AZ52","v":144.78907758150234},{"$f":"BB52*(AO51-AO53-AZ52)*AV52/AZ52","v":205.87186294377605},{"$f":"IF(BL52*SQRT(4*ABS(BI52)/3)-BF52/3<=AO51,BL52*SQRT(4*ABS(BI52)/3)-BF52/3,BW52)","v":0.23341940762817073},{"$f":"0.1*(AV52/(AZ52*BO52))*AO57^2","v":1.5028326022511931E-2},{"$f":"AO54","v":15},{"$f":"AR51+BA51*AR48","v":0.16681714660099023},{"$f":"BB52*AO55/(AO51*AO52)","v":3.9893240045584671E-2},{"$f":"BB52*AO56/(AO51*AO52)","v":3.9893240045584671E-2},{"$f":"-6*AO51*(0.25-0.5*BC52/(AO51*AR50))","v":2.4071831807754396E-2},{"$f":"-6*AO51*(BD52*(0.5*AO51-AO53)-BE52*(0.5*AO51-AO53)-(BD52+BE52)*AO51*BC52/(AO51*AR50))","v":7.1871468051385307E-2},{"$f":"6*AO51*((BD52*AO53-BE52*(AO51-AO53))*(0.5*AO51-AO53)-(BD52*AO53+BE52*(AO51-AO53))*BC52/AR50)","v":-3.0805507795220677E-2},7.1678317022525043E-2,3.1381167203439295E-2,4.2485357760540881,0.78100170666913848,{"$f":"AZ52/AO51","v":0.43225816227439023},{"$f":"0.5*BM52*(0.5-BM52/3)+BD52*(0.5-AO53/AO51)*(BM52-AO53/AO51)/BM52+BE52*(0.5-AO53/AO51)*(1-AO53/AO51-BM52)/BM52","v":0.10483832457617864},{"$f":"IF(BL52*SQRT(4*ABS(BI52)/3)-BF52/3<=AO51,AO50*(1-AO49*AV52/AO48),AO50*(1-AO49*AV52/AO48-(1-1)*BV52/AO48))","v":13333.333333333334},{"$f":"(1+BD52+BE52)*AO51*AO52","v":0.24489557368467724},{"$f":"0.5*(AO51-AO53)*(BE52-BD52)*AO51*AO52","v":0},{"$f":"AO52*AO51^3/12+(0.5*AO51-AO53)^2*(BD52+BE52)*AO52*AO51","v":6.3092547994942653E-3},0,6.3092547994942653E-3,{"$f":"AR50/BP52+(BC52+BS52*AR50)*(0.5*AO51+BS52)/BT52","v":9.5888839435807078},{"$f":"AR50/BP52+(BC52+BS52*AR50)*(-0.5*AO51+BS52)/BT52","v":-4.6887545457945237},{"$f":"AR50*BT52/((BC52+AR50*BS52)*BP52)+(0.5*AO51+BS52)","v":0.36266482957856183}]
[null,null,null,null,null,null,null,null,null,null,null,null,null,null,null,null,null,null,null,null,null,null,null,null,null,null,null,null,null,null,null,null,null,null,null,null,null,null,null,"a",{"$f":"N14/1000","v":0.06},"m","ec,max",{"$f":"1000*AV57/BO57","v":0.97441748312628207},"o/oo",{"$f":"BC53-AR48*BA53","v":0.15780000007121078},0.99999999210273827,{"$f":"IF(BL53*SQRT(4*ABS(BI53)/3)-BF53/3<=AO51,BC53/(BN53*AO52*AO51^2),BU53)","v":12.992233115301996},{"$f":"IF(BL53*SQRT(4*ABS(BI53)/3)-BF53/3<=AO51,0,BV53)","v":0},{"$f":"BB53*(AZ53-AO53)*AV53/AZ53","v":144.78907705009891},{"$f":"BB53*(AO51-AO53-AZ53)*AV53/AZ53","v":205.87186070591832},{"$f":"IF(BL53*SQRT(4*ABS(BI53)/3)-BF53/3<=AO51,BL53*SQRT(4*ABS(BI53)/3)-BF53/3,BW53)","v":0.23341940836122699},{"$f":"0.1*(AV53/(AZ53*BO53))*AO57^2","v":1.5028325903829307E-2},{"$f":"AO54","v":15},{"$f":"AR51+BA52*AR48","v":0.16681714589676741},{"$f":"BB53*AO55/(AO51*AO52)","v":3.9893240045584671E-2},{"$f":"BB53*AO56/(AO51*AO52)","v":3.9893240045584671E-2},{"$f":"-6*AO51*(0.25-0.5*BC53/(AO51*AR50))","v":2.407182828669889E-2},{"$f":"-6*AO51*(BD53*(0.5*AO51-AO53)-BE53*(0.5*AO51-AO53)-(BD53+BE53)*AO51*BC53/(AO51*AR50))","v":7.1871467747978077E-2},{"$f":"6*AO51*((BD53*AO53-BE53*(AO51-AO53))*(0.5*AO51-AO53)-(BD53*AO53+BE53*(AO51-AO53))*BC53/AR50)","v":-3.0805507713300723E-2},7.1678316775623294E-2,3.1381167035183739E-2,4.248535775226463,0.78100170658893908,{"$f":"AZ53/AO51","v":0.43225816363190178},{"$f":"0.5*BM53*(0.5-BM53/3)+BD53*(0.5-AO53/AO51)*(BM53-AO53/AO51)/BM53+BE53*(0.5-AO53/AO51)*(1-AO53/AO51-BM53)/BM53","v":0.10483832463229076},{"$f":"IF(BL53*SQRT(4*ABS(BI53)/3)-BF53/3<=AO51,AO50*(1-AO49*AV53/AO48),AO50*(1-AO49*AV53/AO48-(1-1)*BV53/AO48))","v":13333.333333333334},{"$f":"(1+BD53+BE53)*AO51*AO52","v":0.24489557368467724},{"$f":"0.5*(AO51-AO53)*(BE53-BD53)*AO51*AO52","v":0},{"$f":"AO52*AO51^3/12+(0.5*AO51-AO53)^2*(BD53+BE53)*AO52*AO51","v":6.3092547994942653E-3},0,6.3092547994942653E-3,{"$f":"AR50/BP53+(BC53+BS53*AR50)*(0.5*AO51+BS53)/BT53","v":9.5888839134440023},{"$f":"AR50/BP53+(BC53+BS53*AR50)*(-0.5*AO51+BS53)/BT53","v":-4.6887545156578163},{"$f":"AR50*BT53/((BC53+AR50*BS53)*BP53)+(0.5*AO51+BS53)","v":0.36266482996974875}]
[null,null,null,null,null,null,null,null,null,null,null,null,null,null,null,null,null,null,null,null,null,null,null,null,null,null,null,null,null,null,null,null,null,null,null,null,null,null,null,"a",{"$f":"$N$23","v":15},null,"ec,min",{"$f":"1000*AW57/BO57","v":0},"o/oo",{"$f":"BC54-AR48*BA54","v":0.15780000000720085},{"$f":"BA54/BA53","v":0.99999999920143123},{"$f":"IF(BL54*SQRT(4*ABS(BI54)/3)-BF54/3<=AO51,BC54/(BN54*AO52*AO51^2),BU54)","v":12.992233109052716},{"$f":"IF(BL54*SQRT(4*ABS(BI54)/3)-BF54/3<=AO51,0,BV54)","v":0},{"$f":"BB54*(AZ54-AO53)*AV54/AZ54","v":144.78907699636355},{"$f":"BB54*(AO51-AO53-AZ54)*AV54/AZ54","v":205.87186047962675},{"$f":"IF(BL54*SQRT(4*ABS(BI54)/3)-BF54/3<=AO51,BL54*SQRT(4*ABS(BI54)/3)-BF54/3,BW54)","v":0.23341940843535344},{"$f":"0.1*(AV54/(AZ54*BO54))*AO57^2","v":1.5028325891828155E-2},{"$f":"AO54","v":15},{"$f":"AR51+BA53*AR48","v":0.16681714582555665},{"$f":"BB54*AO55/(AO51*AO52)","v":3.9893240045584671E-2},{"$f":"BB54*AO56/(AO51*AO52)","v":3.9893240045584671E-2},{"$f":"-6*AO51*(0.25-0.5*BC54/(AO51*AR50))","v":2.4071827930651019E-2},{"$f":"-6*AO51*(BD54*(0.5*AO51-AO53)-BE54*(0.5*AO51-AO53)-(BD54+BE54)*AO51*BC54/(AO51*AR50))","v":7.1871467717297646E-2},{"$f":"6*AO51*((BD54*AO53-BE54*(AO51-AO53))*(0.5*AO51-AO53)-(BD54*AO53+BE54*(AO51-AO53))*BC54/AR50)","v":-3.0805507705017009E-2},7.1678316750656695E-2,3.1381167018169807E-2,4.2485357751427744,0.78100170658082935,{"$f":"AZ54/AO51","v":0.43225816376917303},{"$f":"0.5*BM54*(0.5-BM54/3)+BD54*(0.5-AO53/AO51)*(BM54-AO53/AO51)/BM54+BE54*(0.5-AO53/AO51)*(1-AO53/AO51-BM54)/BM54","v":0.10483832463796482},{"$f":"IF(BL54*SQRT(4*ABS(BI54)/3)-BF54/3<=AO51,AO50*(1-AO49*AV54/AO48),AO50*(1-AO49*AV54/AO48-(1-1)*BV54/AO48))","v":13333.333333333334},{"$f":"(1+BD54+BE54)*AO51*AO52","v":0.24489557368467724},{"$f":"0.5*(AO51-AO53)*(BE54-BD54)*AO51*AO52","v":0},{"$f":"AO52*AO51^3/12+(0.5*AO51-AO53)^2*(BD54+BE54)*AO52*AO51","v":6.3092547994942653E-3},0,6.3092547994942653E-3,{"$f":"AR50/BP54+(BC54+BS54*AR50)*(0.5*AO51+BS54)/BT54","v":9.5888839103965893},{"$f":"AR50/BP54+(BC54+BS54*AR50)*(-0.5*AO51+BS54)/BT54","v":-4.6887545126104033},{"$f":"AR50*BT54/((BC54+AR50*BS54)*BP54)+(0.5*AO51+BS54)","v":0.36266483000930538}]
[null,null,null,null,null,null,null,null,null,null,null,null,null,null,null,null,null,null,null,null,null,null,null,null,null,null,null,null,null,null,null,null,null,null,null,null,null,null,null,"Ac",{"$f":"$AP$40/1000000","v":6.0318578948924026E-4},"m2","sa,c",{"$f":"AX57","v":144.78907699032484},"MPa",{"$f":"BC55-AR48*BA55","v":0.15780000000072816},{"$f":"BA55/BA54","v":0.99999999991924882},{"$f":"IF(BL55*SQRT(4*ABS(BI55)/3)-BF55/3<=AO51,BC55/(BN55*AO52*AO51^2),BU55)","v":12.992233108420791},{"$f":"IF(BL55*SQRT(4*ABS(BI55)/3)-BF55/3<=AO51,0,BV55)","v":0},{"$f":"BB55*(AZ55-AO53)*AV55/AZ55","v":144.78907699092986},{"$f":"BB55*(AO51-AO53-AZ55)*AV55/AZ55","v":205.87186045674423},{"$f":"IF(BL55*SQRT(4*ABS(BI55)/3)-BF55/3<=AO51,BL55*SQRT(4*ABS(BI55)/3)-BF55/3,BW55)","v":0.23341940844284909},{"$f":"0.1*(AV55/(AZ55*BO55))*AO57^2","v":1.50283258906146E-2},{"$f":"AO54","v":15},{"$f":"AR51+BA54*AR48","v":0.16681714581835583},{"$f":"BB55*AO55/(AO51*AO52)","v":3.9893240045584671E-2},{"$f":"BB55*AO56/(AO51*AO52)","v":3.9893240045584671E-2},{"$f":"-6*AO51*(0.25-0.5*BC55/(AO51*AR50))","v":2.40718278946476E-2},{"$f":"-6*AO51*(BD55*(0.5*AO51-AO53)-BE55*(0.5*AO51-AO53)-(BD55+BE55)*AO51*BC55/(AO51*AR50))","v":7.1871467714195253E-2},{"$f":"6*AO51*((BD55*AO53-BE55*(AO51-AO53))*(0.5*AO51-AO53)-(BD55*AO53+BE55*(AO51-AO53))*BC55/AR50)","v":-3.0805507704179357E-2},7.1678316748132076E-2,3.1381167016449357E-2,4.2485357751343109,0.78100170658000934,{"$f":"AZ55/AO51","v":0.43225816378305382},{"$f":"0.5*BM55*(0.5-BM55/3)+BD55*(0.5-AO53/AO51)*(BM55-AO53/AO51)/BM55+BE55*(0.5-AO53/AO51)*(1-AO53/AO51-BM55)/BM55","v":0.10483832463853857},{"$f":"IF(BL55*SQRT(4*ABS(BI55)/3)-BF55/3<=AO51,AO50*(1-AO49*AV55/AO48),AO50*(1-AO49*AV55/AO48-(1-1)*BV55/AO48))","v":13333.333333333334},{"$f":"(1+BD55+BE55)*AO51*AO52","v":0.24489557368467724},{"$f":"0.5*(AO51-AO53)*(BE55-BD55)*AO51*AO52","v":0},{"$f":"AO52*AO51^3/12+(0.5*AO51-AO53)^2*(BD55+BE55)*AO52*AO51","v":6.3092547994942653E-3},0,6.3092547994942653E-3,{"$f":"AR50/BP55+(BC55+BS55*AR50)*(0.5*AO51+BS55)/BT55","v":9.588883910088434},{"$f":"AR50/BP55+(BC55+BS55*AR50)*(-0.5*AO51+BS55)/BT55","v":-4.6887545123022498},{"$f":"AR50*BT55/((BC55+AR50*BS55)*BP55)+(0.5*AO51+BS55)","v":0.36266483001330541}]
[null,null,null,null,null,null,null,null,null,null,null,null,null,null,null,null,null,null,null,null,null,null,null,null,null,null,null,null,null,null,null,null,null,null,null,null,null,null,null,"At",{"$f":"$AP$41/1000000","v":6.0318578948924026E-4},"m2","sa,t",{"$f":"AY57","v":205.87186045419634},"MPa",{"$f":"BC56-AR48*BA56","v":0.15780000000007366},{"$f":"BA56/BA55","v":0.99999999999183498},{"$f":"IF(BL56*SQRT(4*ABS(BI56)/3)-BF56/3<=AO51,BC56/(BN56*AO52*AO51^2),BU56)","v":12.992233108356892},{"$f":"IF(BL56*SQRT(4*ABS(BI56)/3)-BF56/3<=AO51,0,BV56)","v":0},{"$f":"BB56*(AZ56-AO53)*AV56/AZ56","v":144.78907699038041},{"$f":"BB56*(AO51-AO53-AZ56)*AV56/AZ56","v":205.87186045443045},{"$f":"IF(BL56*SQRT(4*ABS(BI56)/3)-BF56/3<=AO51,BL56*SQRT(4*ABS(BI56)/3)-BF56/3,BW56)","v":0.23341940844360701},{"$f":"0.1*(AV56/(AZ56*BO56))*AO57^2","v":1.5028325890491892E-2},{"$f":"AO54","v":15},{"$f":"AR51+BA55*AR48","v":0.16681714581762769},{"$f":"BB56*AO55/(AO51*AO52)","v":3.9893240045584671E-2},{"$f":"BB56*AO56/(AO51*AO52)","v":3.9893240045584671E-2},{"$f":"-6*AO51*(0.25-0.5*BC56/(AO51*AR50))","v":2.4071827891006949E-2},{"$f":"-6*AO51*(BD56*(0.5*AO51-AO53)-BE56*(0.5*AO51-AO53)-(BD56+BE56)*AO51*BC56/(AO51*AR50))","v":7.1871467713881532E-2},{"$f":"6*AO51*((BD56*AO53-BE56*(AO51-AO53))*(0.5*AO51-AO53)-(BD56*AO53+BE56*(AO51-AO53))*BC56/AR50)","v":-3.0805507704094657E-2},7.167831674787678E-2,3.1381167016275385E-2,4.2485357751334556,0.7810017065799264,{"$f":"AZ56/AO51","v":0.43225816378445742},{"$f":"0.5*BM56*(0.5-BM56/3)+BD56*(0.5-AO53/AO51)*(BM56-AO53/AO51)/BM56+BE56*(0.5-AO53/AO51)*(1-AO53/AO51-BM56)/BM56","v":0.10483832463859659},{"$f":"IF(BL56*SQRT(4*ABS(BI56)/3)-BF56/3<=AO51,AO50*(1-AO49*AV56/AO48),AO50*(1-AO49*AV56/AO48-(1-1)*BV56/AO48))","v":13333.333333333334},{"$f":"(1+BD56+BE56)*AO51*AO52","v":0.24489557368467724},{"$f":"0.5*(AO51-AO53)*(BE56-BD56)*AO51*AO52","v":0},{"$f":"AO52*AO51^3/12+(0.5*AO51-AO53)^2*(BD56+BE56)*AO52*AO51","v":6.3092547994942653E-3},0,6.3092547994942653E-3,{"$f":"AR50/BP56+(BC56+BS56*AR50)*(0.5*AO51+BS56)/BT56","v":9.5888839100572749},{"$f":"AR50/BP56+(BC56+BS56*AR50)*(-0.5*AO51+BS56)/BT56","v":-4.688754512271089},{"$f":"AR50*BT56/((BC56+AR50*BS56)*BP56)+(0.5*AO51+BS56)","v":0.36266483001370986}]
[null,null,null,null,null,null,null,null,null,null,null,null,null,null,null,null,null,null,null,null,null,null,null,null,null,null,null,null,null,null,null,null,null,null,null,null,null,null,null,"L",{"$f":"$N$11/1000","v":6},"m","hc",{"$f":"AZ57","v":0.2334194084436837},"m",{"$f":"BC57-AR48*BA57","v":0.15780000000000746},{"$f":"BA57/BA56","v":0.99999999999917388},{"$f":"IF(BL57*SQRT(4*ABS(BI57)/3)-BF57/3<=AO51,BC57/(BN57*AO52*AO51^2),BU57)","v":12.992233108350428},{"$f":"IF(BL57*SQRT(4*ABS(BI57)/3)-BF57/3<=AO51,0,BV57)","v":0},{"$f":"BB57*(AZ57-AO53)*AV57/AZ57","v":144.78907699032484},{"$f":"BB57*(AO51-AO53-AZ57)*AV57/AZ57","v":205.87186045419634},{"$f":"IF(BL57*SQRT(4*ABS(BI57)/3)-BF57/3<=AO51,BL57*SQRT(4*ABS(BI57)/3)-BF57/3,BW57)","v":0.2334194084436837},{"$f":"0.1*(AV57/(AZ57*BO57))*AO57^2","v":1.5028325890479477E-2},{"$f":"AO54","v":15},{"$f":"AR51+BA56*AR48","v":0.16681714581755405},{"$f":"BB57*AO55/(AO51*AO52)","v":3.9893240045584671E-2},{"$f":"BB57*AO56/(AO51*AO52)","v":3.9893240045584671E-2},{"$f":"-6*AO51*(0.25-0.5*BC57/(AO51*AR50))","v":2.4071827890638785E-2},{"$f":"-6*AO51*(BD57*(0.5*AO51-AO53)-BE57*(0.5*AO51-AO53)-(BD57+BE57)*AO51*BC57/(AO51*AR50))","v":7.1871467713849807E-2},{"$f":"6*AO51*((BD57*AO53-BE57*(AO51-AO53))*(0.5*AO51-AO53)-(BD57*AO53+BE57*(AO51-AO53))*BC57/AR50)","v":-3.0805507704086091E-2},7.1678316747850954E-2,3.1381167016257788E-2,4.2485357751333712,0.78100170657991808,{"$f":"AZ57/AO51","v":0.43225816378459941},{"$f":"0.5*BM57*(0.5-BM57/3)+BD57*(0.5-AO53/AO51)*(BM57-AO53/AO51)/BM57+BE57*(0.5-AO53/AO51)*(1-AO53/AO51-BM57)/BM57","v":0.10483832463860246},{"$f":"IF(BL57*SQRT(4*ABS(BI57)/3)-BF57/3<=AO51,AO50*(1-AO49*AV57/AO48),AO50*(1-AO49*AV57/AO48-(1-1)*BV57/AO48))","v":13333.333333333334},{"$f":"(1+BD57+BE57)*AO51*AO52","v":0.24489557368467724},{"$f":"0.5*(AO51-AO53)*(BE57-BD57)*AO51*AO52","v":0},{"$f":"AO52*AO51^3/12+(0.5*AO51-AO53)^2*(BD57+BE57)*AO52*AO51","v":6.3092547994942653E-3},0,6.3092547994942653E-3,{"$f":"AR50/BP57+(BC57+BS57*AR50)*(0.5*AO51+BS57)/BT57","v":9.5888839100541237},{"$f":"AR50/BP57+(BC57+BS57*AR50)*(-0.5*AO51+BS57)/BT57","v":-4.6887545122679377},{"$f":"AR50*BT57/((BC57+AR50*BS57)*BP57)+(0.5*AO51+BS57)","v":0.36266483001375072}]
[]
[]
[null,null,null,null,null,null,null,null,null,null,null,null,null,null,null,null,null,null,null,null,null,null,null,null,null,null,null,null,null,null,null,null,null,null,null,null,null,null,null,"ANVENDELSESSTADIE  - HENSYN TIL KRYBNING, TENSION STIFFENING, SVIND MV:"]
[null,null,null,null,null,null,null,null,null,null,null,null,null,null,null,null,null,null,null,null,null,null,null,null,null,null,null,null,null,null,null,null,null,null,null,null,null,null,null,"L","h","b","fck","fcd","Ecd","Ac","ac","Esc","fyd_c","At","at","Est","fyd_t","aeff","RH","feff = fctm","N"]
[null,null,null,null,null,null,null,null,null,null,null,null,null,null,null,null,null,null,null,null,null,null,null,null,null,null,null,null,null,null,null,null,null,null,null,null,null,null,null,"(m)","(m)","(m)","(Mpa)","(Mpa)","(Mpa)","(m2)","(m)","(Mpa)","(Mpa)","(m2)","(m)","(Mpa)","(Mpa)",null,null,"(Mpa)","(MN)"]
[null,null,null,null,null,null,null,null,null,null,null,null,null,null,null,null,null,null,null,null,null,null,null,null,null,null,null,null,null,null,null,null,null,null,null,null,null,null,null,{"$f":"AO57","v":6},{"$f":"AO51","v":0.54},{"$f":"AO52","v":0.42},{"$f":"AO46","v":40},{"$f":"AO48","v":40},{"$f":"AO50","v":13333.333333333334},{"$f":"AO55","v":6.0318578948924026E-4},{"$f":"AO53","v":0.06},200000,{"$f":"N8","v":550},{"$f":"AO56","v":6.0318578948924026E-4},{"$f":"AO53","v":0.06},200000,{"$f":"AW63","v":550},{"$f":"AO54","v":15},{"$f":"Q12","v":0.55000000000000004},{"$f":"0.3*AQ63^(2/3)","v":3.5088212858554391},{"$f":"AR50","v":0.60000999999999993}]
[null,null,null,null,null,null,null,null,null,null,null,null,null,null,null,null,null,null,null,null,null,null,null,null,null,null,null,null,null,null,null,null,null,null,null,null,null,null,null,"Nedbøjninger",null,"Urevnet","Revnet","Revnevidder",null,"Udtørringssvind"]
[null,null,null,null,null,null,null,null,null,null,null,null,null,null,null,null,null,null,null,null,null,null,null,null,null,null,null,null,null,null,null,null,null,null,null,null,null,null,null,"(1+ f)",null,1,1,null,null,null,"CEM-klasse:","N"]
[null,null,null,null,null,null,null,null,null,null,null,null,null,null,null,null,null,null,null,null,null,null,null,null,null,null,null,null,null,null,null,null,null,null,null,null,null,null,null,"aeff","-",{"$f":"BB63","v":15},{"$f":"BB63","v":15},"aeff",{"$f":"BB63","v":15},null,"fcmo",10,"MPa"]
[null,null,null,null,null,null,null,null,null,null,null,null,null,null,null,null,null,null,null,null,null,null,null,null,null,null,null,null,null,null,null,null,null,null,null,null,null,null,null,"hc","(m)","-",{"$f":"AR57","v":0.2334194084436837},"kt",0.4,null,"fcm",{"$f":"AQ63+8","v":48},"MPa"]
[null,null,null,null,null,null,null,null,null,null,null,null,null,null,null,null,null,null,null,null,null,null,null,null,null,null,null,null,null,null,null,null,null,null,null,null,null,null,null,"Atr","(m2)",{"$f":"AO63*AP63+AP66*AT63+AP66*AX63","v":0.24489557368467718},{"$f":"IF(AQ67>AO63,AP68,AQ67*AP63+AQ66*AT63+AQ66*AX63)","v":0.11613172523102436},"x1",0,null,"ads1",4]
[null,null,null,null,null,null,null,null,null,null,null,null,null,null,null,null,null,null,null,null,null,null,null,null,null,null,null,null,null,null,null,null,null,null,null,null,null,null,null,"Sy","(m3)",{"$f":"AP66*(0.5*AO63-AU63)*AT63-AP66*(0.5*AO63-AY63)*AX63","v":0},{"$f":"IF(AQ67>AO63,AP69,AQ67*AP63*(0.5*AO63-0.5*AQ67)+AQ66*(0.5*AO63-AU63)*AT63-AQ66*(0.5*AO63-AY63)*AX63)","v":1.5027990667491891E-2},"As",{"$f":"AX63","v":6.0318578948924026E-4},null,"ads2",0.12]
[null,null,null,null,null,null,null,null,null,null,null,null,null,null,null,null,null,null,null,null,null,null,null,null,null,null,null,null,null,null,null,null,null,null,null,null,null,null,null,"Iy","(m4)",{"$f":"AP63*AO63^3/12+AP66*(0.5*AO63-AU63)^2*AT63+AP66*(0.5*AO63-AY63)^2*AX63","v":6.3092547994942662E-3},{"$f":"IF(AQ67>AO63,AP70,AP63*AQ67^3/12+AP63*AQ67*(0.5*AO63-0.5*AQ67)^2+AQ66*(0.5*AO63-AU63)^2*AT63+AQ66*(0.5*AO63-AY63)^2*AX63)","v":3.5467818077502705E-3},"d",{"$f":"AO63-(AX63*AY63)/(AX63)","v":0.48000000000000004},null,"RH0",1]
[null,null,null,null,null,null,null,null,null,null,null,null,null,null,null,null,null,null,null,null,null,null,null,null,null,null,null,null,null,null,null,null,null,null,null,null,null,null,null,"z","(m)",{"$f":"AP69/AP68","v":0},{"$f":"AQ69/AQ68","v":0.12940469658567677},"hc,eff",{"$f":"MIN(2.5*(AO63-AS70),(AO63-AQ67)/3,AO63/2)","v":0.10219353051877211},null,"RH",{"$f":"BC63","v":0.55000000000000004}]
[null,null,null,null,null,null,null,null,null,null,null,null,null,null,null,null,null,null,null,null,null,null,null,null,null,null,null,null,null,null,null,null,null,null,null,null,null,null,null,"Io","(m4)",{"$f":"AP70-AP68*AP71^2","v":6.3092547994942662E-3},{"$f":"AQ70-AQ68*AQ71^2","v":1.6020892351311003E-3},"Ac,eff",{"$f":"AS71*AP63","v":4.2921282817884286E-2},null,"bRH",{"$f":"1.55*(1-(AV71/AV70)^3)","v":1.29211875}]
[null,null,null,null,null,null,null,null,null,null,null,null,null,null,null,null,null,null,null,null,null,null,null,null,null,null,null,null,null,null,null,null,null,null,null,null,null,null,null,"aeff*Sa","(m3)",{"$f":"-(AP66*(0.5*AO63-AU63-AP71)*AT63-AP66*(0.5*AO63-AY63+AP71)*AX63)","v":0},{"$f":"-(AQ66*(0.5*AO63-AU63-AQ71)*AT63-AQ66*(0.5*AO63-AY63+AQ71)*AX63)","v":2.3416522222094111E-3},"rp,eff",{"$f":"AS69/AS72","v":1.405330292779383E-2},null,"ecd,0",{"$f":"0.85*((220+110*AV68)*EXP(-AV69*AV67/AV66))*AV72/1000000","v":4.0748503921502019E-4}]
[null,null,null,null,null,null,null,null,null,null,null,null,null,null,null,null,null,null,null,null,null,null,null,null,null,null,null,null,null,null,null,null,null,null,null,null,null,null,null,"Sa/Io","(m)",{"$f":"MAX(AP73/AP72,0)","v":0},{"$f":"MAX(AQ73/AQ72,0)","v":1.4616240911310985},"esm-ecm",{"$f":"MAX(AQ76-AS67*BD63*(1+AS66*AS73)/AS73,0.6*AQ76)/AV63","v":6.1761558136258911E-4},null,"b",1]
[null,null,null,null,null,null,null,null,null,null,null,null,null,null,null,null,null,null,null,null,null,null,null,null,null,null,null,null,null,null,null,null,null,null,null,null,null,null,null,"Mcr","(MNm)",{"$f":"(BD63+BE63/AP68)*AP72/(0.5*AO63+AP71)","v":0.13924492592190291},null,"feq",{"$f":"N17/1000","v":1.6E-2},null,"h0",{"$f":"2*AO63*AP63/(2*(AO63+AP63))","v":0.23625000000000002},"m"]
[null,null,null,null,null,null,null,null,null,null,null,null,null,null,null,null,null,null,null,null,null,null,null,null,null,null,null,null,null,null,null,null,null,null,null,null,null,null,null,"sat","(MPa)",{"$f":"-AP66*AR50/AP68+AP66*(AR51-AR50*(AP71-AP82/1000))*(0.5*AO63+AP71-AY63)/AP72","v":44.109549299238495},{"$f":"-AQ66*AR50/AQ68+AQ66*(BC57-AR50*AQ71)*(0.5*AO63+AQ71-AY63)/AQ72","v":205.87186045419637},"c",{"$f":"AO63-AS70-0.5*AS75","v":5.1999999999999998E-2},null,"kn",{"$f":"IF(AV75<0.1,1,IF(AV75<0.2,0.85+0.15*(0.2-AV75)/0.1,IF(AV75<0.3,0.75+0.1*(0.3-AV75)/0.1,IF(AV75<0.5,0.7+0.05*(0.5-AV75)/0.2,0.7))))","v":0.81374999999999997}]
[null,null,null,null,null,null,null,null,null,null,null,null,null,null,null,null,null,null,null,null,null,null,null,null,null,null,null,null,null,null,null,null,null,null,null,null,null,null,null,"sr","(MPa, v/revnemoment)",null,{"$f":"-AQ66*AR50/AQ68+AQ66*(AP75-AR50*AQ71)*(0.5*AO63+AQ71-AY63)/AQ72","v":118.25369859402454},"k1",0.8,null,"ecd",{"$f":"AV73*AV74*AV76","v":3.3159095066122269E-4}]
[null,null,null,null,null,null,null,null,null,null,null,null,null,null,null,null,null,null,null,null,null,null,null,null,null,null,null,null,null,null,null,null,null,null,null,null,null,null,null,"sc0","(MPa)",{"$f":"-(-AR50/AP68+(AR51-AR50*(AP71-AP82/1000))*(-0.5*AO63+AP71)/AP72)","v":9.3809663945475137},{"$f":"-(-AR50/AQ68+(BC57-AR50*AQ71)*(-0.5*AO63+AQ71)/AQ72)","v":12.992233108350428},"k2",0.5]
[null,null,null,null,null,null,null,null,null,null,null,null,null,null,null,null,null,null,null,null,null,null,null,null,null,null,null,null,null,null,null,null,null,null,null,null,null,null,null,"sac","(MPa)",{"$f":"-(-AP66*AR50/AP68+AP66*(AR51-AR50*(AP71-AP82/1000))*(-0.5*AO63+AP71+AU63)/AP72)","v":117.6114902660313},{"$f":"-(-AQ66*AR50/AQ68+AQ66*(BC57-AR50*AQ71)*(-0.5*AO63+AQ71+AU63)/AQ72)","v":144.78907699032484},"k3",{"$f":"3.4*(25/N17)^(2/3)","v":4.5781737163177523},"Autogent svind"]
[null,null,null,null,null,null,null,null,null,null,null,null,null,null,null,null,null,null,null,null,null,null,null,null,null,null,null,null,null,null,null,null,null,null,null,null,null,null,null,"EI","(MNm2)",{"$f":"AP72*AS63","v":84.123397326590222},{"$f":"AQ72*AS63","v":21.361189801748004},"k4",0.42499999999999999,null,"eca",{"$f":"2.5*(AQ63-10)/1000000","v":7.4999999999999993E-5}]
[null,null,null,null,null,null,null,null,null,null,null,null,null,null,null,null,null,null,null,null,null,null,null,null,null,null,null,null,null,null,null,null,null,null,null,null,null,null,null,"x","(faktor vedr. tension stiffening)",null,{"$f":"MAX(IF(AQ77>AQ76,0,1-0.5*(AQ77/AQ76)^2),0)","v":0.83502980347560807},"s,rmaks",{"$f":"MIN(1.3*(AO63-AQ67),AS79*AS76+AS77*AS78*AS80*AS75/AS73)","v":0.39855476902321124}]
[null,null,null,null,null,null,null,null,null,null,null,null,null,null,null,null,null,null,null,null,null,null,null,null,null,null,null,null,null,null,null,null,null,null,null,null,null,null,null,"u","(mm, elastisk u)",{"$f":"1000*AR51/(10*AP80/AN63^2-AR50)","v":6.9309016956544198},{"$f":"AR52*1000","v":15.028325890479477},"wk",{"$f":"MAX(1000*AS81*AS74,0)","v":0.24615363537510301},"Resulterende svind"]
[null,null,null,null,null,null,null,null,null,null,null,null,null,null,null,null,null,null,null,null,null,null,null,null,null,null,null,null,null,null,null,null,null,null,null,null,null,null,null,"uts","(mm, incl tension stiffening)",null,{"$f":"AQ81*AQ82+(1-AQ81)*AP82","v":13.692492229717821},null,null,null,"esc",{"$f":"AV77+AV80","v":4.0659095066122267E-4}]
[null,null,null,null,null,null,null,null,null,null,null,null,null,null,null,null,null,null,null,null,null,null,null,null,null,null,null,null,null,null,null,null,null,null,null,null,null,null,null,"us","(mm, svindtillæg - langtid)",{"$f":"1000*0.125*AV83*AP74*AN63^2","v":0},{"$f":"1000*0.125*AV83*AQ74*AN63^2","v":2.6742740792505248}]
[null,null,null,null,null,null,null,null,null,null,null,null,null,null,null,null,null,null,null,null,null,null,null,null,null,null,null,null,null,null,null,null,null,null,null,null,null,null,null,"ucs","(mm, svindtillæg incl tension stiffening)",null,{"$f":"AQ81*AQ84+(1-AQ81)*AP84","v":2.2330985588364785}]
[null,null,null,null,null,null,null,null,null,null,null,null,null,null,null,null,null,null,null,null,null,null,null,null,null,null,null,null,null,null,null,null,null,null,null,null,null,null,null,"ures","(mm, resulterende udbøjning)",null,{"$f":"AQ85+AQ83","v":15.925590788554299},"wk, res",{"$f":"AS82","v":0.24615363537510301}]

{"sheet":"Brand","index":1,"n_rows":73,"n_cols":213,"rows_kept":73,"cut":false,"hidden":false,"merged":[[45,77,45,79],[23,3,23,5],[2,2,2,6],[4,2,4,6],[3,2,3,6],[2,8,2,9],[3,8,3,9],[4,8,4,9],[22,10,22,13],[31,18,32,21],[34,18,34,21],[1,2,1,9],[34,10,34,12],[2,11,4,16],[1,10,1,12],[1,13,1,16]]}
[]
[null,"Bruger:",{"$f":"Kold!C2","v":0},null,null,null,null,null,null,null,{"$f":"Kold!K2","v":"Søjleberegning"},null,null,{"$f":"Kold!N2","v":"Betonelement-Foreningen feb 2019"}]
[null,"Sagsnavn:",{"$f":"Kold!C3","v":"Betonelementhuset"},null,null,null,null,"Sag nr.:",{"$f":"Kold!I3","v":"23 - 4545"},null,null,{"$f":"AU28&AU29&AU30&AU31&AU32&AU33&AU34&AU35&AU36&AU37","v":"Underliggende konstruktion skal kontrolleres for forsætning af søjlens reaktion under brand på exc( R ) = 25 mm mod søjlens trækside Programmet indstillet til kold beregning !   "},null,null,null,null,null,null,null,null,null,null,null,null,null,null,null,null,null,null,null,null,null,null,null,null,null,null,null,null,null,null,null,null,2]
[null,"Bygningsdel:",{"$f":"Kold!C4","v":"Søjle i modul D/12, stueetage"},null,null,null,null,"Dato:",{"$f":"Kold!I4","v":"2007-01-02"},null,null,null,null,null,null,null,null,null,null,null,null,null,null,null,null,null,null,null,null,null,null,null,null,null,null,null,null,null,null,null,null,null,null,null,"Tilslag: Kvartsholdigt"]
[null,"Emne:","Brandlastkombinationer",null,null,null,null,"Init:",{"$f":"Kold!I5","v":"JFJ"},null,null,null,null,null,null,null,null,null,null,null,null,null,null,null,null,null,null,null,null,null,null,null,null,null,null,null,null,null,null,null,null,null,null,null,"Tilslag: Søsand / granit"]
[]
[null,null,null,null,null,null,null,null,null,null," Materialer",null,"fck",{"$f":"Kold!N7","v":40},"Regningsmæssige parametre"]
[null,null,null,null,null,null,null,null,null,null,null,null,"fyk",{"$f":"Kold!N8","v":550},null,"fcd",{"$f":"N7/(N9)*Q19","v":40}]
[null,null,null,null,null,null,null,null,null,null,null,null,"gc",1,null,"fyd,tryk",{"$f":"N8/MAX(1,N10)*Q20","v":388.26933120391902},null,null,null,null,null,null,null,null,null,null,null,null,null,null,null,null,null,null,null,null,null,null,1,0,{"$f":"BB10*1000","v":0},null,null,null,null,null,null,"gc",{"$f":"N9","v":1},null,null,"N","M","hc","e0","sac","sat",null,{"$f":"Kold!N25","v":107.64},{"$f":"Kold!O25","v":1146.5999999999999},{"$f":"Kold!P25","v":77.22},{"$f":"Kold!Q25","v":12},null,null,null,null,null,null,null,null,null,null,null,null,null,null,null,null,null,null,null,null,null,null,null,null,null,null,null,null,null,null,null,null,null,null,null,null,null,null,null,null,null,null,null,null,null,null,null,null,null,null,null,null,null,null,null,null,null,null,null,null,null,null,null,null,null,null,null,null,null,null,null,null,null,null,null,null,null,null,null,null,null,null,null,null,null,null,null,null,null,null,null,null,null,null,null,null,null,null,null,null,null,null,null,null,null,null,null,null,null,null,null,null,null,null,null,null,null,null,null,null,null,null,null,null,null,null,null,null,null,null,null,null,null,null,null,null,null,null,null,null,null,null,null,null,null,{"$f":"Makro!A20","v":0},null,null,"Bruger skal registreres",1]
[null,null,null,null,null,null,null,null,null,null,null,null,"gs",1,null,"fyd,træk",{"$f":"N8/MAX(1,N10)*Q22","v":388.26933120391902},null,null,null,null,null,null,null,null,null,null,null,null,null,null,null,null,null,null,null,null,null,null,2,{"$f":"BA11*1000","v":0},0,null,null,"Tillægsexc fra svækket rand",{"$f":"0.5*(AU20-AU21)*Q18/1000","v":0},null,null,"ga",{"$f":"N10","v":1},null,null,{"$f":"IF(Kold!$AO$5=-1,'Ark1'!M10,0)*$AT$40","v":0},{"$f":"IF(Kold!$AO$5=-1,'Ark1'!N10,0)*$AT$40","v":0},{"$f":"IF(Kold!$AO$5=-1,'Ark1'!O10,0)","v":0},{"$f":"IF(Kold!$AO$5=-1,'Ark1'!P10,0)","v":0},{"$f":"IF(Kold!$AO$5=-1,'Ark1'!Q10,0)","v":0},{"$f":"IF(Kold!$AO$5=-1,'Ark1'!R10,0)","v":0},null,{"$f":"Kold!N26","v":609.17999999999995},{"$f":"Kold!O26","v":1146.5999999999999},{"$f":"Kold!P26","v":77.22},{"$f":"Kold!Q26","v":12}]
[null,null,null,null,null,null,null,null,null,null," Søjlelængde",null,"Ls",{"$f":"Kold!N11","v":6000},"Krybning",null,null,null,null,null,null,null,null,null,null,null,null,null,null,null,null,null,null,null,null,null,null,null,null,3,0,0,null,null,"uterminsk, revnet tværsnit",{"$f":"1.1*firsidig!X34*AX27^2/(800000*(AX21-AX24))+IF(OR(Makro!H2=10,AR61=1),0,$Q$16/1000)-0.4*AX32","v":2.7728429575835517E-2},"m",null,"fck",{"$f":"N7","v":40},"MPa",null,{"$f":"IF(Kold!$AO$5=-1,'Ark1'!M11,0)*$AT$40","v":0},{"$f":"IF(Kold!$AO$5=-1,'Ark1'!N11,0)*$AT$40","v":0},{"$f":"IF(Kold!$AO$5=-1,'Ark1'!O11,0)","v":0},{"$f":"IF(Kold!$AO$5=-1,'Ark1'!P11,0)","v":0},{"$f":"IF(Kold!$AO$5=-1,'Ark1'!Q11,0)","v":0},{"$f":"IF(Kold!$AO$5=-1,'Ark1'!R11,0)","v":0},null,{"$f":"Kold!N27","v":609.17999999999995},{"$f":"Kold!O27","v":2205.84},{"$f":"Kold!P27","v":77.22},{"$f":"Kold!Q27","v":12}]
[null,null,null,null,null,null,null,null,null,null," Tværsnit",null,"h",{"$f":"Kold!N12","v":540},null,"fo",{"$f":"Kold!Q14","v":1.7607656586918623},null,null,null,null,null,null,null,null,null,null,null,null,null,null,null,null,null,null,null,null,null,null,4,0,0,null,null,"uterminsk, urevnet tværsnit",{"$f":"IF(1.1*firsidig!V13*AX27^2/(800000*AX21)+IF(OR(Makro!H2=10,AR61=1),0,$Q$16/1000)>AT11,1.1*firsidig!V13*AX27^2/(800000*AX21)+IF(OR(Makro!H2=10,AR61=1),0,$Q$16/1000),AT11)","v":3.8423928054947494E-2},"m",null,"Es_c",{"$f":"firsidig!E34*200000","v":150181.94488327747},"MPa",null,{"$f":"IF(Kold!$AO$5=-1,'Ark1'!M12,0)*$AT$40","v":0},{"$f":"IF(Kold!$AO$5=-1,'Ark1'!N12,0)*$AT$40","v":0},{"$f":"IF(Kold!$AO$5=-1,'Ark1'!O12,0)","v":0},{"$f":"IF(Kold!$AO$5=-1,'Ark1'!P12,0)","v":0},{"$f":"IF(Kold!$AO$5=-1,'Ark1'!Q12,0)","v":0},{"$f":"IF(Kold!$AO$5=-1,'Ark1'!R12,0)","v":0},null,{"$f":"Kold!N28","v":609.17999999999995},{"$f":"Kold!O28","v":2205.84},{"$f":"Kold!P28","v":435.24},{"$f":"Kold!Q28","v":12}]
[null,null,null,null,null,null,null,null,null,null,null,null,"b",{"$f":"Kold!N13","v":420},null,"M0Eqp/M0Ed",1,null,null,null,null,null,null,null,null,null,null,null,null,null,null,null,null,null,null,null,null,null,null,5,0,0,null,null,null,null,null,null,"Es_t",{"$f":"firsidig!E40*200000","v":150181.94488327741},"MPa",null,{"$f":"IF(Kold!$AO$5=-1,'Ark1'!M13,0)*$AT$40","v":0},{"$f":"IF(Kold!$AO$5=-1,'Ark1'!N13,0)*$AT$40","v":0},{"$f":"IF(Kold!$AO$5=-1,'Ark1'!O13,0)","v":0},{"$f":"IF(Kold!$AO$5=-1,'Ark1'!P13,0)","v":0},{"$f":"IF(Kold!$AO$5=-1,'Ark1'!Q13,0)","v":0},{"$f":"IF(Kold!$AO$5=-1,'Ark1'!R13,0)","v":0},null,{"$f":"Kold!N29","v":609.17999999999995},{"$f":"Kold!O29","v":1146.5999999999999},{"$f":"Kold!P29","v":77.22},{"$f":"Kold!Q29","v":6}]
[null,null,null,null,null,null,null,null,null,null,null,null,"c",{"$f":"Kold!N14","v":60},null,"fef",{"$f":"Q12*Q13","v":1.7607656586918623},null,null,null,null,null,null,null,null,null,null,null,null,null,null,null,null,null,null,null,null,null,null,6,0,0,null,null,1,"h",{"$f":"N12-AU20*Q18-Q18*AU21","v":450.87893293907393},null,"fcd",{"$f":"AX11/AX9","v":40},"MPa",null,{"$f":"IF(Kold!$AO$5=-1,'Ark1'!M14,0)*$AT$40","v":0},{"$f":"IF(Kold!$AO$5=-1,'Ark1'!N14,0)*$AT$40","v":0},{"$f":"IF(Kold!$AO$5=-1,'Ark1'!O14,0)","v":0},{"$f":"IF(Kold!$AO$5=-1,'Ark1'!P14,0)","v":0},{"$f":"IF(Kold!$AO$5=-1,'Ark1'!Q14,0)","v":0},{"$f":"IF(Kold!$AO$5=-1,'Ark1'!R14,0)","v":0},null,{"$f":"Kold!N30","v":609.17999999999995},{"$f":"Kold!O30","v":2205.84},{"$f":"Kold!P30","v":77.22},{"$f":"Kold!Q30","v":6}]
[null,null,null,null,null,null,null,null,null,null,"Trykarm.",null,"da",{"$f":"Kold!N15","v":16},null,{"$f":"IF(OR(Makro!H2=10,AR61=1),\"Der regnes med fuld krybning\",\"Udbøjningstillæg fra krybning:\")","v":"Udbøjningstillæg fra krybning:"},null,null,null,null,null,null,null,null,null,null,null,null,null,null,null,null,null,null,null,null,null,null,null,7,0,0,null,null,"Stål: Varmvalset","b",{"$f":"N13-2*Q18*AU22","v":330.87893293907393},null,"k",{"$f":"0.8-400*AX14/AX16","v":0.30000000000000004},"MPa",null,{"$f":"IF(Kold!$AO$5=-1,'Ark1'!M15,0)*$AT$40","v":0},{"$f":"IF(Kold!$AO$5=-1,'Ark1'!N15,0)*$AT$40","v":0},{"$f":"IF(Kold!$AO$5=-1,'Ark1'!O15,0)","v":0},{"$f":"IF(Kold!$AO$5=-1,'Ark1'!P15,0)","v":0},{"$f":"IF(Kold!$AO$5=-1,'Ark1'!Q15,0)","v":0},{"$f":"IF(Kold!$AO$5=-1,'Ark1'!R15,0)","v":0},null,{"$f":"Kold!N31","v":609.17999999999995},{"$f":"Kold!O31","v":2205.84},{"$f":"Kold!P31","v":435.24},{"$f":"Kold!Q31","v":6}]
[null,null,null,null,null,null,null,null,null,null,null,null,"Antal",{"$f":"Kold!N16","v":3},null,"Dukrybning",{"$f":"IF(OR(Makro!H2=10,AR61=1),\"-          \",AS68*1000)","v":0.31802033235352123},null,null,null,null,null,null,null,null,null,null,null,null,null,null,null,null,null,null,null,null,null,null,8,0,0,null,null,"Stål: Bratkølet","ac",{"$f":"N14-AU20*Q18","v":15.439466469536967},null,"Eo",{"$f":"2*AX14/firsidig!F21","v":32000},"MPa",null,{"$f":"IF(Kold!$AO$5=-1,'Ark1'!M16,0)*$AT$40","v":0},{"$f":"IF(Kold!$AO$5=-1,'Ark1'!N16,0)*$AT$40","v":0},{"$f":"IF(Kold!$AO$5=-1,'Ark1'!O16,0)","v":0},{"$f":"IF(Kold!$AO$5=-1,'Ark1'!P16,0)","v":0},{"$f":"IF(Kold!$AO$5=-1,'Ark1'!Q16,0)","v":0},{"$f":"IF(Kold!$AO$5=-1,'Ark1'!R16,0)","v":0},null,{"$f":"Kold!N32","v":609.17999999999995},{"$f":"Kold!O32","v":2413.6799999999998},{"$f":"Kold!P32","v":77.22},{"$f":"Kold!Q32","v":6}]
[null,null,null,null,null,null,null,null,null,null,"Trækarm.",null,"da",{"$f":"Kold!N17","v":16},"Reduktionsparametre",null,null,null,null,null,null,null,null,null,null,null,null,null,null,null,null,null,null,null,null,null,null,null,null,9,0,0,null,null,"Stål: Kolddeformeret","at",{"$f":"N14-AU21*Q18","v":15.439466469536967},null,"Ncr",{"$f":"(AX21*AX22+2*MIN(AX12*AX25,AX13*AX26))*AX14/(1+12*(AX14/AX16)*(AX27/(PI()*AX21))^2)","v":5714.8866534966619},"MN",null,{"$f":"IF(Kold!$AO$5=-1,'Ark1'!M17,0)*$AT$40","v":0},{"$f":"IF(Kold!$AO$5=-1,'Ark1'!N17,0)*$AT$40","v":0},{"$f":"IF(Kold!$AO$5=-1,'Ark1'!O17,0)","v":0},{"$f":"IF(Kold!$AO$5=-1,'Ark1'!P17,0)","v":0},{"$f":"IF(Kold!$AO$5=-1,'Ark1'!Q17,0)","v":0},{"$f":"IF(Kold!$AO$5=-1,'Ark1'!R17,0)","v":0},null,{"$f":"Kold!N33","v":609.17999999999995},{"$f":"Kold!O33","v":2413.6799999999998},{"$f":"Kold!P33","v":435.24},{"$f":"Kold!Q33","v":6}]
[null,null,null,null,null,null,null,null,null,null,null,null,"Antal",{"$f":"Kold!N18","v":3},"Randzone:","a",{"$f":"firsidig!E24*1000","v":44.560533530463033},null,null,null,null,null,null,null,null,null,null,null,null,null,null,null,null,null,null,null,null,null,null,10,0,0,null,null,{"$f":"IF(Makro!B3=1,\"Q\",IF(Makro!B3=2,\"AC\",\"C\"))","v":"Q"},null,null,null,"fyk",{"$f":"N8","v":550},null,null,{"$f":"IF(Kold!$AO$5=-1,'Ark1'!M18,0)*$AT$40","v":0},{"$f":"IF(Kold!$AO$5=-1,'Ark1'!N18,0)*$AT$40","v":0},{"$f":"IF(Kold!$AO$5=-1,'Ark1'!O18,0)","v":0},{"$f":"IF(Kold!$AO$5=-1,'Ark1'!P18,0)","v":0},{"$f":"IF(Kold!$AO$5=-1,'Ark1'!Q18,0)","v":0},{"$f":"IF(Kold!$AO$5=-1,'Ark1'!R18,0)","v":0}]
[null,null,null,null,null,null,null,null,null,null,"Brandpåvirkning,   tid :",null,null,120,"Beton:","kc,M",{"$f":"firsidig!E21","v":1},null,null,null,null,null,null,null,null,null,null,null,null,null,null,null,null,null,null,null,null,null,null,11,0,0,null,null,null,null,null,null,"fyd_c",{"$f":"firsidig!E35*AX18/AX10","v":388.26933120391902},null,null,{"$f":"IF(Kold!$AO$5=-1,'Ark1'!M19,0)*$AT$40","v":0},{"$f":"IF(Kold!$AO$5=-1,'Ark1'!N19,0)*$AT$40","v":0},{"$f":"IF(Kold!$AO$5=-1,'Ark1'!O19,0)","v":0},{"$f":"IF(Kold!$AO$5=-1,'Ark1'!P19,0)","v":0},{"$f":"IF(Kold!$AO$5=-1,'Ark1'!Q19,0)","v":0},{"$f":"IF(Kold!$AO$5=-1,'Ark1'!R19,0)","v":0},null,{"$f":"Kold!N35","v":360},{"$f":"Kold!O35","v":20},{"$f":"Kold!P35","v":280},{"$f":"Kold!Q35","v":0}]
[null,null,null,null,null,null,null,null,null,null,null,"Brand, trykside",null,{"$f":"IF(Makro!B4=2,\"JA\",\"NEJ\")","v":"JA"},"Trykarm:","fsy,q / fyk",{"$f":"firsidig!E35","v":0.70594423855258004},null,null,null,null,null,null,null,null,null,null,null,null,null,null,null,null,null,null,null,null,null,null,12,0,0,null,null,"Brand, trykside",2,{"$f":"Makro!B4-1","v":1},null,"fyd_t",{"$f":"firsidig!E41*AX18/AX10","v":388.26933120391902},null,null,{"$f":"IF(Kold!$AO$5=-1,'Ark1'!M20,0)*$AT$40","v":0},{"$f":"IF(Kold!$AO$5=-1,'Ark1'!N20,0)*$AT$40","v":0},{"$f":"IF(Kold!$AO$5=-1,'Ark1'!O20,0)","v":0},{"$f":"IF(Kold!$AO$5=-1,'Ark1'!P20,0)","v":0},{"$f":"IF(Kold!$AO$5=-1,'Ark1'!Q20,0)","v":0},{"$f":"IF(Kold!$AO$5=-1,'Ark1'!R20,0)","v":0}]
[null,null,null,null,null,null,null,null,null,null,null,"Brand, trækside",null,{"$f":"IF(Makro!B5=2,\"JA\",\"NEJ\")","v":"JA"},null,"Es,q / Es",{"$f":"firsidig!E34","v":0.75090972441638726},null,null,null,null,null,null,null,null,null,null,null,null,null,null,null,null,null,null,null,null,null,null,13,0,0,null,null,"Brand, trækside",2,{"$f":"Makro!B5-1","v":1},null,"h",{"$f":"AU14/1000","v":0.45087893293907394},"m",null,{"$f":"IF(Kold!$AO$5=-1,'Ark1'!M21,0)*$AT$40","v":0},{"$f":"IF(Kold!$AO$5=-1,'Ark1'!N21,0)*$AT$40","v":0},{"$f":"IF(Kold!$AO$5=-1,'Ark1'!O21,0)","v":0},{"$f":"IF(Kold!$AO$5=-1,'Ark1'!P21,0)","v":0},{"$f":"IF(Kold!$AO$5=-1,'Ark1'!Q21,0)","v":0},{"$f":"IF(Kold!$AO$5=-1,'Ark1'!R21,0)","v":0}]
[null,null,null,null,null,null,null,null,null,null,null,"Brand, sider",null,{"$f":"IF(Makro!B6=2,\"JA\",\"NEJ\")","v":"JA"},"Trækarm:","fsy,q / fyk",{"$f":"firsidig!E41","v":0.70594423855258004},null,null,null,null,null,null,null,null,null,null,null,null,null,null,null,null,null,null,null,null,null,null,14,0,0,null,null,"Brand, sider",2,{"$f":"Makro!B6-1","v":1},null,"b",{"$f":"AU15/1000","v":0.33087893293907394},"m",null,{"$f":"IF(Kold!$AO$5=-1,'Ark1'!M22,0)*$AT$40","v":0},{"$f":"IF(Kold!$AO$5=-1,'Ark1'!N22,0)*$AT$40","v":0},{"$f":"IF(Kold!$AO$5=-1,'Ark1'!O22,0)","v":0},{"$f":"IF(Kold!$AO$5=-1,'Ark1'!P22,0)","v":0},{"$f":"IF(Kold!$AO$5=-1,'Ark1'!Q22,0)","v":0},{"$f":"IF(Kold!$AO$5=-1,'Ark1'!R22,0)","v":0}]
[null,null,null,null,null,null,null,null,null,null,{"$f":"INDEX($AS$4:$AS$5,Makro!$A$3,1)&\"    \"&INDEX($AS$15:$AS$17,Makro!$B$3,1)","v":"Tilslag: Søsand / granit    Stål: Varmvalset"},null,null,null,null,"Es,q / Es",{"$f":"firsidig!E40","v":0.75090972441638704},null,null,null,null,null,null,null,null,null,null,null,null,null,null,null,null,null,null,null,null,null,null,15,0,0,null,null,null,null,null,null,"ac",{"$f":"AU16/1000","v":1.5439466469536967E-2},"m",null,{"$f":"IF(Kold!$AO$5=-1,'Ark1'!M23,0)*$AT$40","v":0},{"$f":"IF(Kold!$AO$5=-1,'Ark1'!N23,0)*$AT$40","v":0},{"$f":"IF(Kold!$AO$5=-1,'Ark1'!O23,0)","v":0},{"$f":"IF(Kold!$AO$5=-1,'Ark1'!P23,0)","v":0},{"$f":"IF(Kold!$AO$5=-1,'Ark1'!Q23,0)","v":0},{"$f":"IF(Kold!$AO$5=-1,'Ark1'!R23,0)","v":0}]
[null,null,"Kontrolparametre","Brandlasttilfælde",null,null,null,null,null,"Ref-last","Brandlasttilfælde",null,null,"     N1  (kN)","N0  (kN)","   N2  (kN)","w  (kN/m)",null,null,null,null,null,null,null,null,null,null,null,null,null,null,null,null,null,null,null,null,null,null,16,0,0,null,null,null,null,"NEJ",null,"at",{"$f":"AU17/1000","v":1.5439466469536967E-2},"m",null,{"$f":"IF(Kold!$AO$5=-1,'Ark1'!M24,0)*$AT$40","v":0},{"$f":"IF(Kold!$AO$5=-1,'Ark1'!N24,0)*$AT$40","v":0},{"$f":"IF(Kold!$AO$5=-1,'Ark1'!O24,0)","v":0},{"$f":"IF(Kold!$AO$5=-1,'Ark1'!P24,0)","v":0},{"$f":"IF(Kold!$AO$5=-1,'Ark1'!Q24,0)","v":0},{"$f":"IF(Kold!$AO$5=-1,'Ark1'!R24,0)","v":0}]
[null,null,null,{"$f":"IF(Kold!$AO$5=-1,Brand!BB33,\"-\")","v":"-"},{"$f":"IF(Kold!$AO$5=-1,Brand!BC33,\"-\")","v":"-"},{"$f":"IF(Kold!$AO$5=-1,Brand!BD33,\"-\")","v":"-"},{"$f":"IF(Kold!$AO$5=-1,Brand!BH33,\"-\")","v":"-"},{"$f":"IF(Kold!$AO$5=-1,Brand!BI33,\"-\")","v":"-"},{"$f":"IF(Kold!$AO$5=-1,Brand!BG33,\"-\")","v":"-"},{"$f":"IF(Kold!$AO$5=-1,Brand!BH33,\"-\")","v":"-"},"A",null,null,84.42,70.2,72.36,0,null,null,null,null,null,null,null,null,null,null,null,null,null,null,null,null,null,null,null,null,null,null,17,0,0,null,null,null,null,"JA",null,"Ac",{"$f":"AP40/1000000","v":6.0318578948924026E-4},"m2",null,{"$f":"IF(Kold!$AO$5=-1,'Ark1'!M25,0)*$AT$40","v":0},{"$f":"IF(Kold!$AO$5=-1,'Ark1'!N25,0)*$AT$40","v":0},{"$f":"IF(Kold!$AO$5=-1,'Ark1'!O25,0)","v":0},{"$f":"IF(Kold!$AO$5=-1,'Ark1'!P25,0)","v":0},{"$f":"IF(Kold!$AO$5=-1,'Ark1'!Q25,0)","v":0},{"$f":"IF(Kold!$AO$5=-1,'Ark1'!R25,0)","v":0}]
[null,"NEd","(kN)",{"$f":"IF(Kold!$AO$5=-1,Brand!BB35,\"-\")","v":"-"},{"$f":"IF(Kold!$AO$5=-1,Brand!BC35,\"-\")","v":"-"},{"$f":"IF(Kold!$AO$5=-1,Brand!BD35,\"-\")","v":"-"},{"$f":"IF(Kold!$AO$5=-1,Brand!BE35,\"-\")","v":"-"},{"$f":"IF(Kold!$AO$5=-1,Brand!BF35,\"-\")","v":"-"},{"$f":"IF(Kold!$AO$5=-1,Brand!BG35,\"-\")","v":"-"},{"$f":"IF(Kold!$AO$5=-1,IF(Makro!$H$2=10,\"-\",Brand!BH35),\"-\")","v":"-"},"B",null,null,329.7,70.2,72.36,0,null,null,null,null,null,null,null,null,null,null,null,null,null,null,null,null,null,null,null,null,null,null,18,0,0,null,null,null,null,null,null,"At",{"$f":"AP41/1000000","v":6.0318578948924026E-4},"m2",null,{"$f":"IF(Kold!$AO$5=-1,'Ark1'!M26,0)*$AT$40","v":0},{"$f":"IF(Kold!$AO$5=-1,'Ark1'!N26,0)*$AT$40","v":0},{"$f":"IF(Kold!$AO$5=-1,'Ark1'!O26,0)","v":0},{"$f":"IF(Kold!$AO$5=-1,'Ark1'!P26,0)","v":0},{"$f":"IF(Kold!$AO$5=-1,'Ark1'!Q26,0)","v":0},{"$f":"IF(Kold!$AO$5=-1,'Ark1'!R26,0)","v":0}]
[null,"M0Ed"," (kNm)",{"$f":"IF(Kold!$AO$5=-1,Brand!BB36,\"-\")","v":"-"},{"$f":"IF(Kold!$AO$5=-1,Brand!BC36,\"-\")","v":"-"},{"$f":"IF(Kold!$AO$5=-1,Brand!BD36,\"-\")","v":"-"},{"$f":"IF(Kold!$AO$5=-1,Brand!BE36,\"-\")","v":"-"},{"$f":"IF(Kold!$AO$5=-1,Brand!BF36,\"-\")","v":"-"},{"$f":"IF(Kold!$AO$5=-1,Brand!BG36,\"-\")","v":"-"},{"$f":"IF(Kold!$AO$5=-1,IF(Makro!$H$2=10,\"-\",Brand!BH36),\"-\")","v":"-"},"C",null,null,329.7,1734.72,72.36,0,null,null,null,null,null,null,null,null,null,null,null,null,null,null,null,null,null,null,null,null,null,null,19,0,0,null,null,null,null,null,null,"L",{"$f":"N11/1000","v":6},"m",null,{"$f":"IF(Kold!$AO$5=-1,'Ark1'!M27,0)*$AT$40","v":0},{"$f":"IF(Kold!$AO$5=-1,'Ark1'!N27,0)*$AT$40","v":0},{"$f":"IF(Kold!$AO$5=-1,'Ark1'!O27,0)","v":0},{"$f":"IF(Kold!$AO$5=-1,'Ark1'!P27,0)","v":0},{"$f":"IF(Kold!$AO$5=-1,'Ark1'!Q27,0)","v":0},{"$f":"IF(Kold!$AO$5=-1,'Ark1'!R27,0)","v":0}]
[null,"M0Rd ","(kNm)",{"$f":"IF(Kold!$AO$5=-1,Brand!BB37,\"-\")","v":"-"},{"$f":"IF(Kold!$AO$5=-1,Brand!BC37,\"-\")","v":"-"},{"$f":"IF(Kold!$AO$5=-1,Brand!BD37,\"-\")","v":"-"},{"$f":"IF(Kold!$AO$5=-1,Brand!BE37,\"-\")","v":"-"},{"$f":"IF(Kold!$AO$5=-1,Brand!BF37,\"-\")","v":"-"},{"$f":"IF(Kold!$AO$5=-1,Brand!BG37,\"-\")","v":"-"},{"$f":"IF(Kold!$AO$5=-1,IF(Makro!$H$2=10,\"-\",Brand!BH37),\"-\")","v":"-"},"D",null,null,329.7,1734.72,282.60000000000002,0,null,null,null,null,null,null,null,null,null,null,null,null,null,null,null,null,null,null,null,null,null,null,null,null,null,null,null,"Ingen negative inddata",{"$f":"IF(MIN(N9,N10,Q13,N19,N25:Q33,N35:P35)<0,1,0)","v":0},{"$f":"IF(AT28=1,AS28&\" !   \",\"\")","v":""},null,"e1",{"$f":"firsidig!F21","v":2.5000000000000001E-3},null,null,{"$f":"IF(Kold!$AO$5=-1,'Ark1'!M28,0)*$AT$40","v":0},{"$f":"IF(Kold!$AO$5=-1,'Ark1'!N28,0)*$AT$40","v":0},{"$f":"IF(Kold!$AO$5=-1,'Ark1'!O28,0)","v":0},{"$f":"IF(Kold!$AO$5=-1,'Ark1'!P28,0)","v":0},{"$f":"IF(Kold!$AO$5=-1,'Ark1'!Q28,0)","v":0},{"$f":"IF(Kold!$AO$5=-1,'Ark1'!R28,0)","v":0}]
[null,"u","(mm)",{"$f":"IF(Kold!$AO$5=-1,Brand!BB38+0.4*$AX$32*1000,\"-\")","v":"-"},{"$f":"IF(Kold!$AO$5=-1,Brand!BC38+0.4*$AX$32*1000,\"-\")","v":"-"},{"$f":"IF(Kold!$AO$5=-1,Brand!BD38+0.4*$AX$32*1000,\"-\")","v":"-"},{"$f":"IF(Kold!$AO$5=-1,Brand!BE38+0.4*$AX$32*1000,\"-\")","v":"-"},{"$f":"IF(Kold!$AO$5=-1,Brand!BF38+0.4*$AX$32*1000,\"-\")","v":"-"},{"$f":"IF(Kold!$AO$5=-1,Brand!BG38+0.4*$AX$32*1000,\"-\")","v":"-"},{"$f":"IF(Kold!$AO$5=-1,IF(Makro!$H$2=10,\"-\",Brand!BH38+0.4*AX32*1000),\"-\")","v":"-"},"E",null,null,15,15,15,1,null,null,null,null,null,null,null,null,null,null,null,null,null,null,null,null,null,null,null,null,null,null,null,null,null,null,{"$f":"MAX(AP9:AQ38,Kold!AP9:AQ38)","v":295.79999999999995},"f_ck højst 50 MPa",{"$f":"IF(N7>50,1,0)","v":0},""]
[null,"wk","(mm)",{"$f":"IF(Kold!$AO$5=-1,Brand!BB39,\"-\")","v":"-"},{"$f":"IF(Kold!$AO$5=-1,Brand!BC39,\"-\")","v":"-"},{"$f":"IF(Kold!$AO$5=-1,Brand!BD39,\"-\")","v":"-"},{"$f":"IF(Kold!$AO$5=-1,Brand!BE39,\"-\")","v":"-"},{"$f":"IF(Kold!$AO$5=-1,Brand!BF39,\"-\")","v":"-"},{"$f":"IF(Kold!$AO$5=-1,Brand!BG39,\"-\")","v":"-"},{"$f":"IF(Kold!$AO$5=-1,Brand!BH39,\"-\")","v":"-"},"F",null,null,5,5,15,1,null,null,null,null,null,null,null,null,null,null,null,null,null,null,null,null,null,null,null,null,null,null,null,{"$f":"N25+O25+P25+$AO$9","v":226.98000000000002},null,{"$f":"(N25*$N$35+O25*$O$35-P25*$P$35)/1000+0.125*Q25*($N$11/1000)^2+0.001+AT10*AO30","v":11.535400000000001},null,"f_ck mindst 20 MPa",{"$f":"IF(N7<20,1,0)","v":0},""]
[null,"e0 ","(o/oo)",{"$f":"IF(Kold!$AO$5=-1,Brand!BB40,\"-\")","v":"-"},{"$f":"IF(Kold!$AO$5=-1,Brand!BC40,\"-\")","v":"-"},{"$f":"IF(Kold!$AO$5=-1,Brand!BD40,\"-\")","v":"-"},{"$f":"IF(Kold!$AO$5=-1,Brand!BE40,\"-\")","v":"-"},{"$f":"IF(Kold!$AO$5=-1,Brand!BF40,\"-\")","v":"-"},{"$f":"IF(Kold!$AO$5=-1,Brand!BG40,\"-\")","v":"-"},{"$f":"IF(Kold!$AO$5=-1,IF(Makro!$H$2=10,\"-\",Brand!BH40),\"-\")","v":"-"},"G",null,null,15,15,15,1,null,null,null,null,null,null,null,null,null,null,null,null,null,null,null,null,null,null,null,null,null,null,null,472.26,null,{"$f":"(N26*$N$35+O26*$O$35-P26*$P$35)/1000+0.125*Q26*($N$11/1000)^2+0.001+AO31*AT10","v":99.836200000000005},null,null,null,{"$f":"IF(AX32>0,\"Underliggende konstruktion skal kontrolleres for forsætning af søjlens reaktion under brand på exc( R ) = \"&ROUND(AX32*1000,0)&\" mm mod søjlens trækside \",\"\")","v":"Underliggende konstruktion skal kontrolleres for forsætning af søjlens reaktion under brand på exc( R ) = 25 mm mod søjlens trækside "},null,"Forsætning af reaktion",null,null,null,"Lastpunkt",1,2,3,4,5,6,4,"A"]
[null,"sc0","(Mpa)",{"$f":"IF(Kold!$AO$5=-1,Brand!BB41,\"-\")","v":"-"},{"$f":"IF(Kold!$AO$5=-1,Brand!BC41,\"-\")","v":"-"},{"$f":"IF(Kold!$AO$5=-1,Brand!BD41,\"-\")","v":"-"},{"$f":"IF(Kold!$AO$5=-1,Brand!BE41,\"-\")","v":"-"},{"$f":"IF(Kold!$AO$5=-1,Brand!BF41,\"-\")","v":"-"},{"$f":"IF(Kold!$AO$5=-1,Brand!BG41,\"-\")","v":"-"},{"$f":"IF(Kold!$AO$5=-1,IF(Makro!$H$2=10,\"-\",Brand!BH41),\"-\")","v":"-"},"H",null,null,15,15,15,1,null," NB:  Resultaterne skal altid kontrolleres af ansvarlig statiker",null,null,null,null,null,null,null,null,null,null,null,null,null,null,null,null,null,null,null,null,null,2136.7800000000002,null,{"$f":"(N27*$N$35+O27*$O$35-P27*$P$35)/1000+0.125*Q27*($N$11/1000)^2+0.001+AO32*AT10","v":133.12660000000002},null,null,null,null,null,"exc( R )",{"$f":"IF(AND(Makro!B5=2,N19>5),MIN(AX33:AX35),0)","v":2.5000000000000001E-2},null,null,"Indeks",{"$f":"Makro!B2","v":1},{"$f":"Makro!C2","v":1},{"$f":"Makro!D2","v":1},{"$f":"Makro!E2","v":1},{"$f":"Makro!F2","v":1},{"$f":"Makro!G2","v":1},3,"B"]
[null,"sst","(Mpa)",{"$f":"IF(Kold!$AO$5=-1,Brand!BB42,\"-\")","v":"-"},{"$f":"IF(Kold!$AO$5=-1,Brand!BC42,\"-\")","v":"-"},{"$f":"IF(Kold!$AO$5=-1,Brand!BD42,\"-\")","v":"-"},{"$f":"IF(Kold!$AO$5=-1,Brand!BE42,\"-\")","v":"-"},{"$f":"IF(Kold!$AO$5=-1,Brand!BF42,\"-\")","v":"-"},{"$f":"IF(Kold!$AO$5=-1,Brand!BG42,\"-\")","v":"-"},{"$f":"IF(Kold!$AO$5=-1,IF(Makro!$H$2=10,\"-\",Brand!BH42),\"-\")","v":"-"},"I",null,null,15,15,15,1,null,null,null,null,null,null,null,null,null,null,null,null,null,null,null,null,null,null,null,null,null,null,null,2347.02,null,{"$f":"(N28*$N$35+O28*$O$35-P28*$P$35)/1000+0.125*Q28*($N$11/1000)^2+0.001+AO33*AT10","v":74.259399999999999},null,"Ref-last bør ændres - der regnes med fuld krybning",{"$f":"IF(AR61=1,1,0)","v":0},{"$f":"IF(AT33=1,AS33&\" !   \",\"\")","v":""},null,"0,5 (h -2a)",{"$f":"0.5*(N12-2*Q18)/1000","v":0.22543946646953697},null,null,null,{"$f":"INDEX($BI$31:$BI$39,Makro!B2)","v":"A"},{"$f":"INDEX($BI$31:$BI$39,Makro!C2)","v":"A"},{"$f":"INDEX($BI$31:$BI$39,Makro!D2)","v":"A"},{"$f":"INDEX($BI$31:$BI$39,Makro!E2)","v":"A"},{"$f":"INDEX($BI$31:$BI$39,Makro!F2)","v":"A"},{"$f":"INDEX($BI$31:$BI$39,Makro!G2)","v":"A"},{"$f":"INDEX(BI31:BI39,Makro!H2)","v":"A"},"C"]
[null,"ssc","(Mpa)",{"$f":"IF(Kold!$AO$5=-1,Brand!BB43,\"-\")","v":"-"},{"$f":"IF(Kold!$AO$5=-1,Brand!BC43,\"-\")","v":"-"},{"$f":"IF(Kold!$AO$5=-1,Brand!BD43,\"-\")","v":"-"},{"$f":"IF(Kold!$AO$5=-1,Brand!BE43,\"-\")","v":"-"},{"$f":"IF(Kold!$AO$5=-1,Brand!BF43,\"-\")","v":"-"},{"$f":"IF(Kold!$AO$5=-1,Brand!BG43,\"-\")","v":"-"},{"$f":"IF(Kold!$AO$5=-1,IF(Makro!$H$2=10,\"-\",Brand!BH43),\"-\")","v":"-"},null,null,null,null,null,null,"max exc( R )brand",null,"Vejledning:",null,null,"Betonelementbyggeriers statik",null,null,null,null,null,null,null,null,null,null,null,null,null,null,null,null,null,null,45,null,{"$f":"(N29*$N$35+O29*$O$35-P29*$P$35)/1000+0.125*Q29*($N$11/1000)^2+0.001+AO34*AT10","v":6.0010000000000003},null,"Resttværsnit meget spinkelt",{"$f":"IF(AT43<0.2*Kold!Q23/1000,1,0)","v":0},"",null,"max exc(R )",{"$f":"Q35/1000","v":2.5000000000000001E-2},null,null,"N",{"$f":"INDEX($AN$30:$AQ$38,Makro!B2,2)","v":226.98000000000002},{"$f":"INDEX($AN$30:$AQ$38,Makro!C2,2)","v":226.98000000000002},{"$f":"INDEX($AN$30:$AQ$38,Makro!D2,2)","v":226.98000000000002},{"$f":"INDEX($AN$30:$AQ$38,Makro!E2,2)","v":226.98000000000002},{"$f":"INDEX($AN$30:$AQ$38,Makro!F2,2)","v":226.98000000000002},{"$f":"INDEX($AN$30:$AQ$38,Makro!G2,2)","v":226.98000000000002},{"$f":"INDEX(AN30:AQ38,Makro!H2,2)","v":226.98000000000002},"D"]
[null,"x","(mm)",{"$f":"IF(Kold!$AO$5=-1,Brand!BB44,\"-\")","v":"-"},{"$f":"IF(Kold!$AO$5=-1,Brand!BC44,\"-\")","v":"-"},{"$f":"IF(Kold!$AO$5=-1,Brand!BD44,\"-\")","v":"-"},{"$f":"IF(Kold!$AO$5=-1,Brand!BE44,\"-\")","v":"-"},{"$f":"IF(Kold!$AO$5=-1,Brand!BF44,\"-\")","v":"-"},{"$f":"IF(Kold!$AO$5=-1,Brand!BG44,\"-\")","v":"-"},{"$f":"IF(Kold!$AO$5=-1,IF(Makro!$H$2=10,\"-\",Brand!BH44),\"-\")","v":"-"}," Excentriciteter (mm) :",null,null,360,20,280,25,null,"Polyteknisk Forlag 2010 eller www.bef.dk",null,null,null,null,null,null,null,null,null,null,null,null,null,null,null,null,null,null,null,null,null,25,null,{"$f":"(N30*$N$35+O30*$O$35-P30*$P$35)/1000+0.125*Q30*($N$11/1000)^2+0.001+AO35*AT10","v":2.2010000000000001},null,"f_yk højst 600 MPa",{"$f":"IF(N8>600,1,0)","v":0},"",null,"2 utermisk",{"$f":"1.1*firsidig!X34*AX27^2/(800000*(AX21-AX24))+IF(OR(Makro!H2=10,AR61=1),0,$Q$16/1000)*2","v":3.8046449908189041E-2},null,null,"N",{"$f":"INDEX(Lastresult,1+5*(BB31-1),16)*1000","v":1331.5272225862152},1331.5272225862152,1331.5272225862152,1331.5272225862152,1331.5272225862152,1331.5272225862152,1331.5272225862152,"E"]
[null,null,null,null,null,null,null,null,null,null,null,null,null,null,null,null,null,null,null,null,null,null,null,null,null,null,null,null,null,null,null,null,null,null,null,null,null,null,null,null,45,null,{"$f":"(N31*$N$35+O31*$O$35-P31*$P$35)/1000+0.125*Q31*($N$11/1000)^2+0.001+AO36*AT10","v":6.0010000000000003},null,"Partialkoefficienter mindst 1,0",{"$f":"IF(MIN(N9,N10)<1,1,0)","v":0},"",null,null,null,null,null,"M",{"$f":"INDEX($AN$30:$AQ$38,Makro!B2,4)","v":11.535400000000001},{"$f":"INDEX($AN$30:$AQ$38,Makro!C2,4)","v":11.535400000000001},{"$f":"INDEX($AN$30:$AQ$38,Makro!D2,4)","v":11.535400000000001},{"$f":"INDEX($AN$30:$AQ$38,Makro!E2,4)","v":11.535400000000001},{"$f":"INDEX($AN$30:$AQ$38,Makro!F2,4)","v":11.535400000000001},{"$f":"INDEX($AN$30:$AQ$38,Makro!G2,4)","v":11.535400000000001},{"$f":"INDEX(AN30:AQ38,Makro!H2,4)","v":11.535400000000001},"F"]
[null,null,null,null,null,null,null,null,null,null,null,null,null,null,null,null,null,null,null,null,null,null,null,null,null,null,null,null,null,null,null,null,null,null,null,null,null,null,null,null,45,null,{"$f":"(N32*$N$35+O32*$O$35-P32*$P$35)/1000+0.125*Q32*($N$11/1000)^2+0.001+AO37*AT10","v":6.0010000000000003},null,"Programmet indstillet til kold beregning",{"$f":"IF(Kold!$AO$5=1,1,0)","v":1},"Programmet indstillet til kold beregning !   ",null,null,null,null,null,"Mud ",{"$f":"INDEX(Lastresult,1+5*(BB31-1),17)*1000","v":298.79952145679647},298.79952145679647,298.79952145679647,298.79952145679647,298.79952145679647,298.79952145679647,298.79952145679647,"G"]
[null,null,null,null,null,null,null,null,null,null,null,null,null,null,null,null,null,null,null,null,null,null,null,null,null,null,null,null,null,null,null,null,null,null,null,null,null,null,null,null,45,null,{"$f":"(N33*$N$35+O33*$O$35-P33*$P$35)/1000+0.125*Q33*($N$11/1000)^2+0.001+AO38*AT10","v":6.0010000000000003},null,null,null,null,null,null,null,null,null,"u",{"$f":"INDEX(Lastresult,1+5*(BB31-1),15)*1000","v":43.492855488182634},43.492855488182634,43.492855488182634,43.492855488182634,43.492855488182634,43.492855488182634,43.492855488182634,"H"]
[null,null,null,null,null,null,null,null,null,null,null,null,null,null,null,null,null,null,null,null,null,null,null,null,null,null,null,null,null,null,null,null,null,null,null,null,null,null,null,null,null,null,null,null,"Nulstilling for fejl",null,null,null,null,null,null,null,"wr","-","-","-","-","-","-","-","I"]
[null,null,null,null,null,null,null,null,null,null,null,null,null,null,null,null,null,null,null,null,null,null,null,null,null,null,null,null,null,null,null,null,null,null,null,null,null,null,null,"Trykarmering",null,{"$f":"N15^2*N16*PI()/4","v":603.18578948924028},"mm^2",null,"Testfaktor",{"$f":"IF(MAX(AT28,AT29,AT30,AT34,AT36)=1,0,1)","v":1},null,null,null,null,null,null,"e0 ",{"$f":"INDEX(Lastresult,1+5*(BB31-1),3)*1000","v":1.1821243708783344},1.1821243708783344,1.1821243708783344,1.1821243708783344,1.1821243708783344,1.1821243708783344,1.1821243708783344]
[null,null,null,null,null,null,null,null,null,null,null,null,null,null,null,null,null,null,null,null,null,null,null,null,null,null,null,null,null,null,null,null,null,null,null,null,null,null,null,"Trækarmering",null,{"$f":"N17^2*N18*PI()/4","v":603.18578948924028},"mm^2",null,null,null,null,null,null,null,null,null,"sc0",{"$f":"3*(BB40/1000)*$Q$8/(firsidig!$F$21*(2+((BB40/1000)/firsidig!$F$21)^3))","v":26.946549829281828},{"$f":"3*(BC40/1000)*$Q$8/(firsidig!$F$21*(2+((BC40/1000)/firsidig!$F$21)^3))","v":26.946549829281828},{"$f":"3*(BD40/1000)*$Q$8/(firsidig!$F$21*(2+((BD40/1000)/firsidig!$F$21)^3))","v":26.946549829281828},{"$f":"3*(BE40/1000)*$Q$8/(firsidig!$F$21*(2+((BE40/1000)/firsidig!$F$21)^3))","v":26.946549829281828},{"$f":"3*(BF40/1000)*$Q$8/(firsidig!$F$21*(2+((BF40/1000)/firsidig!$F$21)^3))","v":26.946549829281828},{"$f":"3*(BG40/1000)*$Q$8/(firsidig!$F$21*(2+((BG40/1000)/firsidig!$F$21)^3))","v":26.946549829281828},{"$f":"3*(BH40/1000)*$Q$8/(firsidig!$F$21*(2+((BH40/1000)/firsidig!$F$21)^3))","v":26.946549829281828}]
[null,null,null,null,null,null,null,null,null,null,null,null,null,null,null,null,null,null,null,null,null,null,null,null,null,null,null,null,null,null,null,null,null,null,null,null,null,null,null,null,null,null,null,null,"Kritisk normalspænding",{"$f":"Q8/(1+12*Q8*AX27^2/(PI()^2*AX16*AX21^2))","v":31.517468906740749},"MPa",null,null,null,null,null,"sst",{"$f":"INDEX(Lastresult,1+5*(BB31-1),12)","v":458.33333333333337},458.33333333333337,458.33333333333337,458.33333333333337,458.33333333333337,458.33333333333337,458.33333333333337]
[null,null,null,null,null,null,null,null,null,null,null,null,null,null,null,null,null,null,null,null,null,null,null,null,null,null,null,null,null,null,null,null,null,null,null,null,null,null,null,null,null,null,null,null,"Kritisk normalkraft, Ncr",{"$f":"AT42*AX22*AX21","v":4.7019758390552751},"MN",null,null,null,null,null,"ssc",{"$f":"INDEX(Lastresult,1+5*(BB31-1),10)","v":458.33333333333337},458.33333333333337,458.33333333333337,458.33333333333337,458.33333333333337,458.33333333333337,458.33333333333337]
[null,null,null,null,null,null,null,null,null,null,null,null,null,null,null,null,null,null,null,null,null,null,null,null,null,null,null,null,null,null,null,null,null,null,null,null,null,null,null,null,null,null,null,null,null,null,null,null,null,null,null,null,"hc ",{"$f":"INDEX(Lastresult,1+5*(BB31-1),2)*1000","v":252.90421059977115},252.90421059977115,252.90421059977115,252.90421059977115,252.90421059977115,252.90421059977115,252.90421059977115]
[]
[null,null,null,null,null,null,null,null,null,null,null,null,null,null,null,null,null,null,null,null,null,null,null,null,null,null,null,null,null,null,null,null,null,null,null,null,null,null,null,"gc",1,null,"Referencelast før krybning",null,null,"Mo",null,"sc,max","sc,min","sc","st","hc","u","a","Mt","a*fc","a*ft","B","C","D","p","q","C'","y'","b","m","Ec","Atr","Syt","Iyt","z","Io","sc","sm","hc",null,null,"Referencelast"]
[null,null,null,null,null,null,null,null,null,null,null,null,null,null,null,null,null,null,null,null,null,null,null,null,null,null,null,null,null,null,null,null,null,null,null,null,null,null,null,"ga",1,null,null,null,null,{"$f":"BC47-AR50*BA47","v":1.7593364106962075E-2},null,{"$f":"IF(BL47*SQRT(4*ABS(BI47)/3)-BF47/3<=AO53,BC47/(BN47*AO54*AO53^2),BU47)","v":1.7919025401794695},{"$f":"IF(BL47*SQRT(4*ABS(BI47)/3)-BF47/3<=AO53,0,BV47)","v":0.15108577329493633},{"$f":"BB47*(AZ47-AO55)*AV47/AZ47","v":9.1400819948174821},{"$f":"BB47*(AO53-AO55-AZ47)*AV47/AZ47","v":-1.8932105130145609},{"$f":"IF(BL47*SQRT(4*ABS(BI47)/3)-BF47/3<=AO53,BL47*SQRT(4*ABS(BI47)/3)-BF47/3,BW47)","v":0.58972299115042315},{"$f":"0.1*(AV47/(AZ47*BO47))*AO59^2","v":3.1175776042082924E-4},{"$f":"AO56","v":5.6785171744561715},{"$f":"IF(AR53>0,AR53+AO53*AR50/20,0)+0.000000000001","v":1.7664130000999999E-2},{"$f":"BB47*AO57/(AO53*AO54)","v":1.5102296582903685E-2},{"$f":"BB47*AO58/(AO53*AO54)","v":1.5102296582903685E-2},{"$f":"-6*AO53*(0.25-0.5*BC47/(AO53*AR52))","v":-0.57654306355786611},{"$f":"-6*AO53*(BD47*(0.5*AO53-AO55)-BE47*(0.5*AO53-AO55)-(BD47+BE47)*AO53*BC47/(AO53*AR52))","v":7.6155895299280388E-3},{"$f":"6*AO53*((BD47*AO55-BE47*(AO53-AO55))*(0.5*AO53-AO55)-(BD47*AO55+BE47*(AO53-AO55))*BC47/AR52)","v":-6.3719622629837911E-3},{"$f":"(3*BG47-BF47^2)/3","v":-0.10318504518230183},{"$f":"(9*BG47*BF47-27*BH47-2*BF47^3)/27","v":1.9104243241554717E-2},{"$f":"0.5*BJ47*(3/ABS(BI47))^(3/2)","v":1.4974646792800488},{"$f":"IF(BI47>0,SINH(ASINH(BK47)/3),IF(BK47>=1,COSH(ACOSH(BK47)/3),IF(BK47<=-1,-COSH(ACOSH(ABS(BK47))/3),COS(ACOS(BK47)/3))))","v":1.0516549512675182},{"$f":"AZ47/AO53","v":1.0920796132415242},{"$f":"0.5*BM47*(0.5-BM47/3)+BD47*(0.5-AO55/AO53)*(BM47-AO55/AO53)/BM47+BE47*(0.5-AO55/AO53)*(1-AO55/AO53-BM47)/BM47","v":7.8429748663901691E-2},{"$f":"IF(BL47*SQRT(4*ABS(BI47)/3)-BF47/3<=AO53,AO52*(1-AO51*AV47/AO50),AO52*(1-AO51*AV47/AO50-(1-AO51)*BV47/AO50))","v":35087.429519416197},{"$f":"(1+BD47+BE47)*AO53*AO54","v":0.23365040173000515},{"$f":"0.5*(AO53-AO55)*(BE47-BD47)*AO53*AO54","v":0},{"$f":"AO54*AO53^3/12+(0.5*AO53-AO55)^2*(BD47+BE47)*AO54*AO53","v":5.8133427162932261E-3},{"$f":"BQ47/BP47","v":0},{"$f":"BR47-BP47*BS47^2","v":5.8133427162932261E-3},{"$f":"AR52/BP47+(BC47+BS47*AR52)*(0.5*AO53+BS47)/BT47","v":1.7919025401794695},{"$f":"AR52/BP47+(BC47+BS47*AR52)*(-0.5*AO53+BS47)/BT47","v":0.15108577329493633},{"$f":"AR52*BT47/((BC47+AR52*BS47)*BP47)+(0.5*AO53+BS47)","v":0.58972299115042315},null,null,"A",{"$f":"AO30","v":226.98000000000002},{"$f":"(N25*$N$35+O25*$O$35-P25*$P$35)/1000+0.125*Q25*($N$11/1000)^2+0.001","v":11.535400000000001}]
[null,null,null,null,null,null,null,null,null,null,null,null,null,null,null,null,null,null,null,null,null,null,null,null,null,null,null,null,null,null,null,null,null,null,null,null,null,null,null,"fck",{"$f":"$N$7","v":40},"MPa",null,null,null,{"$f":"BC48-AR50*BA48","v":1.1559338733822557E-2},{"$f":"BA48/BA47","v":0.66171933318998832},{"$f":"IF(BL48*SQRT(4*ABS(BI48)/3)-BF48/3<=AO53,BC48/(BN48*AO54*AO53^2),BU48)","v":1.5105411292488056},{"$f":"IF(BL48*SQRT(4*ABS(BI48)/3)-BF48/3<=AO53,0,BV48)","v":0.43244718422560013},{"$f":"BB48*(AZ48-AO55)*AV48/AZ48","v":7.8974143026627086},{"$f":"BB48*(AO53-AO55-AZ48)*AV48/AZ48","v":-3.1358782051693357},{"$f":"IF(BL48*SQRT(4*ABS(BI48)/3)-BF48/3<=AO53,BL48*SQRT(4*ABS(BI48)/3)-BF48/3,BW48)","v":0.75660587239157318},{"$f":"0.1*(AV48/(AZ48*BO48))*AO59^2","v":2.0629613734247527E-4},{"$f":"AO56","v":5.6785171744561715},{"$f":"AR53+BA47*AR50","v":1.1606165894037925E-2},{"$f":"BB48*AO57/(AO53*AO54)","v":1.5102296582903685E-2},{"$f":"BB48*AO58/(AO53*AO54)","v":1.5102296582903685E-2},{"$f":"-6*AO53*(0.25-0.5*BC48/(AO53*AR52))","v":-0.65660779028981997},{"$f":"-6*AO53*(BD48*(0.5*AO53-AO55)-BE48*(0.5*AO53-AO55)-(BD48+BE48)*AO53*BC48/(AO53*AR52))","v":5.0038012322282119E-3},{"$f":"6*AO53*((BD48*AO55-BE48*(AO53-AO55))*(0.5*AO53-AO55)-(BD48*AO55+BE48*(AO53-AO55))*BC48/AR52)","v":-5.6667794226048385E-3},{"$f":"(3*BG48-BF48^2)/3","v":-0.13870746219086519},{"$f":"(9*BG48*BF48-27*BH48-2*BF48^3)/27","v":2.5540920047222911E-2},{"$f":"0.5*BJ48*(3/ABS(BI48))^(3/2)","v":1.2845135359663475},{"$f":"IF(BI48>0,SINH(ASINH(BK48)/3),IF(BK48>=1,COSH(ACOSH(BK48)/3),IF(BK48<=-1,-COSH(ACOSH(ABS(BK48))/3),COS(ACOS(BK48)/3))))","v":1.0303703539729545},{"$f":"AZ48/AO53","v":1.4011219859103206},{"$f":"0.5*BM48*(0.5-BM48/3)+BD48*(0.5-AO55/AO53)*(BM48-AO55/AO53)/BM48+BE48*(0.5-AO55/AO53)*(1-AO55/AO53-BM48)/BM48","v":2.635025562380168E-2},{"$f":"IF(BL48*SQRT(4*ABS(BI48)/3)-BF48/3<=AO53,AO52*(1-AO51*AV48/AO50),AO52*(1-AO51*AV48/AO50-(1-AO51)*BV48/AO50))","v":34839.687545335073},{"$f":"(1+BD48+BE48)*AO53*AO54","v":0.23365040173000515},{"$f":"0.5*(AO53-AO55)*(BE48-BD48)*AO53*AO54","v":0},{"$f":"AO54*AO53^3/12+(0.5*AO53-AO55)^2*(BD48+BE48)*AO54*AO53","v":5.8133427162932261E-3},{"$f":"BQ48/BP48","v":0},{"$f":"BR48-BP48*BS48^2","v":5.8133427162932261E-3},{"$f":"AR52/BP48+(BC48+BS48*AR52)*(0.5*AO53+BS48)/BT48","v":1.5105411292488056},{"$f":"AR52/BP48+(BC48+BS48*AR52)*(-0.5*AO53+BS48)/BT48","v":0.43244718422560013},{"$f":"AR52*BT48/((BC48+AR52*BS48)*BP48)+(0.5*AO53+BS48)","v":0.75660587239157318},null,null,"B",{"$f":"AO31","v":472.26},99.836200000000005]
[null,null,null,null,null,null,null,null,null,null,null,null,null,null,null,null,null,null,null,null,null,null,null,null,null,null,null,null,null,null,null,null,null,null,null,null,null,null,null,"Es",200000,"MPa","Max_N",{"$f":"(AO53*AO54+AO56*(AO57+AO58))*AO50/(1+(12*(AO50/AO52)/PI()^2)*(AO59/AO53)^2)","v":7.9848042942972786},null,{"$f":"BC49-AR50*BA49","v":1.1535495271973454E-2},{"$f":"BA49/BA48","v":0.99796545481266274},{"$f":"IF(BL49*SQRT(4*ABS(BI49)/3)-BF49/3<=AO53,BC49/(BN49*AO54*AO53^2),BU49)","v":1.509429297649066},{"$f":"IF(BL49*SQRT(4*ABS(BI49)/3)-BF49/3<=AO53,0,BV49)","v":0.43355901582533973},{"$f":"BB49*(AZ49-AO55)*AV49/AZ49","v":7.8925037600138666},{"$f":"BB49*(AO53-AO55-AZ49)*AV49/AZ49","v":-3.1407887478181751},{"$f":"IF(BL49*SQRT(4*ABS(BI49)/3)-BF49/3<=AO53,BL49*SQRT(4*ABS(BI49)/3)-BF49/3,BW49)","v":0.7576116140589173},{"$f":"0.1*(AV49/(AZ49*BO49))*AO59^2","v":2.0587641852907887E-4},{"$f":"AO56","v":5.6785171744561715},{"$f":"AR53+BA48*AR50","v":1.1582227160215369E-2},{"$f":"BB49*AO57/(AO53*AO54)","v":1.5102296582903685E-2},{"$f":"BB49*AO58/(AO53*AO54)","v":1.5102296582903685E-2},{"$f":"-6*AO53*(0.25-0.5*BC49/(AO53*AR52))","v":-0.6569241751590551},{"$f":"-6*AO53*(BD49*(0.5*AO53-AO55)-BE49*(0.5*AO53-AO55)-(BD49+BE49)*AO53*BC49/(AO53*AR52))","v":4.9934804538684244E-3},{"$f":"6*AO53*((BD49*AO55-BE49*(AO53-AO55))*(0.5*AO53-AO55)-(BD49*AO55+BE49*(AO53-AO55))*BC49/AR52)","v":-5.6639928124476964E-3},{"$f":"(3*BG49-BF49^2)/3","v":-0.13885631018226655},{"$f":"(9*BG49*BF49-27*BH49-2*BF49^3)/27","v":2.5570192371992179E-2},{"$f":"0.5*BJ49*(3/ABS(BI49))^(3/2)","v":1.2839184829064119},1.0303092552197812,{"$f":"AZ49/AO53","v":1.4029844704794765},{"$f":"0.5*BM49*(0.5-BM49/3)+BD49*(0.5-AO55/AO53)*(BM49-AO55/AO53)/BM49+BE49*(0.5-AO55/AO53)*(1-AO55/AO53-BM49)/BM49","v":2.5941114591768063E-2},{"$f":"IF(BL49*SQRT(4*ABS(BI49)/3)-BF49/3<=AO53,AO52*(1-AO51*AV49/AO50),AO52*(1-AO51*AV49/AO50-(1-AO51)*BV49/AO50))","v":34838.708564761822},{"$f":"(1+BD49+BE49)*AO53*AO54","v":0.23365040173000515},{"$f":"0.5*(AO53-AO55)*(BE49-BD49)*AO53*AO54","v":0},{"$f":"AO54*AO53^3/12+(0.5*AO53-AO55)^2*(BD49+BE49)*AO54*AO53","v":5.8133427162932261E-3},0,5.8133427162932261E-3,{"$f":"AR52/BP49+(BC49+BS49*AR52)*(0.5*AO53+BS49)/BT49","v":1.509429297649066},{"$f":"AR52/BP49+(BC49+BS49*AR52)*(-0.5*AO53+BS49)/BT49","v":0.43355901582533973},{"$f":"AR52*BT49/((BC49+AR52*BS49)*BP49)+(0.5*AO53+BS49)","v":0.7576116140589173},null,null,"C",2136.7800000000002,133.12660000000002]
[null,null,null,null,null,null,null,null,null,null,null,null,null,null,null,null,null,null,null,null,null,null,null,null,null,null,null,null,null,null,null,null,null,null,null,null,null,null,null,"fcd",{"$f":"AO48/AO46","v":40},"MPa","Nd",{"$f":"INDEX(BZ47:CB56,Makro!H2,2)/1000+0.00001","v":0.22699000000000003},"MN",{"$f":"BC50-AR50*BA50","v":1.1535400379176488E-2},0.9999918861295457,{"$f":"IF(BL50*SQRT(4*ABS(BI50)/3)-BF50/3<=AO53,BC50/(BN50*AO54*AO53^2),BU50)","v":1.5094248727537711},{"$f":"IF(BL50*SQRT(4*ABS(BI50)/3)-BF50/3<=AO53,0,BV50)","v":0.43356344072063446},{"$f":"BB50*(AZ50-AO55)*AV50/AZ50","v":7.8924842169130347},{"$f":"BB50*(AO53-AO55-AZ50)*AV50/AZ50","v":-3.1408082909190083},{"$f":"IF(BL50*SQRT(4*ABS(BI50)/3)-BF50/3<=AO53,BL50*SQRT(4*ABS(BI50)/3)-BF50/3,BW50)","v":0.75761562504076418},{"$f":"0.1*(AV50/(AZ50*BO50))*AO59^2","v":2.0587474807448933E-4},{"$f":"AO56","v":5.6785171744561715},{"$f":"AR53+BA49*AR50","v":1.1582131888241917E-2},{"$f":"BB50*AO57/(AO53*AO54)","v":1.5102296582903685E-2},{"$f":"BB50*AO58/(AO53*AO54)","v":1.5102296582903685E-2},{"$f":"-6*AO53*(0.25-0.5*BC50/(AO53*AR52))","v":-0.65692543431549522},{"$f":"-6*AO53*(BD50*(0.5*AO53-AO55)-BE50*(0.5*AO53-AO55)-(BD50+BE50)*AO53*BC50/(AO53*AR52))","v":4.9934393789757767E-3},{"$f":"6*AO53*((BD50*AO55-BE50*(AO53-AO55))*(0.5*AO53-AO55)-(BD50*AO55+BE50*(AO53-AO55))*BC50/AR52)","v":-5.6639817222266806E-3},-0.13885690270455822,2.5570308933452343E-2,1.2839161176108931,1.030309012337471,{"$f":"AZ50/AO53","v":1.4029918982236373},{"$f":"0.5*BM50*(0.5-BM50/3)+BD50*(0.5-AO55/AO53)*(BM50-AO55/AO53)/BM50+BE50*(0.5-AO55/AO53)*(1-AO55/AO53-BM50)/BM50","v":2.5939480611262208E-2},{"$f":"IF(BL50*SQRT(4*ABS(BI50)/3)-BF50/3<=AO53,AO52*(1-AO51*AV50/AO50),AO52*(1-AO51*AV50/AO50-(1-AO51)*BV50/AO50))","v":34838.70466859037},{"$f":"(1+BD50+BE50)*AO53*AO54","v":0.23365040173000515},{"$f":"0.5*(AO53-AO55)*(BE50-BD50)*AO53*AO54","v":0},{"$f":"AO54*AO53^3/12+(0.5*AO53-AO55)^2*(BD50+BE50)*AO54*AO53","v":5.8133427162932261E-3},0,5.8133427162932261E-3,{"$f":"AR52/BP50+(BC50+BS50*AR52)*(0.5*AO53+BS50)/BT50","v":1.5094248727537711},{"$f":"AR52/BP50+(BC50+BS50*AR52)*(-0.5*AO53+BS50)/BT50","v":0.43356344072063446},{"$f":"AR52*BT50/((BC50+AR52*BS50)*BP50)+(0.5*AO53+BS50)","v":0.75761562504076418},null,null,"D",2347.02,74.259399999999999]
[null,null,null,null,null,null,null,null,null,null,null,null,null,null,null,null,null,null,null,null,null,null,null,null,null,null,null,null,null,null,null,null,null,null,null,null,null,null,null,"k",0,null,"Nf",0,"MN",{"$f":"BC51-AR50*BA51","v":1.15354000015091E-2},0.99999996770703803,{"$f":"IF(BL51*SQRT(4*ABS(BI51)/3)-BF51/3<=AO53,BC51/(BN51*AO54*AO53^2),BU51)","v":1.509424855142965},{"$f":"IF(BL51*SQRT(4*ABS(BI51)/3)-BF51/3<=AO53,0,BV51)","v":0.43356345833144061},{"$f":"BB51*(AZ51-AO55)*AV51/AZ51","v":7.8924841391327183},{"$f":"BB51*(AO53-AO55-AZ51)*AV51/AZ51","v":-3.1408083686993251},{"$f":"IF(BL51*SQRT(4*ABS(BI51)/3)-BF51/3<=AO53,BL51*SQRT(4*ABS(BI51)/3)-BF51/3,BW51)","v":0.75761564100435252},{"$f":"0.1*(AV51/(AZ51*BO51))*AO59^2","v":2.0587474142618392E-4},{"$f":"AO56","v":5.6785171744561715},{"$f":"AR53+BA50*AR50","v":1.1582131509065429E-2},{"$f":"BB51*AO57/(AO53*AO54)","v":1.5102296582903685E-2},{"$f":"BB51*AO58/(AO53*AO54)","v":1.5102296582903685E-2},{"$f":"-6*AO53*(0.25-0.5*BC51/(AO53*AR52))","v":-0.65692543932685898},{"$f":"-6*AO53*(BD51*(0.5*AO53-AO55)-BE51*(0.5*AO53-AO55)-(BD51+BE51)*AO53*BC51/(AO53*AR52))","v":4.9934392155002762E-3},{"$f":"6*AO53*((BD51*AO55-BE51*(AO53-AO55))*(0.5*AO53-AO55)-(BD51*AO55+BE51*(AO53-AO55))*BC51/AR52)","v":-5.6639816780882958E-3},-0.13885690506276196,2.5570309397360651E-2,1.283916108197211,1.0303090113708191,{"$f":"AZ51/AO53","v":1.4029919277858378},{"$f":"0.5*BM51*(0.5-BM51/3)+BD51*(0.5-AO55/AO53)*(BM51-AO55/AO53)/BM51+BE51*(0.5-AO55/AO53)*(1-AO55/AO53-BM51)/BM51","v":2.5939474108032122E-2},{"$f":"IF(BL51*SQRT(4*ABS(BI51)/3)-BF51/3<=AO53,AO52*(1-AO51*AV51/AO50),AO52*(1-AO51*AV51/AO50-(1-AO51)*BV51/AO50))","v":34838.704653083856},{"$f":"(1+BD51+BE51)*AO53*AO54","v":0.23365040173000515},{"$f":"0.5*(AO53-AO55)*(BE51-BD51)*AO53*AO54","v":0},{"$f":"AO54*AO53^3/12+(0.5*AO53-AO55)^2*(BD51+BE51)*AO54*AO53","v":5.8133427162932261E-3},0,5.8133427162932261E-3,{"$f":"AR52/BP51+(BC51+BS51*AR52)*(0.5*AO53+BS51)/BT51","v":1.509424855142965},{"$f":"AR52/BP51+(BC51+BS51*AR52)*(-0.5*AO53+BS51)/BT51","v":0.43356345833144061},{"$f":"AR52*BT51/((BC51+AR52*BS51)*BP51)+(0.5*AO53+BS51)","v":0.75761564100435252},null,null,"E",45,6.0010000000000003]
[null,null,null,null,null,null,null,null,null,null,null,null,null,null,null,null,null,null,null,null,null,null,null,null,null,null,null,null,null,null,null,null,null,null,null,null,null,null,null,"Ecm",{"$f":"1000*22*((AO50+8)/10)^0.3","v":35220.462288934417},"MPa","N",{"$f":"AR51+AR50","v":0.22699000000000003},"MN",{"$f":"BC52-AR50*BA52","v":1.1535400000006007E-2},0.99999999987147625,{"$f":"IF(BL52*SQRT(4*ABS(BI52)/3)-BF52/3<=AO53,BC52/(BN52*AO54*AO53^2),BU52)","v":1.5094248550728753},{"$f":"IF(BL52*SQRT(4*ABS(BI52)/3)-BF52/3<=AO53,0,BV52)","v":0.43356345840153054},{"$f":"BB52*(AZ52-AO55)*AV52/AZ52","v":7.8924841388231579},{"$f":"BB52*(AO53-AO55-AZ52)*AV52/AZ52","v":-3.1408083690088859},{"$f":"IF(BL52*SQRT(4*ABS(BI52)/3)-BF52/3<=AO53,BL52*SQRT(4*ABS(BI52)/3)-BF52/3,BW52)","v":0.75761564106788648},{"$f":"0.1*(AV52/(AZ52*BO52))*AO59^2","v":2.0587474139972413E-4},{"$f":"AO56","v":5.6785171744561715},{"$f":"AR53+BA51*AR50","v":1.1582131507556331E-2},{"$f":"BB52*AO57/(AO53*AO54)","v":1.5102296582903685E-2},{"$f":"BB52*AO58/(AO53*AO54)","v":1.5102296582903685E-2},{"$f":"-6*AO53*(0.25-0.5*BC52/(AO53*AR52))","v":-0.65692543934680392},{"$f":"-6*AO53*(BD52*(0.5*AO53-AO55)-BE52*(0.5*AO53-AO55)-(BD52+BE52)*AO53*BC52/(AO53*AR52))","v":4.9934392148496543E-3},{"$f":"6*AO53*((BD52*AO55-BE52*(AO53-AO55))*(0.5*AO53-AO55)-(BD52*AO55+BE52*(AO53-AO55))*BC52/AR52)","v":-5.6639816779126282E-3},{"$f":"(3*BG52-BF52^2)/3","v":-0.13885690507214746},{"$f":"(9*BG52*BF52-27*BH52-2*BF52^3)/27","v":2.5570309399206976E-2},{"$f":"0.5*BJ52*(3/ABS(BI52))^(3/2)","v":1.2839161081597454},{"$f":"IF(BI52>0,SINH(ASINH(BK52)/3),IF(BK52>=1,COSH(ACOSH(BK52)/3),IF(BK52<=-1,-COSH(ACOSH(ABS(BK52))/3),COS(ACOS(BK52)/3))))","v":1.0303090113669719},{"$f":"AZ52/AO53","v":1.4029919279034935},{"$f":"0.5*BM52*(0.5-BM52/3)+BD52*(0.5-AO55/AO53)*(BM52-AO55/AO53)/BM52+BE52*(0.5-AO55/AO53)*(1-AO55/AO53-BM52)/BM52","v":2.5939474082149673E-2},{"$f":"IF(BL52*SQRT(4*ABS(BI52)/3)-BF52/3<=AO53,AO52*(1-AO51*AV52/AO50),AO52*(1-AO51*AV52/AO50-(1-AO51)*BV52/AO50))","v":34838.704653022141},{"$f":"(1+BD52+BE52)*AO53*AO54","v":0.23365040173000515},{"$f":"0.5*(AO53-AO55)*(BE52-BD52)*AO53*AO54","v":0},{"$f":"AO54*AO53^3/12+(0.5*AO53-AO55)^2*(BD52+BE52)*AO54*AO53","v":5.8133427162932261E-3},0,5.8133427162932261E-3,{"$f":"AR52/BP52+(BC52+BS52*AR52)*(0.5*AO53+BS52)/BT52","v":1.5094248550728753},{"$f":"AR52/BP52+(BC52+BS52*AR52)*(-0.5*AO53+BS52)/BT52","v":0.43356345840153054},{"$f":"AR52*BT52/((BC52+AR52*BS52)*BP52)+(0.5*AO53+BS52)","v":0.75761564106788648},null,null,"F",25,2.2010000000000001]
[null,null,null,null,null,null,null,null,null,null,null,null,null,null,null,null,null,null,null,null,null,null,null,null,null,null,null,null,null,null,null,null,null,null,null,null,null,null,null,"h",{"$f":"$N$12/1000","v":0.54},"m","Mo",{"$f":"INDEX(BZ47:CB56,Makro!H2,3)/1000","v":1.1535400000000001E-2},"MNm",{"$f":"BC53-AR50*BA53","v":1.1535400000000025E-2},0.99999999999948863,{"$f":"IF(BL53*SQRT(4*ABS(BI53)/3)-BF53/3<=AO53,BC53/(BN53*AO54*AO53^2),BU53)","v":1.5094248550725964},{"$f":"IF(BL53*SQRT(4*ABS(BI53)/3)-BF53/3<=AO53,0,BV53)","v":0.43356345840180943},{"$f":"BB53*(AZ53-AO55)*AV53/AZ53","v":7.892484138821926},{"$f":"BB53*(AO53-AO55-AZ53)*AV53/AZ53","v":-3.1408083690101183},{"$f":"IF(BL53*SQRT(4*ABS(BI53)/3)-BF53/3<=AO53,BL53*SQRT(4*ABS(BI53)/3)-BF53/3,BW53)","v":0.75761564106813939},{"$f":"0.1*(AV53/(AZ53*BO53))*AO59^2","v":2.0587474139961885E-4},{"$f":"AO56","v":5.6785171744561715},{"$f":"AR53+BA52*AR50","v":1.1582131507550325E-2},{"$f":"BB53*AO57/(AO53*AO54)","v":1.5102296582903685E-2},{"$f":"BB53*AO58/(AO53*AO54)","v":1.5102296582903685E-2},{"$f":"-6*AO53*(0.25-0.5*BC53/(AO53*AR52))","v":-0.6569254393468833},{"$f":"-6*AO53*(BD53*(0.5*AO53-AO55)-BE53*(0.5*AO53-AO55)-(BD53+BE53)*AO53*BC53/(AO53*AR52))","v":4.9934392148470643E-3},{"$f":"6*AO53*((BD53*AO55-BE53*(AO53-AO55))*(0.5*AO53-AO55)-(BD53*AO55+BE53*(AO53-AO55))*BC53/AR52)","v":-5.6639816779119291E-3},-0.13885690507218482,2.5570309399214328E-2,1.2839161081595971,1.0303090113669566,{"$f":"AZ53/AO53","v":1.4029919279039618},{"$f":"0.5*BM53*(0.5-BM53/3)+BD53*(0.5-AO55/AO53)*(BM53-AO55/AO53)/BM53+BE53*(0.5-AO55/AO53)*(1-AO55/AO53-BM53)/BM53","v":2.5939474082046651E-2},{"$f":"IF(BL53*SQRT(4*ABS(BI53)/3)-BF53/3<=AO53,AO52*(1-AO51*AV53/AO50),AO52*(1-AO51*AV53/AO50-(1-AO51)*BV53/AO50))","v":34838.704653021894},{"$f":"(1+BD53+BE53)*AO53*AO54","v":0.23365040173000515},{"$f":"0.5*(AO53-AO55)*(BE53-BD53)*AO53*AO54","v":0},{"$f":"AO54*AO53^3/12+(0.5*AO53-AO55)^2*(BD53+BE53)*AO54*AO53","v":5.8133427162932261E-3},0,5.8133427162932261E-3,{"$f":"AR52/BP53+(BC53+BS53*AR52)*(0.5*AO53+BS53)/BT53","v":1.5094248550725964},{"$f":"AR52/BP53+(BC53+BS53*AR52)*(-0.5*AO53+BS53)/BT53","v":0.43356345840180943},{"$f":"AR52*BT53/((BC53+AR52*BS53)*BP53)+(0.5*AO53+BS53)","v":0.75761564106813939},null,null,"G",45,6.0010000000000003]
[null,null,null,null,null,null,null,null,null,null,null,null,null,null,null,null,null,null,null,null,null,null,null,null,null,null,null,null,null,null,null,null,null,null,null,null,null,null,null,"b",{"$f":"$N$13/1000","v":0.42},"m","u",{"$f":"BA59","v":2.0587474139961836E-4},"m",{"$f":"BC54-AR50*BA54","v":1.1535400000000001E-2},0.99999999999999767,{"$f":"IF(BL54*SQRT(4*ABS(BI54)/3)-BF54/3<=AO53,BC54/(BN54*AO54*AO53^2),BU54)","v":1.5094248550725951},{"$f":"IF(BL54*SQRT(4*ABS(BI54)/3)-BF54/3<=AO53,0,BV54)","v":0.43356345840181054},{"$f":"BB54*(AZ54-AO55)*AV54/AZ54","v":7.8924841388219207},{"$f":"BB54*(AO53-AO55-AZ54)*AV54/AZ54","v":-3.1408083690101236},{"$f":"IF(BL54*SQRT(4*ABS(BI54)/3)-BF54/3<=AO53,BL54*SQRT(4*ABS(BI54)/3)-BF54/3,BW54)","v":0.7576156410681405},{"$f":"0.1*(AV54/(AZ54*BO54))*AO59^2","v":2.0587474139961836E-4},{"$f":"AO56","v":5.6785171744561715},{"$f":"AR53+BA53*AR50","v":1.1582131507550301E-2},{"$f":"BB54*AO57/(AO53*AO54)","v":1.5102296582903685E-2},{"$f":"BB54*AO58/(AO53*AO54)","v":1.5102296582903685E-2},{"$f":"-6*AO53*(0.25-0.5*BC54/(AO53*AR52))","v":-0.65692543934688352},{"$f":"-6*AO53*(BD54*(0.5*AO53-AO55)-BE54*(0.5*AO53-AO55)-(BD54+BE54)*AO53*BC54/(AO53*AR52))","v":4.9934392148470539E-3},{"$f":"6*AO53*((BD54*AO55-BE54*(AO53-AO55))*(0.5*AO53-AO55)-(BD54*AO55+BE54*(AO53-AO55))*BC54/AR52)","v":-5.6639816779119256E-3},-0.13885690507218493,2.5570309399214348E-2,1.2839161081595958,1.0303090113669566,{"$f":"AZ54/AO53","v":1.4029919279039638},{"$f":"0.5*BM54*(0.5-BM54/3)+BD54*(0.5-AO55/AO53)*(BM54-AO55/AO53)/BM54+BE54*(0.5-AO55/AO53)*(1-AO55/AO53-BM54)/BM54","v":2.5939474082046218E-2},{"$f":"IF(BL54*SQRT(4*ABS(BI54)/3)-BF54/3<=AO53,AO52*(1-AO51*AV54/AO50),AO52*(1-AO51*AV54/AO50-(1-AO51)*BV54/AO50))","v":34838.704653021894},{"$f":"(1+BD54+BE54)*AO53*AO54","v":0.23365040173000515},{"$f":"0.5*(AO53-AO55)*(BE54-BD54)*AO53*AO54","v":0},{"$f":"AO54*AO53^3/12+(0.5*AO53-AO55)^2*(BD54+BE54)*AO54*AO53","v":5.8133427162932261E-3},0,5.8133427162932261E-3,{"$f":"AR52/BP54+(BC54+BS54*AR52)*(0.5*AO53+BS54)/BT54","v":1.5094248550725951},{"$f":"AR52/BP54+(BC54+BS54*AR52)*(-0.5*AO53+BS54)/BT54","v":0.43356345840181054},{"$f":"AR52*BT54/((BC54+AR52*BS54)*BP54)+(0.5*AO53+BS54)","v":0.7576156410681405},null,null,"H",45,6.0010000000000003]
[null,null,null,null,null,null,null,null,null,null,null,null,null,null,null,null,null,null,null,null,null,null,null,null,null,null,null,null,null,null,null,null,null,null,null,null,null,null,null,"a",{"$f":"$N$14/1000","v":0.06},"m","ec,max",{"$f":"1000*AV59/BO59","v":4.3326090051447087E-2},"o/oo",{"$f":"BC55-AR50*BA55","v":1.1535400000000001E-2},1,{"$f":"IF(BL55*SQRT(4*ABS(BI55)/3)-BF55/3<=AO53,BC55/(BN55*AO54*AO53^2),BU55)","v":1.5094248550725951},{"$f":"IF(BL55*SQRT(4*ABS(BI55)/3)-BF55/3<=AO53,0,BV55)","v":0.43356345840181054},{"$f":"BB55*(AZ55-AO55)*AV55/AZ55","v":7.8924841388219207},{"$f":"BB55*(AO53-AO55-AZ55)*AV55/AZ55","v":-3.1408083690101236},{"$f":"IF(BL55*SQRT(4*ABS(BI55)/3)-BF55/3<=AO53,BL55*SQRT(4*ABS(BI55)/3)-BF55/3,BW55)","v":0.7576156410681405},{"$f":"0.1*(AV55/(AZ55*BO55))*AO59^2","v":2.0587474139961836E-4},{"$f":"AO56","v":5.6785171744561715},{"$f":"AR53+BA54*AR50","v":1.1582131507550301E-2},{"$f":"BB55*AO57/(AO53*AO54)","v":1.5102296582903685E-2},{"$f":"BB55*AO58/(AO53*AO54)","v":1.5102296582903685E-2},{"$f":"-6*AO53*(0.25-0.5*BC55/(AO53*AR52))","v":-0.65692543934688352},{"$f":"-6*AO53*(BD55*(0.5*AO53-AO55)-BE55*(0.5*AO53-AO55)-(BD55+BE55)*AO53*BC55/(AO53*AR52))","v":4.9934392148470539E-3},{"$f":"6*AO53*((BD55*AO55-BE55*(AO53-AO55))*(0.5*AO53-AO55)-(BD55*AO55+BE55*(AO53-AO55))*BC55/AR52)","v":-5.6639816779119256E-3},-0.13885690507218493,2.5570309399214348E-2,1.2839161081595958,1.0303090113669566,{"$f":"AZ55/AO53","v":1.4029919279039638},{"$f":"0.5*BM55*(0.5-BM55/3)+BD55*(0.5-AO55/AO53)*(BM55-AO55/AO53)/BM55+BE55*(0.5-AO55/AO53)*(1-AO55/AO53-BM55)/BM55","v":2.5939474082046218E-2},{"$f":"IF(BL55*SQRT(4*ABS(BI55)/3)-BF55/3<=AO53,AO52*(1-AO51*AV55/AO50),AO52*(1-AO51*AV55/AO50-(1-AO51)*BV55/AO50))","v":34838.704653021894},{"$f":"(1+BD55+BE55)*AO53*AO54","v":0.23365040173000515},{"$f":"0.5*(AO53-AO55)*(BE55-BD55)*AO53*AO54","v":0},{"$f":"AO54*AO53^3/12+(0.5*AO53-AO55)^2*(BD55+BE55)*AO54*AO53","v":5.8133427162932261E-3},0,5.8133427162932261E-3,{"$f":"AR52/BP55+(BC55+BS55*AR52)*(0.5*AO53+BS55)/BT55","v":1.5094248550725951},{"$f":"AR52/BP55+(BC55+BS55*AR52)*(-0.5*AO53+BS55)/BT55","v":0.43356345840181054},{"$f":"AR52*BT55/((BC55+AR52*BS55)*BP55)+(0.5*AO53+BS55)","v":0.7576156410681405},null,null,"I",45,6.0010000000000003]
[null,null,null,null,null,null,null,null,null,null,null,null,null,null,null,null,null,null,null,null,null,null,null,null,null,null,null,null,null,null,null,null,null,null,null,null,null,null,null,"a",{"$f":"AO49/AO52","v":5.6785171744561715},null,"ec,min",{"$f":"1000*AW59/BO59","v":1.2444878841504328E-2},"o/oo",{"$f":"BC56-AR50*BA56","v":1.1535400000000001E-2},{"$f":"BA56/BA55","v":1},{"$f":"IF(BL56*SQRT(4*ABS(BI56)/3)-BF56/3<=AO53,BC56/(BN56*AO54*AO53^2),BU56)","v":1.5094248550725951},{"$f":"IF(BL56*SQRT(4*ABS(BI56)/3)-BF56/3<=AO53,0,BV56)","v":0.43356345840181054},{"$f":"BB56*(AZ56-AO55)*AV56/AZ56","v":7.8924841388219207},{"$f":"BB56*(AO53-AO55-AZ56)*AV56/AZ56","v":-3.1408083690101236},{"$f":"IF(BL56*SQRT(4*ABS(BI56)/3)-BF56/3<=AO53,BL56*SQRT(4*ABS(BI56)/3)-BF56/3,BW56)","v":0.7576156410681405},{"$f":"0.1*(AV56/(AZ56*BO56))*AO59^2","v":2.0587474139961836E-4},{"$f":"AO56","v":5.6785171744561715},{"$f":"AR53+BA55*AR50","v":1.1582131507550301E-2},{"$f":"BB56*AO57/(AO53*AO54)","v":1.5102296582903685E-2},{"$f":"BB56*AO58/(AO53*AO54)","v":1.5102296582903685E-2},{"$f":"-6*AO53*(0.25-0.5*BC56/(AO53*AR52))","v":-0.65692543934688352},{"$f":"-6*AO53*(BD56*(0.5*AO53-AO55)-BE56*(0.5*AO53-AO55)-(BD56+BE56)*AO53*BC56/(AO53*AR52))","v":4.9934392148470539E-3},{"$f":"6*AO53*((BD56*AO55-BE56*(AO53-AO55))*(0.5*AO53-AO55)-(BD56*AO55+BE56*(AO53-AO55))*BC56/AR52)","v":-5.6639816779119256E-3},-0.13885690507218493,2.5570309399214348E-2,1.2839161081595958,1.0303090113669566,{"$f":"AZ56/AO53","v":1.4029919279039638},{"$f":"0.5*BM56*(0.5-BM56/3)+BD56*(0.5-AO55/AO53)*(BM56-AO55/AO53)/BM56+BE56*(0.5-AO55/AO53)*(1-AO55/AO53-BM56)/BM56","v":2.5939474082046218E-2},{"$f":"IF(BL56*SQRT(4*ABS(BI56)/3)-BF56/3<=AO53,AO52*(1-AO51*AV56/AO50),AO52*(1-AO51*AV56/AO50-(1-AO51)*BV56/AO50))","v":34838.704653021894},{"$f":"(1+BD56+BE56)*AO53*AO54","v":0.23365040173000515},{"$f":"0.5*(AO53-AO55)*(BE56-BD56)*AO53*AO54","v":0},{"$f":"AO54*AO53^3/12+(0.5*AO53-AO55)^2*(BD56+BE56)*AO54*AO53","v":5.8133427162932261E-3},0,5.8133427162932261E-3,{"$f":"AR52/BP56+(BC56+BS56*AR52)*(0.5*AO53+BS56)/BT56","v":1.5094248550725951},{"$f":"AR52/BP56+(BC56+BS56*AR52)*(-0.5*AO53+BS56)/BT56","v":0.43356345840181054},{"$f":"AR52*BT56/((BC56+AR52*BS56)*BP56)+(0.5*AO53+BS56)","v":0.7576156410681405},null,null,"INGEN"]
[null,null,null,null,null,null,null,null,null,null,null,null,null,null,null,null,null,null,null,null,null,null,null,null,null,null,null,null,null,null,null,null,null,null,null,null,null,null,null,"Ac",{"$f":"$AP$40/1000000","v":6.0318578948924026E-4},"m2","sa,c",{"$f":"AX59","v":7.8924841388219207},"MPa",{"$f":"BC57-AR50*BA57","v":1.1535400000000001E-2},{"$f":"BA57/BA56","v":1},{"$f":"IF(BL57*SQRT(4*ABS(BI57)/3)-BF57/3<=AO53,BC57/(BN57*AO54*AO53^2),BU57)","v":1.5094248550725951},{"$f":"IF(BL57*SQRT(4*ABS(BI57)/3)-BF57/3<=AO53,0,BV57)","v":0.43356345840181054},{"$f":"BB57*(AZ57-AO55)*AV57/AZ57","v":7.8924841388219207},{"$f":"BB57*(AO53-AO55-AZ57)*AV57/AZ57","v":-3.1408083690101236},{"$f":"IF(BL57*SQRT(4*ABS(BI57)/3)-BF57/3<=AO53,BL57*SQRT(4*ABS(BI57)/3)-BF57/3,BW57)","v":0.7576156410681405},{"$f":"0.1*(AV57/(AZ57*BO57))*AO59^2","v":2.0587474139961836E-4},{"$f":"AO56","v":5.6785171744561715},{"$f":"AR53+BA56*AR50","v":1.1582131507550301E-2},{"$f":"BB57*AO57/(AO53*AO54)","v":1.5102296582903685E-2},{"$f":"BB57*AO58/(AO53*AO54)","v":1.5102296582903685E-2},{"$f":"-6*AO53*(0.25-0.5*BC57/(AO53*AR52))","v":-0.65692543934688352},{"$f":"-6*AO53*(BD57*(0.5*AO53-AO55)-BE57*(0.5*AO53-AO55)-(BD57+BE57)*AO53*BC57/(AO53*AR52))","v":4.9934392148470539E-3},{"$f":"6*AO53*((BD57*AO55-BE57*(AO53-AO55))*(0.5*AO53-AO55)-(BD57*AO55+BE57*(AO53-AO55))*BC57/AR52)","v":-5.6639816779119256E-3},-0.13885690507218493,2.5570309399214348E-2,1.2839161081595958,1.0303090113669566,{"$f":"AZ57/AO53","v":1.4029919279039638},{"$f":"0.5*BM57*(0.5-BM57/3)+BD57*(0.5-AO55/AO53)*(BM57-AO55/AO53)/BM57+BE57*(0.5-AO55/AO53)*(1-AO55/AO53-BM57)/BM57","v":2.5939474082046218E-2},{"$f":"IF(BL57*SQRT(4*ABS(BI57)/3)-BF57/3<=AO53,AO52*(1-AO51*AV57/AO50),AO52*(1-AO51*AV57/AO50-(1-AO51)*BV57/AO50))","v":34838.704653021894},{"$f":"(1+BD57+BE57)*AO53*AO54","v":0.23365040173000515},{"$f":"0.5*(AO53-AO55)*(BE57-BD57)*AO53*AO54","v":0},{"$f":"AO54*AO53^3/12+(0.5*AO53-AO55)^2*(BD57+BE57)*AO54*AO53","v":5.8133427162932261E-3},0,5.8133427162932261E-3,{"$f":"AR52/BP57+(BC57+BS57*AR52)*(0.5*AO53+BS57)/BT57","v":1.5094248550725951},{"$f":"AR52/BP57+(BC57+BS57*AR52)*(-0.5*AO53+BS57)/BT57","v":0.43356345840181054},{"$f":"AR52*BT57/((BC57+AR52*BS57)*BP57)+(0.5*AO53+BS57)","v":0.7576156410681405}]
[null,null,null,null,null,null,null,null,null,null,null,null,null,null,null,null,null,null,null,null,null,null,null,null,null,null,null,null,null,null,null,null,null,null,null,null,null,null,null,"At",{"$f":"$AP$41/1000000","v":6.0318578948924026E-4},"m2","sa,t",{"$f":"AY59","v":-3.1408083690101236},"MPa",{"$f":"BC58-AR50*BA58","v":1.1535400000000001E-2},{"$f":"BA58/BA57","v":1},{"$f":"IF(BL58*SQRT(4*ABS(BI58)/3)-BF58/3<=AO53,BC58/(BN58*AO54*AO53^2),BU58)","v":1.5094248550725951},{"$f":"IF(BL58*SQRT(4*ABS(BI58)/3)-BF58/3<=AO53,0,BV58)","v":0.43356345840181054},{"$f":"BB58*(AZ58-AO55)*AV58/AZ58","v":7.8924841388219207},{"$f":"BB58*(AO53-AO55-AZ58)*AV58/AZ58","v":-3.1408083690101236},{"$f":"IF(BL58*SQRT(4*ABS(BI58)/3)-BF58/3<=AO53,BL58*SQRT(4*ABS(BI58)/3)-BF58/3,BW58)","v":0.7576156410681405},{"$f":"0.1*(AV58/(AZ58*BO58))*AO59^2","v":2.0587474139961836E-4},{"$f":"AO56","v":5.6785171744561715},{"$f":"AR53+BA57*AR50","v":1.1582131507550301E-2},{"$f":"BB58*AO57/(AO53*AO54)","v":1.5102296582903685E-2},{"$f":"BB58*AO58/(AO53*AO54)","v":1.5102296582903685E-2},{"$f":"-6*AO53*(0.25-0.5*BC58/(AO53*AR52))","v":-0.65692543934688352},{"$f":"-6*AO53*(BD58*(0.5*AO53-AO55)-BE58*(0.5*AO53-AO55)-(BD58+BE58)*AO53*BC58/(AO53*AR52))","v":4.9934392148470539E-3},{"$f":"6*AO53*((BD58*AO55-BE58*(AO53-AO55))*(0.5*AO53-AO55)-(BD58*AO55+BE58*(AO53-AO55))*BC58/AR52)","v":-5.6639816779119256E-3},-0.13885690507218493,2.5570309399214348E-2,1.2839161081595958,1.0303090113669566,{"$f":"AZ58/AO53","v":1.4029919279039638},{"$f":"0.5*BM58*(0.5-BM58/3)+BD58*(0.5-AO55/AO53)*(BM58-AO55/AO53)/BM58+BE58*(0.5-AO55/AO53)*(1-AO55/AO53-BM58)/BM58","v":2.5939474082046218E-2},{"$f":"IF(BL58*SQRT(4*ABS(BI58)/3)-BF58/3<=AO53,AO52*(1-AO51*AV58/AO50),AO52*(1-AO51*AV58/AO50-(1-AO51)*BV58/AO50))","v":34838.704653021894},{"$f":"(1+BD58+BE58)*AO53*AO54","v":0.23365040173000515},{"$f":"0.5*(AO53-AO55)*(BE58-BD58)*AO53*AO54","v":0},{"$f":"AO54*AO53^3/12+(0.5*AO53-AO55)^2*(BD58+BE58)*AO54*AO53","v":5.8133427162932261E-3},0,5.8133427162932261E-3,{"$f":"AR52/BP58+(BC58+BS58*AR52)*(0.5*AO53+BS58)/BT58","v":1.5094248550725951},{"$f":"AR52/BP58+(BC58+BS58*AR52)*(-0.5*AO53+BS58)/BT58","v":0.43356345840181054},{"$f":"AR52*BT58/((BC58+AR52*BS58)*BP58)+(0.5*AO53+BS58)","v":0.7576156410681405}]
[null,null,null,null,null,null,null,null,null,null,null,null,null,null,null,null,null,null,null,null,null,null,null,null,null,null,null,null,null,null,null,null,null,null,null,null,null,null,null,"L",{"$f":"$N$11/1000","v":6},"m","hc",{"$f":"AZ59","v":0.7576156410681405},"m",{"$f":"BC59-AR50*BA59","v":1.1535400000000001E-2},{"$f":"BA59/BA58","v":1},{"$f":"IF(BL59*SQRT(4*ABS(BI59)/3)-BF59/3<=AO53,BC59/(BN59*AO54*AO53^2),BU59)","v":1.5094248550725951},{"$f":"IF(BL59*SQRT(4*ABS(BI59)/3)-BF59/3<=AO53,0,BV59)","v":0.43356345840181054},{"$f":"BB59*(AZ59-AO55)*AV59/AZ59","v":7.8924841388219207},{"$f":"BB59*(AO53-AO55-AZ59)*AV59/AZ59","v":-3.1408083690101236},{"$f":"IF(BL59*SQRT(4*ABS(BI59)/3)-BF59/3<=AO53,BL59*SQRT(4*ABS(BI59)/3)-BF59/3,BW59)","v":0.7576156410681405},{"$f":"0.1*(AV59/(AZ59*BO59))*AO59^2","v":2.0587474139961836E-4},{"$f":"AO56","v":5.6785171744561715},{"$f":"AR53+BA58*AR50","v":1.1582131507550301E-2},{"$f":"BB59*AO57/(AO53*AO54)","v":1.5102296582903685E-2},{"$f":"BB59*AO58/(AO53*AO54)","v":1.5102296582903685E-2},{"$f":"-6*AO53*(0.25-0.5*BC59/(AO53*AR52))","v":-0.65692543934688352},{"$f":"-6*AO53*(BD59*(0.5*AO53-AO55)-BE59*(0.5*AO53-AO55)-(BD59+BE59)*AO53*BC59/(AO53*AR52))","v":4.9934392148470539E-3},{"$f":"6*AO53*((BD59*AO55-BE59*(AO53-AO55))*(0.5*AO53-AO55)-(BD59*AO55+BE59*(AO53-AO55))*BC59/AR52)","v":-5.6639816779119256E-3},-0.13885690507218493,2.5570309399214348E-2,1.2839161081595958,1.0303090113669566,{"$f":"AZ59/AO53","v":1.4029919279039638},{"$f":"0.5*BM59*(0.5-BM59/3)+BD59*(0.5-AO55/AO53)*(BM59-AO55/AO53)/BM59+BE59*(0.5-AO55/AO53)*(1-AO55/AO53-BM59)/BM59","v":2.5939474082046218E-2},{"$f":"IF(BL59*SQRT(4*ABS(BI59)/3)-BF59/3<=AO53,AO52*(1-AO51*AV59/AO50),AO52*(1-AO51*AV59/AO50-(1-AO51)*BV59/AO50))","v":34838.704653021894},{"$f":"(1+BD59+BE59)*AO53*AO54","v":0.23365040173000515},{"$f":"0.5*(AO53-AO55)*(BE59-BD59)*AO53*AO54","v":0},{"$f":"AO54*AO53^3/12+(0.5*AO53-AO55)^2*(BD59+BE59)*AO54*AO53","v":5.8133427162932261E-3},0,5.8133427162932261E-3,{"$f":"AR52/BP59+(BC59+BS59*AR52)*(0.5*AO53+BS59)/BT59","v":1.5094248550725951},{"$f":"AR52/BP59+(BC59+BS59*AR52)*(-0.5*AO53+BS59)/BT59","v":0.43356345840181054},{"$f":"AR52*BT59/((BC59+AR52*BS59)*BP59)+(0.5*AO53+BS59)","v":0.7576156410681405}]
[null,null,null,null,null,null,null,null,null,null,null,null,null,null,null,null,null,null,null,null,null,null,null,null,null,null,null,null,null,null,null,null,null,null,null,null,null,null,null,"gc",1,null,"Referencelast efter krybning",null,null,"Mo",null,"sc,max","sc,min","sc","st","hc","u","a","Mt","a*fc","a*ft","B","C","D","p","q","C'","y'","b","m","Ec","Atr","Syt","Iyt","z","Io","sc","sm","hc"]
[null,null,null,null,null,null,null,null,null,null,null,null,null,null,null,null,null,null,null,null,null,null,null,null,null,null,null,null,null,null,null,null,null,null,null,null,null,null,null,"ga",1,null,"Kontrol",{"$f":"IF(AND(Makro!H2<10,ABS(1-AU73)>0.01),1,0)","v":0},null,{"$f":"BC61-AR64*BA61","v":1.7485045131649928E-2},null,{"$f":"IF(BL61*SQRT(4*ABS(BI61)/3)-BF61/3<=AO67,BC61/(BN61*AO68*AO67^2),BU61)","v":1.6754363277271602},{"$f":"IF(BL61*SQRT(4*ABS(BI61)/3)-BF61/3<=AO67,0,BV61)","v":0.1721712219014242},{"$f":"BB61*(AZ61-AO69)*AV61/AZ61","v":23.647377800304891},{"$f":"BB61*(AO67-AO69-AZ61)*AV61/AZ61","v":-5.3176677570726509},{"$f":"IF(BL61*SQRT(4*ABS(BI61)/3)-BF61/3<=AO67,BL61*SQRT(4*ABS(BI61)/3)-BF61/3,BW61)","v":0.60184701518478989},{"$f":"0.1*(AV61/(AZ61*BO61))*AO73^2","v":7.8895488501727336E-4},{"$f":"AO70","v":15.677055207530543},{"$f":"IF(AR67>0,AR67+AO67*AR64/20,0)+0.000000000001","v":1.7664130000999999E-2},{"$f":"BB61*AO71/(AO67*AO68)","v":4.1693901773459947E-2},{"$f":"BB61*AO72/(AO67*AO68)","v":4.1693901773459947E-2},{"$f":"-6*AO67*(0.25-0.5*BC61/(AO67*AR66))","v":-0.57654306355786611},{"$f":"-6*AO67*(BD61*(0.5*AO67-AO69)-BE61*(0.5*AO67-AO69)-(BD61+BE61)*AO67*BC61/(AO67*AR66))","v":2.1024858044918628E-2},{"$f":"6*AO67*((BD61*AO69-BE61*(AO67-AO69))*(0.5*AO67-AO69)-(BD61*AO69+BE61*(AO67-AO69))*BC61/AR66)","v":-1.7591494594126136E-2},{"$f":"(3*BG61-BF61^2)/3","v":-8.977577666731125E-2},{"$f":"(9*BG61*BF61-27*BH61-2*BF61^3)/27","v":2.7746768656129493E-2},{"$f":"0.5*BJ61*(3/ABS(BI61))^(3/2)","v":2.6799429138986817},{"$f":"IF(BI61>0,SINH(ASINH(BK61)/3),IF(BK61>=1,COSH(ACOSH(BK61)/3),IF(BK61<=-1,-COSH(ACOSH(ABS(BK61))/3),COS(ACOS(BK61)/3))))","v":1.1535947475981569},{"$f":"AZ61/AO67","v":1.1145315096014627},{"$f":"0.5*BM61*(0.5-BM61/3)+BD61*(0.5-AO69/AO67)*(BM61-AO69/AO67)/BM61+BE61*(0.5-AO69/AO67)*(1-AO69/AO67-BM61)/BM61","v":8.2917970846851541E-2},{"$f":"IF(BL61*SQRT(4*ABS(BI61)/3)-BF61/3<=AO67,AO66*(1-AO65*AV61/AO64),AO66*(1-AO65*AV61/AO64-(1-AO65)*BV61/AO64))","v":12702.586120563989},{"$f":"(1+BD61+BE61)*AO67*AO68","v":0.2457123538444414},{"$f":"0.5*(AO67-AO69)*(BE61-BD61)*AO67*AO68","v":0},{"$f":"AO68*AO67^3/12+(0.5*AO67-AO69)^2*(BD61+BE61)*AO68*AO67","v":6.3452748045398676E-3},{"$f":"BQ61/BP61","v":0},{"$f":"BR61-BP61*BS61^2","v":6.3452748045398676E-3},{"$f":"AR66/BP61+(BC61+BS61*AR66)*(0.5*AO67+BS61)/BT61","v":1.6754363277271602},{"$f":"AR66/BP61+(BC61+BS61*AR66)*(-0.5*AO67+BS61)/BT61","v":0.1721712219014242},{"$f":"AR66*BT61/((BC61+AR66*BS61)*BP61)+(0.5*AO67+BS61)","v":0.60184701518478989}]
[null,null,null,null,null,null,null,null,null,null,null,null,null,null,null,null,null,null,null,null,null,null,null,null,null,null,null,null,null,null,null,null,null,null,null,null,null,null,null,"fck",{"$f":"$N$7","v":40},"MPa","feff",{"$f":"$Q$12","v":1.7607656586918623},null,{"$f":"BC62-AR64*BA62","v":1.1594959735114912E-2},{"$f":"BA62/BA61","v":0.66742173511887182},{"$f":"IF(BL62*SQRT(4*ABS(BI62)/3)-BF62/3<=AO67,BC62/(BN62*AO68*AO67^2),BU62)","v":1.4222709038441563},{"$f":"IF(BL62*SQRT(4*ABS(BI62)/3)-BF62/3<=AO67,0,BV62)","v":0.42533664578442815},{"$f":"BB62*(AZ62-AO69)*AV62/AZ62","v":20.560464657197997},{"$f":"BB62*(AO67-AO69-AZ62)*AV62/AZ62","v":-8.4045809001795515},{"$f":"IF(BL62*SQRT(4*ABS(BI62)/3)-BF62/3<=AO67,BL62*SQRT(4*ABS(BI62)/3)-BF62/3,BW62)","v":0.77038809918179241},{"$f":"0.1*(AV62/(AZ62*BO62))*AO73^2","v":5.2656563828873859E-4},{"$f":"AO70","v":15.677055207530543},{"$f":"AR67+BA61*AR64","v":1.1714484869350072E-2},{"$f":"BB62*AO71/(AO67*AO68)","v":4.1693901773459947E-2},{"$f":"BB62*AO72/(AO67*AO68)","v":4.1693901773459947E-2},{"$f":"-6*AO67*(0.25-0.5*BC62/(AO67*AR66))","v":-0.65517619891603063},{"$f":"-6*AO67*(BD62*(0.5*AO67-AO69)-BE62*(0.5*AO67-AO69)-(BD62+BE62)*AO67*BC62/(AO67*AR66))","v":1.394325004591164E-2},{"$f":"6*AO67*((BD62*AO69-BE62*(AO67-AO69))*(0.5*AO67-AO69)-(BD62*AO69+BE62*(AO67-AO69))*BC62/AR66)","v":-1.5679460434394249E-2},-0.12914203382944106,3.346682578147215E-2,1.8735486582995082,1.0867393071876992,{"$f":"AZ62/AO67","v":1.4266446281144303},{"$f":"0.5*BM62*(0.5-BM62/3)+BD62*(0.5-AO69/AO67)*(BM62-AO69/AO67)/BM62+BE62*(0.5-AO69/AO67)*(1-AO69/AO67-BM62)/BM62","v":2.6281713424422787E-2},{"$f":"IF(BL62*SQRT(4*ABS(BI62)/3)-BF62/3<=AO67,AO66*(1-AO65*AV62/AO64),AO66*(1-AO65*AV62/AO64-(1-AO65)*BV62/AO64))","v":12621.842186026655},{"$f":"(1+BD62+BE62)*AO67*AO68","v":0.2457123538444414},{"$f":"0.5*(AO67-AO69)*(BE62-BD62)*AO67*AO68","v":0},{"$f":"AO68*AO67^3/12+(0.5*AO67-AO69)^2*(BD62+BE62)*AO68*AO67","v":6.3452748045398676E-3},{"$f":"BQ62/BP62","v":0},{"$f":"BR62-BP62*BS62^2","v":6.3452748045398676E-3},{"$f":"AR66/BP62+(BC62+BS62*AR66)*(0.5*AO67+BS62)/BT62","v":1.4222709038441563},{"$f":"AR66/BP62+(BC62+BS62*AR66)*(-0.5*AO67+BS62)/BT62","v":0.42533664578442815},{"$f":"AR66*BT62/((BC62+AR66*BS62)*BP62)+(0.5*AO67+BS62)","v":0.77038809918179241}]
[null,null,null,null,null,null,null,null,null,null,null,null,null,null,null,null,null,null,null,null,null,null,null,null,null,null,null,null,null,null,null,null,null,null,null,null,null,null,null,"Es",200000,"MPa","Max_N",{"$f":"(AO67*AO68+AO70*(AO71+AO72))*AO64/(1+(12*(AO64/AO66)/PI()^2)*(AO73/AO67)^2)","v":6.683130289404235},null,{"$f":"BC63-AR64*BA63","v":1.1536000083475162E-2},{"$f":"BA63/BA62","v":0.99497943692763258},{"$f":"IF(BL63*SQRT(4*ABS(BI63)/3)-BF63/3<=AO67,BC63/(BN63*AO68*AO67^2),BU63)","v":1.4197365567943609},{"$f":"IF(BL63*SQRT(4*ABS(BI63)/3)-BF63/3<=AO67,0,BV63)","v":0.42787099283422342},{"$f":"BB63*(AZ63-AO69)*AV63/AZ63","v":20.529562691608795},{"$f":"BB63*(AO67-AO69-AZ63)*AV63/AZ63","v":-8.435482865768746},{"$f":"IF(BL63*SQRT(4*ABS(BI63)/3)-BF63/3<=AO67,BL63*SQRT(4*ABS(BI63)/3)-BF63/3,BW63)","v":0.77294521407516714},{"$f":"0.1*(AV63/(AZ63*BO63))*AO73^2","v":5.2392198228996855E-4},{"$f":"AO70","v":15.677055207530543},{"$f":"AR67+BA62*AR64","v":1.1654925134235161E-2},{"$f":"BB63*AO71/(AO67*AO68)","v":4.1693901773459947E-2},{"$f":"BB63*AO72/(AO67*AO68)","v":4.1693901773459947E-2},{"$f":"-6*AO67*(0.25-0.5*BC63/(AO67*AR66))","v":-0.65596336665621635},{"$f":"-6*AO67*(BD63*(0.5*AO67-AO69)-BE63*(0.5*AO67-AO69)-(BD63+BE63)*AO67*BC63/(AO67*AR66))","v":1.3872358641924404E-2},{"$f":"6*AO67*((BD63*AO69-BE63*(AO67-AO69))*(0.5*AO67-AO69)-(BD63*AO69+BE63*(AO67-AO69))*BC63/AR66)","v":-1.5660319755317696E-2},-0.12955695415639482,3.3534705595994196E-2,1.8683373264263761,1.0862725904776855,{"$f":"AZ63/AO67","v":1.4313800260651242},{"$f":"0.5*BM63*(0.5-BM63/3)+BD63*(0.5-AO69/AO67)*(BM63-AO69/AO67)/BM63+BE63*(0.5-AO69/AO67)*(1-AO69/AO67-BM63)/BM63","v":2.518067139178224E-2},{"$f":"IF(BL63*SQRT(4*ABS(BI63)/3)-BF63/3<=AO67,AO66*(1-AO65*AV63/AO64),AO66*(1-AO65*AV63/AO64-(1-AO65)*BV63/AO64))","v":12621.033887843019},{"$f":"(1+BD63+BE63)*AO67*AO68","v":0.2457123538444414},{"$f":"0.5*(AO67-AO69)*(BE63-BD63)*AO67*AO68","v":0},{"$f":"AO68*AO67^3/12+(0.5*AO67-AO69)^2*(BD63+BE63)*AO68*AO67","v":6.3452748045398676E-3},0,6.3452748045398676E-3,{"$f":"AR66/BP63+(BC63+BS63*AR66)*(0.5*AO67+BS63)/BT63","v":1.4197365567943609},{"$f":"AR66/BP63+(BC63+BS63*AR66)*(-0.5*AO67+BS63)/BT63","v":0.42787099283422342},{"$f":"AR66*BT63/((BC63+AR66*BS63)*BP63)+(0.5*AO67+BS63)","v":0.77294521407516714}]
[null,null,null,null,null,null,null,null,null,null,null,null,null,null,null,null,null,null,null,null,null,null,null,null,null,null,null,null,null,null,null,null,null,null,null,null,null,null,null,"fcd",{"$f":"AO62/AO60","v":40},"MPa","Nd",{"$f":"INDEX(BZ47:CB56,Makro!H2,2)/1000+0.00001","v":0.22699000000000003},"MN",{"$f":"BC64-AR64*BA64","v":1.1535406046425006E-2},0.99994915768405024,{"$f":"IF(BL64*SQRT(4*ABS(BI64)/3)-BF64/3<=AO67,BC64/(BN64*AO68*AO67^2),BU64)","v":1.4197110224332365},{"$f":"IF(BL64*SQRT(4*ABS(BI64)/3)-BF64/3<=AO67,0,BV64)","v":0.42789652719534793},{"$f":"BB64*(AZ64-AO69)*AV64/AZ64","v":20.529251344372877},{"$f":"BB64*(AO67-AO69-AZ64)*AV64/AZ64","v":-8.4357942130046641},{"$f":"IF(BL64*SQRT(4*ABS(BI64)/3)-BF64/3<=AO67,BL64*SQRT(4*ABS(BI64)/3)-BF64/3,BW64)","v":0.77297111082256031},{"$f":"0.1*(AV64/(AZ64*BO64))*AO73^2","v":5.2389534488301193E-4},{"$f":"AO70","v":15.677055207530543},{"$f":"AR67+BA63*AR64","v":1.165432505076E-2},{"$f":"BB64*AO71/(AO67*AO68)","v":4.1693901773459947E-2},{"$f":"BB64*AO72/(AO67*AO68)","v":4.1693901773459947E-2},{"$f":"-6*AO67*(0.25-0.5*BC64/(AO67*AR66))","v":-0.65597129762421258},{"$f":"-6*AO67*(BD64*(0.5*AO67-AO69)-BE64*(0.5*AO67-AO69)-(BD64+BE64)*AO67*BC64/(AO67*AR66))","v":1.3871644388243093E-2},{"$f":"6*AO67*((BD64*AO69-BE64*(AO67-AO69))*(0.5*AO67-AO69)-(BD64*AO69+BE64*(AO67-AO69))*BC64/AR66)","v":-1.5660126906823741E-2},-0.12956113671402134,3.3535390615089485E-2,1.86828501824601,1.0862679032793177,{"$f":"AZ64/AO67","v":1.4314279830047412},{"$f":"0.5*BM64*(0.5-BM64/3)+BD64*(0.5-AO69/AO67)*(BM64-AO69/AO67)/BM64+BE64*(0.5-AO69/AO67)*(1-AO69/AO67-BM64)/BM64","v":2.5169483532510299E-2},{"$f":"IF(BL64*SQRT(4*ABS(BI64)/3)-BF64/3<=AO67,AO66*(1-AO65*AV64/AO64),AO66*(1-AO65*AV64/AO64-(1-AO65)*BV64/AO64))","v":12621.025743979015},{"$f":"(1+BD64+BE64)*AO67*AO68","v":0.2457123538444414},{"$f":"0.5*(AO67-AO69)*(BE64-BD64)*AO67*AO68","v":0},{"$f":"AO68*AO67^3/12+(0.5*AO67-AO69)^2*(BD64+BE64)*AO68*AO67","v":6.3452748045398676E-3},0,6.3452748045398676E-3,{"$f":"AR66/BP64+(BC64+BS64*AR66)*(0.5*AO67+BS64)/BT64","v":1.4197110224332365},{"$f":"AR66/BP64+(BC64+BS64*AR66)*(-0.5*AO67+BS64)/BT64","v":0.42789652719534793},{"$f":"AR66*BT64/((BC64+AR66*BS64)*BP64)+(0.5*AO67+BS64)","v":0.77297111082256031}]
[null,null,null,null,null,null,null,null,null,null,null,null,null,null,null,null,null,null,null,null,null,null,null,null,null,null,null,null,null,null,null,null,null,null,null,null,null,null,null,"k",0,null,"Nf",0,"MN",{"$f":"BC65-AR64*BA65","v":1.1535400060923656E-2},0.99999948768780667,{"$f":"IF(BL65*SQRT(4*ABS(BI65)/3)-BF65/3<=AO67,BC65/(BN65*AO68*AO67^2),BU65)","v":1.4197107651496985},{"$f":"IF(BL65*SQRT(4*ABS(BI65)/3)-BF65/3<=AO67,0,BV65)","v":0.42789678447888596},{"$f":"BB65*(AZ65-AO69)*AV65/AZ65","v":20.529248207246482},{"$f":"BB65*(AO67-AO69-AZ65)*AV65/AZ65","v":-8.4357973501310664},{"$f":"IF(BL65*SQRT(4*ABS(BI65)/3)-BF65/3<=AO67,BL65*SQRT(4*ABS(BI65)/3)-BF65/3,BW65)","v":0.77297137177106368},{"$f":"0.1*(AV65/(AZ65*BO65))*AO73^2","v":5.238950764850387E-4},{"$f":"AO70","v":15.677055207530543},{"$f":"AR67+BA64*AR64","v":1.1654319004334996E-2},{"$f":"BB65*AO71/(AO67*AO68)","v":4.1693901773459947E-2},{"$f":"BB65*AO72/(AO67*AO68)","v":4.1693901773459947E-2},{"$f":"-6*AO67*(0.25-0.5*BC65/(AO67*AR66))","v":-0.65597137753643342},{"$f":"-6*AO67*(BD65*(0.5*AO67-AO69)-BE65*(0.5*AO67-AO69)-(BD65+BE65)*AO67*BC65/(AO67*AR66))","v":1.3871637191442155E-2},{"$f":"6*AO67*((BD65*AO69-BE65*(AO67-AO69))*(0.5*AO67-AO69)-(BD65*AO69+BE65*(AO67-AO69))*BC65/AR66)","v":-1.5660124963687488E-2},-0.12956117885757321,3.3535397517436054E-2,1.8682844912101875,1.0862678560527637,{"$f":"AZ65/AO67","v":1.4314284662427104},{"$f":"0.5*BM65*(0.5-BM65/3)+BD65*(0.5-AO69/AO67)*(BM65-AO69/AO67)/BM65+BE65*(0.5-AO69/AO67)*(1-AO69/AO67-BM65)/BM65","v":2.5169370794276613E-2},{"$f":"IF(BL65*SQRT(4*ABS(BI65)/3)-BF65/3<=AO67,AO66*(1-AO65*AV65/AO64),AO66*(1-AO65*AV65/AO64-(1-AO65)*BV65/AO64))","v":12621.02566192166},{"$f":"(1+BD65+BE65)*AO67*AO68","v":0.2457123538444414},{"$f":"0.5*(AO67-AO69)*(BE65-BD65)*AO67*AO68","v":0},{"$f":"AO68*AO67^3/12+(0.5*AO67-AO69)^2*(BD65+BE65)*AO68*AO67","v":6.3452748045398676E-3},0,6.3452748045398676E-3,{"$f":"AR66/BP65+(BC65+BS65*AR66)*(0.5*AO67+BS65)/BT65","v":1.4197107651496985},{"$f":"AR66/BP65+(BC65+BS65*AR66)*(-0.5*AO67+BS65)/BT65","v":0.42789678447888596},{"$f":"AR66*BT65/((BC65+AR66*BS65)*BP65)+(0.5*AO67+BS65)","v":0.77297137177106368}]
[null,null,null,null,null,null,null,null,null,null,null,null,null,null,null,null,null,null,null,null,null,null,null,null,null,null,null,null,null,null,null,null,null,null,null,null,null,null,null,"Ecm",{"$f":"(1000*22*((AO64+8)/10)^0.3)/(1+$Q$12*$Q$13)","v":12757.497970915425},"MPa","N",{"$f":"AR65+AR64","v":0.22699000000000003},"MN",{"$f":"BC66-AR64*BA66","v":1.1535400000613868E-2},0.9999999948379501,{"$f":"IF(BL66*SQRT(4*ABS(BI66)/3)-BF66/3<=AO67,BC66/(BN66*AO68*AO67^2),BU66)","v":1.4197107625573149},{"$f":"IF(BL66*SQRT(4*ABS(BI66)/3)-BF66/3<=AO67,0,BV66)","v":0.4278967870712696},{"$f":"BB66*(AZ66-AO69)*AV66/AZ66","v":20.529248175636859},{"$f":"BB66*(AO67-AO69-AZ66)*AV66/AZ66","v":-8.4357973817406879},{"$f":"IF(BL66*SQRT(4*ABS(BI66)/3)-BF66/3<=AO67,BL66*SQRT(4*ABS(BI66)/3)-BF66/3,BW66)","v":0.77297137440037689},{"$f":"0.1*(AV66/(AZ66*BO66))*AO73^2","v":5.2389507378066617E-4},{"$f":"AO70","v":15.677055207530543},{"$f":"AR67+BA65*AR64","v":1.1654318943411341E-2},{"$f":"BB66*AO71/(AO67*AO68)","v":4.1693901773459947E-2},{"$f":"BB66*AO72/(AO67*AO68)","v":4.1693901773459947E-2},{"$f":"-6*AO67*(0.25-0.5*BC66/(AO67*AR66))","v":-0.65597137834162733},{"$f":"-6*AO67*(BD66*(0.5*AO67-AO69)-BE66*(0.5*AO67-AO69)-(BD66+BE66)*AO67*BC66/(AO67*AR66))","v":1.3871637118927334E-2},{"$f":"6*AO67*((BD66*AO69-BE66*(AO67-AO69))*(0.5*AO67-AO69)-(BD66*AO69+BE66*(AO67-AO69))*BC66/AR66)","v":-1.5660124944108483E-2},-0.12956117928221078,3.3535397586983963E-2,1.8682844858997874,1.0862678555769101,{"$f":"AZ66/AO67","v":1.431428471111809},{"$f":"0.5*BM66*(0.5-BM66/3)+BD66*(0.5-AO69/AO67)*(BM66-AO69/AO67)/BM66+BE66*(0.5-AO69/AO67)*(1-AO69/AO67-BM66)/BM66","v":2.5169369658327452E-2},{"$f":"IF(BL66*SQRT(4*ABS(BI66)/3)-BF66/3<=AO67,AO66*(1-AO65*AV66/AO64),AO66*(1-AO65*AV66/AO64-(1-AO65)*BV66/AO64))","v":12621.025661094851},{"$f":"(1+BD66+BE66)*AO67*AO68","v":0.2457123538444414},{"$f":"0.5*(AO67-AO69)*(BE66-BD66)*AO67*AO68","v":0},{"$f":"AO68*AO67^3/12+(0.5*AO67-AO69)^2*(BD66+BE66)*AO68*AO67","v":6.3452748045398676E-3},0,6.3452748045398676E-3,{"$f":"AR66/BP66+(BC66+BS66*AR66)*(0.5*AO67+BS66)/BT66","v":1.4197107625573149},{"$f":"AR66/BP66+(BC66+BS66*AR66)*(-0.5*AO67+BS66)/BT66","v":0.4278967870712696},{"$f":"AR66*BT66/((BC66+AR66*BS66)*BP66)+(0.5*AO67+BS66)","v":0.77297137440037689}]
[null,null,null,null,null,null,null,null,null,null,null,null,null,null,null,null,null,null,null,null,null,null,null,null,null,null,null,null,null,null,null,null,null,null,null,null,null,null,null,"h",{"$f":"$N$12/1000","v":0.54},"m","Mo",{"$f":"INDEX(BZ47:CB56,Makro!H2,3)/1000","v":1.1535400000000001E-2},"MNm",{"$f":"BC67-AR64*BA67","v":1.1535400000006185E-2},0.99999999994798716,{"$f":"IF(BL67*SQRT(4*ABS(BI67)/3)-BF67/3<=AO67,BC67/(BN67*AO68*AO67^2),BU67)","v":1.419710762531194},{"$f":"IF(BL67*SQRT(4*ABS(BI67)/3)-BF67/3<=AO67,0,BV67)","v":0.42789678709739049},{"$f":"BB67*(AZ67-AO69)*AV67/AZ67","v":20.529248175318362},{"$f":"BB67*(AO67-AO69-AZ67)*AV67/AZ67","v":-8.4357973820591852},{"$f":"IF(BL67*SQRT(4*ABS(BI67)/3)-BF67/3<=AO67,BL67*SQRT(4*ABS(BI67)/3)-BF67/3,BW67)","v":0.77297137442686981},{"$f":"0.1*(AV67/(AZ67*BO67))*AO73^2","v":5.2389507375341692E-4},{"$f":"AO70","v":15.677055207530543},{"$f":"AR67+BA66*AR64","v":1.1654318942797474E-2},{"$f":"BB67*AO71/(AO67*AO68)","v":4.1693901773459947E-2},{"$f":"BB67*AO72/(AO67*AO68)","v":4.1693901773459947E-2},{"$f":"-6*AO67*(0.25-0.5*BC67/(AO67*AR66))","v":-0.6559713783497404},{"$f":"-6*AO67*(BD67*(0.5*AO67-AO69)-BE67*(0.5*AO67-AO69)-(BD67+BE67)*AO67*BC67/(AO67*AR66))","v":1.3871637118196674E-2},{"$f":"6*AO67*((BD67*AO69-BE67*(AO67-AO69))*(0.5*AO67-AO69)-(BD67*AO69+BE67*(AO67-AO69))*BC67/AR66)","v":-1.5660124943911207E-2},-0.12956117928648941,3.3535397587684729E-2,1.868284485846281,1.0862678555721155,{"$f":"AZ67/AO67","v":1.43142847116087},{"$f":"0.5*BM67*(0.5-BM67/3)+BD67*(0.5-AO69/AO67)*(BM67-AO69/AO67)/BM67+BE67*(0.5-AO69/AO67)*(1-AO69/AO67-BM67)/BM67","v":2.5169369646881656E-2},{"$f":"IF(BL67*SQRT(4*ABS(BI67)/3)-BF67/3<=AO67,AO66*(1-AO65*AV67/AO64),AO66*(1-AO65*AV67/AO64-(1-AO65)*BV67/AO64))","v":12621.02566108652},{"$f":"(1+BD67+BE67)*AO67*AO68","v":0.2457123538444414},{"$f":"0.5*(AO67-AO69)*(BE67-BD67)*AO67*AO68","v":0},{"$f":"AO68*AO67^3/12+(0.5*AO67-AO69)^2*(BD67+BE67)*AO68*AO67","v":6.3452748045398676E-3},0,6.3452748045398676E-3,{"$f":"AR66/BP67+(BC67+BS67*AR66)*(0.5*AO67+BS67)/BT67","v":1.419710762531194},{"$f":"AR66/BP67+(BC67+BS67*AR66)*(-0.5*AO67+BS67)/BT67","v":0.42789678709739049},{"$f":"AR66*BT67/((BC67+AR66*BS67)*BP67)+(0.5*AO67+BS67)","v":0.77297137442686981}]
[null,null,null,null,null,null,null,null,null,null,null,null,null,null,null,null,null,null,null,null,null,null,null,null,null,null,null,null,null,null,null,null,null,null,null,null,null,null,null,"b",{"$f":"$N$13/1000","v":0.42},"m","u",{"$f":"BA73","v":5.2389507375313958E-4},{"$f":"AR68-AR54","v":3.1802033235352124E-4},{"$f":"BC68-AR64*BA68","v":1.1535400000000064E-2},0.9999999999994762,{"$f":"IF(BL68*SQRT(4*ABS(BI68)/3)-BF68/3<=AO67,BC68/(BN68*AO68*AO67^2),BU68)","v":1.4197107625309309},{"$f":"IF(BL68*SQRT(4*ABS(BI68)/3)-BF68/3<=AO67,0,BV68)","v":0.42789678709765361},{"$f":"BB68*(AZ68-AO69)*AV68/AZ68","v":20.52924817531515},{"$f":"BB68*(AO67-AO69-AZ68)*AV68/AZ68","v":-8.435797382062395},{"$f":"IF(BL68*SQRT(4*ABS(BI68)/3)-BF68/3<=AO67,BL68*SQRT(4*ABS(BI68)/3)-BF68/3,BW68)","v":0.7729713744271367},{"$f":"0.1*(AV68/(AZ68*BO68))*AO73^2","v":5.2389507375314251E-4},{"$f":"AO70","v":15.677055207530543},{"$f":"AR67+BA67*AR64","v":1.165431894279129E-2},{"$f":"BB68*AO71/(AO67*AO68)","v":4.1693901773459947E-2},{"$f":"BB68*AO72/(AO67*AO68)","v":4.1693901773459947E-2},{"$f":"-6*AO67*(0.25-0.5*BC68/(AO67*AR66))","v":-0.65597137834982222},{"$f":"-6*AO67*(BD68*(0.5*AO67-AO69)-BE68*(0.5*AO67-AO69)-(BD68+BE68)*AO67*BC68/(AO67*AR66))","v":1.3871637118189313E-2},{"$f":"6*AO67*((BD68*AO69-BE68*(AO67-AO69))*(0.5*AO67-AO69)-(BD68*AO69+BE68*(AO67-AO69))*BC68/AR66)","v":-1.5660124943909223E-2},-0.12956117928653255,3.35353975876918E-2,1.8682844858457426,1.0862678555720671,{"$f":"AZ68/AO67","v":1.4314284711613641},{"$f":"0.5*BM68*(0.5-BM68/3)+BD68*(0.5-AO69/AO67)*(BM68-AO69/AO67)/BM68+BE68*(0.5-AO69/AO67)*(1-AO69/AO67-BM68)/BM68","v":2.516936964676638E-2},{"$f":"IF(BL68*SQRT(4*ABS(BI68)/3)-BF68/3<=AO67,AO66*(1-AO65*AV68/AO64),AO66*(1-AO65*AV68/AO64-(1-AO65)*BV68/AO64))","v":12621.025661086436},{"$f":"(1+BD68+BE68)*AO67*AO68","v":0.2457123538444414},{"$f":"0.5*(AO67-AO69)*(BE68-BD68)*AO67*AO68","v":0},{"$f":"AO68*AO67^3/12+(0.5*AO67-AO69)^2*(BD68+BE68)*AO68*AO67","v":6.3452748045398676E-3},0,6.3452748045398676E-3,{"$f":"AR66/BP68+(BC68+BS68*AR66)*(0.5*AO67+BS68)/BT68","v":1.4197107625309309},{"$f":"AR66/BP68+(BC68+BS68*AR66)*(-0.5*AO67+BS68)/BT68","v":0.42789678709765361},{"$f":"AR66*BT68/((BC68+AR66*BS68)*BP68)+(0.5*AO67+BS68)","v":0.7729713744271367}]
[null,null,null,null,null,null,null,null,null,null,null,null,null,null,null,null,null,null,null,null,null,null,null,null,null,null,null,null,null,null,null,null,null,null,null,null,null,null,null,"a",{"$f":"$N$14/1000","v":0.06},"m","ec,max",{"$f":"1000*AV73/BO73","v":0.1124877486707144},"o/oo",{"$f":"BC69-AR64*BA69","v":1.1535400000000003E-2},0.99999999999999467,{"$f":"IF(BL69*SQRT(4*ABS(BI69)/3)-BF69/3<=AO67,BC69/(BN69*AO68*AO67^2),BU69)","v":1.4197107625309282},{"$f":"IF(BL69*SQRT(4*ABS(BI69)/3)-BF69/3<=AO67,0,BV69)","v":0.42789678709765627},{"$f":"BB69*(AZ69-AO69)*AV69/AZ69","v":20.529248175315121},{"$f":"BB69*(AO67-AO69-AZ69)*AV69/AZ69","v":-8.435797382062427},{"$f":"IF(BL69*SQRT(4*ABS(BI69)/3)-BF69/3<=AO67,BL69*SQRT(4*ABS(BI69)/3)-BF69/3,BW69)","v":0.77297137442713937},{"$f":"0.1*(AV69/(AZ69*BO69))*AO73^2","v":5.2389507375313969E-4},{"$f":"AO70","v":15.677055207530543},{"$f":"AR67+BA68*AR64","v":1.1654318942791227E-2},{"$f":"BB69*AO71/(AO67*AO68)","v":4.1693901773459947E-2},{"$f":"BB69*AO72/(AO67*AO68)","v":4.1693901773459947E-2},{"$f":"-6*AO67*(0.25-0.5*BC69/(AO67*AR66))","v":-0.655971378349823},{"$f":"-6*AO67*(BD69*(0.5*AO67-AO69)-BE69*(0.5*AO67-AO69)-(BD69+BE69)*AO67*BC69/(AO67*AR66))","v":1.3871637118189241E-2},{"$f":"6*AO67*((BD69*AO69-BE69*(AO67-AO69))*(0.5*AO67-AO69)-(BD69*AO69+BE69*(AO67-AO69))*BC69/AR66)","v":-1.5660124943909202E-2},-0.12956117928653296,3.3535397587691869E-2,1.8682844858457366,1.0862678555720666,{"$f":"AZ69/AO67","v":1.4314284711613692},{"$f":"0.5*BM69*(0.5-BM69/3)+BD69*(0.5-AO69/AO67)*(BM69-AO69/AO67)/BM69+BE69*(0.5-AO69/AO67)*(1-AO69/AO67-BM69)/BM69","v":2.5169369646765173E-2},{"$f":"IF(BL69*SQRT(4*ABS(BI69)/3)-BF69/3<=AO67,AO66*(1-AO65*AV69/AO64),AO66*(1-AO65*AV69/AO64-(1-AO65)*BV69/AO64))","v":12621.025661086434},{"$f":"(1+BD69+BE69)*AO67*AO68","v":0.2457123538444414},{"$f":"0.5*(AO67-AO69)*(BE69-BD69)*AO67*AO68","v":0},{"$f":"AO68*AO67^3/12+(0.5*AO67-AO69)^2*(BD69+BE69)*AO68*AO67","v":6.3452748045398676E-3},0,6.3452748045398676E-3,{"$f":"AR66/BP69+(BC69+BS69*AR66)*(0.5*AO67+BS69)/BT69","v":1.4197107625309282},{"$f":"AR66/BP69+(BC69+BS69*AR66)*(-0.5*AO67+BS69)/BT69","v":0.42789678709765627},{"$f":"AR66*BT69/((BC69+AR66*BS69)*BP69)+(0.5*AO67+BS69)","v":0.77297137442713937}]
[null,null,null,null,null,null,null,null,null,null,null,null,null,null,null,null,null,null,null,null,null,null,null,null,null,null,null,null,null,null,null,null,null,null,null,null,null,null,null,"a",{"$f":"AO63/AO66","v":15.677055207530543},null,"ec,min",{"$f":"1000*AW73/BO73","v":3.3903487607743477E-2},"o/oo",{"$f":"BC70-AR64*BA70","v":1.1535400000000001E-2},{"$f":"BA70/BA69","v":0.99999999999999978},{"$f":"IF(BL70*SQRT(4*ABS(BI70)/3)-BF70/3<=AO67,BC70/(BN70*AO68*AO67^2),BU70)","v":1.419710762530928},{"$f":"IF(BL70*SQRT(4*ABS(BI70)/3)-BF70/3<=AO67,0,BV70)","v":0.42789678709765633},{"$f":"BB70*(AZ70-AO69)*AV70/AZ70","v":20.529248175315118},{"$f":"BB70*(AO67-AO69-AZ70)*AV70/AZ70","v":-8.435797382062427},{"$f":"IF(BL70*SQRT(4*ABS(BI70)/3)-BF70/3<=AO67,BL70*SQRT(4*ABS(BI70)/3)-BF70/3,BW70)","v":0.77297137442713948},{"$f":"0.1*(AV70/(AZ70*BO70))*AO73^2","v":5.2389507375313958E-4},{"$f":"AO70","v":15.677055207530543},{"$f":"AR67+BA69*AR64","v":1.1654318942791226E-2},{"$f":"BB70*AO71/(AO67*AO68)","v":4.1693901773459947E-2},{"$f":"BB70*AO72/(AO67*AO68)","v":4.1693901773459947E-2},{"$f":"-6*AO67*(0.25-0.5*BC70/(AO67*AR66))","v":-0.65597137834982311},{"$f":"-6*AO67*(BD70*(0.5*AO67-AO69)-BE70*(0.5*AO67-AO69)-(BD70+BE70)*AO67*BC70/(AO67*AR66))","v":1.3871637118189237E-2},{"$f":"6*AO67*((BD70*AO69-BE70*(AO67-AO69))*(0.5*AO67-AO69)-(BD70*AO69+BE70*(AO67-AO69))*BC70/AR66)","v":-1.5660124943909198E-2},-0.12956117928653302,3.3535397587691876E-2,1.8682844858457368,1.0862678555720666,{"$f":"AZ70/AO67","v":1.4314284711613694},{"$f":"0.5*BM70*(0.5-BM70/3)+BD70*(0.5-AO69/AO67)*(BM70-AO69/AO67)/BM70+BE70*(0.5-AO69/AO67)*(1-AO69/AO67-BM70)/BM70","v":2.5169369646765138E-2},{"$f":"IF(BL70*SQRT(4*ABS(BI70)/3)-BF70/3<=AO67,AO66*(1-AO65*AV70/AO64),AO66*(1-AO65*AV70/AO64-(1-AO65)*BV70/AO64))","v":12621.025661086434},{"$f":"(1+BD70+BE70)*AO67*AO68","v":0.2457123538444414},{"$f":"0.5*(AO67-AO69)*(BE70-BD70)*AO67*AO68","v":0},{"$f":"AO68*AO67^3/12+(0.5*AO67-AO69)^2*(BD70+BE70)*AO68*AO67","v":6.3452748045398676E-3},0,6.3452748045398676E-3,{"$f":"AR66/BP70+(BC70+BS70*AR66)*(0.5*AO67+BS70)/BT70","v":1.419710762530928},{"$f":"AR66/BP70+(BC70+BS70*AR66)*(-0.5*AO67+BS70)/BT70","v":0.42789678709765633},{"$f":"AR66*BT70/((BC70+AR66*BS70)*BP70)+(0.5*AO67+BS70)","v":0.77297137442713948}]
[null,null,null,null,null,null,null,null,null,null,null,null,null,null,null,null,null,null,null,null,null,null,null,null,null,null,null,null,null,null,null,null,null,null,null,null,null,null,null,"Ac",{"$f":"$AP$40/1000000","v":6.0318578948924026E-4},"m2","sa,c",{"$f":"AX73","v":20.529248175315118},"MPa",{"$f":"BC71-AR64*BA71","v":1.1535400000000001E-2},{"$f":"BA71/BA70","v":1},{"$f":"IF(BL71*SQRT(4*ABS(BI71)/3)-BF71/3<=AO67,BC71/(BN71*AO68*AO67^2),BU71)","v":1.419710762530928},{"$f":"IF(BL71*SQRT(4*ABS(BI71)/3)-BF71/3<=AO67,0,BV71)","v":0.42789678709765633},{"$f":"BB71*(AZ71-AO69)*AV71/AZ71","v":20.529248175315118},{"$f":"BB71*(AO67-AO69-AZ71)*AV71/AZ71","v":-8.435797382062427},{"$f":"IF(BL71*SQRT(4*ABS(BI71)/3)-BF71/3<=AO67,BL71*SQRT(4*ABS(BI71)/3)-BF71/3,BW71)","v":0.77297137442713948},{"$f":"0.1*(AV71/(AZ71*BO71))*AO73^2","v":5.2389507375313958E-4},{"$f":"AO70","v":15.677055207530543},{"$f":"AR67+BA70*AR64","v":1.1654318942791226E-2},{"$f":"BB71*AO71/(AO67*AO68)","v":4.1693901773459947E-2},{"$f":"BB71*AO72/(AO67*AO68)","v":4.1693901773459947E-2},{"$f":"-6*AO67*(0.25-0.5*BC71/(AO67*AR66))","v":-0.65597137834982311},{"$f":"-6*AO67*(BD71*(0.5*AO67-AO69)-BE71*(0.5*AO67-AO69)-(BD71+BE71)*AO67*BC71/(AO67*AR66))","v":1.3871637118189237E-2},{"$f":"6*AO67*((BD71*AO69-BE71*(AO67-AO69))*(0.5*AO67-AO69)-(BD71*AO69+BE71*(AO67-AO69))*BC71/AR66)","v":-1.5660124943909198E-2},-0.12956117928653302,3.3535397587691876E-2,1.8682844858457368,1.0862678555720666,{"$f":"AZ71/AO67","v":1.4314284711613694},{"$f":"0.5*BM71*(0.5-BM71/3)+BD71*(0.5-AO69/AO67)*(BM71-AO69/AO67)/BM71+BE71*(0.5-AO69/AO67)*(1-AO69/AO67-BM71)/BM71","v":2.5169369646765138E-2},{"$f":"IF(BL71*SQRT(4*ABS(BI71)/3)-BF71/3<=AO67,AO66*(1-AO65*AV71/AO64),AO66*(1-AO65*AV71/AO64-(1-AO65)*BV71/AO64))","v":12621.025661086434},{"$f":"(1+BD71+BE71)*AO67*AO68","v":0.2457123538444414},{"$f":"0.5*(AO67-AO69)*(BE71-BD71)*AO67*AO68","v":0},{"$f":"AO68*AO67^3/12+(0.5*AO67-AO69)^2*(BD71+BE71)*AO68*AO67","v":6.3452748045398676E-3},0,6.3452748045398676E-3,{"$f":"AR66/BP71+(BC71+BS71*AR66)*(0.5*AO67+BS71)/BT71","v":1.419710762530928},{"$f":"AR66/BP71+(BC71+BS71*AR66)*(-0.5*AO67+BS71)/BT71","v":0.42789678709765633},{"$f":"AR66*BT71/((BC71+AR66*BS71)*BP71)+(0.5*AO67+BS71)","v":0.77297137442713948}]
[null,null,null,null,null,null,null,null,null,null,null,null,null,null,null,null,null,null,null,null,null,null,null,null,null,null,null,null,null,null,null,null,null,null,null,null,null,null,null,"At",{"$f":"$AP$41/1000000","v":6.0318578948924026E-4},"m2","sa,t",{"$f":"AY73","v":-8.435797382062427},"MPa",{"$f":"BC72-AR64*BA72","v":1.1535400000000001E-2},{"$f":"BA72/BA71","v":1},{"$f":"IF(BL72*SQRT(4*ABS(BI72)/3)-BF72/3<=AO67,BC72/(BN72*AO68*AO67^2),BU72)","v":1.419710762530928},{"$f":"IF(BL72*SQRT(4*ABS(BI72)/3)-BF72/3<=AO67,0,BV72)","v":0.42789678709765633},{"$f":"BB72*(AZ72-AO69)*AV72/AZ72","v":20.529248175315118},{"$f":"BB72*(AO67-AO69-AZ72)*AV72/AZ72","v":-8.435797382062427},{"$f":"IF(BL72*SQRT(4*ABS(BI72)/3)-BF72/3<=AO67,BL72*SQRT(4*ABS(BI72)/3)-BF72/3,BW72)","v":0.77297137442713948},{"$f":"0.1*(AV72/(AZ72*BO72))*AO73^2","v":5.2389507375313958E-4},{"$f":"AO70","v":15.677055207530543},{"$f":"AR67+BA71*AR64","v":1.1654318942791226E-2},{"$f":"BB72*AO71/(AO67*AO68)","v":4.1693901773459947E-2},{"$f":"BB72*AO72/(AO67*AO68)","v":4.1693901773459947E-2},{"$f":"-6*AO67*(0.25-0.5*BC72/(AO67*AR66))","v":-0.65597137834982311},{"$f":"-6*AO67*(BD72*(0.5*AO67-AO69)-BE72*(0.5*AO67-AO69)-(BD72+BE72)*AO67*BC72/(AO67*AR66))","v":1.3871637118189237E-2},{"$f":"6*AO67*((BD72*AO69-BE72*(AO67-AO69))*(0.5*AO67-AO69)-(BD72*AO69+BE72*(AO67-AO69))*BC72/AR66)","v":-1.5660124943909198E-2},-0.12956117928653302,3.3535397587691876E-2,1.8682844858457368,1.0862678555720666,{"$f":"AZ72/AO67","v":1.4314284711613694},{"$f":"0.5*BM72*(0.5-BM72/3)+BD72*(0.5-AO69/AO67)*(BM72-AO69/AO67)/BM72+BE72*(0.5-AO69/AO67)*(1-AO69/AO67-BM72)/BM72","v":2.5169369646765138E-2},{"$f":"IF(BL72*SQRT(4*ABS(BI72)/3)-BF72/3<=AO67,AO66*(1-AO65*AV72/AO64),AO66*(1-AO65*AV72/AO64-(1-AO65)*BV72/AO64))","v":12621.025661086434},{"$f":"(1+BD72+BE72)*AO67*AO68","v":0.2457123538444414},{"$f":"0.5*(AO67-AO69)*(BE72-BD72)*AO67*AO68","v":0},{"$f":"AO68*AO67^3/12+(0.5*AO67-AO69)^2*(BD72+BE72)*AO68*AO67","v":6.3452748045398676E-3},0,6.3452748045398676E-3,{"$f":"AR66/BP72+(BC72+BS72*AR66)*(0.5*AO67+BS72)/BT72","v":1.419710762530928},{"$f":"AR66/BP72+(BC72+BS72*AR66)*(-0.5*AO67+BS72)/BT72","v":0.42789678709765633},{"$f":"AR66*BT72/((BC72+AR66*BS72)*BP72)+(0.5*AO67+BS72)","v":0.77297137442713948}]
[null,null,null,null,null,null,null,null,null,null,null,null,null,null,null,null,null,null,null,null,null,null,null,null,null,null,null,null,null,null,null,null,null,null,null,null,null,null,null,"L",{"$f":"$N$11/1000","v":6},"m","hc",{"$f":"AZ73","v":0.77297137442713948},"m",{"$f":"BC73-AR64*BA73","v":1.1535400000000001E-2},{"$f":"BA73/BA72","v":1},{"$f":"IF(BL73*SQRT(4*ABS(BI73)/3)-BF73/3<=AO67,BC73/(BN73*AO68*AO67^2),BU73)","v":1.419710762530928},{"$f":"IF(BL73*SQRT(4*ABS(BI73)/3)-BF73/3<=AO67,0,BV73)","v":0.42789678709765633},{"$f":"BB73*(AZ73-AO69)*AV73/AZ73","v":20.529248175315118},{"$f":"BB73*(AO67-AO69-AZ73)*AV73/AZ73","v":-8.435797382062427},{"$f":"IF(BL73*SQRT(4*ABS(BI73)/3)-BF73/3<=AO67,BL73*SQRT(4*ABS(BI73)/3)-BF73/3,BW73)","v":0.77297137442713948},{"$f":"0.1*(AV73/(AZ73*BO73))*AO73^2","v":5.2389507375313958E-4},{"$f":"AO70","v":15.677055207530543},{"$f":"AR67+BA72*AR64","v":1.1654318942791226E-2},{"$f":"BB73*AO71/(AO67*AO68)","v":4.1693901773459947E-2},{"$f":"BB73*AO72/(AO67*AO68)","v":4.1693901773459947E-2},{"$f":"-6*AO67*(0.25-0.5*BC73/(AO67*AR66))","v":-0.65597137834982311},{"$f":"-6*AO67*(BD73*(0.5*AO67-AO69)-BE73*(0.5*AO67-AO69)-(BD73+BE73)*AO67*BC73/(AO67*AR66))","v":1.3871637118189237E-2},{"$f":"6*AO67*((BD73*AO69-BE73*(AO67-AO69))*(0.5*AO67-AO69)-(BD73*AO69+BE73*(AO67-AO69))*BC73/AR66)","v":-1.5660124943909198E-2},-0.12956117928653302,3.3535397587691876E-2,1.8682844858457368,1.0862678555720666,{"$f":"AZ73/AO67","v":1.4314284711613694},{"$f":"0.5*BM73*(0.5-BM73/3)+BD73*(0.5-AO69/AO67)*(BM73-AO69/AO67)/BM73+BE73*(0.5-AO69/AO67)*(1-AO69/AO67-BM73)/BM73","v":2.5169369646765138E-2},{"$f":"IF(BL73*SQRT(4*ABS(BI73)/3)-BF73/3<=AO67,AO66*(1-AO65*AV73/AO64),AO66*(1-AO65*AV73/AO64-(1-AO65)*BV73/AO64))","v":12621.025661086434},{"$f":"(1+BD73+BE73)*AO67*AO68","v":0.2457123538444414},{"$f":"0.5*(AO67-AO69)*(BE73-BD73)*AO67*AO68","v":0},{"$f":"AO68*AO67^3/12+(0.5*AO67-AO69)^2*(BD73+BE73)*AO68*AO67","v":6.3452748045398676E-3},0,6.3452748045398676E-3,{"$f":"AR66/BP73+(BC73+BS73*AR66)*(0.5*AO67+BS73)/BT73","v":1.419710762530928},{"$f":"AR66/BP73+(BC73+BS73*AR66)*(-0.5*AO67+BS73)/BT73","v":0.42789678709765633},{"$f":"AR66*BT73/((BC73+AR66*BS73)*BP73)+(0.5*AO67+BS73)","v":0.77297137442713948}]

{"sheet":"firsidig","index":2,"n_rows":107,"n_cols":33,"rows_kept":107,"cut":false,"hidden":false,"merged":[[38,20,38,21],[38,22,38,23],[37,10,37,16],[37,17,37,23],[38,13,38,14],[38,15,38,16],[38,18,38,19],[65,2,65,3],[65,4,65,5],[65,6,65,7],[38,11,38,12],[92,6,92,7]]}
[]
[null,null,null,{"$f":"IF(Brand!N19=0,0,Brand!AU20)","v":1},null,null,null,null,null,null,"Q",null,"y","Q-3",null,null,null,null,null,null,null,"Q-4"]
[null,null,null,null,null,null,null,null,null,null,null,"Punkt",null,null,1,2,3,"Midte",4,5,6]
[null,null,null,null,null,null,null,null,null,null,"x",null,null,null,{"$f":"$E$16/(4*$E$19)+(O3-1)*$E$16/(2*$E$19)","v":3.4999999999999996E-2},{"$f":"$E$16/(4*$E$19)+(P3-1)*$E$16/(2*$E$19)","v":0.10499999999999998},{"$f":"$E$16/(4*$E$19)+(Q3-1)*$E$16/(2*$E$19)","v":0.17499999999999999},{"$f":"0.5*E16","v":0.21},{"$f":"$E$16/(4*$E$19)+(S3-1)*$E$16/(2*$E$19)","v":0.245},{"$f":"$E$16/(4*$E$19)+(T3-1)*$E$16/(2*$E$19)","v":0.31499999999999995},{"$f":"$E$16/(4*$E$19)+(U3-1)*$E$16/(2*$E$19)","v":0.38500000000000001}]
[null,null,null,null,null,null,null,null,null,null,"Q-1",null,null,null,{"$f":"MAX(312*LOG10(8*$E$17+1)*EXP(-1.9*O4*$E$18/SQRT($E$17))*SIN(PI()/2-O4*$E$18/SQRT($E$17)),0)*$B$6","v":437.36019148357343},{"$f":"MAX(312*LOG10(8*$E$17+1)*EXP(-1.9*P4*$E$18/SQRT($E$17))*SIN(PI()/2-P4*$E$18/SQRT($E$17)),0)*$B$6","v":55.011433941180798},{"$f":"MAX(312*LOG10(8*$E$17+1)*EXP(-1.9*Q4*$E$18/SQRT($E$17))*SIN(PI()/2-Q4*$E$18/SQRT($E$17)),0)*$B$6","v":0},0,0,0,0,{"$f":"MAX(312*LOG10(8*$E$17+1)*EXP(-1.9*($E$16)*$E$18/SQRT($E$17))*SIN(PI()/2-($E$16)*$E$18/SQRT($E$17)),0)","v":0}]
[null,{"$f":"IF(Brand!N19=0,0,Brand!AU22)","v":1},null,null,null,{"$f":"IF(Brand!N19=0,0,Brand!AU22)","v":1},null,null,null,null,null,1,{"$f":"$E$15/(4*$E$19)+(L6-1)*$E$15/(2*$E$19)","v":4.5000000000000005E-2},{"$f":"MAX(312*LOG10(8*$E$17+1)*EXP(-1.9*M6*$E$18/SQRT($E$17))*SIN(PI()/2-M6*$E$18/SQRT($E$17)),0)*$D$2","v":343.32754592147995},{"$f":"MAX(((O$5+O$13)*$E$20/($E$20+$V$5))*(1-($N6+$V6)/$E$20)+$N6+$V6,20)","v":619.34519650779737},{"$f":"MAX(((P$5+P$13)*$E$20/($E$20+$V$5))*(1-($N6+$V6)/$E$20)+$N6+$V6,20)","v":378.0644458838558},343.34954276884872,343.34954276884872,343.34954276884872,378.06444588385568,619.3451965077976,{"$f":"MAX(312*LOG10(8*$E$17+1)*EXP(-1.9*($E$15-M6)*$E$18/SQRT($E$17))*SIN(PI()/2-($E$15-M6)*$E$18/SQRT($E$17)),0)*$D$11","v":2.1996847368785582E-2}]
[null,null,null,null,null,null,null,null,null,null,null,2,{"$f":"$E$15/(4*$E$19)+(L7-1)*$E$15/(2*$E$19)","v":0.13500000000000001},{"$f":"MAX(312*LOG10(8*$E$17+1)*EXP(-1.9*M7*$E$18/SQRT($E$17))*SIN(PI()/2-M7*$E$18/SQRT($E$17)),0)*$D$2","v":11.341649547620246},443.37158772211797,65.682640948506446,20,20,20,65.682640948506332,443.37158772211825,{"$f":"MAX(312*LOG10(8*$E$17+1)*EXP(-1.9*($E$15-M7)*$E$18/SQRT($E$17))*SIN(PI()/2-($E$15-M7)*$E$18/SQRT($E$17)),0)*$D$11","v":0}]
[null,null,null,null,null,null,null,null,null,null,null,3,{"$f":"$E$15/(4*$E$19)+(L8-1)*$E$15/(2*$E$19)","v":0.22500000000000003},0,437.36019148357343,55.011433941180798,20,20,20,55.011433941180677,437.36019148357371,0]
[null,null,null,null,null,null,null,null,null,null,null,"Midte",{"$f":"0.5*E15","v":0.27},0,437.36019148357343,55.011433941180798,20,20,20,55.011433941180677,437.36019148357371,0]
[null,null,null,null,null,null,null,null,null,null,null,4,{"$f":"$E$15/(4*$E$19)+(L10-1)*$E$15/(2*$E$19)","v":0.315},0,437.36019148357343,55.011433941180798,20,20,20,55.011433941180677,437.36019148357371,0]
[null,null,null,{"$f":"IF(Brand!N19=0,0,Brand!AU21)","v":1},null,null,null,{"$f":"VLOOKUP(600,Bet,5)","v":7},null,null,null,5,{"$f":"$E$15/(4*$E$19)+(L11-1)*$E$15/(2*$E$19)","v":0.40500000000000003},0,443.37158772211797,65.682640948506446,20,20,20,65.682640948506332,443.37158772211825,11.341649547620246]
[null,null,null,null,null,null,null,null,null,null,null,6,{"$f":"$E$15/(4*$E$19)+(L12-1)*$E$15/(2*$E$19)","v":0.495},2.1996847368785537E-2,619.34519650779725,378.06444588385551,343.34954276884844,343.34954276884844,343.34954276884844,378.06444588385546,619.34519650779737,343.32754592147967]
[null,"Betontværsnit",null,null,null,null,null,null,null,null,"Q-2",null,{"$f":"E15-E27","v":0.49543946646953702},null,{"$f":"MAX(312*LOG10(8*$E$17+1)*EXP(-1.9*($E$16-O4)*$E$18/SQRT($E$17))*SIN(PI()/2-($E$16-O4)*$E$18/SQRT($E$17)),0)*$F$6","v":0},{"$f":"MAX(312*LOG10(8*$E$17+1)*EXP(-1.9*($E$16-P4)*$E$18/SQRT($E$17))*SIN(PI()/2-($E$16-P4)*$E$18/SQRT($E$17)),0)*$F$6","v":0},0,0,0,55.011433941180677,437.36019148357371,{"$f":"MAX(312*LOG10(8*$E$17+1)*EXP(-1.9*($E$15-M13)*$E$18/SQRT($E$17))*SIN(PI()/2-($E$15-M13)*$E$18/SQRT($E$17)),0)*$D$11","v":347.09395985127247}]
[null,null,null,null,null,null,null,null,null,null,"z-1"]
[null,null,null,"h",{"$f":"Brand!N12/1000","v":0.54},"m",null,null,null,null,null,"Punkt",null,null,1,2,3,"Midte",4,5,6]
[null,null,null,"b",{"$f":"Brand!N13/1000","v":0.42},"m"]
[null,"Brandtid",null,"t",{"$f":"IF(D2+F6+D11+B6=0,0.0001,Brand!N19+0.0001)","v":120.0001},"min"]
[null,"Svækket tværsnit",null,"k",{"$f":"SQRT(PI()*2300*1000/(750*0.75))","v":113.33853402386262},null,null,null,null,null,null,1,null,null,{"$f":"INDEX(Bet,VLOOKUP(O6,Bet,5),2)+(INDEX(Bet,VLOOKUP(O6,Bet,5)+1,2)-INDEX(Bet,VLOOKUP(O6,Bet,5),2))*(O6-INDEX(Bet,VLOOKUP(O6,Bet,5),1))/(INDEX(Bet,VLOOKUP(O6,Bet,5)+1,1)-INDEX(Bet,VLOOKUP(O6,Bet,5),1))","v":0.56130960698440535},0.8812903100559476,0.90443359037091997,null,{"$f":"INDEX(Bet,VLOOKUP(S6,Bet,5),2)+(INDEX(Bet,VLOOKUP(S6,Bet,5)+1,2)-INDEX(Bet,VLOOKUP(S6,Bet,5),2))*(S6-INDEX(Bet,VLOOKUP(S6,Bet,5),1))/(INDEX(Bet,VLOOKUP(S6,Bet,5)+1,1)-INDEX(Bet,VLOOKUP(S6,Bet,5),1))","v":0.90443359037091997},0.8812903100559476,0.56130960698440491]
[null,null,null,"n",3,null,null,null,null,null,null,2,null,null,0.83775223709964652,1,1,null,1,1,0.83775223709964641]
[null,null,null,"Q-maks",{"$f":"MAX(312*LOG10(8*$E$17+1)*EXP(-1.9*0*$E$18/SQRT($E$17))*SIN(PI()/2-0*$E$18/SQRT($E$17)),0.0001)","v":930.60980975160555},null,"ecu",null,null,null,null,3,null,null,0.84175983058441206,1,1,null,1,1,0.84175983058441195]
[null,null,null,"z-M / e1",{"$f":"R21","v":1},{"$f":"INDEX(Bet,VLOOKUP(R9,Bet,5),3)+(INDEX(Bet,VLOOKUP(R9,Bet,5)+1,3)-INDEX(Bet,VLOOKUP(R9,Bet,5),3))*(R9-INDEX(Bet,VLOOKUP(R9,Bet,5),1))/(INDEX(Bet,VLOOKUP(R9,Bet,5)+1,1)-INDEX(Bet,VLOOKUP(R9,Bet,5),1))","v":2.5000000000000001E-3},{"$f":"INDEX(Bet,VLOOKUP(R9,Bet,5),4)+(INDEX(Bet,VLOOKUP(R9,Bet,5)+1,4)-INDEX(Bet,VLOOKUP(R9,Bet,5),4))*(R9-INDEX(Bet,VLOOKUP(R9,Bet,5),1))/(INDEX(Bet,VLOOKUP(R9,Bet,5)+1,1)-INDEX(Bet,VLOOKUP(R9,Bet,5),1))","v":0.02},null,null,null,null,"Midte",null,null,null,null,null,{"$f":"INDEX(Bet,VLOOKUP(R9,Bet,5),2)+(INDEX(Bet,VLOOKUP(R9,Bet,5)+1,2)-INDEX(Bet,VLOOKUP(R9,Bet,5),2))*(R9-INDEX(Bet,VLOOKUP(R9,Bet,5),1))/(INDEX(Bet,VLOOKUP(R9,Bet,5)+1,1)-INDEX(Bet,VLOOKUP(R9,Bet,5),1))","v":1}]
[null,null,null,"z-middel",{"$f":"((1-0.2/E19)/(2*E19)^2)*IF(AND(D2=1,D11=0),2*SUM(O18:U20),IF(AND(D11=1,D2=0),2*SUM(O22:U24),SUM(O18:U20)+SUM(O22:U24)))","v":0.83238250408396008},null,null,null,null,null,null,4,null,null,{"$f":"INDEX(Bet,VLOOKUP(O10,Bet,5),2)+(INDEX(Bet,VLOOKUP(O10,Bet,5)+1,2)-INDEX(Bet,VLOOKUP(O10,Bet,5),2))*(O10-INDEX(Bet,VLOOKUP(O10,Bet,5),1))/(INDEX(Bet,VLOOKUP(O10,Bet,5)+1,1)-INDEX(Bet,VLOOKUP(O10,Bet,5),1))","v":0.84175983058441206},1,1,null,{"$f":"INDEX(Bet,VLOOKUP(S10,Bet,5),2)+(INDEX(Bet,VLOOKUP(S10,Bet,5)+1,2)-INDEX(Bet,VLOOKUP(S10,Bet,5),2))*(S10-INDEX(Bet,VLOOKUP(S10,Bet,5),1))/(INDEX(Bet,VLOOKUP(S10,Bet,5)+1,1)-INDEX(Bet,VLOOKUP(S10,Bet,5),1))","v":1},1,0.84175983058441195]
[null,null,null,"a (bjælke)",{"$f":"IF(D11+B6+D2+F6=0,0,0.5*IF(B6=0,E15,MIN(E15,E16))*(1-E22/E21))","v":3.5199674142368381E-2},"m",null,null,null,null,null,5,null,null,0.83775223709964652,1,1,null,1,1,0.83775223709964641]
[null,null,null,"a (instabilitet)",{"$f":"IF(D11+B6+D2+F6=0,0,0.5*IF(B6=0,E15,MIN(E15,E16))*(1-(E22/E21)^1.3))","v":4.4560533530463034E-2},"m",null,null,null,null,null,6,null,null,0.56130960698440557,0.88129031005594771,0.90443359037092019,null,0.90443359037092019,0.88129031005594782,0.56130960698440535]
[null,"Randzoner",null,"atop",{"$f":"E24*D2","v":4.4560533530463034E-2},"m"]
[null,null,null,"aside",{"$f":"E24*MAX(B6,F6)","v":4.4560533530463034E-2},"m"]
[null,null,null,"abund",{"$f":"E24*D11","v":4.4560533530463034E-2},"m"]
[null,"Stål-gen","type",{"$f":"IF($E$28=\"Q\",1,IF($E$28=\"AC\",3,5))","v":1},{"$f":"Brand!AS18","v":"Q"},null,null,null,null,null,"Trykarmering",null,{"$f":"M85","v":0.06},0.21,0.36,0.36,0.36,0.36,0.36,0.36,0.36,0.36]
[null,null,"side-\"dæklag\"",null,{"$f":"E38","v":0.06},"m",null,null,null,null,null,null,{"$f":"MAX(312*LOG10(8*$E$17+1)*EXP(-1.9*M28*$E$18/SQRT($E$17))*SIN(PI()/2-M28*$E$18/SQRT($E$17)),0)*$B$6","v":232.72449588471071},{"$f":"IF(N28=M28,0,MAX(312*LOG10(8*$E$17+1)*EXP(-1.9*N28*$E$18/SQRT($E$17))*SIN(PI()/2-N28*$E$18/SQRT($E$17)),0))*$B$6","v":0},{"$f":"IF(O28=N28,0,MAX(312*LOG10(8*$E$17+1)*EXP(-1.9*O28*$E$18/SQRT($E$17))*SIN(PI()/2-O28*$E$18/SQRT($E$17)),0))*$B$6","v":0},0,0,0,0,0,0,0]
[null,"Trykarmering",null,"nc",{"$f":"Brand!N16","v":3},null,null,null,null,null,{"$f":"-M88","v":0.06},{"$f":"MAX(312*LOG10(8*$E$17+1)*EXP(-1.9*K30*$E$18/SQRT($E$17))*SIN(PI()/2-K30*$E$18/SQRT($E$17)),0)*$D$2","v":232.72449588471071},{"$f":"MAX(((M$29+M$31)*$E$20/($E$20+$V$5))*(1-($L30+$W30)/$E$20)+$L30+$W30,20)","v":407.26383922595556},{"$f":"IF(N28=M28,0,MAX(((N$29+N$31)*$E$20/($E$20+$V$5))*(1-($L30+$W30)/$E$20)+$L30+$W30,20))","v":232.74314829892722},{"$f":"IF(O28=N28,0,MAX(((O$29+O$31)*$E$20/($E$20+$V$5))*(1-($L30+$W30)/$E$20)+$L30+$W30,20))","v":407.26383922595556},0,0,0,0,0,0,0,{"$f":"MAX(312*LOG10(8*$E$17+1)*EXP(-1.9*($E$15-K30)*$E$18/SQRT($E$17))*SIN(PI()/2-($E$15-K30)*$E$18/SQRT($E$17)),0)*$D$11","v":1.8652414216509587E-2}]
[null,null,null,"reduc nc",{"$f":"MIN(FLOOR(E30,1),10)","v":3},null,null,null,null,null,null,null,{"$f":"MAX(312*LOG10(8*$E$17+1)*EXP(-1.9*($E$16-M28)*$E$18/SQRT($E$17))*SIN(PI()/2-($E$16-M28)*$E$18/SQRT($E$17)),0)*$F$6","v":0},{"$f":"IF(N28=M28,0,MAX(312*LOG10(8*$E$17+1)*EXP(-1.9*($E$16-N28)*$E$18/SQRT($E$17))*SIN(PI()/2-($E$16-N28)*$E$18/SQRT($E$17)),0))*$F$6","v":0},{"$f":"IF(O28=N28,0,MAX(312*LOG10(8*$E$17+1)*EXP(-1.9*($E$16-O28)*$E$18/SQRT($E$17))*SIN(PI()/2-($E$16-O28)*$E$18/SQRT($E$17)),0))*$F$6","v":232.72449588471071},0,0,0,0,0,0,0]
[null,null,null,"ac",{"$f":"Brand!N14/1000","v":0.06},"m",null,null,null,null,"Trækarmering",null,{"$f":"W85","v":0.06},0.21,0.36,0.36,0.36,0.36,0.36,0.36,0.36,0.36]
[null,null,null,"dc",{"$f":"(E16-2*E29)/(E31-1)","v":0.15},"m",null,null,null,null,null,null,{"$f":"MAX(312*LOG10(8*$E$17+1)*EXP(-1.9*M32*$E$18/SQRT($E$17))*SIN(PI()/2-M32*$E$18/SQRT($E$17)),0)*$B$6","v":232.72449588471071},{"$f":"IF(N32=M32,0,MAX(312*LOG10(8*$E$17+1)*EXP(-1.9*N32*$E$18/SQRT($E$17))*SIN(PI()/2-N32*$E$18/SQRT($E$17)),0))*$B$6","v":0},{"$f":"IF(O32=N32,0,MAX(312*LOG10(8*$E$17+1)*EXP(-1.9*O32*$E$18/SQRT($E$17))*SIN(PI()/2-O32*$E$18/SQRT($E$17)),0))*$B$6","v":0},0,0,0,0,0,0,0]
[null,null,null,"E/Ek",{"$f":"(SUM(E44:E53)+0.5*(E30-E31)*(E48+E49))/E30","v":0.75090972441638726},null,null,null,null,null,{"$f":"-W89","v":0.48000000000000004},{"$f":"MAX(312*LOG10(8*$E$17+1)*EXP(-1.9*K34*$E$18/SQRT($E$17))*SIN(PI()/2-K34*$E$18/SQRT($E$17)),0)*$D$2","v":1.8652414216509587E-2},{"$f":"MAX(((M$33+M$35)*$E$20/($E$20+$V$5))*(1-($L34+$W34)/$E$20)+$L34+$W34,20)","v":407.26383922595562},{"$f":"IF(N32=M32,0,MAX(((N$33+N$35)*$E$20/($E$20+$V$5))*(1-($L34+$W34)/$E$20)+$L34+$W34,20))","v":232.74314829892722},{"$f":"IF(O32=N32,0,MAX(((O$33+O$35)*$E$20/($E$20+$V$5))*(1-($L34+$W34)/$E$20)+$L34+$W34,20))","v":407.26383922595562},0,0,0,0,0,0,0,{"$f":"MAX(312*LOG10(8*$E$17+1)*EXP(-1.9*($E$15-K34)*$E$18/SQRT($E$17))*SIN(PI()/2-($E$15-K34)*$E$18/SQRT($E$17)),0)*$D$11","v":232.72449588471071},{"$f":"(SUM(D54:D63)+0.5*(E36-E37)*(D58+D59))/E36-20","v":329.09027558361277}]
[null,null,null,"fy/fyk",{"$f":"(SUM(F44:F53)+0.5*(E30-E31)*(F48+F49))/E30","v":0.70594423855258004},null,null,null,null,null,null,null,{"$f":"MAX(312*LOG10(8*$E$17+1)*EXP(-1.9*($E$16-M32)*$E$18/SQRT($E$17))*SIN(PI()/2-($E$16-M32)*$E$18/SQRT($E$17)),0)*$F$6","v":0},{"$f":"IF(N32=M32,0,MAX(312*LOG10(8*$E$17+1)*EXP(-1.9*($E$16-N32)*$E$18/SQRT($E$17))*SIN(PI()/2-($E$16-N32)*$E$18/SQRT($E$17)),0))*$F$6","v":0},{"$f":"IF(O32=N32,0,MAX(312*LOG10(8*$E$17+1)*EXP(-1.9*($E$16-O32)*$E$18/SQRT($E$17))*SIN(PI()/2-($E$16-O32)*$E$18/SQRT($E$17)),0))*$F$6","v":232.72449588471071},0,0,0,0,0,0,0]
[null,"Trækarmering",null,"nt",{"$f":"Brand!N18","v":3}]
[null,null,null,"reduc nt",{"$f":"MIN(FLOOR(E36,1),10)","v":3}]
[null,null,null,"at",{"$f":"Brand!N14/1000","v":0.06},"m",null,null,null,null,"Trykarmering",null,null,null,null,null,null,"Trækarmering"]
[null,null,null,"dt",{"$f":"(E16-2*E29)/(E37-1)","v":0.15},"m",null,null,null,null,"Tabel","type (+Q)",null,"type (+AC)",null,"type (+C)",null,"Tabel","type (+Q)",null,"type (+AC)",null,"type (+C)"]
[null,null,null,"E/Ek",{"$f":"(SUM(E54:E63)+0.5*(E36-E37)*(E58+E59))/E36","v":0.75090972441638704},null,null,null,null,null,"Q-stål","E/Ek","fy/fyk","E/Ek","fy/fyk","E/Ek","fy/fyk","Q-stål","E/Ek","fy/fyk","E/Ek","fy/fyk","E/Ek","fy/fyk"]
[null,null,null,"fy/fyk",{"$f":"(SUM(F54:F63)+0.5*(E36-E37)*(F58+F59))/E36","v":0.70594423855258004},null,null,null,null,null,"Temp-1",null,null,null,null,null,null,"Temp-11"]
[null,null,null,null,null,null,null,null,null,null,{"$f":"D44","v":407.26383922595556},{"$f":"IF(K42=K44,L44,L44+(L43-L44)*(K42-K44)/(K43-K44))","v":0.69273616077404443},{"$f":"IF(K42=K44,M44,M44+(M43-M44)*(K42-K44)/(K43-K44))","v":0.63692508939327996},{"$f":"IF(K42=K44,N44,N44+(N43-N44)*(K42-K44)/(K43-K44))","v":0.94765147331587551},{"$f":"IF(K42=K44,O44,O44+(O43-O44)*(K42-K44)/(K43-K44))","v":0.76329316978030226},{"$f":"IF(K42=K44,P44,P44+(P43-P44)*(K42-K44)/(K43-K44))","v":0.5483778572384711},{"$f":"IF(K42=K44,Q44,Q44+(Q43-Q44)*(K42-K44)/(K43-K44))","v":0.76474593762549337},{"$f":"D54","v":407.26383922595562},{"$f":"IF(R42=R44,S44,S44+(S43-S44)*(R42-R44)/(R43-R44))","v":0.69273616077404432},{"$f":"IF(R42=R44,T44,T44+(T43-T44)*(R42-R44)/(R43-R44))","v":0.63692508939327985},{"$f":"IF(R42=R44,U44,U44+(U43-U44)*(R42-R44)/(R43-R44))","v":0.9476514733158754},{"$f":"IF(R42=R44,V44,V44+(V43-V44)*(R42-R44)/(R43-R44))","v":0.76329316978030215},{"$f":"IF(R42=R44,W44,W44+(W43-W44)*(R42-R44)/(R43-R44))","v":0.5483778572384711},{"$f":"IF(R42=R44,X44,X44+(X43-X44)*(R42-R44)/(R43-R44))","v":0.76474593762549326}]
[null,null,null,"Temp","E/Ek","fy/fyk",null,null,null,null,{"$f":"CEILING(K42,100)","v":500},{"$f":"VLOOKUP(K43,$B$68:$H$80,2,TRUE)","v":0.6},{"$f":"VLOOKUP(K43,$B$68:$H$80,3,TRUE)","v":0.47},{"$f":"VLOOKUP(K43,$B$68:$H$80,4,TRUE)","v":0.79},{"$f":"VLOOKUP(K43,$B$68:$H$80,5,TRUE)","v":0.55000000000000004},{"$f":"VLOOKUP(K43,$B$68:$H$80,6,TRUE)","v":0.4},{"$f":"VLOOKUP(K43,$B$68:$H$80,7,TRUE)","v":0.56999999999999995},{"$f":"CEILING(R42,100)","v":500},{"$f":"VLOOKUP(R43,$B$68:$H$80,2,TRUE)","v":0.6},{"$f":"VLOOKUP(R43,$B$68:$H$80,3,TRUE)","v":0.47},{"$f":"VLOOKUP(R43,$B$68:$H$80,4,TRUE)","v":0.79},{"$f":"VLOOKUP(R43,$B$68:$H$80,5,TRUE)","v":0.55000000000000004},{"$f":"VLOOKUP(R43,$B$68:$H$80,6,TRUE)","v":0.4},{"$f":"VLOOKUP(R43,$B$68:$H$80,7,TRUE)","v":0.56999999999999995}]
[null,"Trykarm.",1,{"$f":"M30","v":407.26383922595556},{"$f":"IF(D44=0,0,INDEX($L$41:$Q$80,2+(C44-1)*4,$D$28))","v":0.69273616077404443},{"$f":"IF(D44=0,0,INDEX($L$41:$Q$80,2+(C44-1)*4,$D$28+1))","v":0.63692508939327996},null,null,null,null,{"$f":"MAX(FLOOR(K42,100),20)","v":400},{"$f":"VLOOKUP(K44,$B$68:$H$80,2,TRUE)","v":0.7},{"$f":"VLOOKUP(K44,$B$68:$H$80,3,TRUE)","v":0.65},{"$f":"VLOOKUP(K44,$B$68:$H$80,4,TRUE)","v":0.96},{"$f":"VLOOKUP(K44,$B$68:$H$80,5,TRUE)","v":0.78},{"$f":"VLOOKUP(K44,$B$68:$H$80,6,TRUE)","v":0.56000000000000005},{"$f":"VLOOKUP(K44,$B$68:$H$80,7,TRUE)","v":0.78},{"$f":"MAX(FLOOR(R42,100),20)","v":400},{"$f":"VLOOKUP(R44,$B$68:$H$80,2,TRUE)","v":0.7},{"$f":"VLOOKUP(R44,$B$68:$H$80,3,TRUE)","v":0.65},{"$f":"VLOOKUP(R44,$B$68:$H$80,4,TRUE)","v":0.96},{"$f":"VLOOKUP(R44,$B$68:$H$80,5,TRUE)","v":0.78},{"$f":"VLOOKUP(R44,$B$68:$H$80,6,TRUE)","v":0.56000000000000005},{"$f":"VLOOKUP(R44,$B$68:$H$80,7,TRUE)","v":0.78}]
[null,null,2,{"$f":"N30","v":232.74314829892722},0.86725685170107281,0.84398253687118008,null,null,null,null,"Temp-2",null,null,null,null,null,null,"Temp-12"]
[null,null,3,{"$f":"O30","v":407.26383922595556},0.69273616077404443,0.63692508939327996,null,null,null,null,{"$f":"D45","v":232.74314829892722},{"$f":"IF(K46=K48,L48,L48+(L47-L48)*(K46-K48)/(K47-K48))","v":0.86725685170107281},{"$f":"IF(K46=K48,M48,M48+(M47-M48)*(K46-K48)/(K47-K48))","v":0.84398253687118008},{"$f":"IF(K46=K48,N48,N48+(N47-N48)*(K46-K48)/(K47-K48))","v":0.99672568517010729},{"$f":"IF(K46=K48,O48,O48+(O47-O48)*(K46-K48)/(K47-K48))","v":0.92362842585053639},{"$f":"IF(K46=K48,P48,P48+(P47-P48)*(K46-K48)/(K47-K48))","v":0.82088527755160912},{"$f":"IF(K46=K48,Q48,Q48+(Q47-Q48)*(K46-K48)/(K47-K48))","v":0.93035411102064369},{"$f":"D55","v":232.74314829892722},{"$f":"IF(R46=R48,S48,S48+(S47-S48)*(R46-R48)/(R47-R48))","v":0.86725685170107281},{"$f":"IF(R46=R48,T48,T48+(T47-T48)*(R46-R48)/(R47-R48))","v":0.84398253687118008},{"$f":"IF(R46=R48,U48,U48+(U47-U48)*(R46-R48)/(R47-R48))","v":0.99672568517010729},{"$f":"IF(R46=R48,V48,V48+(V47-V48)*(R46-R48)/(R47-R48))","v":0.92362842585053639},{"$f":"IF(R46=R48,W48,W48+(W47-W48)*(R46-R48)/(R47-R48))","v":0.82088527755160912},{"$f":"IF(R46=R48,X48,X48+(X47-X48)*(R46-R48)/(R47-R48))","v":0.93035411102064369}]
[null,null,4,{"$f":"P30","v":0},0,0,null,null,null,null,{"$f":"CEILING(K46,100)","v":300},{"$f":"VLOOKUP(K47,$B$68:$H$80,2,TRUE)","v":0.8},{"$f":"VLOOKUP(K47,$B$68:$H$80,3,TRUE)","v":0.77},{"$f":"VLOOKUP(K47,$B$68:$H$80,4,TRUE)","v":0.99},{"$f":"VLOOKUP(K47,$B$68:$H$80,5,TRUE)","v":0.89},{"$f":"VLOOKUP(K47,$B$68:$H$80,6,TRUE)","v":0.72},{"$f":"VLOOKUP(K47,$B$68:$H$80,7,TRUE)","v":0.89},{"$f":"CEILING(R46,100)","v":300},{"$f":"VLOOKUP(R47,$B$68:$H$80,2,TRUE)","v":0.8},{"$f":"VLOOKUP(R47,$B$68:$H$80,3,TRUE)","v":0.77},{"$f":"VLOOKUP(R47,$B$68:$H$80,4,TRUE)","v":0.99},{"$f":"VLOOKUP(R47,$B$68:$H$80,5,TRUE)","v":0.89},{"$f":"VLOOKUP(R47,$B$68:$H$80,6,TRUE)","v":0.72},{"$f":"VLOOKUP(R47,$B$68:$H$80,7,TRUE)","v":0.89}]
[null,null,5,{"$f":"Q30","v":0},0,0,null,null,null,null,{"$f":"MAX(FLOOR(K46,100),20)","v":200},{"$f":"VLOOKUP(K48,$B$68:$H$80,2,TRUE)","v":0.9},{"$f":"VLOOKUP(K48,$B$68:$H$80,3,TRUE)","v":0.88},{"$f":"VLOOKUP(K48,$B$68:$H$80,4,TRUE)","v":1},{"$f":"VLOOKUP(K48,$B$68:$H$80,5,TRUE)","v":0.94},{"$f":"VLOOKUP(K48,$B$68:$H$80,6,TRUE)","v":0.87},{"$f":"VLOOKUP(K48,$B$68:$H$80,7,TRUE)","v":0.95},{"$f":"MAX(FLOOR(R46,100),20)","v":200},{"$f":"VLOOKUP(R48,$B$68:$H$80,2,TRUE)","v":0.9},{"$f":"VLOOKUP(R48,$B$68:$H$80,3,TRUE)","v":0.88},{"$f":"VLOOKUP(R48,$B$68:$H$80,4,TRUE)","v":1},{"$f":"VLOOKUP(R48,$B$68:$H$80,5,TRUE)","v":0.94},{"$f":"VLOOKUP(R48,$B$68:$H$80,6,TRUE)","v":0.87},{"$f":"VLOOKUP(R48,$B$68:$H$80,7,TRUE)","v":0.95}]
[null,null,6,{"$f":"R30","v":0},0,0,null,null,null,null,"Temp-3",null,null,null,null,null,null,"Temp-13"]
[null,null,7,{"$f":"S30","v":0},0,0,null,null,null,null,{"$f":"D46","v":407.26383922595556},{"$f":"IF(K50=K52,L52,L52+(L51-L52)*(K50-K52)/(K51-K52))","v":0.69273616077404443},{"$f":"IF(K50=K52,M52,M52+(M51-M52)*(K50-K52)/(K51-K52))","v":0.63692508939327996},{"$f":"IF(K50=K52,N52,N52+(N51-N52)*(K50-K52)/(K51-K52))","v":0.94765147331587551},{"$f":"IF(K50=K52,O52,O52+(O51-O52)*(K50-K52)/(K51-K52))","v":0.76329316978030226},{"$f":"IF(K50=K52,P52,P52+(P51-P52)*(K50-K52)/(K51-K52))","v":0.5483778572384711},{"$f":"IF(K50=K52,Q52,Q52+(Q51-Q52)*(K50-K52)/(K51-K52))","v":0.76474593762549337},{"$f":"D56","v":407.26383922595562},{"$f":"IF(R50=R52,S52,S52+(S51-S52)*(R50-R52)/(R51-R52))","v":0.69273616077404432},{"$f":"IF(R50=R52,T52,T52+(T51-T52)*(R50-R52)/(R51-R52))","v":0.63692508939327985},{"$f":"IF(R50=R52,U52,U52+(U51-U52)*(R50-R52)/(R51-R52))","v":0.9476514733158754},{"$f":"IF(R50=R52,V52,V52+(V51-V52)*(R50-R52)/(R51-R52))","v":0.76329316978030215},{"$f":"IF(R50=R52,W52,W52+(W51-W52)*(R50-R52)/(R51-R52))","v":0.5483778572384711},{"$f":"IF(R50=R52,X52,X52+(X51-X52)*(R50-R52)/(R51-R52))","v":0.76474593762549326}]
[null,null,8,{"$f":"T30","v":0},0,0,null,null,null,null,{"$f":"CEILING(K50,100)","v":500},{"$f":"VLOOKUP(K51,$B$68:$H$80,2,TRUE)","v":0.6},{"$f":"VLOOKUP(K51,$B$68:$H$80,3,TRUE)","v":0.47},{"$f":"VLOOKUP(K51,$B$68:$H$80,4,TRUE)","v":0.79},{"$f":"VLOOKUP(K51,$B$68:$H$80,5,TRUE)","v":0.55000000000000004},{"$f":"VLOOKUP(K51,$B$68:$H$80,6,TRUE)","v":0.4},{"$f":"VLOOKUP(K51,$B$68:$H$80,7,TRUE)","v":0.56999999999999995},{"$f":"CEILING(R50,100)","v":500},{"$f":"VLOOKUP(R51,$B$68:$H$80,2,TRUE)","v":0.6},{"$f":"VLOOKUP(R51,$B$68:$H$80,3,TRUE)","v":0.47},{"$f":"VLOOKUP(R51,$B$68:$H$80,4,TRUE)","v":0.79},{"$f":"VLOOKUP(R51,$B$68:$H$80,5,TRUE)","v":0.55000000000000004},{"$f":"VLOOKUP(R51,$B$68:$H$80,6,TRUE)","v":0.4},{"$f":"VLOOKUP(R51,$B$68:$H$80,7,TRUE)","v":0.56999999999999995}]
[null,null,9,{"$f":"U30","v":0},0,0,null,null,null,null,{"$f":"MAX(FLOOR(K50,100),20)","v":400},{"$f":"VLOOKUP(K52,$B$68:$H$80,2,TRUE)","v":0.7},{"$f":"VLOOKUP(K52,$B$68:$H$80,3,TRUE)","v":0.65},{"$f":"VLOOKUP(K52,$B$68:$H$80,4,TRUE)","v":0.96},{"$f":"VLOOKUP(K52,$B$68:$H$80,5,TRUE)","v":0.78},{"$f":"VLOOKUP(K52,$B$68:$H$80,6,TRUE)","v":0.56000000000000005},{"$f":"VLOOKUP(K52,$B$68:$H$80,7,TRUE)","v":0.78},{"$f":"MAX(FLOOR(R50,100),20)","v":400},{"$f":"VLOOKUP(R52,$B$68:$H$80,2,TRUE)","v":0.7},{"$f":"VLOOKUP(R52,$B$68:$H$80,3,TRUE)","v":0.65},{"$f":"VLOOKUP(R52,$B$68:$H$80,4,TRUE)","v":0.96},{"$f":"VLOOKUP(R52,$B$68:$H$80,5,TRUE)","v":0.78},{"$f":"VLOOKUP(R52,$B$68:$H$80,6,TRUE)","v":0.56000000000000005},{"$f":"VLOOKUP(R52,$B$68:$H$80,7,TRUE)","v":0.78}]
[null,null,10,{"$f":"V30","v":0},0,0,null,null,null,null,"Temp-4",null,null,null,null,null,null,"Temp-14"]
[null,"trækarm",11,{"$f":"M34","v":407.26383922595562},{"$f":"IF(D54=0,0,INDEX($S$41:$X$80,2+(C54-11)*4,$D$28))","v":0.69273616077404432},{"$f":"IF(D54=0,0,INDEX($S$41:$X$80,2+(C54-11)*4,$D$28+1))","v":0.63692508939327985},null,null,null,null,{"$f":"D47","v":0},{"$f":"IF(K54=K56,L56,L56+(L55-L56)*(K54-K56)/(K55-K56))","v":{"$error":"#N/A"}},{"$f":"IF(K54=K56,M56,M56+(M55-M56)*(K54-K56)/(K55-K56))","v":{"$error":"#N/A"}},{"$f":"IF(K54=K56,N56,N56+(N55-N56)*(K54-K56)/(K55-K56))","v":{"$error":"#N/A"}},{"$f":"IF(K54=K56,O56,O56+(O55-O56)*(K54-K56)/(K55-K56))","v":{"$error":"#N/A"}},{"$f":"IF(K54=K56,P56,P56+(P55-P56)*(K54-K56)/(K55-K56))","v":{"$error":"#N/A"}},{"$f":"IF(K54=K56,Q56,Q56+(Q55-Q56)*(K54-K56)/(K55-K56))","v":{"$error":"#N/A"}},{"$f":"D57","v":0},{"$f":"IF(R54=R56,S56,S56+(S55-S56)*(R54-R56)/(R55-R56))","v":{"$error":"#N/A"}},{"$f":"IF(R54=R56,T56,T56+(T55-T56)*(R54-R56)/(R55-R56))","v":{"$error":"#N/A"}},{"$f":"IF(R54=R56,U56,U56+(U55-U56)*(R54-R56)/(R55-R56))","v":{"$error":"#N/A"}},{"$f":"IF(R54=R56,V56,V56+(V55-V56)*(R54-R56)/(R55-R56))","v":{"$error":"#N/A"}},{"$f":"IF(R54=R56,W56,W56+(W55-W56)*(R54-R56)/(R55-R56))","v":{"$error":"#N/A"}},{"$f":"IF(R54=R56,X56,X56+(X55-X56)*(R54-R56)/(R55-R56))","v":{"$error":"#N/A"}}]
[null,null,12,{"$f":"N34","v":232.74314829892722},0.86725685170107281,0.84398253687118008,null,null,null,null,{"$f":"CEILING(K54,100)","v":0},{"$f":"VLOOKUP(K55,$B$68:$H$80,2,TRUE)","v":{"$error":"#N/A"}},{"$f":"VLOOKUP(K55,$B$68:$H$80,3,TRUE)","v":{"$error":"#N/A"}},{"$f":"VLOOKUP(K55,$B$68:$H$80,4,TRUE)","v":{"$error":"#N/A"}},{"$f":"VLOOKUP(K55,$B$68:$H$80,5,TRUE)","v":{"$error":"#N/A"}},{"$f":"VLOOKUP(K55,$B$68:$H$80,6,TRUE)","v":{"$error":"#N/A"}},{"$f":"VLOOKUP(K55,$B$68:$H$80,7,TRUE)","v":{"$error":"#N/A"}},{"$f":"CEILING(R54,100)","v":0},{"$f":"VLOOKUP(R55,$B$68:$H$80,2,TRUE)","v":{"$error":"#N/A"}},{"$f":"VLOOKUP(R55,$B$68:$H$80,3,TRUE)","v":{"$error":"#N/A"}},{"$f":"VLOOKUP(R55,$B$68:$H$80,4,TRUE)","v":{"$error":"#N/A"}},{"$f":"VLOOKUP(R55,$B$68:$H$80,5,TRUE)","v":{"$error":"#N/A"}},{"$f":"VLOOKUP(R55,$B$68:$H$80,6,TRUE)","v":{"$error":"#N/A"}},{"$f":"VLOOKUP(R55,$B$68:$H$80,7,TRUE)","v":{"$error":"#N/A"}}]
[null,null,13,{"$f":"O34","v":407.26383922595562},0.69273616077404432,0.63692508939327985,null,null,null,null,{"$f":"MAX(FLOOR(K54,100),20)","v":20},{"$f":"VLOOKUP(K56,$B$68:$H$80,2,TRUE)","v":1},{"$f":"VLOOKUP(K56,$B$68:$H$80,3,TRUE)","v":1},{"$f":"VLOOKUP(K56,$B$68:$H$80,4,TRUE)","v":1},{"$f":"VLOOKUP(K56,$B$68:$H$80,5,TRUE)","v":1},{"$f":"VLOOKUP(K56,$B$68:$H$80,6,TRUE)","v":1},{"$f":"VLOOKUP(K56,$B$68:$H$80,7,TRUE)","v":1},{"$f":"MAX(FLOOR(R54,100),20)","v":20},{"$f":"VLOOKUP(R56,$B$68:$H$80,2,TRUE)","v":1},{"$f":"VLOOKUP(R56,$B$68:$H$80,3,TRUE)","v":1},{"$f":"VLOOKUP(R56,$B$68:$H$80,4,TRUE)","v":1},{"$f":"VLOOKUP(R56,$B$68:$H$80,5,TRUE)","v":1},{"$f":"VLOOKUP(R56,$B$68:$H$80,6,TRUE)","v":1},{"$f":"VLOOKUP(R56,$B$68:$H$80,7,TRUE)","v":1}]
[null,null,14,{"$f":"P34","v":0},0,0,null,null,null,null,"Temp-5",null,null,null,null,null,null,"Temp-15"]
[null,null,15,{"$f":"Q34","v":0},0,0,null,null,null,null,{"$f":"D48","v":0},{"$f":"IF(K58=K60,L60,L60+(L59-L60)*(K58-K60)/(K59-K60))","v":{"$error":"#N/A"}},{"$f":"IF(K58=K60,M60,M60+(M59-M60)*(K58-K60)/(K59-K60))","v":{"$error":"#N/A"}},{"$f":"IF(K58=K60,N60,N60+(N59-N60)*(K58-K60)/(K59-K60))","v":{"$error":"#N/A"}},{"$f":"IF(K58=K60,O60,O60+(O59-O60)*(K58-K60)/(K59-K60))","v":{"$error":"#N/A"}},{"$f":"IF(K58=K60,P60,P60+(P59-P60)*(K58-K60)/(K59-K60))","v":{"$error":"#N/A"}},{"$f":"IF(K58=K60,Q60,Q60+(Q59-Q60)*(K58-K60)/(K59-K60))","v":{"$error":"#N/A"}},{"$f":"D58","v":0},{"$f":"IF(R58=R60,S60,S60+(S59-S60)*(R58-R60)/(R59-R60))","v":{"$error":"#N/A"}},{"$f":"IF(R58=R60,T60,T60+(T59-T60)*(R58-R60)/(R59-R60))","v":{"$error":"#N/A"}},{"$f":"IF(R58=R60,U60,U60+(U59-U60)*(R58-R60)/(R59-R60))","v":{"$error":"#N/A"}},{"$f":"IF(R58=R60,V60,V60+(V59-V60)*(R58-R60)/(R59-R60))","v":{"$error":"#N/A"}},{"$f":"IF(R58=R60,W60,W60+(W59-W60)*(R58-R60)/(R59-R60))","v":{"$error":"#N/A"}},{"$f":"IF(R58=R60,X60,X60+(X59-X60)*(R58-R60)/(R59-R60))","v":{"$error":"#N/A"}}]
[null,null,16,{"$f":"R34","v":0},0,0,null,null,null,null,{"$f":"CEILING(K58,100)","v":0},{"$f":"VLOOKUP(K59,$B$68:$H$80,2,TRUE)","v":{"$error":"#N/A"}},{"$f":"VLOOKUP(K59,$B$68:$H$80,3,TRUE)","v":{"$error":"#N/A"}},{"$f":"VLOOKUP(K59,$B$68:$H$80,4,TRUE)","v":{"$error":"#N/A"}},{"$f":"VLOOKUP(K59,$B$68:$H$80,5,TRUE)","v":{"$error":"#N/A"}},{"$f":"VLOOKUP(K59,$B$68:$H$80,6,TRUE)","v":{"$error":"#N/A"}},{"$f":"VLOOKUP(K59,$B$68:$H$80,7,TRUE)","v":{"$error":"#N/A"}},{"$f":"CEILING(R58,100)","v":0},{"$f":"VLOOKUP(R59,$B$68:$H$80,2,TRUE)","v":{"$error":"#N/A"}},{"$f":"VLOOKUP(R59,$B$68:$H$80,3,TRUE)","v":{"$error":"#N/A"}},{"$f":"VLOOKUP(R59,$B$68:$H$80,4,TRUE)","v":{"$error":"#N/A"}},{"$f":"VLOOKUP(R59,$B$68:$H$80,5,TRUE)","v":{"$error":"#N/A"}},{"$f":"VLOOKUP(R59,$B$68:$H$80,6,TRUE)","v":{"$error":"#N/A"}},{"$f":"VLOOKUP(R59,$B$68:$H$80,7,TRUE)","v":{"$error":"#N/A"}}]
[null,null,17,{"$f":"S34","v":0},0,0,null,null,null,null,{"$f":"MAX(FLOOR(K58,100),20)","v":20},{"$f":"VLOOKUP(K60,$B$68:$H$80,2,TRUE)","v":1},{"$f":"VLOOKUP(K60,$B$68:$H$80,3,TRUE)","v":1},{"$f":"VLOOKUP(K60,$B$68:$H$80,4,TRUE)","v":1},{"$f":"VLOOKUP(K60,$B$68:$H$80,5,TRUE)","v":1},{"$f":"VLOOKUP(K60,$B$68:$H$80,6,TRUE)","v":1},{"$f":"VLOOKUP(K60,$B$68:$H$80,7,TRUE)","v":1},{"$f":"MAX(FLOOR(R58,100),20)","v":20},{"$f":"VLOOKUP(R60,$B$68:$H$80,2,TRUE)","v":1},{"$f":"VLOOKUP(R60,$B$68:$H$80,3,TRUE)","v":1},{"$f":"VLOOKUP(R60,$B$68:$H$80,4,TRUE)","v":1},{"$f":"VLOOKUP(R60,$B$68:$H$80,5,TRUE)","v":1},{"$f":"VLOOKUP(R60,$B$68:$H$80,6,TRUE)","v":1},{"$f":"VLOOKUP(R60,$B$68:$H$80,7,TRUE)","v":1}]
[null,null,18,{"$f":"T34","v":0},0,0,null,null,null,null,"Temp-6",null,null,null,null,null,null,"Temp-16"]
[null,null,19,{"$f":"U34","v":0},0,0,null,null,null,null,{"$f":"D49","v":0},{"$f":"IF(K62=K64,L64,L64+(L63-L64)*(K62-K64)/(K63-K64))","v":{"$error":"#N/A"}},{"$f":"IF(K62=K64,M64,M64+(M63-M64)*(K62-K64)/(K63-K64))","v":{"$error":"#N/A"}},{"$f":"IF(K62=K64,N64,N64+(N63-N64)*(K62-K64)/(K63-K64))","v":{"$error":"#N/A"}},{"$f":"IF(K62=K64,O64,O64+(O63-O64)*(K62-K64)/(K63-K64))","v":{"$error":"#N/A"}},{"$f":"IF(K62=K64,P64,P64+(P63-P64)*(K62-K64)/(K63-K64))","v":{"$error":"#N/A"}},{"$f":"IF(K62=K64,Q64,Q64+(Q63-Q64)*(K62-K64)/(K63-K64))","v":{"$error":"#N/A"}},{"$f":"D59","v":0},{"$f":"IF(R62=R64,S64,S64+(S63-S64)*(R62-R64)/(R63-R64))","v":{"$error":"#N/A"}},{"$f":"IF(R62=R64,T64,T64+(T63-T64)*(R62-R64)/(R63-R64))","v":{"$error":"#N/A"}},{"$f":"IF(R62=R64,U64,U64+(U63-U64)*(R62-R64)/(R63-R64))","v":{"$error":"#N/A"}},{"$f":"IF(R62=R64,V64,V64+(V63-V64)*(R62-R64)/(R63-R64))","v":{"$error":"#N/A"}},{"$f":"IF(R62=R64,W64,W64+(W63-W64)*(R62-R64)/(R63-R64))","v":{"$error":"#N/A"}},{"$f":"IF(R62=R64,X64,X64+(X63-X64)*(R62-R64)/(R63-R64))","v":{"$error":"#N/A"}}]
[null,null,20,{"$f":"V34","v":0},0,0,null,null,null,null,{"$f":"CEILING(K62,100)","v":0},{"$f":"VLOOKUP(K63,$B$68:$H$80,2,TRUE)","v":{"$error":"#N/A"}},{"$f":"VLOOKUP(K63,$B$68:$H$80,3,TRUE)","v":{"$error":"#N/A"}},{"$f":"VLOOKUP(K63,$B$68:$H$80,4,TRUE)","v":{"$error":"#N/A"}},{"$f":"VLOOKUP(K63,$B$68:$H$80,5,TRUE)","v":{"$error":"#N/A"}},{"$f":"VLOOKUP(K63,$B$68:$H$80,6,TRUE)","v":{"$error":"#N/A"}},{"$f":"VLOOKUP(K63,$B$68:$H$80,7,TRUE)","v":{"$error":"#N/A"}},{"$f":"CEILING(R62,100)","v":0},{"$f":"VLOOKUP(R63,$B$68:$H$80,2,TRUE)","v":{"$error":"#N/A"}},{"$f":"VLOOKUP(R63,$B$68:$H$80,3,TRUE)","v":{"$error":"#N/A"}},{"$f":"VLOOKUP(R63,$B$68:$H$80,4,TRUE)","v":{"$error":"#N/A"}},{"$f":"VLOOKUP(R63,$B$68:$H$80,5,TRUE)","v":{"$error":"#N/A"}},{"$f":"VLOOKUP(R63,$B$68:$H$80,6,TRUE)","v":{"$error":"#N/A"}},{"$f":"VLOOKUP(R63,$B$68:$H$80,7,TRUE)","v":{"$error":"#N/A"}}]
[null,null,null,null,null,null,null,null,null,null,{"$f":"MAX(FLOOR(K62,100),20)","v":20},{"$f":"VLOOKUP(K64,$B$68:$H$80,2,TRUE)","v":1},{"$f":"VLOOKUP(K64,$B$68:$H$80,3,TRUE)","v":1},{"$f":"VLOOKUP(K64,$B$68:$H$80,4,TRUE)","v":1},{"$f":"VLOOKUP(K64,$B$68:$H$80,5,TRUE)","v":1},{"$f":"VLOOKUP(K64,$B$68:$H$80,6,TRUE)","v":1},{"$f":"VLOOKUP(K64,$B$68:$H$80,7,TRUE)","v":1},{"$f":"MAX(FLOOR(R62,100),20)","v":20},{"$f":"VLOOKUP(R64,$B$68:$H$80,2,TRUE)","v":1},{"$f":"VLOOKUP(R64,$B$68:$H$80,3,TRUE)","v":1},{"$f":"VLOOKUP(R64,$B$68:$H$80,4,TRUE)","v":1},{"$f":"VLOOKUP(R64,$B$68:$H$80,5,TRUE)","v":1},{"$f":"VLOOKUP(R64,$B$68:$H$80,6,TRUE)","v":1},{"$f":"VLOOKUP(R64,$B$68:$H$80,7,TRUE)","v":1}]
[null,null,null,null,null,null,null,null,null,null,"Temp-7",null,null,null,null,null,null,"Temp-17"]
[null,"Tabel","type (+Q)",null,"type (+AC)",null,"type (+C)",null,null,null,{"$f":"D50","v":0},{"$f":"IF(K66=K68,L68,L68+(L67-L68)*(K66-K68)/(K67-K68))","v":{"$error":"#N/A"}},{"$f":"IF(K66=K68,M68,M68+(M67-M68)*(K66-K68)/(K67-K68))","v":{"$error":"#N/A"}},{"$f":"IF(K66=K68,N68,N68+(N67-N68)*(K66-K68)/(K67-K68))","v":{"$error":"#N/A"}},{"$f":"IF(K66=K68,O68,O68+(O67-O68)*(K66-K68)/(K67-K68))","v":{"$error":"#N/A"}},{"$f":"IF(K66=K68,P68,P68+(P67-P68)*(K66-K68)/(K67-K68))","v":{"$error":"#N/A"}},{"$f":"IF(K66=K68,Q68,Q68+(Q67-Q68)*(K66-K68)/(K67-K68))","v":{"$error":"#N/A"}},{"$f":"D60","v":0},{"$f":"IF(R66=R68,S68,S68+(S67-S68)*(R66-R68)/(R67-R68))","v":{"$error":"#N/A"}},{"$f":"IF(R66=R68,T68,T68+(T67-T68)*(R66-R68)/(R67-R68))","v":{"$error":"#N/A"}},{"$f":"IF(R66=R68,U68,U68+(U67-U68)*(R66-R68)/(R67-R68))","v":{"$error":"#N/A"}},{"$f":"IF(R66=R68,V68,V68+(V67-V68)*(R66-R68)/(R67-R68))","v":{"$error":"#N/A"}},{"$f":"IF(R66=R68,W68,W68+(W67-W68)*(R66-R68)/(R67-R68))","v":{"$error":"#N/A"}},{"$f":"IF(R66=R68,X68,X68+(X67-X68)*(R66-R68)/(R67-R68))","v":{"$error":"#N/A"}}]
[null,"Q-stål","E/Ek","fy/fyk","E/Ek","fy/fyk","E/Ek","fy/fyk",null,null,{"$f":"CEILING(K66,100)","v":0},{"$f":"VLOOKUP(K67,$B$68:$H$80,2,TRUE)","v":{"$error":"#N/A"}},{"$f":"VLOOKUP(K67,$B$68:$H$80,3,TRUE)","v":{"$error":"#N/A"}},{"$f":"VLOOKUP(K67,$B$68:$H$80,4,TRUE)","v":{"$error":"#N/A"}},{"$f":"VLOOKUP(K67,$B$68:$H$80,5,TRUE)","v":{"$error":"#N/A"}},{"$f":"VLOOKUP(K67,$B$68:$H$80,6,TRUE)","v":{"$error":"#N/A"}},{"$f":"VLOOKUP(K67,$B$68:$H$80,7,TRUE)","v":{"$error":"#N/A"}},{"$f":"CEILING(R66,100)","v":0},{"$f":"VLOOKUP(R67,$B$68:$H$80,2,TRUE)","v":{"$error":"#N/A"}},{"$f":"VLOOKUP(R67,$B$68:$H$80,3,TRUE)","v":{"$error":"#N/A"}},{"$f":"VLOOKUP(R67,$B$68:$H$80,4,TRUE)","v":{"$error":"#N/A"}},{"$f":"VLOOKUP(R67,$B$68:$H$80,5,TRUE)","v":{"$error":"#N/A"}},{"$f":"VLOOKUP(R67,$B$68:$H$80,6,TRUE)","v":{"$error":"#N/A"}},{"$f":"VLOOKUP(R67,$B$68:$H$80,7,TRUE)","v":{"$error":"#N/A"}}]
[null,20,1,1,1,1,1,1,null,null,{"$f":"MAX(FLOOR(K66,100),20)","v":20},{"$f":"VLOOKUP(K68,$B$68:$H$80,2,TRUE)","v":1},{"$f":"VLOOKUP(K68,$B$68:$H$80,3,TRUE)","v":1},{"$f":"VLOOKUP(K68,$B$68:$H$80,4,TRUE)","v":1},{"$f":"VLOOKUP(K68,$B$68:$H$80,5,TRUE)","v":1},{"$f":"VLOOKUP(K68,$B$68:$H$80,6,TRUE)","v":1},{"$f":"VLOOKUP(K68,$B$68:$H$80,7,TRUE)","v":1},{"$f":"MAX(FLOOR(R66,100),20)","v":20},{"$f":"VLOOKUP(R68,$B$68:$H$80,2,TRUE)","v":1},{"$f":"VLOOKUP(R68,$B$68:$H$80,3,TRUE)","v":1},{"$f":"VLOOKUP(R68,$B$68:$H$80,4,TRUE)","v":1},{"$f":"VLOOKUP(R68,$B$68:$H$80,5,TRUE)","v":1},{"$f":"VLOOKUP(R68,$B$68:$H$80,6,TRUE)","v":1},{"$f":"VLOOKUP(R68,$B$68:$H$80,7,TRUE)","v":1}]
[null,100,1,0.96,1,0.98,1,0.99,null,null,"Temp-8",null,null,null,null,null,null,"Temp-18"]
[null,200,0.9,0.88,1,0.94,0.87,0.95,null,null,{"$f":"D51","v":0},{"$f":"IF(K70=K72,L72,L72+(L71-L72)*(K70-K72)/(K71-K72))","v":{"$error":"#N/A"}},{"$f":"IF(K70=K72,M72,M72+(M71-M72)*(K70-K72)/(K71-K72))","v":{"$error":"#N/A"}},{"$f":"IF(K70=K72,N72,N72+(N71-N72)*(K70-K72)/(K71-K72))","v":{"$error":"#N/A"}},{"$f":"IF(K70=K72,O72,O72+(O71-O72)*(K70-K72)/(K71-K72))","v":{"$error":"#N/A"}},{"$f":"IF(K70=K72,P72,P72+(P71-P72)*(K70-K72)/(K71-K72))","v":{"$error":"#N/A"}},{"$f":"IF(K70=K72,Q72,Q72+(Q71-Q72)*(K70-K72)/(K71-K72))","v":{"$error":"#N/A"}},{"$f":"D61","v":0},{"$f":"IF(R70=R72,S72,S72+(S71-S72)*(R70-R72)/(R71-R72))","v":{"$error":"#N/A"}},{"$f":"IF(R70=R72,T72,T72+(T71-T72)*(R70-R72)/(R71-R72))","v":{"$error":"#N/A"}},{"$f":"IF(R70=R72,U72,U72+(U71-U72)*(R70-R72)/(R71-R72))","v":{"$error":"#N/A"}},{"$f":"IF(R70=R72,V72,V72+(V71-V72)*(R70-R72)/(R71-R72))","v":{"$error":"#N/A"}},{"$f":"IF(R70=R72,W72,W72+(W71-W72)*(R70-R72)/(R71-R72))","v":{"$error":"#N/A"}},{"$f":"IF(R70=R72,X72,X72+(X71-X72)*(R70-R72)/(R71-R72))","v":{"$error":"#N/A"}}]
[null,300,0.8,0.77,0.99,0.89,0.72,0.89,null,null,{"$f":"CEILING(K70,100)","v":0},{"$f":"VLOOKUP(K71,$B$68:$H$80,2,TRUE)","v":{"$error":"#N/A"}},{"$f":"VLOOKUP(K71,$B$68:$H$80,3,TRUE)","v":{"$error":"#N/A"}},{"$f":"VLOOKUP(K71,$B$68:$H$80,4,TRUE)","v":{"$error":"#N/A"}},{"$f":"VLOOKUP(K71,$B$68:$H$80,5,TRUE)","v":{"$error":"#N/A"}},{"$f":"VLOOKUP(K71,$B$68:$H$80,6,TRUE)","v":{"$error":"#N/A"}},{"$f":"VLOOKUP(K71,$B$68:$H$80,7,TRUE)","v":{"$error":"#N/A"}},{"$f":"CEILING(R70,100)","v":0},{"$f":"VLOOKUP(R71,$B$68:$H$80,2,TRUE)","v":{"$error":"#N/A"}},{"$f":"VLOOKUP(R71,$B$68:$H$80,3,TRUE)","v":{"$error":"#N/A"}},{"$f":"VLOOKUP(R71,$B$68:$H$80,4,TRUE)","v":{"$error":"#N/A"}},{"$f":"VLOOKUP(R71,$B$68:$H$80,5,TRUE)","v":{"$error":"#N/A"}},{"$f":"VLOOKUP(R71,$B$68:$H$80,6,TRUE)","v":{"$error":"#N/A"}},{"$f":"VLOOKUP(R71,$B$68:$H$80,7,TRUE)","v":{"$error":"#N/A"}}]
[null,400,0.7,0.65,0.96,0.78,0.56000000000000005,0.78,null,null,{"$f":"MAX(FLOOR(K70,100),20)","v":20},{"$f":"VLOOKUP(K72,$B$68:$H$80,2,TRUE)","v":1},{"$f":"VLOOKUP(K72,$B$68:$H$80,3,TRUE)","v":1},{"$f":"VLOOKUP(K72,$B$68:$H$80,4,TRUE)","v":1},{"$f":"VLOOKUP(K72,$B$68:$H$80,5,TRUE)","v":1},{"$f":"VLOOKUP(K72,$B$68:$H$80,6,TRUE)","v":1},{"$f":"VLOOKUP(K72,$B$68:$H$80,7,TRUE)","v":1},{"$f":"MAX(FLOOR(R70,100),20)","v":20},{"$f":"VLOOKUP(R72,$B$68:$H$80,2,TRUE)","v":1},{"$f":"VLOOKUP(R72,$B$68:$H$80,3,TRUE)","v":1},{"$f":"VLOOKUP(R72,$B$68:$H$80,4,TRUE)","v":1},{"$f":"VLOOKUP(R72,$B$68:$H$80,5,TRUE)","v":1},{"$f":"VLOOKUP(R72,$B$68:$H$80,6,TRUE)","v":1},{"$f":"VLOOKUP(R72,$B$68:$H$80,7,TRUE)","v":1}]
[null,500,0.6,0.47,0.79,0.55000000000000004,0.4,0.56999999999999995,null,null,"Temp-9",null,null,null,null,null,null,"Temp-19"]
[null,600,0.31,0.27,0.48,0.27,0.24,0.3,null,null,{"$f":"D52","v":0},{"$f":"IF(K74=K76,L76,L76+(L75-L76)*(K74-K76)/(K75-K76))","v":{"$error":"#N/A"}},{"$f":"IF(K74=K76,M76,M76+(M75-M76)*(K74-K76)/(K75-K76))","v":{"$error":"#N/A"}},{"$f":"IF(K74=K76,N76,N76+(N75-N76)*(K74-K76)/(K75-K76))","v":{"$error":"#N/A"}},{"$f":"IF(K74=K76,O76,O76+(O75-O76)*(K74-K76)/(K75-K76))","v":{"$error":"#N/A"}},{"$f":"IF(K74=K76,P76,P76+(P75-P76)*(K74-K76)/(K75-K76))","v":{"$error":"#N/A"}},{"$f":"IF(K74=K76,Q76,Q76+(Q75-Q76)*(K74-K76)/(K75-K76))","v":{"$error":"#N/A"}},{"$f":"D62","v":0},{"$f":"IF(R74=R76,S76,S76+(S75-S76)*(R74-R76)/(R75-R76))","v":{"$error":"#N/A"}},{"$f":"IF(R74=R76,T76,T76+(T75-T76)*(R74-R76)/(R75-R76))","v":{"$error":"#N/A"}},{"$f":"IF(R74=R76,U76,U76+(U75-U76)*(R74-R76)/(R75-R76))","v":{"$error":"#N/A"}},{"$f":"IF(R74=R76,V76,V76+(V75-V76)*(R74-R76)/(R75-R76))","v":{"$error":"#N/A"}},{"$f":"IF(R74=R76,W76,W76+(W75-W76)*(R74-R76)/(R75-R76))","v":{"$error":"#N/A"}},{"$f":"IF(R74=R76,X76,X76+(X75-X76)*(R74-R76)/(R75-R76))","v":{"$error":"#N/A"}}]
[null,700,0.13,0.13,0.21,0.1,0.08,0.12,null,null,{"$f":"CEILING(K74,100)","v":0},{"$f":"VLOOKUP(K75,$B$68:$H$80,2,TRUE)","v":{"$error":"#N/A"}},{"$f":"VLOOKUP(K75,$B$68:$H$80,3,TRUE)","v":{"$error":"#N/A"}},{"$f":"VLOOKUP(K75,$B$68:$H$80,4,TRUE)","v":{"$error":"#N/A"}},{"$f":"VLOOKUP(K75,$B$68:$H$80,5,TRUE)","v":{"$error":"#N/A"}},{"$f":"VLOOKUP(K75,$B$68:$H$80,6,TRUE)","v":{"$error":"#N/A"}},{"$f":"VLOOKUP(K75,$B$68:$H$80,7,TRUE)","v":{"$error":"#N/A"}},{"$f":"CEILING(R74,100)","v":0},{"$f":"VLOOKUP(R75,$B$68:$H$80,2,TRUE)","v":{"$error":"#N/A"}},{"$f":"VLOOKUP(R75,$B$68:$H$80,3,TRUE)","v":{"$error":"#N/A"}},{"$f":"VLOOKUP(R75,$B$68:$H$80,4,TRUE)","v":{"$error":"#N/A"}},{"$f":"VLOOKUP(R75,$B$68:$H$80,5,TRUE)","v":{"$error":"#N/A"}},{"$f":"VLOOKUP(R75,$B$68:$H$80,6,TRUE)","v":{"$error":"#N/A"}},{"$f":"VLOOKUP(R75,$B$68:$H$80,7,TRUE)","v":{"$error":"#N/A"}}]
[null,800,0.09,0.05,0.08,0,0.06,0.05,null,null,{"$f":"MAX(FLOOR(K74,100),20)","v":20},{"$f":"VLOOKUP(K76,$B$68:$H$80,2,TRUE)","v":1},{"$f":"VLOOKUP(K76,$B$68:$H$80,3,TRUE)","v":1},{"$f":"VLOOKUP(K76,$B$68:$H$80,4,TRUE)","v":1},{"$f":"VLOOKUP(K76,$B$68:$H$80,5,TRUE)","v":1},{"$f":"VLOOKUP(K76,$B$68:$H$80,6,TRUE)","v":1},{"$f":"VLOOKUP(K76,$B$68:$H$80,7,TRUE)","v":1},{"$f":"MAX(FLOOR(R74,100),20)","v":20},{"$f":"VLOOKUP(R76,$B$68:$H$80,2,TRUE)","v":1},{"$f":"VLOOKUP(R76,$B$68:$H$80,3,TRUE)","v":1},{"$f":"VLOOKUP(R76,$B$68:$H$80,4,TRUE)","v":1},{"$f":"VLOOKUP(R76,$B$68:$H$80,5,TRUE)","v":1},{"$f":"VLOOKUP(R76,$B$68:$H$80,6,TRUE)","v":1},{"$f":"VLOOKUP(R76,$B$68:$H$80,7,TRUE)","v":1}]
[null,900,7.0000000000000007E-2,0.02,0.03,0,0.05,0.02,null,null,"Temp-10",null,null,null,null,null,null,"Temp-20"]
[null,1000,0.04,0.01,0,0,0.03,0.01,null,null,{"$f":"D53","v":0},{"$f":"IF(K78=K80,L80,L80+(L79-L80)*(K78-K80)/(K79-K80))","v":{"$error":"#N/A"}},{"$f":"IF(K78=K80,M80,M80+(M79-M80)*(K78-K80)/(K79-K80))","v":{"$error":"#N/A"}},{"$f":"IF(K78=K80,N80,N80+(N79-N80)*(K78-K80)/(K79-K80))","v":{"$error":"#N/A"}},{"$f":"IF(K78=K80,O80,O80+(O79-O80)*(K78-K80)/(K79-K80))","v":{"$error":"#N/A"}},{"$f":"IF(K78=K80,P80,P80+(P79-P80)*(K78-K80)/(K79-K80))","v":{"$error":"#N/A"}},{"$f":"IF(K78=K80,Q80,Q80+(Q79-Q80)*(K78-K80)/(K79-K80))","v":{"$error":"#N/A"}},{"$f":"D63","v":0},{"$f":"IF(R78=R80,S80,S80+(S79-S80)*(R78-R80)/(R79-R80))","v":{"$error":"#N/A"}},{"$f":"IF(R78=R80,T80,T80+(T79-T80)*(R78-R80)/(R79-R80))","v":{"$error":"#N/A"}},{"$f":"IF(R78=R80,U80,U80+(U79-U80)*(R78-R80)/(R79-R80))","v":{"$error":"#N/A"}},{"$f":"IF(R78=R80,V80,V80+(V79-V80)*(R78-R80)/(R79-R80))","v":{"$error":"#N/A"}},{"$f":"IF(R78=R80,W80,W80+(W79-W80)*(R78-R80)/(R79-R80))","v":{"$error":"#N/A"}},{"$f":"IF(R78=R80,X80,X80+(X79-X80)*(R78-R80)/(R79-R80))","v":{"$error":"#N/A"}}]
[null,1100,0.02,0.01,0,0,0.02,0,null,null,{"$f":"CEILING(K78,100)","v":0},{"$f":"VLOOKUP(K79,$B$68:$H$80,2,TRUE)","v":{"$error":"#N/A"}},{"$f":"VLOOKUP(K79,$B$68:$H$80,3,TRUE)","v":{"$error":"#N/A"}},{"$f":"VLOOKUP(K79,$B$68:$H$80,4,TRUE)","v":{"$error":"#N/A"}},{"$f":"VLOOKUP(K79,$B$68:$H$80,5,TRUE)","v":{"$error":"#N/A"}},{"$f":"VLOOKUP(K79,$B$68:$H$80,6,TRUE)","v":{"$error":"#N/A"}},{"$f":"VLOOKUP(K79,$B$68:$H$80,7,TRUE)","v":{"$error":"#N/A"}},{"$f":"CEILING(R78,100)","v":0},{"$f":"VLOOKUP(R79,$B$68:$H$80,2,TRUE)","v":{"$error":"#N/A"}},{"$f":"VLOOKUP(R79,$B$68:$H$80,3,TRUE)","v":{"$error":"#N/A"}},{"$f":"VLOOKUP(R79,$B$68:$H$80,4,TRUE)","v":{"$error":"#N/A"}},{"$f":"VLOOKUP(R79,$B$68:$H$80,5,TRUE)","v":{"$error":"#N/A"}},{"$f":"VLOOKUP(R79,$B$68:$H$80,6,TRUE)","v":{"$error":"#N/A"}},{"$f":"VLOOKUP(R79,$B$68:$H$80,7,TRUE)","v":{"$error":"#N/A"}}]
[null,1200,0,0,0,0,0,0,null,null,{"$f":"MAX(FLOOR(K78,100),20)","v":20},{"$f":"VLOOKUP(K80,$B$68:$H$80,2,TRUE)","v":1},{"$f":"VLOOKUP(K80,$B$68:$H$80,3,TRUE)","v":1},{"$f":"VLOOKUP(K80,$B$68:$H$80,4,TRUE)","v":1},{"$f":"VLOOKUP(K80,$B$68:$H$80,5,TRUE)","v":1},{"$f":"VLOOKUP(K80,$B$68:$H$80,6,TRUE)","v":1},{"$f":"VLOOKUP(K80,$B$68:$H$80,7,TRUE)","v":1},{"$f":"MAX(FLOOR(R78,100),20)","v":20},{"$f":"VLOOKUP(R80,$B$68:$H$80,2,TRUE)","v":1},{"$f":"VLOOKUP(R80,$B$68:$H$80,3,TRUE)","v":1},{"$f":"VLOOKUP(R80,$B$68:$H$80,4,TRUE)","v":1},{"$f":"VLOOKUP(R80,$B$68:$H$80,5,TRUE)","v":1},{"$f":"VLOOKUP(R80,$B$68:$H$80,6,TRUE)","v":1},{"$f":"VLOOKUP(R80,$B$68:$H$80,7,TRUE)","v":1}]
[]
[]
[]
[null,"GRAF",null,null,null,null,null,null,null,null,null,null,1,2,3,4,5,6,7,8,9,10,1,2,3,4,5,6,7,8,9,10]
[null,"x",0,{"$f":"E16","v":0.42},{"$f":"E16","v":0.42},0,0,{"$f":"E26","v":4.4560533530463034E-2},{"$f":"D85-E26","v":0.37543946646953696},{"$f":"E85-E26","v":0.37543946646953696},{"$f":"E26","v":4.4560533530463034E-2},{"$f":"E26","v":4.4560533530463034E-2},{"$f":"E29","v":0.06},{"$f":"IF(N84>$E$31,M85,M85+$E$33)","v":0.21},0.36,0.36,0.36,0.36,0.36,0.36,0.36,0.36,{"$f":"E29","v":0.06},{"$f":"IF(X84>$E$37,W85,W85+$E$39)","v":0.21},0.36,0.36,0.36,0.36,0.36,0.36,0.36,0.36,{"$f":"IF(E15>E16,E15,E16)","v":0.54}]
[null,"Opr rand",0,0,{"$f":"-E15","v":-0.54},{"$f":"-E15","v":-0.54},0]
[null,"Reduc rand",null,null,null,null,null,{"$f":"-E25","v":-4.4560533530463034E-2},{"$f":"-E25","v":-4.4560533530463034E-2},{"$f":"E86+E27","v":-0.49543946646953702},{"$f":"F86+E27","v":-0.49543946646953702},{"$f":"-E25","v":-4.4560533530463034E-2}]
[null,"Trykarm",null,null,null,null,null,null,null,null,null,null,{"$f":"-$E$32","v":-0.06},-0.06,-0.06,-0.06,-0.06,-0.06,-0.06,-0.06,-0.06,-0.06]
[null,"Trækarm",null,null,null,null,null,null,null,null,null,null,null,null,null,null,null,null,null,null,null,null,{"$f":"-$E$15+$E$38","v":-0.48000000000000004},-0.48000000000000004,-0.48000000000000004,-0.48000000000000004,-0.48000000000000004,-0.48000000000000004,-0.48000000000000004,-0.48000000000000004,-0.48000000000000004,-0.48000000000000004]
[null,"Skala",null,null,null,null,null,null,null,null,null,null,null,null,null,null,null,null,null,null,null,null,null,null,null,null,null,null,null,null,null,null,{"$f":"IF(E15>E16,-E15,-E16)","v":-0.54}]
[]
[null,"Betontype",{"$f":"Makro!A3","v":2}]
[null,"Reduktionsparametre, beton",null,null,null,null,"Betontype,  fc,t/fck"]
[null,"q","fc,t/fck","ec1","ecu1,t","Indeks",1,2]
[null,20,{"$f":"IF($C$92=1,G95,H95)","v":1},2.5000000000000001E-3,0.02,1,1,1]
[null,100,{"$f":"IF($C$92=1,G96,H96)","v":1},4.0000000000000001E-3,2.2499999999999999E-2,2,1,1]
[null,200,1,5.4999999999999997E-3,2.5000000000000001E-2,3,0.95,1]
[null,300,0.93333330000000003,7.0000000000000001E-3,2.75E-2,4,0.85,{"$f":"H97-0.0666667","v":0.93333330000000003}]
[null,400,0.86666660000000006,0.01,0.03,5,0.75,{"$f":"H98-0.0666667","v":0.86666660000000006}]
[null,500,0.8,1.4999999999999999E-2,3.2500000000000001E-2,6,0.6,0.8]
[null,600,0.60000000000000009,2.5000000000000001E-2,3.5000000000000003E-2,7,0.45,{"$f":"H100-0.2","v":0.60000000000000009}]
[null,700,0.40000000000000008,2.5000000000000001E-2,3.7499999999999999E-2,8,0.3,{"$f":"H101-0.2","v":0.40000000000000008}]
[null,800,0.20000000000000007,2.5000000000000001E-2,0.04,9,0.15,{"$f":"H102-0.2","v":0.20000000000000007}]
[null,900,0,2.5000000000000001E-2,4.2500000000000003E-2,10,0.08,0]
[null,1000,0,2.5000000000000001E-2,4.4999999999999998E-2,11,0.04,0]
[null,1100,2.0426489726352815E-3,2.5000000000000001E-2,4.7500000000000001E-2,12,0.01,{"$f":"0+(1-0)/(1+(B106/100000)+(B106/1080)^2+(B106/690)^8+(B106/1000)^64)","v":2.0426489726352815E-3}]
[null,1200,8.5522613031592085E-6,null,null,13,0,{"$f":"0+(1-0)/(1+(B107/100000)+(B107/1080)^2+(B107/690)^8+(B107/1000)^64)","v":8.5522613031592085E-6}]

{"sheet":"Ark1","index":3,"n_rows":973,"n_cols":54,"rows_kept":973,"cut":false,"hidden":false,"merged":[[3,18,3,20]]}
[]
[null,"Tilstand:",{"$f":"Kold!$AO$5","v":1}]
[]
[null,"L","h","b","fck","fcd","Ecd","Ac","ac","Esc","fyd_c","At","at","Est","fyd_t","Modenhed","1+f","uterm","Iterationstyring",null,null,"Iterationsfakt."]
[null,"(m)","(m)","(m)","(Mpa)","(Mpa)","(Mpa)","(m2)","(m)","(Mpa)","(Mpa)","(m2)","(m)","(Mpa)","(Mpa)","(døgn)",null,"(m)","Ncr-korr","hc-step","e-skift"]
[null,{"$f":"Kold!$N$11/1000","v":6},{"$f":"IF(Kold!$AO$5=1,Kold!$N$12/1000,Brand!$AX$21)","v":0.54},{"$f":"IF(Kold!$AO$5=1,Kold!$N$13/1000,Brand!$AX$22)","v":0.42},{"$f":"IF(Kold!$AO$5=1,Kold!$N$7,Brand!$AX$14)","v":40},{"$f":"IF(Kold!$AO$5=1,Kold!$Q$8,Brand!$AX$14)","v":28.571428571428573},{"$f":"1000*22*((E6+8)/10)^0.3/IF(C2=1,Kold!N9,Brand!N9)","v":25157.473063524587},{"$f":"Kold!$AP$40/1000000","v":6.0318578948924026E-4},{"$f":"IF(Kold!$AO$5=1,Kold!$N$14/1000,Brand!$AX$23)","v":0.06},{"$f":"IF(Kold!$AO$5=1,200000,Brand!$AX$12)","v":200000},{"$f":"IF(Kold!$AO$5=1,Kold!$Q$9,Brand!$AX$19)","v":458.33333333333337},{"$f":"Kold!$AP$41/1000000","v":6.0318578948924026E-4},{"$f":"IF(Kold!$AO$5=1,Kold!$N$14/1000,Brand!$AX$24)","v":0.06},{"$f":"IF(Kold!$AO$5=1,200000,Brand!$AX$13)","v":200000},{"$f":"IF(Kold!$AO$5=1,Kold!$Q$9,Brand!$AX$20)","v":458.33333333333337},null,{"$f":"IF(Kold!$AO$5=1,Kold!$Q$16,IF(OR(Makro!$H$2=10,Brand!AR61=1),Brand!$Q$14,0))+1","v":2.5846890928226758},{"$f":"IF(Kold!$AO$5=1,0,Brand!AT$11)","v":0},{"$f":"MIN(1,15*C6/B6)","v":1},0.15,-0.1,{"$f":"MAX(1,IF(C2=1,0.05,0.08)*B6/C6)","v":1},null,null,"Checkpunkt",18]
[]
[]
[null,null,null,null,null,null,null,null,null,null,null,null,"N","M","hc","e0","sac","sat",null,null,"hc_0","1/hc_0",null,null,"Test-fakt","hc","e0","a'","b'","N'","tN'","t","Nc","sac","Nac","sat","Nat","Mtot","u","N","Mo","x"]
[null,null,null,null,null,null,null,null,null,null,null,{"$f":"IF($Z$6=29-ROW(),1,0)","v":0},{"$f":"Q955","v":1.0000000000010001E-4},{"$f":"R955","v":0.11972425269907729},{"$f":"C955","v":0.12945607170440351},{"$f":"D955","v":3.2742931933764949E-4},{"$f":"K955","v":90.812088468865227},{"$f":"M955","v":458.32747875640376},1,null,{"$f":"Y70","v":0.12945607170440351},{"$f":"1/U10","v":7.7246280289067704},null,null,0.5,{"$f":"$Z$15","v":0.15398187908114286},{"$f":"Y10*$AA$15","v":2.2869837564257146E-4},{"$f":"IF($C$2=1,AA10/($O$31*$O$30),2^(1/3)*$O$30/AA10)","v":4.5790256154214816E-2},{"$f":"IF($C$2=1,-($O$31-2)*AA10/$O$30,3*($O$30/AA10)^2)","v":-1.4646866553126615E-2},{"$f":"IF($C$2=1,0.5*($O$31*AA10*$F$6/$O$30)*(1-AP10^2+(AB10-AC10)*(AC10^2*(1-AP10^2)+2*AC10*(1-AP10)+2*LN((1-AC10)/(1-AC10*AP10)))/(AC10^3)),$F$6*AC10*(LN((1-AB10+AB10^2)/(1+AB10)^2)/(6*AB10)+ATAN((2-AB10)/(AB10*3^0.5))/(AB10*3^0.5)-LN((AP10^2-AB10*AP10+AB10^2)/(AP10+AB10)^2)/(6*AB10)-ATAN((2*AP10-AB10)/(AB10*3^0.5))/(AB10*3^0.5)))","v":2.9001917155909847},{"$f":"IF($C$2=1,($O$31*AA10*$F$6/$O$30)*(1-AP10^3-(AB10-AC10)*(-2*AC10^3*(1-AP10^3)-3*AC10^2*(1-AP10^2)-6*AC10*(1-AP10)-6*LN((1-AC10)/(1-AC10*AP10)))/(2*AC10^4))/3,$F$6*AC10*(LN((1+AB10^3)/(AB10^3+AP10^3)))/3)","v":1.9234948934949003},{"$f":"AE10/AD10","v":0.66323025583256712},{"$f":"AD10*Z10*$D$6","v":0.18756232742615056},{"$f":"MAX(MIN($K$6,$Q$6*$J$6*AA10*(Z10-$I$6)/Z10),-$K$6)","v":72.156572349488869},{"$f":"AH10*$H$6","v":4.3523819059463925E-2},{"$f":"MIN($O$6,$Q$6*$N$6*AA10*(C$6-Z10-$M$6)/Z10)","v":250.30729710155376},{"$f":"AJ10*$L$6","v":0.15098180461711852},{"$f":"(0.5*$C$6-Z10+AF10*Z10)*AG10+(0.5*$C$6-$I$6)*AI10+(0.5*$C$6-$M$6)*AK10","v":8.1761695169223367E-2},{"$f":"0.1*$Q$6*AA10*$B$6^2/Z10+$R$6","v":1.3819880119330394E-2},{"$f":"AG10+AI10-AK10","v":8.0104341868495965E-2},{"$f":"AL10-AM10*AN10","v":8.065466276756289E-2},{"$f":"IF(Z10<$C$6,0,(Z10-$C$6)/Z10)","v":0}]
[null,null,null,null,null,null,null,null,null,null,null,1,{"$f":"Q956","v":0.17047542052121939},{"$f":"R956","v":0.14993221347010191},{"$f":"C956","v":0.15398187908114286},{"$f":"D956","v":4.5739675128514293E-4},{"$f":"K956","v":144.31314469897774},{"$f":"M956","v":458.33333333333337},2,null,{"$f":"Y72","v":0.15398187908114286},{"$f":"1/U11","v":6.494270663322899},null,null,0.6,{"$f":"$Z$15","v":0.15398187908114286},{"$f":"Y11*$AA$15","v":2.7443805077108574E-4},5.4948307385057772E-2,-1.7576239863751938E-2,{"$f":"IF($C$2=1,0.5*($O$31*AA11*$F$6/$O$30)*(1-AP11^2+(AB11-AC11)*(AC11^2*(1-AP11^2)+2*AC11*(1-AP11)+2*LN((1-AC11)/(1-AC11*AP11)))/(AC11^3)),$F$6*AC11*(LN((1-AB11+AB11^2)/(1+AB11)^2)/(6*AB11)+ATAN((2-AB11)/(AB11*3^0.5))/(AB11*3^0.5)-LN((AP11^2-AB11*AP11+AB11^2)/(AP11+AB11)^2)/(6*AB11)-ATAN((2*AP11-AB11)/(AB11*3^0.5))/(AB11*3^0.5)))","v":3.4517137504362845},{"$f":"IF($C$2=1,($O$31*AA11*$F$6/$O$30)*(1-AP11^3-(AB11-AC11)*(-2*AC11^3*(1-AP11^3)-3*AC11^2*(1-AP11^2)-6*AC11*(1-AP11)-6*LN((1-AC11)/(1-AC11*AP11)))/(2*AC11^4))/3,$F$6*AC11*(LN((1+AB11^3)/(AB11^3+AP11^3)))/3)","v":2.2868408225679975},0.66252331100136819,0.2232305751238072,86.58788681938664,5.2228582871356712E-2,300.3687565218645,0.18117816554054222,9.768742982352896E-2,{"$f":"0.1*$Q$6*AA11*$B$6^2/Z11+$R$6","v":1.6583856143196476E-2},9.4280992454621682E-2,9.6123887407623718E-2,0]
[null,null,null,null,null,null,null,null,null,null,null,0,{"$f":"IF(ISERROR(Q957),M11,IF(AND(N11/M11>0.01,Q957>1.02*M11),Q957,M11))","v":0.3164362128954622},{"$f":"IF(ISERROR(Q957),N11,IF(AND(N11/M11>0.01,Q957>1.02*M11,ISNUMBER(Q957)),R957,N11))","v":0.17351047945057924},{"$f":"IF(AND(N11/M11>0.007,Q957>M11),C957,O11)","v":0.17394964462770141},{"$f":"IF(AND(N11/M11>0.007,Q957>M11),D957,P11)","v":5.4994191131377409E-4},{"$f":"IF(AND(N11/M11>0.007,Q957>M11),K957,Q11)","v":186.22781758609173},{"$f":"IF(AND(N11/M11>0.007,Q957>M11),M957,R11)","v":458.33333333333337},3,null,{"$f":"Y74","v":0.17394964462770141},{"$f":"1/U12","v":5.7487901291219448},null,null,0.7,{"$f":"$Z$15","v":0.15398187908114286},{"$f":"Y12*$AA$15","v":3.2017772589960003E-4},6.4106358615900735E-2,-2.0505613174377258E-2,3.9938739500938443,2.6431837469890334,0.66180950626319246,0.25829337057244417,101.0192012892844,6.0933346683249484E-2,350.43021594217521,0.2113745264639659,0.1134731824920312,1.934783216706255E-2,0.10785219079172773,0.11138647640574284,0]
[null,null,null,null,null,null,null,null,null,null,null,0,{"$f":"IF(ISERROR(Q958),M12,IF(AND(N12/M12>0.01,Q958>1.02*M12),Q958,M12))","v":0.47021947046681456},{"$f":"IF(ISERROR(Q958),N12,IF(AND(N12/M12>0.01,Q958>1.02*M12,ISNUMBER(Q958)),R958,N12))","v":0.19669678299193105},{"$f":"IF(AND(N12/M12>0.007,Q958>M12),C958,O12)","v":0.19020714713826217},{"$f":"IF(AND(N12/M12>0.007,Q958>M12),D958,P12)","v":6.4833572344321494E-4},{"$f":"IF(AND(N12/M12>0.007,Q958>M12),K958,Q12)","v":229.42791036080226},{"$f":"IF(AND(N12/M12>0.007,Q958>M12),M958,R12)","v":458.33333333333337},4,null,{"$f":"Y76","v":0.19020714713826217},{"$f":"1/U13^(1/3)","v":1.738832395430673},null,null,0.8,{"$f":"$Z$15","v":0.15398187908114286},{"$f":"Y13*$AA$15","v":3.6591740102811436E-4},7.3264409846743705E-2,-2.3434986485002588E-2,4.5267327279960616,2.9925718773304784,0.66108870506592943,0.29275462085307541,115.4505157591822,6.9638110495142291E-2,400.49167536248609,0.24157088738738969,0.12911988656593626,2.2111808190928634E-2,0.12082184396082801,0.12644829712700012,0]
[null,null,null,null,null,null,null,null,null,null,null,0,0.7401575350882833,0.23365973616129712,0.20976979172988638,8.317346547287057E-4,306.97597092325702,458.33333333333337,5,null,{"$f":"1/V14^3","v":0.20976979172988638},{"$f":"V13+($V$28-$V$13)/15","v":1.6830060777704055},null,null,0.9,{"$f":"$Z$15","v":0.15398187908114286},{"$f":"Y14*$AA$15","v":4.1165707615662864E-4},8.2422461077586662E-2,-2.6364359795627904E-2,5.0503499448096036,3.3350529635439474,0.66036076707347413,0.32661819729803415,129.88183022907995,7.8342874307035057E-2,450.55313478279675,0.27176724831081334,0.14462846670191973,2.4875784214794711E-2,0.13319382329425589,0.14131516589490833,0]
[null,null,null,null,null,null,null,null,null,null,null,0,1.0347016556980968,0.26872442002423014,0.23210975825278549,1.0081012683895029E-3,386.41552107443147,458.33333333333337,6,null,{"$f":"1/V15^3","v":0.23210975825278549},{"$f":"V14+($V$28-$V$13)/15","v":1.6271797601101379},null,null,1,{"$f":"SUMPRODUCT(L10:L28,O10:O28)","v":0.15398187908114286},{"$f":"SUMPRODUCT(L10:L28,P10:P28)","v":4.5739675128514293E-4},9.1580512308429632E-2,-2.9293733106253231E-2,5.5647849150413204,3.670674299885849,0.65962554814368657,0.35988793591819335,144.31314469897774,8.704763811892785E-2,458.33333333333337,0.27646015351590181,0.1546441132198933,2.7639760238660788E-2,0.17047542052121939,0.14993221347010191,0]
[null,null,null,null,null,null,null,null,null,null,null,0,1.3922713572708783,0.3035794013999768,0.25773794179237436,1.2225765494064118E-3,458.33333333333337,458.33333333333337,7,null,0.25773794179237436,1.5713534424498703,null,null,{"$f":"MIN(1.1,$O$6/ABS($AJ$15))","v":1},{"$f":"$Z$15","v":0.15398187908114286},{"$f":"Y16*$AA$15","v":4.5739675128514293E-4},9.1580512308429632E-2,-2.9293733106253231E-2,5.5647849150413204,3.670674299885849,0.65962554814368657,0.35988793591819335,144.31314469897774,8.704763811892785E-2,458.33333333333337,0.27646015351590181,0.1546441132198933,2.7639760238660788E-2,0.17047542052121939,0.14993221347010191,0]
[null,null,null,null,null,null,null,null,null,null,null,0,1.8447793111921365,0.33027919574682274,0.28728229315396503,1.5532805370088755E-3,458.33333333333337,458.33333333333337,8,null,0.28728229315396503,1.5155271247896027,null,null,{"$f":"MIN(1.2,$O$6/ABS($AJ$15))","v":1},{"$f":"$Z$15","v":0.15398187908114286},{"$f":"Y17*$AA$15","v":4.5739675128514293E-4},9.1580512308429632E-2,-2.9293733106253231E-2,5.5647849150413204,3.670674299885849,0.65962554814368657,0.35988793591819335,144.31314469897774,8.704763811892785E-2,458.33333333333337,0.27646015351590181,0.1546441132198933,2.7639760238660788E-2,0.17047542052121939,0.14993221347010191,0]
[null,null,null,null,null,null,null,null,null,null,null,0,2.4013333050596817,0.34160090469493976,0.32152034227515802,1.9733666059115963E-3,458.33333333333337,458.33333333333337,9,null,0.32152034227515802,1.4597008071293351,null,null,{"$f":"MIN(1.3,$O$6/ABS($AJ$15))","v":1},{"$f":"$Z$15","v":0.15398187908114286},{"$f":"Y18*$AA$15","v":4.5739675128514293E-4},9.1580512308429632E-2,-2.9293733106253231E-2,5.5647849150413204,3.670674299885849,0.65962554814368657,0.35988793591819335,144.31314469897774,8.704763811892785E-2,458.33333333333337,0.27646015351590181,0.1546441132198933,2.7639760238660788E-2,0.17047542052121939,0.14993221347010191,0]
[null,null,null,null,null,null,null,null,null,null,null,0,2.9908824557713487,0.3203077294277713,0.36142247287457469,2.3445454838367072E-3,458.33333333333337,397.63463384304356,10,null,0.36142247287457469,1.4038744894690676,null,null,{"$f":"MIN(1.5,$O$6/ABS($AJ$15))","v":1},{"$f":"$Z$15","v":0.15398187908114286},{"$f":"Y19*$AA$15","v":4.5739675128514293E-4},9.1580512308429632E-2,-2.9293733106253231E-2,5.5647849150413204,3.670674299885849,0.65962554814368657,0.35988793591819335,144.31314469897774,8.704763811892785E-2,458.33333333333337,0.27646015351590181,0.1546441132198933,2.7639760238660788E-2,0.17047542052121939,0.14993221347010191,0]
[null,null,null,null,null,null,null,null,null,null,null,0,3.5057265706422482,0.28060371324305455,0.40821011767341625,2.3796898034895218E-3,458.33333333333337,216.34065104151506,11,null,0.40821011767341625,1.3480481718088,null,null,{"$f":"MIN(2,$O$6/ABS($AJ$15))","v":1},{"$f":"$Z$15","v":0.15398187908114286},{"$f":"Y20*$AA$15","v":4.5739675128514293E-4},9.1580512308429632E-2,-2.9293733106253231E-2,5.5647849150413204,3.670674299885849,0.65962554814368657,0.35988793591819335,144.31314469897774,8.704763811892785E-2,458.33333333333337,0.27646015351590181,0.1546441132198933,2.7639760238660788E-2,0.17047542052121939,0.14993221347010191,0]
[null,null,null,null,null,null,null,null,null,null,null,0,4.0783575099945191,0.22486151456318773,0.46343492031952305,2.3994489083901563E-3,458.33333333333337,44.335803816560166,12,null,0.46343492031952305,1.2922218541485324]
[null,null,null,null,null,null,null,null,null,null,null,0,4.6849730488693968,0.14825150726227698,0.52908775969114819,2.3625267353352903E-3,458.33333333333337,-113.30798989905054,13,null,0.52908775969114819,1.2363955364882648]
[null,null,null,null,null,null,null,null,null,null,null,0,5.1932025702185536,7.4743440098927388E-2,0.60775093154630122,2.2403171511680316E-3,458.33333333333337,-243.43681201224064,14,null,0.60775093154630122,1.1805692188279973,null,null,"Lastpunkter","hc","e0","a'","b'","N'","tN'","t","Nc","sac","Nac","sat","Nat","Mtot","u","N","Mo","x"]
[null,null,null,null,null,null,null,null,null,null,null,0,5.5019635636187143,3.5739726210757272E-2,0.70281369836511054,2.0897030912682734E-3,458.33333333333337,-342.47159833541008,15,null,0.70281369836511054,1.1247429011677297,null,null,{"$f":"MAX(IF(Kold!AO5=1,Kold!BE12,Brand!BB34)/1000,M10)","v":1.3314600000000001},{"$f":"Z25+(Z28-Z27)*(Y24-AN25)/(Y28-Y27)","v":0.25290421059977114},{"$f":"AA25+(AA28-AA27)*(Y24-AN25)/(Y28-Y27)","v":1.1821243708783344E-3},{"$f":"IF($C$2=1,AA24/($O$31*$O$30),2^(1/3)*$O$30/AA24)","v":0.23668632361979436},{"$f":"IF($C$2=1,-($O$31-2)*AA24/$O$30,3*($O$30/AA24)^2)","v":-7.5708530333044893E-2},{"$f":"IF($C$2=1,0.5*($O$31*AA24*$F$6/$O$30)*(1-AP24^2+(AB24-AC24)*(AC24^2*(1-AP24^2)+2*AC24*(1-AP24)+2*LN((1-AC24)/(1-AC24*AP24)))/(AC24^3)),$F$6*AC24*(LN((1-AB24+AB24^2)/(1+AB24)^2)/(6*AB24)+ATAN((2-AB24)/(AB24*3^0.5))/(AB24*3^0.5)-LN((AP24^2-AB24*AP24+AB24^2)/(AP24+AB24)^2)/(6*AB24)-ATAN((2*AP24-AB24)/(AB24*3^0.5))/(AB24*3^0.5)))","v":12.535587697022034},{"$f":"IF($C$2=1,($O$31*AA24*$F$6/$O$30)*(1-AP24^3-(AB24-AC24)*(-2*AC24^3*(1-AP24^3)-3*AC24^2*(1-AP24^2)-6*AC24*(1-AP24)-6*LN((1-AC24)/(1-AC24*AP24)))/(2*AC24^4))/3,$F$6*AC24*(LN((1+AB24^3)/(AB24^3+AP24^3)))/3)","v":8.108968062154398},{"$f":"AE24/AD24","v":0.64687577943240526},{"$f":"AD24*Z24*$D$6","v":1.3315272225862154},{"$f":"MAX(MIN($K$6,$Q$6*$J$6*AA24*(Z24-$I$6)/Z24),-$K$6)","v":458.33333333333337},{"$f":"AH24*$H$6","v":0.27646015351590181},{"$f":"MIN($O$6,$Q$6*$N$6*AA24*(C$6-Z24-$M$6)/Z24)","v":458.33333333333337},{"$f":"AJ24*$L$6","v":0.27646015351590181},{"$f":"(0.5*$C$6-Z24+AF24*Z24)*AG24+(0.5*$C$6-$I$6)*AI24+(0.5*$C$6-$M$6)*AK24","v":0.3567114425273199},{"$f":"0.1*$Q$6*AA24*$B$6^2/Z24+$R$6","v":4.3492855488182637E-2},{"$f":"AG24+AI24-AK24","v":1.3315272225862151},{"$f":"AL24-AM24*AN24","v":0.29879952145679645},{"$f":"IF(Z24<$C$6,0,(Z24-$C$6)/Z24)","v":0}]
[null,null,null,null,null,null,null,null,null,null,null,0,5.5019635636187143,3.5739726210757272E-2,0.70281369836511054,2.0897030912682734E-3,458.33333333333337,-342.47159833541008,16,null,0.81878250652390949,1.0689165835074621,null,null,1,{"$f":"Z27+(Z28-Z27)*(Y24*Y24/AN26-Y27)/(Y28-Y27)","v":0.25295054122008204},{"$f":"AA27+(AA28-AA27)*(Y24*Y24/AN26-Y27)/(Y28-Y27)","v":1.1825120992085738E-3},0.23676395503938807,-7.5733362188959596E-2,12.538743438437795,8.1109160962595546,0.64686833541831334,1.3321064143684889,458.33333333333337,0.27646015351590181,458.33333333333337,0.27646015351590181,0.35679179646618331,4.3499152034885372E-2,1.3321064143684889,0.29884629702092241,0]
[null,null,null,null,null,null,null,null,null,null,null,0,5.5019635636187143,3.5739726210757272E-2,0.70281369836511054,2.0897030912682734E-3,458.33333333333337,-342.47159833541008,17,null,0.9617353344904862,1.0130902658471945,null,null,{"$f":"VLOOKUP(Y24,Result,7)","v":6},{"$f":"Z27+(Z28-Z27)*(Y24-Y27)/(Y28-Y27)","v":0.25337939402231852},{"$f":"AA27+(AA28-AA27)*(Y24-Y27)/(Y28-Y27)","v":1.1861010513921134E-3},0.23748253924160537,-7.5963214734042883E-2,12.567925943649678,8.1289269052055211,0.64679939567219569,1.3374704530821189,458.33333333333337,0.27646015351590181,458.33333333333337,0.27646015351590181,0.35753503363673544,4.3557325821432805E-2,1.3374704530821186,0.29927839733529826,0]
[null,null,null,null,null,null,null,null,null,null,null,0,5.5019635636187143,3.5739726210757272E-2,0.70281369836511054,2.0897030912682734E-3,458.33333333333337,-342.47159833541008,18,null,1.1400001031491622,0.95726394818692706,null,null,{"$f":"INDEX(Result,Y26,1)","v":1.0347016556980968},{"$f":"INDEX(Result,Y26,3)","v":0.23210975825278549},{"$f":"INDEX(Result,Y26,4)","v":1.0081012683895029E-3},0.20184321458010143,-6.45633127417376E-2,11.058822488807907,7.1898253430757819,0.6501438421994975,1.0780814580638216,386.41552107443147,0.23308035115017711,458.33333333333337,0.27646015351590181,0.31053986444200971,4.0413044849693741E-2,1.0347016556980968,0.26872442002423014,0]
[null,null,null,null,null,null,null,null,null,null,null,0,5.5019635636187143,3.5739726210757272E-2,0.70281369836511054,2.0897030912682734E-3,458.33333333333337,-342.47159833541008,19,null,{"$f":"Y101","v":1.3651895295975189},{"$f":"1/U28^(1/3)","v":0.9014376305266607},null,null,{"$f":"INDEX(Result,Y26+1,1)","v":1.3922713572708783},{"$f":"INDEX(Result,Y26+1,3)","v":0.25773794179237436},{"$f":"INDEX(Result,Y26+1,4)","v":1.2225765494064118E-3},0.24478570609941303,-7.8299268719442566E-2,12.861636823717271,8.3098405789015377,0.64609510381897306,1.3922713572708783,458.33333333333337,0.27646015351590181,458.33333333333337,0.27646015351590181,0.36503088957399682,4.4137579828171451E-2,1.3922713572708783,0.3035794013999768,0]
[null,null,null,null,null,null,null,null,null,null,null,null,"   emax",null,{"$f":"IF(C2=1,0.0028,firsidig!G21)","v":2.8E-3}," Konv.krit:",{"$f":"IF(Y100<0.6*C6,1.003,1.001)","v":1.0009999999999999},null,null,null,"N_max",{"$f":"AP101","v":5.7703192583658467},null,null,{"$f":"MAX(IF(Kold!AO5=1,Kold!BF12,Brand!BC34)/1000,M10)","v":1.3314600000000001},{"$f":"Z30+(Z33-Z32)*(Y29-AN30)/(Y33-Y32)","v":0.25290421059977114},{"$f":"AA30+(AA33-AA32)*(Y29-AN30)/(Y33-Y32)","v":1.1821243708783344E-3},0.23668632361979436,-7.5708530333044893E-2,12.535587697022034,8.108968062154398,0.64687577943240526,1.3315272225862154,458.33333333333337,0.27646015351590181,458.33333333333337,0.27646015351590181,0.3567114425273199,4.3492855488182637E-2,1.3315272225862151,0.29879952145679645,0]
[null,null,null,null,null,null,null,null,null,null,null,null,"e1",null,{"$f":"IF(C2=1,0.7*(E6+8)^0.31/1000,firsidig!F21)","v":2.3242499142093389E-3}," Vælg checkpunkt:",null,null,null,null,"e",{"$f":"Z101","v":1.7141343117293875E-3},null,null,1,{"$f":"Z32+(Z33-Z32)*(Y29*Y29/AN31-Y32)/(Y33-Y32)","v":0.25295054122008204},{"$f":"AA32+(AA33-AA32)*(Y29*Y29/AN31-Y32)/(Y33-Y32)","v":1.1825120992085738E-3},0.23676395503938807,-7.5733362188959596E-2,12.538743438437795,8.1109160962595546,0.64686833541831334,1.3321064143684889,458.33333333333337,0.27646015351590181,458.33333333333337,0.27646015351590181,0.35679179646618331,4.3499152034885372E-2,1.3321064143684889,0.29884629702092241,0]
[null,null,null,null,null,null,null,null,null,null,null,null,"k",null,{"$f":"1.05*G6*O30/F6","v":2.1488553569035633}," Stepmax:",{"$f":"IF(Y100<0.6*C6,0.025,0.06)*0.5*(0.0024+O30)/(0.0024*V6)","v":5.9053123927616732E-2},null,null,null,null,null,null,null,{"$f":"VLOOKUP(Y29,Result,7)","v":6},{"$f":"Z32+(Z33-Z32)*(Y29-Y32)/(Y33-Y32)","v":0.25337939402231852},{"$f":"AA32+(AA33-AA32)*(Y29-Y32)/(Y33-Y32)","v":1.1861010513921134E-3},0.23748253924160537,-7.5963214734042883E-2,12.567925943649678,8.1289269052055211,0.64679939567219569,1.3374704530821189,458.33333333333337,0.27646015351590181,458.33333333333337,0.27646015351590181,0.35753503363673544,4.3557325821432805E-2,1.3374704530821186,0.29927839733529826,0]
[null,null,null,null,null,null,null,null,null,null,null,null,null,null,null,null,null,null,null,null,null,null,null,null,{"$f":"INDEX(Result,Y31,1)","v":1.0347016556980968},{"$f":"INDEX(Result,Y31,3)","v":0.23210975825278549},{"$f":"INDEX(Result,Y31,4)","v":1.0081012683895029E-3},0.20184321458010143,-6.45633127417376E-2,11.058822488807907,7.1898253430757819,0.6501438421994975,1.0780814580638216,386.41552107443147,0.23308035115017711,458.33333333333337,0.27646015351590181,0.31053986444200971,4.0413044849693741E-2,1.0347016556980968,0.26872442002423014,0]
[null,null,null,null,null,null,null,null,null,null,null,null,null,null,null,null,null,null,null,null,null,null,null,null,{"$f":"INDEX(Result,Y31+1,1)","v":1.3922713572708783},{"$f":"INDEX(Result,Y31+1,3)","v":0.25773794179237436},{"$f":"INDEX(Result,Y31+1,4)","v":1.2225765494064118E-3},0.24478570609941303,-7.8299268719442566E-2,12.861636823717271,8.3098405789015377,{"$f":"AE33/AD33","v":0.64609510381897306},{"$f":"AD33*Z33*$D$6","v":1.3922713572708783},458.33333333333337,0.27646015351590181,458.33333333333337,0.27646015351590181,{"$f":"(0.5*$C$6-Z33+AF33*Z33)*AG33+(0.5*$C$6-$I$6)*AI33+(0.5*$C$6-$M$6)*AK33","v":0.36503088957399682},{"$f":"0.1*$Q$6*AA33*$B$6^2/Z33+$R$6","v":4.4137579828171451E-2},{"$f":"AG33+AI33-AK33","v":1.3922713572708783},{"$f":"AL33-AM33*AN33","v":0.3035794013999768},0]
[null,"hc/hcm","hc","e0","a'","b'","N'","tN'","t","Nc","sac","Nac","sat","Nat","Mtot","u","N","Mo","a''","b''","c''",null,"x",null,{"$f":"MAX(IF(Kold!$AO$5=1,Kold!$BG$12,Brand!$BD$34)/1000,$M$10)","v":1.3314600000000001},{"$f":"Z35+(Z38-Z37)*(Y34-AN35)/(Y38-Y37)","v":0.25290421059977114},{"$f":"AA35+(AA38-AA37)*(Y34-AN35)/(Y38-Y37)","v":1.1821243708783344E-3},0.23668632361979436,-7.5708530333044893E-2,12.535587697022034,8.108968062154398,0.64687577943240526,1.3315272225862154,458.33333333333337,0.27646015351590181,458.33333333333337,0.27646015351590181,0.3567114425273199,4.3492855488182637E-2,1.3315272225862151,0.29879952145679645,0]
[null,{"$f":"C35/$Y$100","v":8.8897743978849669E-2},{"$f":"U10","v":0.12945607170440351},{"$f":"Z70","v":3.2742931933764949E-4},{"$f":"IF($C$2=1,D35/($O$31*$O$30),2^(1/3)*$O$30/D35)","v":6.555828113227867E-2},{"$f":"IF($C$2=1,-($O$31-2)*D35/$O$30,3*($O$30/D35)^2)","v":-2.097003764213403E-2},{"$f":"IF($C$2=1,0.5*($O$31*D35*$F$6/$O$30)*(1-W35^2+(E35-F35)*(F35^2*(1-W35^2)+2*F35*(1-W35)+2*LN((1-F35)/(1-F35*W35)))/(F35^3)),$F$6*F35*(LN((1-E35+E35^2)/(1+E35)^2)/(6*E35)+ATAN((2-E35)/(E35*3^0.5))/(E35*3^0.5)-LN((W35^2-E35*W35+E35^2)/(W35+E35)^2)/(6*E35)-ATAN((2*W35-E35)/(E35*3^0.5))/(E35*3^0.5)))","v":4.0789725576609177},{"$f":"IF($C$2=1,($O$31*D35*$F$6/$O$30)*(1-W35^3-(E35-F35)*(-2*F35^3*(1-W35^3)-3*F35^2*(1-W35^2)-6*F35*(1-W35)-6*LN((1-F35)/(1-F35*W35)))/(2*F35^4))/3,$F$6*F35*(LN((1+E35^3)/(E35^3+W35^3)))/3)","v":2.6990386030010254},{"$f":"H35/G35","v":0.66169570028899294},{"$f":"G35*C35*$D$6","v":0.22178006084003529},{"$f":"MAX(MIN($K$6,$Q$6*$J$6*D35*(C35-$I$6)/C35),-$K$6)","v":90.812088468865227},{"$f":"K35*$H$6","v":5.4776561278259202E-2},{"$f":"MIN($O$6,$Q$6*$N$6*D35*(C$6-C35-$M$6)/C35)","v":458.32747875640376},{"$f":"M35*$L$6","v":0.27645662211829442},{"$f":"(0.5*$C$6-C35+I35*C35)*J35+(0.5*$C$6-$I$6)*L35+(0.5*$C$6-$M$6)*N35","v":0.11972660615436539},{"$f":"0.1*$Q$6*D35*$B$6^2/C35+$R$6","v":2.3534552881082957E-2},{"$f":"(J35+L35-N35)","v":1.0000000000010001E-4},{"$f":"O35-P35*Q35","v":0.11972425269907729},null,null,null,null,{"$f":"IF(C35<$C$6,0,(C35-$C$6)/C35)","v":0},null,1,{"$f":"Z37+(Z38-Z37)*(Y34*Y34/AN36-Y37)/(Y38-Y37)","v":0.25295054122008204},{"$f":"AA37+(AA38-AA37)*(Y34*Y34/AN36-Y37)/(Y38-Y37)","v":1.1825120992085738E-3},0.23676395503938807,-7.5733362188959596E-2,12.538743438437795,8.1109160962595546,0.64686833541831334,1.3321064143684889,458.33333333333337,0.27646015351590181,458.33333333333337,0.27646015351590181,0.35679179646618331,4.3499152034885372E-2,1.3321064143684889,0.29884629702092241,0]
[null,0.10573966507491359,{"$f":"U11","v":0.15398187908114286},{"$f":"Z72","v":4.5495434444117093E-4},9.1091490754585822E-2,{"$f":"IF($C$2=1,-($O$31-2)*D36/$O$30,3*($O$30/D36)^2)","v":-2.9137310451253656E-2},{"$f":"IF($C$2=1,0.5*($O$31*D36*$F$6/$O$30)*(1-W36^2+(E36-F36)*(F36^2*(1-W36^2)+2*F36*(1-W36)+2*LN((1-F36)/(1-F36*W36)))/(F36^3)),$F$6*F36*(LN((1-E36+E36^2)/(1+E36)^2)/(6*E36)+ATAN((2-E36)/(E36*3^0.5))/(E36*3^0.5)-LN((W36^2-E36*W36+E36^2)/(W36+E36)^2)/(6*E36)-ATAN((2*W36-E36)/(E36*3^0.5))/(E36*3^0.5)))","v":5.537546219929907},{"$f":"IF($C$2=1,($O$31*D36*$F$6/$O$30)*(1-W36^3-(E36-F36)*(-2*F36^3*(1-W36^3)-3*F36^2*(1-W36^2)-6*F36*(1-W36)-6*LN((1-F36)/(1-F36*W36)))/(2*F36^4))/3,$F$6*F36*(LN((1+E36^3)/(E36^3+W36^3)))/3)","v":3.6529253924149194},{"$f":"H36/G36","v":0.65966499372372867},{"$f":"G36*C36*$D$6","v":0.3581263444262644},{"$f":"MAX(MIN($K$6,$Q$6*$J$6*D36*(C36-$I$6)/C36),-$K$6)","v":143.54254147257186},8.6582821203425267E-2,{"$f":"MIN($O$6,$Q$6*$N$6*D36*(C$6-C36-$M$6)/C36)","v":458.33333333333337},0.27646015351590181,{"$f":"(0.5*$C$6-C36+I36*C36)*J36+(0.5*$C$6-$I$6)*L36+(0.5*$C$6-$M$6)*N36","v":0.15416537483845144},{"$f":"0.1*$Q$6*D36*$B$6^2/C36+$R$6","v":2.7492169466791564E-2},{"$f":"(J36+L36-N36)","v":0.16824901211378784},{"$f":"O36-P36*Q36","v":0.14953984448479893},{"$f":"((R36-R35)*(Q36-Q37)-(R36-R37)*(Q36-Q35))/((Q36^2-Q35^2)*(Q36-Q37)-(Q36^2-Q37^2)*(Q36-Q35))","v":-5.0237884322886485E-2},{"$f":"-(S36*(Q36^2-Q35^2)-(R36-R35))/(Q36-Q35)","v":0.18577398320526056},{"$f":"R36-S36*Q36^2-T36*Q36","v":0.11970567580313557},{"$f":"S36*Q35^2+T36*Q35+U36","v":0.11972425269907727},{"$f":"IF(C36<$C$6,0,(C36-$C$6)/C36)","v":0},null,{"$f":"VLOOKUP(Y34,Result,7)","v":6},{"$f":"Z37+(Z38-Z37)*(Y34-Y37)/(Y38-Y37)","v":0.25337939402231852},{"$f":"AA37+(AA38-AA37)*(Y34-Y37)/(Y38-Y37)","v":1.1861010513921134E-3},0.23748253924160537,-7.5963214734042883E-2,12.567925943649678,8.1289269052055211,0.64679939567219569,1.3374704530821189,458.33333333333337,0.27646015351590181,458.33333333333337,0.27646015351590181,0.35753503363673544,4.3557325821432805E-2,1.3374704530821186,0.29927839733529826,0]
[null,0.11945156970802225,0.17394964462770141,{"$f":"Z74","v":5.4409994738253953E-4},0.10894032760022603,-3.4846593459546195E-2,6.5149466245833692,4.2882119588163983,0.65821137239027339,0.47597451304818233,184.24954284298028,0.11113670596277465,458.33333333333337,0.27646015351590181,0.18160986540722862,{"$f":"0.1*$Q$6*D37*$B$6^2/C37+$R$6","v":2.9104889111408412E-2},0.31065106549505517,{"$f":"O37-P37*Q37","v":0.17256840059365416},-3.5907812032245773E-2,0.17891131047313241,0.12045466189238521,0.14953984448479893,0,null,{"$f":"INDEX(Result,Y36,1)","v":1.0347016556980968},{"$f":"INDEX(Result,Y36,3)","v":0.23210975825278549},{"$f":"INDEX(Result,Y36,4)","v":1.0081012683895029E-3},0.20184321458010143,-6.45633127417376E-2,11.058822488807907,7.1898253430757819,0.6501438421994975,1.0780814580638216,386.41552107443147,0.23308035115017711,458.33333333333337,0.27646015351590181,0.31053986444200971,4.0413044849693741E-2,1.0347016556980968,0.26872442002423014,0]
[null,0.13061562927580669,0.19020714713826217,{"$f":"Z76","v":6.3805952126616224E-4},0.12775302333618591,-4.0864184691645378E-2,7.5080743638776841,4.9301582101385568,0.65664749324516347,0.59979755020714065,225.79144933193098,0.13619419362520058,458.33333333333337,0.27646015351590181,0.20943111260346797,3.1213694311719182E-2,0.45953159031643942,0.19508743401675246,-4.1391357254706225E-2,0.18313464189582945,0.1196718639974563,0.17256840059365416,0,null,{"$f":"INDEX(Result,Y36+1,1)","v":1.3922713572708783},{"$f":"INDEX(Result,Y36+1,3)","v":0.25773794179237436},{"$f":"INDEX(Result,Y36+1,4)","v":1.2225765494064118E-3},0.24478570609941303,-7.8299268719442566E-2,12.861636823717271,8.3098405789015377,0.64609510381897306,1.3922713572708783,458.33333333333337,0.27646015351590181,458.33333333333337,0.27646015351590181,0.36503088957399682,4.4137579828171451E-2,1.3922713572708783,0.3035794013999768,0]
[null,0.14404933653695698,0.20976979172988638,{"$f":"D38+($D$53-$D$38)/15","v":7.0979784063037723E-4},0.14211655351225594,-4.545862742662754E-2,8.241029304895541,5.4014234374268506,0.65543067954122702,0.72606198038968772,261.97162766749534,0.15801756305839948,458.33333333333337,0.27646015351590181,0.23479712491699295,3.1484915906936833E-2,0.60761938993218545,0.21566627952155382,-0.13106332462325604,0.27882816977400005,9.4633629958078558E-2,0.19508743401675244,0,null,{"$f":"MAX(IF(Kold!$AO$5=1,Kold!$BH$12,Brand!$BD$34)/1000,$M$10)","v":1.3314600000000001},{"$f":"Z40+(Z43-Z42)*(Y39-AN40)/(Y43-Y42)","v":0.25290421059977114},{"$f":"AA40+(AA43-AA42)*(Y39-AN40)/(Y43-Y42)","v":1.1821243708783344E-3},{"$f":"IF($C$2=1,AA39/($O$31*$O$30),2^(1/3)*$O$30/AA39)","v":0.23668632361979436},{"$f":"IF($C$2=1,-($O$31-2)*AA39/$O$30,3*($O$30/AA39)^2)","v":-7.5708530333044893E-2},{"$f":"IF($C$2=1,0.5*($O$31*AA39*$F$6/$O$30)*(1-AP39^2+(AB39-AC39)*(AC39^2*(1-AP39^2)+2*AC39*(1-AP39)+2*LN((1-AC39)/(1-AC39*AP39)))/(AC39^3)),$F$6*AC39*(LN((1-AB39+AB39^2)/(1+AB39)^2)/(6*AB39)+ATAN((2-AB39)/(AB39*3^0.5))/(AB39*3^0.5)-LN((AP39^2-AB39*AP39+AB39^2)/(AP39+AB39)^2)/(6*AB39)-ATAN((2*AP39-AB39)/(AB39*3^0.5))/(AB39*3^0.5)))","v":12.535587697022034},{"$f":"IF($C$2=1,($O$31*AA39*$F$6/$O$30)*(1-AP39^3-(AB39-AC39)*(-2*AC39^3*(1-AP39^3)-3*AC39^2*(1-AP39^2)-6*AC39*(1-AP39)-6*LN((1-AC39)/(1-AC39*AP39)))/(2*AC39^4))/3,$F$6*AC39*(LN((1+AB39^3)/(AB39^3+AP39^3)))/3)","v":8.108968062154398},{"$f":"AE39/AD39","v":0.64687577943240526},{"$f":"AD39*Z39*$D$6","v":1.3315272225862154},{"$f":"MAX(MIN($K$6,$Q$6*$J$6*AA39*(Z39-$I$6)/Z39),-$K$6)","v":458.33333333333337},{"$f":"AH39*$H$6","v":0.27646015351590181},{"$f":"MIN($O$6,$Q$6*$N$6*AA39*(C$6-Z39-$M$6)/Z39)","v":458.33333333333337},{"$f":"AJ39*$L$6","v":0.27646015351590181},{"$f":"(0.5*$C$6-Z39+AF39*Z39)*AG39+(0.5*$C$6-$I$6)*AI39+(0.5*$C$6-$M$6)*AK39","v":0.3567114425273199},{"$f":"0.1*$Q$6*AA39*$B$6^2/Z39+$R$6","v":4.3492855488182637E-2},{"$f":"AG39+AI39-AK39","v":1.3315272225862151},{"$f":"AL39-AM39*AN39","v":0.29879952145679645},{"$f":"IF(Z39<$C$6,0,(Z39-$C$6)/Z39)","v":0}]
[null,0.15939023633641539,0.23210975825278549,{"$f":"D39+($D$53-$D$38)/15","v":7.8153615999459222E-4},0.15648008368832594,-5.0053070161609717E-2,8.9523159682403026,5.8565461999814028,0.65419341997739888,0.87272635598013926,299.57079905799395,0.18069684893771865,431.47279127440476,0.26025825624797799,0.25818723594676501,3.1330439585674219E-2,0.79316494866987974,0.23333702944098894,-7.2050639338288022E-2,0.1961641244479643,0.12307434526614572,0.21566627952155382,0,null,1,{"$f":"Z42+(Z43-Z42)*(Y39*Y39/AN41-Y42)/(Y43-Y42)","v":0.25295054122008204},{"$f":"AA42+(AA43-AA42)*(Y39*Y39/AN41-Y42)/(Y43-Y42)","v":1.1825120992085738E-3},0.23676395503938807,-7.5733362188959596E-2,12.538743438437795,8.1109160962595546,0.64686833541831334,1.3321064143684889,458.33333333333337,0.27646015351590181,458.33333333333337,0.27646015351590181,0.35679179646618331,4.3499152034885372E-2,1.3321064143684889,0.29884629702092241,0]
[null,0.1769891613536021,0.25773794179237436,8.5327447935880721E-4,0.17084361386439598,-5.4647512896591886E-2,9.6421475869814763,6.2956960173220695,0.65293503968164934,1.0437618548813041,338.40651508968449,0.20412200097267383,380.37681525824314,0.22943788961494629,0.27949689223642016,3.0804999872054033E-2,1.0184459662390317,0.24812366437673283,-2.8241479965848828E-2,0.11679897315586943,0.15846319331032466,{"$f":"S41*Q40^2+T41*Q40+U41","v":0.23333702944098894},0,null,{"$f":"VLOOKUP(Y39,Result,7)","v":6},{"$f":"Z42+(Z43-Z42)*(Y39-Y42)/(Y43-Y42)","v":0.25337939402231852},{"$f":"AA42+(AA43-AA42)*(Y39-Y42)/(Y43-Y42)","v":1.1861010513921134E-3},0.23748253924160537,-7.5963214734042883E-2,12.567925943649678,8.1289269052055211,0.64679939567219569,1.3374704530821189,458.33333333333337,0.27646015351590181,458.33333333333337,0.27646015351590181,0.35753503363673544,4.3557325821432805E-2,1.3374704530821186,0.29927839733529826,0]
[null,0.19727732666546924,0.28728229315396503,9.250127987230222E-4,0.18520714404046601,-5.9241955631574063E-2,10.310734424553555,6.7190399486085646,0.65165483581927219,1.2440784004266547,378.30561848752473,0.22818857315561292,320.773740312884,0.19348616179804348,0.29995371007518024,2.9960543948588939E-2,1.2787808117842241,0.26164074136310678,-2.5876489455698284E-2,0.11136605362618071,0.16154328401317336,{"$f":"S42*Q41^2+T42*Q41+U42","v":0.24812366437673283},0,null,{"$f":"INDEX(Result,Y41,1)","v":1.0347016556980968},{"$f":"INDEX(Result,Y41,3)","v":0.23210975825278549},{"$f":"INDEX(Result,Y41,4)","v":1.0081012683895029E-3},0.20184321458010143,-6.45633127417376E-2,11.058822488807907,7.1898253430757819,0.6501438421994975,1.0780814580638216,386.41552107443147,0.23308035115017711,458.33333333333337,0.27646015351590181,0.31053986444200971,4.0413044849693741E-2,1.0347016556980968,0.26872442002423014,0]
[null,0.2207886636389946,0.32152034227515802,9.9675111808723718E-4,0.19957067421653604,-6.3836398366556218E-2,10.958283828328057,7.1267426388468023,0.65035207615480739,1.4797906902375937,419.10424311517255,0.25279772376171583,253.97449552906443,0.15319380659583026,0.31844523629395466,2.8846231656181578E-2,1.5793946074034793,0.27288565357226996,-2.706194261904997E-2,0.11475428671827081,0.15914902483032339,0.26164074136310678,0,null,{"$f":"INDEX(Result,Y41+1,1)","v":1.3922713572708783},{"$f":"INDEX(Result,Y41+1,3)","v":0.25773794179237436},{"$f":"INDEX(Result,Y41+1,4)","v":1.2225765494064118E-3},0.24478570609941303,-7.8299268719442566E-2,12.861636823717271,8.3098405789015377,0.64609510381897306,1.3922713572708783,458.33333333333337,0.27646015351590181,458.33333333333337,0.27646015351590181,0.36503088957399682,4.4137579828171451E-2,1.3922713572708783,0.3035794013999768,0]
[null,0.248189536719225,0.36142247287457469,1.0684894374514522E-3,0.21393420439260605,-6.8430841101538395E-2,11.585000282065037,7.5189663628031616,0.64902599738762357,1.758573369082568,458.33333333333337,0.27646015351590181,181.21568088792046,0.10930672354421053,0.33275101200024948,2.7508435494124548E-2,1.9257267990542593,0.27977728056915846,-4.4767544818165562E-2,0.17681457200061609,0.10529774520450158,0.2728856535722699,0,null,{"$f":"MAX(IF(Kold!$AO$5=1,Kold!$BI$12,Brand!$BD$34)/1000,$M$10)","v":1.3314600000000001},{"$f":"Z45+(Z48-Z47)*(Y44-AN45)/(Y48-Y47)","v":0.25290421059977114},{"$f":"AA45+(AA48-AA47)*(Y44-AN45)/(Y48-Y47)","v":1.1821243708783344E-3},0.23668632361979436,-7.5708530333044893E-2,12.535587697022034,8.108968062154398,0.64687577943240526,1.3315272225862154,458.33333333333337,0.27646015351590181,458.33333333333337,0.27646015351590181,0.3567114425273199,4.3492855488182637E-2,1.3315272225862151,0.29879952145679645,0]
[null,0.28031870620459332,0.40821011767341625,1.1402277568156672E-3,0.22829773456867608,-7.3025283836520571E-2,12.191085457138207,7.8958710691572884,0.64767580351379161,2.0901402601905255,458.33333333333337,0.27646015351590181,103.65956726098732,6.2525977916431635E-2,0.33491617474152441,2.5990740620100428E-2,2.3040744357899956,0.27503157371150239,-3.1692305550779287E-2,0.12150890880154151,0.16331281572399181,0.27977728056915846,0,null,1,{"$f":"Z47+(Z48-Z47)*(Y44*Y44/AN46-Y47)/(Y48-Y47)","v":0.25295054122008204},{"$f":"AA47+(AA48-AA47)*(Y44*Y44/AN46-Y47)/(Y48-Y47)","v":1.1825120992085738E-3},0.23676395503938807,-7.5733362188959596E-2,12.538743438437795,8.1109160962595546,0.64686833541831334,1.3321064143684889,458.33333333333337,0.27646015351590181,458.33333333333337,0.27646015351590181,0.35679179646618331,4.3499152034885372E-2,1.3321064143684889,0.29884629702092241,0]
[null,0.3182416888988775,0.46343492031952305,1.2119660761798821E-3,0.24266126474474611,-7.7619726571502734E-2,12.7767382626703,8.2576144230613497,0.64630066401121788,2.486898405055685,458.33333333333337,0.27646015351590181,22.394096410199651,1.3507800723084438E-2,0.32471184998457797,2.4333944850181765E-2,2.7498507578485025,0.25779713329686199,-3.4251308951889957E-2,0.13444192056102133,0.14709932630236633,0.27503157371150244,0,null,{"$f":"VLOOKUP(Y44,Result,7)","v":6},{"$f":"Z47+(Z48-Z47)*(Y44-Y47)/(Y48-Y47)","v":0.25337939402231852},{"$f":"AA47+(AA48-AA47)*(Y44-Y47)/(Y48-Y47)","v":1.1861010513921134E-3},0.23748253924160537,-7.5963214734042883E-2,12.567925943649678,8.1289269052055211,0.64679939567219569,1.3374704530821189,458.33333333333337,0.27646015351590181,458.33333333333337,0.27646015351590181,0.35753503363673544,4.3557325821432805E-2,1.3374704530821186,0.29927839733529826,0]
[null,0.36332562531917861,0.52908775969114819,1.2837043955440971E-3,0.25702479492081615,-8.2214169306484911E-2,13.342154894564427,8.6043518477607623,0.64489971190981765,2.9648517538992998,458.33333333333337,0.27646015351590181,-61.567119012109075,-3.7136411287897027E-2,0.29373393666409892,2.2576058658831059E-2,3.2784483187030986,0.21971949511111172,-2.1346722870750002E-2,5.6649216204804717E-2,0.26343731330039555,0.25779713329686194,0,null,{"$f":"INDEX(Result,Y46,1)","v":1.0347016556980968},{"$f":"INDEX(Result,Y46,3)","v":0.23210975825278549},{"$f":"INDEX(Result,Y46,4)","v":1.0081012683895029E-3},0.20184321458010143,-6.45633127417376E-2,11.058822488807907,7.1898253430757819,0.6501438421994975,1.0780814580638216,386.41552107443147,0.23308035115017711,458.33333333333337,0.27646015351590181,0.31053986444200971,4.0413044849693741E-2,1.0347016556980968,0.26872442002423014,0]
[null,0.41734378313962617,0.60775093154630122,1.3554427149083121E-3,0.27138832509688615,-8.6808612041467073E-2,13.670930912807778,8.9201936623856941,0.6524935075217666,3.4895788188929018,458.33333333333337,0.27646015351590181,-147.28479546320597,-8.8840095631235169E-2,0.24459653872740569,2.0752305178900799E-2,3.8548790680400389,0.16459891187968212,3.189665884563363E-3,-0.11837687767524852,0.57352872926908083,0.21971949511111172,0.11147812044306116,null,{"$f":"INDEX(Result,Y46+1,1)","v":1.3922713572708783},{"$f":"INDEX(Result,Y46+1,3)","v":0.25773794179237436},{"$f":"INDEX(Result,Y46+1,4)","v":1.2225765494064118E-3},0.24478570609941303,-7.8299268719442566E-2,12.861636823717271,8.3098405789015377,0.64609510381897306,1.3922713572708783,458.33333333333337,0.27646015351590181,458.33333333333337,0.27646015351590181,0.36503088957399682,4.4137579828171451E-2,1.3922713572708783,0.3035794013999768,0]
[null,0.48262357570027237,0.70281369836511054,1.4271810342725271E-3,0.28575185527295616,-9.140305477644925E-2,13.459458764069597,9.1072561495346331,0.67664356414142812,3.9729866366267497,458.33333333333337,0.27646015351590181,-233.89397850995883,-0.14108152408430891,0.19823761269699849,1.889512020163344E-2,4.3905283142269607,0.11527805245100503,4.4211435398086672E-3,-0.12853091262490501,0.59437143402490711,0.16459891187968206,0.2316598249918132,null,{"$f":"MAX(IF(Kold!$AO$5=1,Kold!$BJ$12,Brand!$BD$34)/1000,$M$10)","v":1.3314600000000001},{"$f":"Z50+(Z53-Z52)*(Y49-AN50)/(Y53-Y52)","v":0.25290421059977114},{"$f":"AA50+(AA53-AA52)*(Y49-AN50)/(Y53-Y52)","v":1.1821243708783344E-3},0.23668632361979436,-7.5708530333044893E-2,12.535587697022034,8.108968062154398,0.64687577943240526,1.3315272225862154,458.33333333333337,0.27646015351590181,458.33333333333337,0.27646015351590181,0.3567114425273199,4.3492855488182637E-2,1.3315272225862151,0.29879952145679645,0]
[null,0.56225958876247439,0.81878250652390949,1.4989193536367421E-3,0.30011538544902622,-9.5997497511431426E-2,12.825255325671087,9.0864452291293709,0.70848064996740479,4.4104597749920789,458.33333333333337,0.27646015351590181,-320.6040428288365,-0.19338380268715394,0.15553336522615679,1.7034152176661398E-2,4.8803037311951343,7.2401528800650455E-2,5.2274941784814666E-3,-0.13600645396575936,0.61164919924027505,0.11527805245100492,0.34048419977542432,null,1,{"$f":"Z52+(Z53-Z52)*(Y49*Y49/AN51-Y52)/(Y53-Y52)","v":0.25295054122008204},{"$f":"AA52+(AA53-AA52)*(Y49*Y49/AN51-Y52)/(Y53-Y52)","v":1.1825120992085738E-3},0.23676395503938807,-7.5733362188959596E-2,12.538743438437795,8.1109160962595546,0.64686833541831334,1.3321064143684889,458.33333333333337,0.27646015351590181,458.33333333333337,0.27646015351590181,0.35679179646618331,4.3499152034885372E-2,1.3321064143684889,0.29884629702092241,0]
[null,0.66042558232547077,0.9617353344904862,1.5706576730009571E-3,0.31447891562509622,-0.10059194024641359,11.884758177947655,8.8318622053373108,0.74312510806698295,4.8005965902749521,458.33333333333337,0.27646015351590181,-406.69869220590874,-0.24531487174246258,0.1167350349544088,1.5196262212007062E-2,5.3223716155333163,3.5854880295020888E-2,6.1051274037028456E-3,-0.1449606608361953,0.63444553800989811,7.2401528800650428E-2,0.43851496286544944,null,{"$f":"VLOOKUP(Y49,Result,7)","v":6},{"$f":"Z52+(Z53-Z52)*(Y49-Y52)/(Y53-Y52)","v":0.25337939402231852},{"$f":"AA52+(AA53-AA52)*(Y49-Y52)/(Y53-Y52)","v":1.1861010513921134E-3},0.23748253924160537,-7.5963214734042883E-2,12.567925943649678,8.1289269052055211,0.64679939567219569,1.3374704530821189,458.33333333333337,0.27646015351590181,458.33333333333337,0.27646015351590181,0.35753503363673544,4.3557325821432805E-2,1.3374704530821186,0.29927839733529826,0]
[null,0.78284035635672078,1.1400001031491622,1.6423959923651721E-3,0.32884244580116623,-0.10518638298139575,10.74216687479805,8.355773647181957,0.77784805845692495,5.1433499650324217,458.33333333333337,0.27646015351590181,-491.53595953684584,-0.29648750581558364,8.1928722642149787E-2,1.3405524074082796E-2,5.7162976243639072,5.2987572241171288E-3,7.0609303575331446E-3,-0.15551145350204471,0.66352513579804873,3.585488029502093E-2,0.52631583233344303,null,{"$f":"INDEX(Result,Y51,1)","v":1.0347016556980968},{"$f":"INDEX(Result,Y51,3)","v":0.23210975825278549},{"$f":"INDEX(Result,Y51,4)","v":1.0081012683895029E-3},0.20184321458010143,-6.45633127417376E-2,11.058822488807907,7.1898253430757819,0.6501438421994975,1.0780814580638216,386.41552107443147,0.23308035115017711,458.33333333333337,0.27646015351590181,0.31053986444200971,4.0413044849693741E-2,1.0347016556980968,0.26872442002423014,0]
[null,0.93747838696883812,1.3651895295975189,{"$f":"$Z$101","v":1.7141343117293875E-3},0.34320597597723634,{"$f":"IF($C$2=1,-($O$31-2)*D53/$O$30,3*($O$30/D53)^2)","v":-0.10978082571637796},9.4872262270435979,7.6949356195586072,{"$f":"H53/G53","v":0.81108381263471752},{"$f":"G53*C53*$D$6","v":5.4397820022348151},458.33333333333337,0.27646015351590181,{"$f":"MIN($O$6,$Q$6*$N$6*D53*(C$6-C53-$M$6)/C53)","v":-574.54820682691798},-0.34655931373452181,{"$f":"(0.5*$C$6-C53+I53*C53)*J53+(0.5*$C$6-$I$6)*L53+(0.5*$C$6-$M$6)*N53","v":5.1065718740163996E-2},{"$f":"0.1*$Q$6*D53*$B$6^2/C53+$R$6","v":1.1683224187690968E-2},{"$f":"(J53+L53-N53)","v":6.0628014694852386},{"$f":"O53-P53*Q53","v":-1.9767350033294287E-2},null,null,null,null,0.60445052625095852,null,{"$f":"INDEX(Result,Y51+1,1)","v":1.3922713572708783},{"$f":"INDEX(Result,Y51+1,3)","v":0.25773794179237436},{"$f":"INDEX(Result,Y51+1,4)","v":1.2225765494064118E-3},0.24478570609941303,-7.8299268719442566E-2,12.861636823717271,8.3098405789015377,0.64609510381897306,1.3922713572708783,458.33333333333337,0.27646015351590181,458.33333333333337,0.27646015351590181,0.36503088957399682,4.4137579828171451E-2,1.3922713572708783,0.3035794013999768,0]
[null,"De","hc","e0","a'","b'","N'","tN'","t","Nc","sac","Nac","sat","Nat","Mtot","u","N","Mo","a''","b''","c''",null,"x",null,{"$f":"MAX(IF(Kold!AO5=1,Kold!BK12,Brand!BH34)/1000,M10)","v":3.4580999999999995},{"$f":"Z55+(Z58-Z57)*(Y54-AN55)/(Y58-Y57)","v":0.40381141602219994},{"$f":"AA55+(AA58-AA57)*(Y54-AN55)/(Y58-Y57)","v":2.3763857394026814E-3},{"$f":"IF($C$2=1,AA54/($O$31*$O$30),2^(1/3)*$O$30/AA54)","v":0.47580273109826293},{"$f":"IF($C$2=1,-($O$31-2)*AA54/$O$30,3*($O$30/AA54)^2)","v":-0.15219436826338811},{"$f":"IF($C$2=1,0.5*($O$31*AA54*$F$6/$O$30)*(1-AP54^2+(AB54-AC54)*(AC54^2*(1-AP54^2)+2*AC54*(1-AP54)+2*LN((1-AC54)/(1-AC54*AP54)))/(AC54^3)),$F$6*AC54*(LN((1-AB54+AB54^2)/(1+AB54)^2)/(6*AB54)+ATAN((2-AB54)/(AB54*3^0.5))/(AB54*3^0.5)-LN((AP54^2-AB54*AP54+AB54^2)/(AP54+AB54)^2)/(6*AB54)-ATAN((2*AP54-AB54)/(AB54*3^0.5))/(AB54*3^0.5)))","v":19.583890462474791},{"$f":"IF($C$2=1,($O$31*AA54*$F$6/$O$30)*(1-AP54^3-(AB54-AC54)*(-2*AC54^3*(1-AP54^3)-3*AC54^2*(1-AP54^2)-6*AC54*(1-AP54)-6*LN((1-AC54)/(1-AC54*AP54)))/(2*AC54^4))/3,$F$6*AC54*(LN((1+AB54^3)/(AB54^3+AP54^3)))/3)","v":12.134304231587691},{"$f":"AE54/AD54","v":0.61960641859382082},{"$f":"AD54*Z54*$D$6","v":3.3214433863277524},{"$f":"MAX(MIN($K$6,$Q$6*$J$6*AA54*(Z54-$I$6)/Z54),-$K$6)","v":458.33333333333337},{"$f":"AH54*$H$6","v":0.27646015351590181},{"$f":"MIN($O$6,$Q$6*$N$6*AA54*(C$6-Z54-$M$6)/Z54)","v":231.77498023382782},{"$f":"AJ54*$L$6","v":0.13980337443619448},{"$f":"(0.5*$C$6-Z54+AF54*Z54)*AG54+(0.5*$C$6-$I$6)*AI54+(0.5*$C$6-$M$6)*AK54","v":0.47400720164274579},{"$f":"0.1*$Q$6*AA54*$B$6^2/Z54+$R$6","v":5.4758199016069486E-2},{"$f":"AG54+AI54-AK54","v":3.4581001654074597},{"$f":"AL54-AM54*AN54","v":0.28464786456786129},{"$f":"IF(Z54<$C$6,0,(Z54-$C$6)/Z54)","v":0}]
[null,null,{"$f":"$C$35","v":0.12945607170440351},{"$f":"$D$35","v":3.2742931933764949E-4},{"$f":"$E$35","v":6.555828113227867E-2},{"$f":"$F$35","v":-2.097003764213403E-2},{"$f":"IF($C$2=1,0.5*($O$31*D55*$F$6/$O$30)*(1-W55^2+(E55-F55)*(F55^2*(1-W55^2)+2*F55*(1-W55)+2*LN((1-F55)/(1-F55*W55)))/(F55^3)),$F$6*F55*(LN((1-E55+E55^2)/(1+E55)^2)/(6*E55)+ATAN((2-E55)/(E55*3^0.5))/(E55*3^0.5)-LN((W55^2-E55*W55+E55^2)/(W55+E55)^2)/(6*E55)-ATAN((2*W55-E55)/(E55*3^0.5))/(E55*3^0.5)))","v":4.0789725576609177},{"$f":"IF($C$2=1,($O$31*D55*$F$6/$O$30)*(1-W55^3-(E55-F55)*(-2*F55^3*(1-W55^3)-3*F55^2*(1-W55^2)-6*F55*(1-W55)-6*LN((1-F55)/(1-F55*W55)))/(2*F55^4))/3,$F$6*F55*(LN((1+E55^3)/(E55^3+W55^3)))/3)","v":2.6990386030010254},{"$f":"$I$35","v":0.66169570028899294},{"$f":"$J$35","v":0.22178006084003529},{"$f":"$K$35","v":90.812088468865227},{"$f":"$L$35","v":5.4776561278259202E-2},{"$f":"$M$35","v":458.32747875640376},{"$f":"$N$35","v":0.27645662211829442},{"$f":"$O$35","v":0.11972660615436539},{"$f":"$P$35","v":2.3534552881082957E-2},{"$f":"$Q$35","v":1.0000000000010001E-4},{"$f":"$R$35","v":0.11972425269907729},null,null,null,null,{"$f":"IF(C55<$C$6,0,(C55-$C$6)/C55)","v":0},null,1,{"$f":"Z57+(Z58-Z57)*(Y54*Y54/AN56-Y57)/(Y58-Y57)","v":0.40381244665016719},{"$f":"AA57+(AA58-AA57)*(Y54*Y54/AN56-Y57)/(Y58-Y57)","v":2.3763865135540386E-3},{"$f":"IF($C$2=1,AA55/($O$31*$O$30),2^(1/3)*$O$30/AA55)","v":0.47580288609975274},{"$f":"IF($C$2=1,-($O$31-2)*AA55/$O$30,3*($O$30/AA55)^2)","v":-0.15219441784350249},{"$f":"IF($C$2=1,0.5*($O$31*AA55*$F$6/$O$30)*(1-AP55^2+(AB55-AC55)*(AC55^2*(1-AP55^2)+2*AC55*(1-AP55)+2*LN((1-AC55)/(1-AC55*AP55)))/(AC55^3)),$F$6*AC55*(LN((1-AB55+AB55^2)/(1+AB55)^2)/(6*AB55)+ATAN((2-AB55)/(AB55*3^0.5))/(AB55*3^0.5)-LN((AP55^2-AB55*AP55+AB55^2)/(AP55+AB55)^2)/(6*AB55)-ATAN((2*AP55-AB55)/(AB55*3^0.5))/(AB55*3^0.5)))","v":19.583893386266336},{"$f":"IF($C$2=1,($O$31*AA55*$F$6/$O$30)*(1-AP55^3-(AB55-AC55)*(-2*AC55^3*(1-AP55^3)-3*AC55^2*(1-AP55^2)-6*AC55*(1-AP55)-6*LN((1-AC55)/(1-AC55*AP55)))/(2*AC55^4))/3,$F$6*AC55*(LN((1+AB55^3)/(AB55^3+AP55^3)))/3)","v":12.134305629236231},{"$f":"AE55/AD55","v":0.61960639745647805},{"$f":"AD55*Z55*$D$6","v":3.3214523593625791},{"$f":"MAX(MIN($K$6,$Q$6*$J$6*AA55*(Z55-$I$6)/Z55),-$K$6)","v":458.33333333333337},{"$f":"AH55*$H$6","v":0.27646015351590181},{"$f":"MIN($O$6,$Q$6*$N$6*AA55*(C$6-Z55-$M$6)/Z55)","v":231.7713289030477},{"$f":"AJ55*$L$6","v":0.13980117200535519},{"$f":"(0.5*$C$6-Z55+AF55*Z55)*AG55+(0.5*$C$6-$I$6)*AI55+(0.5*$C$6-$M$6)*AK55","v":0.47400645302160838},{"$f":"0.1*$Q$6*AA55*$B$6^2/Z55+$R$6","v":5.4758077098219497E-2},{"$f":"AG55+AI55-AK55","v":3.4581113408731259},{"$f":"AL55-AM55*AN55","v":0.28464692560385052},{"$f":"IF(Z55<$C$6,0,(Z55-$C$6)/Z55)","v":0}]
[null,{"$f":"0.25*D36*$Q$31","v":6.7166188209230239E-6},{"$f":"C36","v":0.15398187908114286},{"$f":"D36+B56","v":4.6167096326209397E-4},{"$f":"IF($C$2=1,D56/($O$31*$O$30),2^(1/3)*$O$30/D56)","v":9.2436300027656293E-2},{"$f":"IF($C$2=1,-($O$31-2)*D56/$O$30,3*($O$30/D56)^2)","v":-2.9567472752502488E-2},{"$f":"IF($C$2=1,0.5*($O$31*D56*$F$6/$O$30)*(1-W56^2+(E56-F56)*(F56^2*(1-W56^2)+2*F56*(1-W56)+2*LN((1-F56)/(1-F56*W56)))/(F56^3)),$F$6*F56*(LN((1-E56+E56^2)/(1+E56)^2)/(6*E56)+ATAN((2-E56)/(E56*3^0.5))/(E56*3^0.5)-LN((W56^2-E56*W56+E56^2)/(W56+E56)^2)/(6*E56)-ATAN((2*W56-E56)/(E56*3^0.5))/(E56*3^0.5)))","v":5.6123900405570293},{"$f":"IF($C$2=1,($O$31*D56*$F$6/$O$30)*(1-W56^3-(E56-F56)*(-2*F56^3*(1-W56^3)-3*F56^2*(1-W56^2)-6*F56*(1-W56)-6*LN((1-F56)/(1-F56*W56)))/(2*F56^4))/3,$F$6*F56*(LN((1+E56^3)/(E56^3+W56^3)))/3)","v":3.7016881485221114},{"$f":"H56/G56","v":0.65955646734679174},{"$f":"G56*C56*$D$6","v":0.36296667312413045},{"$f":"MAX(MIN($K$6,$Q$6*$J$6*D56*(C56-$I$6)/C56),-$K$6)","v":145.66170034518805},{"$f":"K56*$H$6","v":8.7861067721057395E-2},{"$f":"MIN($O$6,$Q$6*$N$6*D56*(C$6-C56-$M$6)/C56)","v":458.33333333333337},{"$f":"M56*$L$6","v":0.27646015351590181},{"$f":"(0.5*$C$6-C56+I56*C56)*J56+(0.5*$C$6-$I$6)*L56+(0.5*$C$6-$M$6)*N56","v":0.15548097030819488},{"$f":"0.1*$Q$6*D56*$B$6^2/C56+$R$6","v":2.7898044089431938E-2},{"$f":"(J56+L56-N56)","v":0.17436758732928603},{"$f":"O56-P56*Q56","v":0.15061645566911458},{"$f":"((R56-R55)*(Q56-Q57)-(R56-R57)*(Q56-Q55))/((Q56^2-Q55^2)*(Q56-Q57)-(Q56^2-Q57^2)*(Q56-Q55))","v":-4.9232923974858504E-2},{"$f":"-(S56*(Q56^2-Q55^2)-(R56-R55))/(Q56-Q55)","v":0.18585833158985407},{"$f":"R56-S56*Q56^2-T56*Q56","v":0.11970566735824753},{"$f":"S36*Q56^2+T36*Q56+U36","v":0.1505712016194781},{"$f":"IF(C56<$C$6,0,(C56-$C$6)/C56)","v":0},null,{"$f":"VLOOKUP(Y54,Result,7)","v":10},{"$f":"Z57+(Z58-Z57)*(Y54-Y57)/(Y58-Y57)","v":0.40388194336621797},{"$f":"AA57+(AA58-AA57)*(Y54-Y57)/(Y58-Y57)","v":2.3764387156859092E-3},{"$f":"IF($C$2=1,AA56/($O$31*$O$30),2^(1/3)*$O$30/AA56)","v":0.47581333807162807},{"$f":"IF($C$2=1,-($O$31-2)*AA56/$O$30,3*($O$30/AA56)^2)","v":-0.1521977611014384},{"$f":"IF($C$2=1,0.5*($O$31*AA56*$F$6/$O$30)*(1-AP56^2+(AB56-AC56)*(AC56^2*(1-AP56^2)+2*AC56*(1-AP56)+2*LN((1-AC56)/(1-AC56*AP56)))/(AC56^3)),$F$6*AC56*(LN((1-AB56+AB56^2)/(1+AB56)^2)/(6*AB56)+ATAN((2-AB56)/(AB56*3^0.5))/(AB56*3^0.5)-LN((AP56^2-AB56*AP56+AB56^2)/(AP56+AB56)^2)/(6*AB56)-ATAN((2*AP56-AB56)/(AB56*3^0.5))/(AB56*3^0.5)))","v":19.584090536939556},{"$f":"IF($C$2=1,($O$31*AA56*$F$6/$O$30)*(1-AP56^3-(AB56-AC56)*(-2*AC56^3*(1-AP56^3)-3*AC56^2*(1-AP56^2)-6*AC56*(1-AP56)-6*LN((1-AC56)/(1-AC56*AP56)))/(2*AC56^4))/3,$F$6*AC56*(LN((1+AB56^3)/(AB56^3+AP56^3)))/3)","v":12.134399871848549},{"$f":"AE56/AD56","v":0.61960497215638466},{"$f":"AD56*Z56*$D$6","v":3.3220574289500249},{"$f":"MAX(MIN($K$6,$Q$6*$J$6*AA56*(Z56-$I$6)/Z56),-$K$6)","v":458.33333333333337},{"$f":"AH56*$H$6","v":0.27646015351590181},{"$f":"MIN($O$6,$Q$6*$N$6*AA56*(C$6-Z56-$M$6)/Z56)","v":231.52515273533945},{"$f":"AJ56*$L$6","v":0.13965268203928266},{"$f":"(0.5*$C$6-Z56+AF56*Z56)*AG56+(0.5*$C$6-$I$6)*AI56+(0.5*$C$6-$M$6)*AK56","v":0.47395596097185122},{"$f":"0.1*$Q$6*AA56*$B$6^2/Z56+$R$6","v":5.4749857439036952E-2},{"$f":"AG56+AI56-AK56","v":3.4588649004266441},{"$f":"AL56-AM56*AN56","v":0.2845836007726037},{"$f":"IF(Z56<$C$6,0,(Z56-$C$6)/Z56)","v":0}]
[null,{"$f":"0.5*D37*$Q$31","v":1.6065400810895425E-5},0.17394964462770141,5.6016534819343497E-4,0.11215696093347167,-3.5875493560557123E-2,6.6874356258450831,4.3999736822672872,0.65794632329059133,0.48857636124628046,189.68979838653695,0.1144181907978381,458.33333333333337,0.27646015351590181,0.18492971991413981,{"$f":"0.1*$Q$6*D57*$B$6^2/C57+$R$6","v":2.9964256423206187E-2},0.32653439852821675,0.17514535946564291,-3.599462869650559E-2,0.1792272431955591,0.12045941637841343,0.17504669888006869,0,null,{"$f":"INDEX(Result,Y56,1)","v":2.9908824557713487},{"$f":"INDEX(Result,Y56,3)","v":0.36142247287457469},{"$f":"INDEX(Result,Y56,4)","v":2.3445454838367072E-3},{"$f":"IF($C$2=1,AA57/($O$31*$O$30),2^(1/3)*$O$30/AA57)","v":0.4694276379027596},{"$f":"IF($C$2=1,-($O$31-2)*AA57/$O$30,3*($O$30/AA57)^2)","v":-0.15015517592989672},{"$f":"IF($C$2=1,0.5*($O$31*AA57*$F$6/$O$30)*(1-AP57^2+(AB57-AC57)*(AC57^2*(1-AP57^2)+2*AC57*(1-AP57)+2*LN((1-AC57)/(1-AC57*AP57)))/(AC57^3)),$F$6*AC57*(LN((1-AB57+AB57^2)/(1+AB57)^2)/(6*AB57)+ATAN((2-AB57)/(AB57*3^0.5))/(AB57*3^0.5)-LN((AP57^2-AB57*AP57+AB57^2)/(AP57+AB57)^2)/(6*AB57)-ATAN((2*AP57-AB57)/(AB57*3^0.5))/(AB57*3^0.5)))","v":19.461921689209849},{"$f":"IF($C$2=1,($O$31*AA57*$F$6/$O$30)*(1-AP57^3-(AB57-AC57)*(-2*AC57^3*(1-AP57^3)-3*AC57^2*(1-AP57^2)-6*AC57*(1-AP57)-6*LN((1-AC57)/(1-AC57*AP57)))/(2*AC57^4))/3,$F$6*AC57*(LN((1+AB57^3)/(AB57^3+AP57^3)))/3)","v":12.075560547681308},{"$f":"AE57/AD57","v":0.62047113026748457},{"$f":"AD57*Z57*$D$6","v":2.9542698627983279},{"$f":"MAX(MIN($K$6,$Q$6*$J$6*AA57*(Z57-$I$6)/Z57),-$K$6)","v":458.33333333333337},{"$f":"AH57*$H$6","v":0.27646015351590181},{"$f":"MIN($O$6,$Q$6*$N$6*AA57*(C$6-Z57-$M$6)/Z57)","v":397.63463384304356},{"$f":"AJ57*$L$6","v":0.2398475605428812},{"$f":"(0.5*$C$6-Z57+AF57*Z57)*AG57+(0.5*$C$6-$I$6)*AI57+(0.5*$C$6-$M$6)*AK57","v":0.50083950995971604},{"$f":"0.1*$Q$6*AA57*$B$6^2/Z57+$R$6","v":6.0360707316859628E-2},{"$f":"AG57+AI57-AK57","v":2.9908824557713487},{"$f":"AL57-AM57*AN57","v":0.3203077294277713},{"$f":"IF(Z57<$C$6,0,(Z57-$C$6)/Z57)","v":0}]
[null,{"$f":"0.75*D38*$Q$31","v":2.8259555986894861E-5},0.19020714713826217,6.663190772530571E-4,0.13341118467558552,-4.2674053013742934E-2,7.7994044164969418,5.1177395475846392,0.65617055794155665,0.62307103464456715,235.791717161327,0.14222621307097866,458.33333333333337,0.27646015351590181,0.21540520759254178,3.2596143930540701E-2,0.48883709419964394,0.1994710033114229,-3.8317765030042743E-2,0.18112146233564561,0.12008859241662871,0.1993039209011005,0,null,{"$f":"INDEX(Result,Y56+1,1)","v":3.5057265706422482},{"$f":"INDEX(Result,Y56+1,3)","v":0.40821011767341625},{"$f":"INDEX(Result,Y56+1,4)","v":2.3796898034895218E-3},{"$f":"IF($C$2=1,AA58/($O$31*$O$30),2^(1/3)*$O$30/AA58)","v":0.47646427467268171},{"$f":"IF($C$2=1,-($O$31-2)*AA58/$O$30,3*($O$30/AA58)^2)","v":-0.15240597530094122},{"$f":"IF($C$2=1,0.5*($O$31*AA58*$F$6/$O$30)*(1-AP58^2+(AB58-AC58)*(AC58^2*(1-AP58^2)+2*AC58*(1-AP58)+2*LN((1-AC58)/(1-AC58*AP58)))/(AC58^3)),$F$6*AC58*(LN((1-AB58+AB58^2)/(1+AB58)^2)/(6*AB58)+ATAN((2-AB58)/(AB58*3^0.5))/(AB58*3^0.5)-LN((AP58^2-AB58*AP58+AB58^2)/(AP58+AB58)^2)/(6*AB58)-ATAN((2*AP58-AB58)/(AB58*3^0.5))/(AB58*3^0.5)))","v":19.59635070543893},{"$f":"IF($C$2=1,($O$31*AA58*$F$6/$O$30)*(1-AP58^3-(AB58-AC58)*(-2*AC58^3*(1-AP58^3)-3*AC58^2*(1-AP58^2)-6*AC58*(1-AP58)-6*LN((1-AC58)/(1-AC58*AP58)))/(2*AC58^4))/3,$F$6*AC58*(LN((1+AB58^3)/(AB58^3+AP58^3)))/3)","v":12.14025587488384},{"$f":"AE58/AD58","v":0.6195161567257691},{"$f":"AD58*Z58*$D$6","v":3.3597600235234388},{"$f":"MAX(MIN($K$6,$Q$6*$J$6*AA58*(Z58-$I$6)/Z58),-$K$6)","v":458.33333333333337},{"$f":"AH58*$H$6","v":0.27646015351590181},{"$f":"MIN($O$6,$Q$6*$N$6*AA58*(C$6-Z58-$M$6)/Z58)","v":216.34065104151506},{"$f":"AJ58*$L$6","v":0.13049360639709248},{"$f":"(0.5*$C$6-Z58+AF58*Z58)*AG58+(0.5*$C$6-$I$6)*AI58+(0.5*$C$6-$M$6)*AK58","v":0.47076645754021057},{"$f":"0.1*$Q$6*AA58*$B$6^2/Z58+$R$6","v":5.4243461509412089E-2},{"$f":"AG58+AI58-AK58","v":3.5057265706422482},{"$f":"AL58-AM58*AN58","v":0.28060371324305455},{"$f":"IF(Z58<$C$6,0,(Z58-$C$6)/Z58)","v":0}]
[null,{"$f":"D39*$Q$31","v":4.1915779846300418E-5},0.20976979172988638,7.5171362047667762E-4,0.15050897995898097,-4.8143101385631534E-2,8.6592428004044955,5.6692953686103564,0.65471029041309814,0.76290797468733507,277.44187066166342,0.16734899379242713,458.33333333333337,0.27646015351590181,0.24392661921205028,3.3344198547839765E-2,0.65379681496386033,0.22212628840395007,-4.0295038806737737E-2,0.18338076240059711,0.11945665545022227,0.2209075450922286,0]
[null,4.6152151710074355E-5,0.23210975825278549,8.2768831170466656E-4,0.16572072146257649,-5.3008860316820949E-2,9.3985606384211451,6.1408909478629248,0.65338631989658869,0.91622900783739236,317.2613905798608,0.19136756235136756,456.95260748892679,0.27562731930737522,0.27173791860403362,3.3180599917233752E-2,0.83196925088138474,0.24413267974709774,-0.14614207655151662,0.34064469925203039,6.1882339847209533E-2,0.2364053696809322,0]
[null,5.0388523573848284E-5,0.25773794179237436,9.036630029326555E-4,0.18093246296617205,-5.7874619248010364E-2,10.113966701429025,6.5946922051960959,0.65203815672680798,1.0948362436128289,358.39047696318852,0.21617604279246624,402.83925446888031,0.24298691374406853,0.29384184141545372,3.2624131347088657E-2,1.0680253726612265,0.25899844137573058,-2.6953280877748675E-2,0.11418662828535245,0.16778924497371955,{"$f":"S41*Q61^2+T41*Q61+U41","v":0.25099301970345134},0]
[null,5.4624895437622221E-5,0.28728229315396503,9.7963769416064433E-4,0.1961442044697676,-6.2740378179199766E-2,10.8057084094101,7.0308956434147731,0.65066494273452269,1.3038012502235352,400.64574705858217,0.24166382124503735,339.71643175230582,0.20491212408898218,0.31496069183140218,3.172980766332377E-2,1.3405529473795903,0.27242520464854597,-2.4699440629211495E-2,0.1087580775258904,0.17101616849136997,0.26433319671811356,0]
[null,5.8861267301396157E-5,0.32152034227515802,1.0556123853886334E-3,0.21135594597336316,-6.7606137110389181E-2,11.474029560487939,7.449694767332506,0.64926578130723456,1.5494362428566124,443.85365792244289,0.26772621907163591,268.97248288799619,0.16224037944167716,0.33391365676486151,3.0549691749018809E-2,1.6549220824865711,0.2833562972762525,-3.8252891902152406E-2,0.14935710238249261,0.14094769215436626,0.27494206989755332,0]
[null,6.3097639165170087E-5,0.36142247287457469,1.1315870766166222E-3,0.22656768747695868,-7.2471896041578596E-2,12.119170399607617,7.8512801425217669,0.64783973519969384,1.8396590247061035,458.33333333333337,0.27646015351590181,191.91703294902226,0.11576162703578853,0.34492522335183667,2.9132894544413937E-2,2.0003575511862168,0.28664901776200652,-3.3860214533753756E-2,0.13330063826048968,0.15548936894298349,0.27985589771480524,0]
[null,6.7334011028944023E-5,0.40821011767341625,1.2075617678446113E-3,0.24177942898055427,-7.7337654972768011E-2,12.74136768564936,8.2358394521306373,0.64638582413775625,2.1844851849572589,458.33333333333337,0.27646015351590181,109.78098853273352,6.6218332239026095E-2,0.34644548264177927,2.7525575046909764E-2,2.3947270062341346,0.28052924471482005,-3.0510168239391323E-2,0.11857690152549406,0.17153713004467491,0.27254706395110673,0,null,"hc","e0","a'","b'","N'","tN'","t'","Nc","sac","Nac","sat","Nat","Mtot","N","u","Mo",null,"N","A","B1","B2","B3","C1","C2","x"]
[null,7.157038289271796E-5,0.46343492031952305,1.2835364590726001E-3,0.25699117048414982,-8.2203413903957412E-2,13.340854756934322,8.6035575530849115,0.64490302232043617,2.5966995437351583,458.33333333333337,0.27646015351590181,23.716537760758165,1.4305478553174293E-2,0.33484551410121444,2.5770940311067338E-2,2.858854218697886,0.26117015267310817,-3.3065002186079655E-2,0.13199892918063486,0.15404628871652537,0.25151160499318054,0,null,null,null,null,null,null,null,null,null,null,null,null,null,null,null,null,null,null,null,null,null,null,null,null,null,0]
[null,7.5806754756491896E-5,0.52908775969114819,1.3595111503005891E-3,0.27220291198774538,-8.7069172835146841E-2,13.917861595267317,8.9546165302694707,0.64339025567795793,3.0927834886752108,458.33333333333337,0.27646015351590181,-65.202849720997492,-3.9329432385908164E-2,0.30130925203308689,2.3909245448608157E-2,3.4085730745770211,0.21981284176350796,-2.0640122847038134E-2,5.4126901295478549E-2,0.27512193583350092,0.20851617311245943,0,null,{"$f":"0.5*(-(AR67+AS67+AT67)+SQRT(MAX((AR67+AS67+AT67)^2+4*AQ67*(AU67+AV67),0)))/AQ67","v":0.12781560330868438},{"$f":"0.05*O30","v":1.1621249571046696E-4},{"$f":"IF($C$2=1,Z67/($O$31*$O$30),2^(1/3)*$O$30/Z67)","v":2.3268201761168568E-2},{"$f":"IF($C$2=1,-($O$31-2)*Z67/$O$30,3*($O$30/Z67)^2)","v":-7.4427678451781673E-3},{"$f":"IF($C$2=1,0.5*($O$31*Z67*$F$6/$O$30)*(1-AW66^2+(AA67-AB67)*(AB67^2*(1-AW66^2)+2*AB67*(1-AW66)+2*LN((1-AB67)/(1-AB67*AW66)))/(AB67^3)),$F$6*AB67*(LN((1-AA67+AA67^2)/(1+AA67)^2)/(6*AA67)+ATAN((2-AA67)/(AA67*3^0.5))/(AA67*3^0.5)-LN((AW66^2-AA67*AW66+AA67^2)/(AW66+AA67)^2)/(6*AA67)-ATAN((2*AW66-AA67)/(AA67*3^0.5))/(AA67*3^0.5)))","v":1.503645621044593},{"$f":"IF($C$2=1,($O$31*Z67*$F$6/$O$30)*(1-AW66^3-(AA67-AB67)*(-2*AB67^3*(1-AW66^3)-3*AB67^2*(1-AW66^2)-6*AB67*(1-AW66)-6*LN((1-AB67)/(1-AB67*AW66)))/(2*AB67^4))/3,$F$6*AB67*(LN((1+AA67^3)/(AA67^3+AW66^3)))/3)","v":0.9998348468106163},{"$f":"AD67/AC67","v":0.66494048385950422},{"$f":"AC67*Y67*$D$6","v":8.0719536330835936E-2},{"$f":"MAX(MIN($K$6,$Q$6*$J$6*Z67*(Y67-$I$6)/Y67),-$K$6)","v":31.874023548954849},{"$f":"AG67*$H$6","v":1.9225958058574966E-2},{"$f":"MIN($O$6,$Q$6*$N$6*Z67*(C$6-Y67-$M$6)/Y67)","v":165.53024976592556},{"$f":"AI67*$L$6","v":9.9845494389410941E-2},{"$f":"(0.5*$C$6-Y67+AE67*Y67)*AF67+(0.5*$C$6-$I$6)*AH67+(0.5*$C$6-$M$6)*AJ67","v":4.3342398343812552E-2},{"$f":"AF67+AH67-AJ67","v":9.9999999999961231E-5},null,null,0,{"$f":"AO67*$AP$100","v":0},{"$f":"AC67*$D$6","v":0.63153116083872907},{"$f":"$Q$6*Z67*$H$6*$J$6","v":3.6236165551144381E-2},{"$f":"$Q$6*Z67*$L$6*$N$6","v":3.6236165551144381E-2},{"$f":"-(AP67+0.0001)","v":-1E-4},{"$f":"$I$6*$Q$6*Z67*$H$6*$J$6","v":2.1741699330686628E-3},{"$f":"($C$6-$M$6)*$Q$6*Z67*$L$6*$N$6","v":1.7393359464549302E-2},0]
[null,8.0043126620265833E-5,0.60775093154630122,1.435485841528578E-3,0.28741465349134093,-9.1934931766336242E-2,14.243591058272477,9.2722359436190533,0.65097600076308493,3.6357534083764591,458.33333333333337,0.27646015351590181,-155.98242274234838,-9.4086380808287837E-2,0.24873713327199265,2.197779362841415E-2,4.0062999427006485,0.16068749991779036,3.2005292443003401E-3,-0.12264850661089159,0.60068430478301826,0.15047098946865667,0.11147812044306116,null,{"$f":"0.5*(-(AR68+AS68+AT68)+SQRT(MAX((AR68+AS68+AT68)^2+4*AQ68*(AU68+AV68),0)))/AQ68","v":0.1294110810833784},{"$f":"MIN(Z67*$O$6/AI67,$O$30)","v":3.2177840974253422E-4},6.4426849406375011E-2,-2.0608128124801939E-2,{"$f":"IF($C$2=1,0.5*($O$31*Z68*$F$6/$O$30)*(1-AW67^2+(AA68-AB68)*(AB68^2*(1-AW67^2)+2*AB68*(1-AW67)+2*LN((1-AB68)/(1-AB68*AW67)))/(AB68^3)),$F$6*AB68*(LN((1-AA68+AA68^2)/(1+AA68)^2)/(6*AA68)+ATAN((2-AA68)/(AA68*3^0.5))/(AA68*3^0.5)-LN((AW67^2-AA68*AW67+AA68^2)/(AW67+AA68)^2)/(6*AA68)-ATAN((2*AW67-AA68)/(AA68*3^0.5))/(AA68*3^0.5)))","v":4.0126783297092601},{"$f":"IF($C$2=1,($O$31*Z68*$F$6/$O$30)*(1-AW67^3-(AA68-AB68)*(-2*AB68^3*(1-AW67^3)-3*AB68^2*(1-AW67^2)-6*AB68*(1-AW67)-6*LN((1-AB68)/(1-AB68*AW67)))/(2*AB68^4))/3,$F$6*AB68*(LN((1+AA68^3)/(AA68^3+AW67^3)))/3)","v":2.6555279219820163},0.66178440028967467,0.21809971708875858,{"$f":"MAX(MIN($K$6,$Q$6*$J$6*Z68*(Y68-$I$6)/Y68),-$K$6)","v":89.218013716089956},5.3815038040001588E-2,450.63189462557614,0.27181475512876024,0.11772320716274845,9.9999999999933475E-5,null,null,null,{"$f":"AP67","v":0},1.6853248984778892,{"$f":"IF(AG67<$K$6,$Q$6*Z68*$H$6*$J$6,$H$6*$K$6)","v":0.10033357992125327},{"$f":"IF(AI67<$O$6,$Q$6*Z68*$L$6*$N$6,-$L$6*$O$6)","v":0.10033357992125327},-1E-4,{"$f":"IF(AG67<$K$6,$I$6*$Q$6*Z68*$H$6*$J$6,0)","v":6.0200147952751961E-3},{"$f":"IF(AI67<$O$6,($C$6-$M$6)*$Q$6*Z68*$L$6*$N$6,0)","v":4.8160118362201569E-2},0]
[null,8.4279498484039769E-5,0.70281369836511054,1.5114605327565668E-3,0.30262639499493643,-9.6800690697525643E-2,13.999000761677232,9.4532955368405123,0.6752835932918333,4.132249589466757,458.33333333333337,0.27646015351590181,-247.70614860883074,-0.14941282880995665,0.19934541406508188,2.0010936076527711E-2,4.558122571792615,0.10813311465196176,4.4383445834625997E-3,-0.13324968017039795,0.62328830592674933,0.10036758644708982,0.2316598249918132,null,0.12945486405963058,{"$f":"IF(ABS(Z68-Z67)/Z68<0.0001,Z68,MIN(Z68*$O$6/AI68,$O$30))","v":3.2727770246829832E-4},6.5527924225434075E-2,-2.0960327419897645E-2,4.0771957008104973,2.6978725737470115,0.66169808165222654,0.22168138238103194,90.76930624752346,5.4750755650303067E-2,458.12110107123829,0.27633213803133488,0.11967288271523141,1.0000000000010001E-4,null,null,null,{"$f":"AP68","v":0},1.7124221943404088,{"$f":"IF(AG68<$K$6,$Q$6*Z69*$H$6*$J$6,$H$6*$K$6)","v":0.10204831189053704},{"$f":"IF(AI68<$O$6,$Q$6*Z69*$L$6*$N$6,-$L$6*$O$6)","v":0.10204831189053704},-1E-4,{"$f":"IF(AG68<$K$6,$I$6*$Q$6*Z69*$H$6*$J$6,0)","v":6.122898713432222E-3},{"$f":"IF(AI68<$O$6,($C$6-$M$6)*$Q$6*Z69*$L$6*$N$6,0)","v":4.898318970745779E-2},0]
[null,8.8515870347813706E-5,0.81878250652390949,1.5874352239845558E-3,0.31783813649853199,-0.10166644962871507,13.311239650326966,9.4154080966170763,0.70732766774173461,4.5775842696507674,458.33333333333337,0.27646015351590181,-339.53671310170273,-0.20480372035283223,0.15404626232935445,1.8040072076151666E-2,5.0588481435195014,6.2784277197956595E-2,5.2764162162170234E-3,-0.14130939051993105,0.64261327392046952,5.7394943183562752E-2,0.34048419977542432,null,0.12945607170440351,{"$f":"IF(ABS(Z69-Z68)/Z69<0.001,Z69,MIN(Z69*$O$6/AI69,$O$30))","v":3.2742931933764949E-4},6.555828113227867E-2,{"$f":"IF($C$2=1,-($O$31-2)*Z70/$O$30,3*($O$30/Z70)^2)","v":-2.097003764213403E-2},{"$f":"IF($C$2=1,0.5*($O$31*Z70*$F$6/$O$30)*(1-AW69^2+(AA70-AB70)*(AB70^2*(1-AW69^2)+2*AB70*(1-AW69)+2*LN((1-AB70)/(1-AB70*AW69)))/(AB70^3)),$F$6*AB70*(LN((1-AA70+AA70^2)/(1+AA70)^2)/(6*AA70)+ATAN((2-AA70)/(AA70*3^0.5))/(AA70*3^0.5)-LN((AW69^2-AA70*AW69+AA70^2)/(AW69+AA70)^2)/(6*AA70)-ATAN((2*AW69-AA70)/(AA70*3^0.5))/(AA70*3^0.5)))","v":4.0789725576609177},2.6990386030010254,0.66169570028899294,0.22178006084003529,90.812088468865227,5.4776561278259202E-2,458.32747875640376,0.27645662211829442,0.11972660615436539,1.0000000000010001E-4,null,null,null,{"$f":"AP69","v":0},1.7131684742175854,{"$f":"IF(AG69<$K$6,$Q$6*Z70*$H$6*$J$6,$H$6*$K$6)","v":0.10209558747776687},{"$f":"IF(AI69<$O$6,$Q$6*Z70*$L$6*$N$6,-$L$6*$O$6)","v":0.10209558747776687},-1E-4,{"$f":"IF(AG69<$K$6,$I$6*$Q$6*Z70*$H$6*$J$6,0)","v":6.1257352486660116E-3},{"$f":"IF(AI69<$O$6,($C$6-$M$6)*$Q$6*Z70*$L$6*$N$6,0)","v":4.9005881989328107E-2},{"$f":"IF(Y70<=$C$6,0,(Y70-$C$6)/Y70)","v":0}]
[null,9.2752242211587642E-5,0.9617353344904862,1.6634099152125447E-3,0.33304987800212754,-0.10653220855990447,12.305458259137797,9.1328823151270893,0.74218140623452089,4.9705294862624543,458.33333333333337,0.27646015351590181,-430.71552047794393,-0.25980148126475766,0.1130823346040343,1.6093648967649272E-2,5.5067911210431131,2.4457971363798625E-2,6.2041147278958202E-3,-0.15111111834060084,0.66845711764937477,2.1313910793965718E-2,0.43851496286544944,null,0.1627760851686709,{"$f":"Z70","v":3.2742931933764949E-4},6.555828113227867E-2,-2.097003764213403E-2,4.0789725576609177,2.6990386030010254,0.66169570028899294,0.27886285746752365,106.87037733565684,6.4462692926221185E-2,329.86116782207097,0.19896756893459866,0.11525694864009287,0.14435798145914619,null,null,{"$f":"IF(C6<0.12,0.0125,0.025)","v":2.5000000000000001E-2},{"$f":"AO71*$AP$100","v":0.14425798145914617},1.7131684742175854,{"$f":"$Q$6*Z71*$H$6*$J$6","v":0.10209558747776687},{"$f":"$Q$6*Z71*$L$6*$N$6","v":0.10209558747776687},-0.14435798145914616,{"$f":"$I$6*$Q$6*Z71*$H$6*$J$6","v":6.1257352486660116E-3},{"$f":"($C$6-$M$6)*$Q$6*Z71*$L$6*$N$6","v":4.9005881989328107E-2},0]
[null,9.6988614075361565E-5,1.1400001031491622,1.7393846064405337E-3,0.3482616195057231,-0.11139796749109389,11.093000856968853,8.6203355559080901,0.77709680789329572,5.3113292908948599,458.33333333333337,0.27646015351590181,-520.56269347025511,-0.31399601923950121,7.6516285891954749E-2,1.4197162148544258E-2,5.9017854636502625,-7.27231930140948E-3,7.2316512166518869E-3,-0.16283384706614132,0.70185195056403282,-8.3303286493250361E-3,0.52631583233344303,null,0.15398187908114286,{"$f":"MIN(Z71*$O$6/AI71,$O$30)","v":4.5495434444117093E-4},9.1091490754585822E-2,-2.9137310451253656E-2,5.537546219929907,3.6529253924149194,0.65966499372372867,0.3581263444262644,143.54254147257186,8.6582821203425267E-2,458.33333333333337,0.27646015351590181,0.15416537483845144,0.16824901211378784,null,null,null,{"$f":"AP71","v":0.14425798145914617},2.325769412370561,{"$f":"IF(AG71<$K$6,$Q$6*Z72*$H$6*$J$6,$H$6*$K$6)","v":0.14185910768542076},{"$f":"IF(AI71<$O$6,$Q$6*Z72*$L$6*$N$6,-$L$6*$O$6)","v":0.14185910768542076},-0.14435798145914616,{"$f":"IF(AG71<$K$6,$I$6*$Q$6*Z72*$H$6*$J$6,0)","v":8.5115464611252457E-3},{"$f":"IF(AI71<$O$6,($C$6-$M$6)*$Q$6*Z72*$L$6*$N$6,0)","v":6.8092371689001979E-2},0]
[null,1.0122498593913553E-4,1.3651895295975189,1.815359297668523E-3,0.36347336100931876,{"$f":"IF($C$2=1,-($O$31-2)*D73/$O$30,3*($O$30/D73)^2)","v":-0.11626372642228332},9.7691364162700864,7.9178935241930573,0.81050086587040981,5.6014235544547351,458.33333333333337,0.27646015351590181,-608.47707328705803,-0.36702472383675638,4.4265014041580314E-2,1.2373155073520811E-2,6.2449084318073931,-3.3004206405110231E-2,null,null,null,null,0.60445052625095852,null,0.18254158202494061,{"$f":"Z72","v":4.5495434444117093E-4},9.1091490754585822E-2,-2.9137310451253656E-2,5.537546219929907,3.6529253924149194,0.65966499372372867,0.4245496279593387,157.88024623993158,9.5231120972988789E-2,383.2397746136869,0.23116478601403523,0.15679627106288058,0.28861596291829228,null,null,{"$f":"IF(C6<0.12,0.025,0.05)","v":0.05},{"$f":"AO73*$AP$100","v":0.28851596291829235},2.325769412370561,{"$f":"$Q$6*Z73*$H$6*$J$6","v":0.14185910768542076},{"$f":"$Q$6*Z73*$L$6*$N$6","v":0.14185910768542076},-0.28861596291829233,{"$f":"$I$6*$Q$6*Z73*$H$6*$J$6","v":8.5115464611252457E-3},{"$f":"($C$6-$M$6)*$Q$6*Z73*$L$6*$N$6","v":6.8092371689001979E-2},0]
[null,"De","hc","e0","a'","b'","N'","tN'","t","Nc","sac","Nac","sat","Nat","Mtot","u","N","Mo","a''","b''","c''",null,"x",null,0.17394964462770141,{"$f":"MIN(Z73*$O$6/AI73,$O$30)","v":5.4409994738253953E-4},0.10894032760022603,-3.4846593459546195E-2,6.5149466245833692,4.2882119588163983,0.65821137239027339,0.47597451304818233,184.24954284298028,0.11113670596277465,458.33333333333337,0.27646015351590181,0.18160986540722862,0.31065106549505517,null,null,null,{"$f":"AP73","v":0.28851596291829235},2.7362775823250147,{"$f":"IF(AG73<$K$6,$Q$6*Z74*$H$6*$J$6,$H$6*$K$6)","v":0.16965555768498025},{"$f":"IF(AI73<$O$6,$Q$6*Z74*$L$6*$N$6,-$L$6*$O$6)","v":0.16965555768498025},-0.28861596291829233,{"$f":"IF(AG73<$K$6,$I$6*$Q$6*Z74*$H$6*$J$6,0)","v":1.0179333461098814E-2},{"$f":"IF(AI73<$O$6,($C$6-$M$6)*$Q$6*Z74*$L$6*$N$6,0)","v":8.1434667688790541E-2},0]
[null,null,{"$f":"$C$35","v":0.12945607170440351},{"$f":"$D$35","v":3.2742931933764949E-4},{"$f":"$E$35","v":6.555828113227867E-2},{"$f":"$F$35","v":-2.097003764213403E-2},{"$f":"IF($C$2=1,0.5*($O$31*D75*$F$6/$O$30)*(1-W75^2+(E75-F75)*(F75^2*(1-W75^2)+2*F75*(1-W75)+2*LN((1-F75)/(1-F75*W75)))/(F75^3)),$F$6*F75*(LN((1-E75+E75^2)/(1+E75)^2)/(6*E75)+ATAN((2-E75)/(E75*3^0.5))/(E75*3^0.5)-LN((W75^2-E75*W75+E75^2)/(W75+E75)^2)/(6*E75)-ATAN((2*W75-E75)/(E75*3^0.5))/(E75*3^0.5)))","v":4.0789725576609177},{"$f":"IF($C$2=1,($O$31*D75*$F$6/$O$30)*(1-W75^3-(E75-F75)*(-2*F75^3*(1-W75^3)-3*F75^2*(1-W75^2)-6*F75*(1-W75)-6*LN((1-F75)/(1-F75*W75)))/(2*F75^4))/3,$F$6*F75*(LN((1+E75^3)/(E75^3+W75^3)))/3)","v":2.6990386030010254},{"$f":"$I$35","v":0.66169570028899294},{"$f":"$J$35","v":0.22178006084003529},{"$f":"$K$35","v":90.812088468865227},{"$f":"$L$35","v":5.4776561278259202E-2},{"$f":"$M$35","v":458.32747875640376},{"$f":"$N$35","v":0.27645662211829442},{"$f":"$O$35","v":0.11972660615436539},{"$f":"$P$35","v":2.3534552881082957E-2},{"$f":"$Q$35","v":1.0000000000010001E-4},{"$f":"$R$35","v":0.11972425269907729},null,null,null,null,{"$f":"IF(C75<$C$6,0,(C75-$C$6)/C75)","v":0},null,0.20087255303850318,{"$f":"Z74","v":5.4409994738253953E-4},0.10894032760022603,-3.4846593459546195E-2,6.5149466245833692,4.2882119588163983,0.65821137239027339,0.5496430637836488,197.2526178773744,0.11897997604318351,390.8399361480632,0.23574909544939376,0.18516046320643775,0.43287394437743859,null,null,{"$f":"IF(C6<0.12,0.0375,0.075)","v":7.4999999999999997E-2},{"$f":"AO75*$AP$100","v":0.43277394437743849},2.7362775823250147,{"$f":"$Q$6*Z75*$H$6*$J$6","v":0.16965555768498025},{"$f":"$Q$6*Z75*$L$6*$N$6","v":0.16965555768498025},-0.43287394437743848,{"$f":"$I$6*$Q$6*Z75*$H$6*$J$6","v":1.0179333461098814E-2},{"$f":"($C$6-$M$6)*$Q$6*Z75*$L$6*$N$6","v":8.1434667688790541E-2},0]
[null,{"$f":"IF(R56>$Q$29*V56,B56,-0.7*B56)","v":-4.7016331746461162E-6},{"$f":"IF(Q56>Q55,C56,(1-$T$6)*C56+$T$6*C57)","v":0.15398187908114286},{"$f":"D56+B76","v":4.5696933008744788E-4},{"$f":"IF($C$2=1,D76/($O$31*$O$30),2^(1/3)*$O$30/D76)","v":9.1494933536506964E-2},{"$f":"IF($C$2=1,-($O$31-2)*D76/$O$30,3*($O$30/D76)^2)","v":-2.9266359141628305E-2},{"$f":"IF($C$2=1,0.5*($O$31*D76*$F$6/$O$30)*(1-W76^2+(E76-F76)*(F76^2*(1-W76^2)+2*F76*(1-W76)+2*LN((1-F76)/(1-F76*W76)))/(F76^3)),$F$6*F76*(LN((1-E76+E76^2)/(1+E76)^2)/(6*E76)+ATAN((2-E76)/(E76*3^0.5))/(E76*3^0.5)-LN((W76^2-E76*W76+E76^2)/(W76+E76)^2)/(6*E76)-ATAN((2*W76-E76)/(E76*3^0.5))/(E76*3^0.5)))","v":5.5600200215429334},{"$f":"IF($C$2=1,($O$31*D76*$F$6/$O$30)*(1-W76^3-(E76-F76)*(-2*F76^3*(1-W76^3)-3*F76^2*(1-W76^2)-6*F76*(1-W76)-6*LN((1-F76)/(1-F76*W76)))/(2*F76^4))/3,$F$6*F76*(LN((1+E76^3)/(E76^3+W76^3)))/3)","v":3.667569643406789},{"$f":"H76/G76","v":0.65963245261642423},{"$f":"G76*C76*$D$6","v":0.35957977887130205},{"$f":"MAX(MIN($K$6,$Q$6*$J$6*D76*(C76-$I$6)/C76),-$K$6)","v":144.1782891343567},{"$f":"K76*$H$6","v":8.6966295158714901E-2},{"$f":"MIN($O$6,$Q$6*$N$6*D76*(C$6-C76-$M$6)/C76)","v":458.33333333333337},{"$f":"M76*$L$6","v":0.27646015351590181},{"$f":"(0.5*$C$6-C76+I76*C76)*J76+(0.5*$C$6-$I$6)*L76+(0.5*$C$6-$M$6)*N76","v":0.15456036206010179},{"$f":"0.1*$Q$6*D76*$B$6^2/C76+$R$6","v":2.7613931853583681E-2},{"$f":"(J76+L76-N76)","v":0.17008592051411514},{"$f":"O76-P76*Q76","v":0.14986362104177098},{"$f":"((R76-R75)*(Q76-Q77)-(R76-R77)*(Q76-Q75))/((Q76^2-Q75^2)*(Q76-Q77)-(Q76^2-Q77^2)*(Q76-Q75))","v":-4.9900373077221033E-2},{"$f":"-(S76*(Q76^2-Q75^2)-(R76-R75))/(Q76-Q75)","v":0.1857974274388304},{"$f":"R76-S76*Q76^2-T76*Q76","v":0.11970567345533711},{"$f":"S56*Q76^2+T56*Q76+U56","v":0.14989328266543081},{"$f":"IF(C76<$C$6,0,(C76-$C$6)/C76)","v":0},null,0.19020714713826217,{"$f":"MIN(Z75*$O$6/AI75,$O$30)","v":6.3805952126616224E-4},0.12775302333618591,-4.0864184691645378E-2,7.5080743638776841,4.9301582101385568,0.65664749324516347,0.59979755020714065,225.79144933193098,0.13619419362520058,458.33333333333337,0.27646015351590181,0.20943111260346797,0.45953159031643942,null,null,null,{"$f":"AP75","v":0.43277394437743849},3.1533912328286271,{"$f":"IF(AG75<$K$6,$Q$6*Z76*$H$6*$J$6,$H$6*$K$6)","v":0.19895304977950104},{"$f":"IF(AI75<$O$6,$Q$6*Z76*$L$6*$N$6,-$L$6*$O$6)","v":0.19895304977950104},-0.43287394437743848,{"$f":"IF(AG75<$K$6,$I$6*$Q$6*Z76*$H$6*$J$6,0)","v":1.1937182986770061E-2},{"$f":"IF(AI75<$O$6,($C$6-$M$6)*$Q$6*Z76*$L$6*$N$6,0)","v":9.5497463894160514E-2},0]
[null,{"$f":"IF(R57>$Q$29*V57,B57,-0.7*B57)","v":-1.1245780567626797E-5},{"$f":"IF(Q57>Q56,C57,(1-$T$6)*C57+$T$6*C58)","v":0.17394964462770141},{"$f":"D57+B77","v":5.4891956762580815E-4},0.10990531760019971,-3.5155263489849473E-2,6.5668099674929197,4.3218275014751981,0.65813195796271651,0.47976358927687712,185.88161950604731,0.11212115141329371,458.33333333333337,0.27646015351590181,0.18260774624872433,{"$f":"0.1*$Q$6*D77*$B$6^2/C77+$R$6","v":2.936269930494775E-2},0.31542458717426902,0.17334602894213899,-3.5912780897019408E-2,0.17900630445808263,0.12045609772239539,0.17341089385209596,0]
[null,-1.9781689190826403E-5,0.19020714713826217,6.4653738806223066E-4,0.12945047173800578,-4.1407145188274638E-2,7.5958293489363786,4.9866979489160661,0.65650473698626977,0.60680803285631424,228.79152968074973,0.13800379945893398,458.33333333333337,0.27646015351590181,0.21122964201977651,3.1628429197365637E-2,0.46835167879934636,0.19641641410740404,-3.342447815618816E-2,0.17705603182726201,0.12082369377791277,0.19651200535043609,0]
[null,4.1915779846300418E-5,0.20976979172988638,7.9362940032297801E-4,0.15890140640570596,-5.0827575344635521E-2,9.0701016440698972,5.9316903630779487,0.65398278826964784,0.79910599979508579,292.91211365583149,0.1766804245264548,458.33333333333337,0.27646015351590181,0.25291586465558102,3.520348118874269E-2,0.69932627080563881,0.22829714543648114,-3.6054837805326548E-2,0.1801274447890916,0.11996217041711721,0.22799305997330763,0,null,"hc","e0","a'","b'","N'","tN'","t'","Nc","sac","Nac","sat","Nat","Mtot","N","u","Mo",null,"N","A","B1","B2","B3","C1","C2","gættet x","beregnet x","Max-valg","hc'","sac","sat"]
[null,4.6152151710074355E-5,0.23210975825278549,8.738404634147409E-4,0.17496135923682704,-5.5964650472032182E-2,9.8359815359618423,6.4186693530628469,0.65257029302009328,0.9588714645262052,334.95198210172776,0.20203827576501654,458.33333333333337,0.27646015351590181,0.28205482044652286,3.5030760248793279E-2,0.88444958677532004,0.25107187902005235,-0.10450586852152806,0.28853853466394419,7.7623918901689348E-2,0.24884560735733841,0,null,{"$f":"$C$6","v":0.54}]
[null,5.0388523573848284E-5,0.25773794179237436,9.5405152650650379E-4,0.19102131206794815,-6.1101725599428836E-2,10.575376625559819,6.8859476834623088,0.65113025542934677,1.1447838381634088,378.3744388366926,0.22823008461225869,425.30169367951754,0.25653593787319079,0.30795700708585733,3.4443262822123281E-2,1.1164779849024766,0.26950186241674673,-6.357851796117131E-2,0.20664587049200361,0.11803838805707206,0.2616782146383837,0,null,{"$f":"0.5*(-(AR81+AS81+AT81)+SQRT((AR81+AS81+AT81)^2+4*AQ81*(AU81+AV81)))/AQ81","v":0.60964806431972085},{"$f":"$O$30","v":2.3242499142093389E-3},{"$f":"IF($C$2=1,Z81/($O$31*$O$30),2^(1/3)*$O$30/Z81)","v":0.46536403522337133},{"$f":"IF($C$2=1,-($O$31-2)*Z81/$O$30,3*($O$30/Z81)^2)","v":-0.14885535690356333},{"$f":"IF($C$2=1,0.5*($O$31*Z81*$F$6/$O$30)*(1-AW81^2+(AA81-AB81)*(AB81^2*(1-AW81^2)+2*AB81*(1-AW81)+2*LN((1-AB81)/(1-AB81*AW81)))/(AB81^3)),$F$6*AB81*(LN((1-AA81+AA81^2)/(1+AA81)^2)/(6*AA81)+ATAN((2-AA81)/(AA81*3^0.5))/(AA81*3^0.5)-LN((AW81^2-AA81*AW81+AA81^2)/(AW81+AA81)^2)/(6*AA81)-ATAN((2*AW81-AA81)/(AA81*3^0.5))/(AA81*3^0.5)))","v":19.382382130136616},{"$f":"IF($C$2=1,($O$31*Z81*$F$6/$O$30)*(1-AW81^3-(AA81-AB81)*(-2*AB81^3*(1-AW81^3)-3*AB81^2*(1-AW81^2)-6*AB81*(1-AW81)-6*LN((1-AB81)/(1-AB81*AW81)))/(2*AB81^4))/3,$F$6*AB81*(LN((1+AA81^3)/(AA81^3+AW81^3)))/3)","v":12.036799033476967},{"$f":"AD81/AC81","v":0.62101752780746189},{"$f":"AC81*Y81*$D$6","v":4.9629013339680332},{"$f":"MAX(MIN($K$6,$Q$6*$J$6*Z81*(Y81-$I$6)/Y81),-$K$6)","v":458.33333333333337},{"$f":"AG81*$H$6","v":0.27646015351590181},{"$f":"MIN($O$6,$Q$6*$N$6*Z81*(C$6-Y81-$M$6)/Y81)","v":-255.5100383833701},{"$f":"AI81*$L$6","v":-0.15412002422469917},{"$f":"(0.5*$C$6-Y81+AE81*Y81)*AF81+(0.5*$C$6-$I$6)*AH81+(0.5*$C$6-$M$6)*AJ81","v":0.2190166302228595},{"$f":"AF81+AH81-AJ81","v":5.3934815117086341},{"$f":"0.1*$Q$6*Z81*$B$6^2/Y81+$R$6","v":3.5474349077505504E-2},{"$f":"AK81-AM81*AL81","v":2.7686384333435315E-2},{"$f":"IF(AN81=$AO$99,Z81,0)","v":0},{"$f":"IF($C$2=1,Kold!$Q$23/1000,Brand!$AT$43)*V6*S6","v":5.7703192583658467},{"$f":"AC81*$D$6","v":8.1406004946573791},{"$f":"$Q$6*Z81*$H$6*$J$6","v":0.72472331102288745},{"$f":"$Q$6*Z81*$L$6*$N$6","v":0.72472331102288745},{"$f":"-(AP81+0.0001)","v":-5.7704192583658465},{"$f":"$I$6*$Q$6*Z81*$H$6*$J$6","v":4.348339866137324E-2},{"$f":"($C$6-$M$6)*$Q$6*Z81*$L$6*$N$6","v":0.34786718929098609},{"$f":"IF(Y80<$C$6,0,(Y80-$C$6)/Y80)","v":0}]
[null,5.4624895437622221E-5,0.28728229315396503,1.0342625895982665E-3,0.20708126489906917,-6.6238800726825461E-2,11.28857535599103,7.333754346612035,0.64966163712765512,1.3620632821783849,422.98587562963968,0.25513906933446179,358.6591231917277,0.21633808637992097,0.3296810565315525,3.3499071378058597E-2,1.4008642651329257,0.28275340452289299,-2.852889818976214E-2,0.11841398179375914,0.17285718898719102,0.27490077953639214,0,null,0.67971758648311476,{"$f":"0.95*$O$30","v":2.2080374184988718E-3},0.44209583346220271,{"$f":"IF($C$2=1,-($O$31-2)*Z82/$O$30,3*($O$30/Z82)^2)","v":-0.14141258905838516},{"$f":"IF($C$2=1,0.5*($O$31*Z82*$F$6/$O$30)*(1-AW82^2+(AA82-AB82)*(AB82^2*(1-AW82^2)+2*AB82*(1-AW82)+2*LN((1-AB82)/(1-AB82*AW82)))/(AB82^3)),$F$6*AB82*(LN((1-AA82+AA82^2)/(1+AA82)^2)/(6*AA82)+ATAN((2-AA82)/(AA82*3^0.5))/(AA82*3^0.5)-LN((AW82^2-AA82*AW82+AA82^2)/(AW82+AA82)^2)/(6*AA82)-ATAN((2*AW82-AA82)/(AA82*3^0.5))/(AA82*3^0.5)))","v":18.535936358046019},{"$f":"IF($C$2=1,($O$31*Z82*$F$6/$O$30)*(1-AW82^3-(AA82-AB82)*(-2*AB82^3*(1-AW82^3)-3*AB82^2*(1-AW82^2)-6*AB82*(1-AW82)-6*LN((1-AB82)/(1-AB82*AW82)))/(2*AB82^4))/3,$F$6*AB82*(LN((1+AA82^3)/(AA82^3+AW82^3)))/3)","v":11.767393932011153},{"$f":"AD82/AC82","v":0.63484216306683638},{"$f":"AC82*Y82*$D$6","v":5.291664808288175},{"$f":"MAX(MIN($K$6,$Q$6*$J$6*Z82*(Y82-$I$6)/Y82),-$K$6)","v":458.33333333333337},0.27646015351590181,-335.37642976149453,-0.20229429656176981,{"$f":"(0.5*$C$6-Y82+AE82*Y82)*AF82+(0.5*$C$6-$I$6)*AH82+(0.5*$C$6-$M$6)*AJ82","v":0.13091087870920348},{"$f":"AF82+AH82-AJ82","v":5.7704192583658465},{"$f":"0.1*$Q$6*Z82*$B$6^2/Y82+$R$6","v":3.0226560624981743E-2},{"$f":"IF(Y82>5*$D$6,AN81-1,AK82-AM82*AL82)","v":-4.3509048835353975E-2},0,{"$f":"AP81","v":5.7703192583658467},{"$f":"AC82*$D$6","v":7.7850932703793276},{"$f":"IF(AG81<$K$6,$Q$6*Z82*$H$6*$J$6,$H$6*$K$6)","v":0.27646015351590181},{"$f":"IF(AI81<$O$6,$Q$6*Z82*$L$6*$N$6,-$L$6*$O$6)","v":0.68848714547174306},{"$f":"-(AP82+0.0001)","v":-5.7704192583658465},{"$f":"IF(AG81<$K$6,$I$6*$Q$6*Z82*$H$6*$J$6,0)","v":0},{"$f":"IF(AI81<$O$6,($C$6-$M$6)*$Q$6*Z82*$L$6*$N$6,0)","v":0.33047382982643669},{"$f":"IF(Y81<=$C$6,0,(Y81-$C$6)/Y81)","v":0.11424306644430667},null,{"$f":"IF(AN82=$AO$99,AX82,0)","v":0},null,{"$f":"IF(AN82=$AO$99,AG82,0)","v":0},{"$f":"IF(AN82=$AO$99,AI82,0)","v":0}]
[null,5.8861267301396157E-5,0.32152034227515802,1.1144736526900296E-3,0.2231412177301903,-7.1375875854222129E-2,11.975861727368372,7.7623146586894336,0.64816335019552351,1.6172029278818465,458.33333333333337,0.27646015351590181,283.97047024692796,0.17128695228752405,0.34772941801576007,3.2253151841856044E-2,1.7223761291102242,0.29217735919477977,-4.0447400641318451E-2,0.15563833008934586,0.14410004546376348,0.28471655392589135,0,null,0.80551384005999194,{"$f":"Z82+($Z$98-$Z$82)/16","v":2.0845616418065007E-3},0.41737336909096112,{"$f":"IF($C$2=1,-($O$31-2)*Z83/$O$30,3*($O$30/Z83)^2)","v":-0.13350464822288335},{"$f":"IF($C$2=1,0.5*($O$31*Z83*$F$6/$O$30)*(1-AW83^2+(AA83-AB83)*(AB83^2*(1-AW83^2)+2*AB83*(1-AW83)+2*LN((1-AB83)/(1-AB83*AW83)))/(AB83^3)),$F$6*AB83*(LN((1-AA83+AA83^2)/(1+AA83)^2)/(6*AA83)+ATAN((2-AA83)/(AA83*3^0.5))/(AA83*3^0.5)-LN((AW83^2-AA83*AW83+AA83^2)/(AW83+AA83)^2)/(6*AA83)-ATAN((2*AW83-AA83)/(AA83*3^0.5))/(AA83*3^0.5)))","v":15.462756625441868},{"$f":"IF($C$2=1,($O$31*Z83*$F$6/$O$30)*(1-AW83^3-(AA83-AB83)*(-2*AB83^3*(1-AW83^3)-3*AB83^2*(1-AW83^2)-6*AB83*(1-AW83)-6*LN((1-AB83)/(1-AB83*AW83)))/(2*AB83^4))/3,$F$6*AB83*(LN((1+AA83^3)/(AA83^3+AW83^3)))/3)","v":10.851150131951826},{"$f":"AD83/AC83","v":0.70176039077648877},{"$f":"AC83*Y83*$D$6","v":5.2312950762545603},{"$f":"MAX(MIN($K$6,$Q$6*$J$6*Z83*(Y83-$I$6)/Y83),-$K$6)","v":458.33333333333337},0.27646015351590181,-435.46123461861015,-0.26266402859538562,{"$f":"(0.5*$C$6-Y83+AE83*Y83)*AF83+(0.5*$C$6-$I$6)*AH83+(0.5*$C$6-$M$6)*AJ83","v":0.15860075772951232},{"$f":"AF83+AH83-AJ83","v":5.7704192583658473},{"$f":"0.1*$Q$6*Z83*$B$6^2/Y83+$R$6","v":2.4079781743505557E-2},{"$f":"IF(Y83>5*$D$6,AN82-1,AK83-AM83*AL83)","v":1.9650321419541511E-2},0,{"$f":"AP82","v":5.7703192583658467},{"$f":"AC83*$D$6","v":6.4943577826855838},{"$f":"IF(AG82<$K$6,$Q$6*Z83*$H$6*$J$6,$H$6*$K$6)","v":0.27646015351590181},{"$f":"IF(AI82<$O$6,$Q$6*Z83*$L$6*$N$6,-$L$6*$O$6)","v":0.64998621957365221},{"$f":"-(AP83+0.0001)","v":-5.7704192583658465},{"$f":"IF(AG82<$K$6,$I$6*$Q$6*Z83*$H$6*$J$6,0)","v":0},{"$f":"IF(AI82<$O$6,($C$6-$M$6)*$Q$6*Z83*$L$6*$N$6,0)","v":0.31199338539535304},{"$f":"IF(AZ83<=$C$6,0,(AZ83-$C$6)/AZ83)","v":0.34484781572315359},{"$f":"IF(Y83<=$C$6,0,(Y83-$C$6)/Y83)","v":0.32962045697466519},0,{"$f":"Y82+(Y82-Y81)*(Z83-Z81)/(Z82-Z81)","v":0.82423597594511455},0,0]
[null,6.3097639165170087E-5,0.36142247287457469,1.1946847157817922E-3,0.23920117056131135,-7.6512950981618782E-2,12.637515385438945,8.1718503351971865,0.64663425412030462,1.9183424658702473,458.33333333333337,0.27646015351590181,202.61838501012403,0.1222165305273665,0.35667476260752201,3.0757353594703322E-2,2.0725860888587828,0.29292749941702922,-2.7204183133237397E-2,0.10538082000183259,0.1913753231744971,0.28631603646221926,0,null,0.98499359598198943,1.9610858651141296E-3,0.39265090471971953,{"$f":"IF($C$2=1,-($O$31-2)*Z84/$O$30,3*($O$30/Z84)^2)","v":-0.12559670738738155},{"$f":"IF($C$2=1,0.5*($O$31*Z84*$F$6/$O$30)*(1-AW84^2+(AA84-AB84)*(AB84^2*(1-AW84^2)+2*AB84*(1-AW84)+2*LN((1-AB84)/(1-AB84*AW84)))/(AB84^3)),$F$6*AB84*(LN((1-AA84+AA84^2)/(1+AA84)^2)/(6*AA84)+ATAN((2-AA84)/(AA84*3^0.5))/(AA84*3^0.5)-LN((AW84^2-AA84*AW84+AA84^2)/(AW84+AA84)^2)/(6*AA84)-ATAN((2*AW84-AA84)/(AA84*3^0.5))/(AA84*3^0.5)))","v":12.522340127865981},{"$f":"IF($C$2=1,($O$31*Z84*$F$6/$O$30)*(1-AW84^3-(AA84-AB84)*(-2*AB84^3*(1-AW84^3)-3*AB84^2*(1-AW84^2)-6*AB84*(1-AW84)-6*LN((1-AB84)/(1-AB84*AW84)))/(2*AB84^4))/3,$F$6*AB84*(LN((1+AA84^3)/(AA84^3+AW84^3)))/3)","v":9.5116648110920519},{"$f":"AD84/AC84","v":0.75957566349166084},{"$f":"AC84*Y84*$D$6","v":5.1804584297156371},{"$f":"MAX(MIN($K$6,$Q$6*$J$6*Z84*(Y84-$I$6)/Y84),-$K$6)","v":458.33333333333337},0.27646015351590181,-519.74148031533048,-0.31350067513430901,{"$f":"(0.5*$C$6-Y84+AE84*Y84)*AF84+(0.5*$C$6-$I$6)*AH84+(0.5*$C$6-$M$6)*AJ84","v":0.16412758617900577},{"$f":"AF84+AH84-AJ84","v":5.7704192583658473},{"$f":"0.1*$Q$6*Z84*$B$6^2/Y84+$R$6","v":1.8525673830544195E-2},5.7226681133029353E-2,0,{"$f":"AP83","v":5.7703192583658467},{"$f":"AC84*$D$6","v":5.2593828537037117},{"$f":"IF(AG83<$K$6,$Q$6*Z84*$H$6*$J$6,$H$6*$K$6)","v":0.27646015351590181},{"$f":"IF(AI83<$O$6,$Q$6*Z84*$L$6*$N$6,-$L$6*$O$6)","v":0.61148529367556126},{"$f":"-(AP84+0.0001)","v":-5.7704192583658465},{"$f":"IF(AG83<$K$6,$I$6*$Q$6*Z84*$H$6*$J$6,0)","v":0},{"$f":"IF(AI83<$O$6,($C$6-$M$6)*$Q$6*Z84*$L$6*$N$6,0)","v":0.29351294096426944},{"$f":"IF(AZ84<=$C$6,0,(AZ84-$C$6)/AZ84)","v":0.48917154700348009},{"$f":"IF(Y84<=$C$6,0,(Y84-$C$6)/Y84)","v":0.45177308542636058},0,{"$f":"Y83+(Y83-Y82)*(Z84-Z82)/(Z83-Z82)","v":1.0571063472137463},0,0]
[null,6.7334011028944023E-5,0.40821011767341625,1.2748957788735553E-3,0.25526112339243245,-8.165002610901545E-2,13.273811708044631,8.5625795647274412,0.64507315253975361,2.275771780512581,458.33333333333337,0.27646015351590181,115.90240980447972,6.9910686561620555E-2,0.35747167681297887,2.9060409473719098E-2,2.4823212474668623,0.28533440491627865,-2.947645441268483E-2,0.11573080512270977,0.17968488625811935,0.27788191363839831,0,null,1.22982664580699,1.8376100884217586E-3,0.36792844034847794,-0.11768876655187976,9.9599982320917153,8.0435428086812131,0.80758476269247048,5.1446099115671,458.33333333333337,0.27646015351590181,-579.17344766802898,-0.34934919328284525,0.15633093682320445,5.7704192583658465,1.3903376355483655E-2,7.6102626145213209E-2,0,5.7703192583658467,4.1831992574785204,0.27646015351590181,0.57298436777747042,-5.7704192583658465,0,0.27503249653318584,0.59820026691740835,0.56091372565304776,0,{"$f":"Y84+(Y84-Y83)*(Z85-Z83)/(Z84-Z83)","v":1.3439531078259845},0,0]
[null,7.157038289271796E-5,0.46343492031952305,1.355106841965318E-3,0.2713210762235535,-8.678710123641209E-2,13.885021889515031,8.9347170803898752,0.6434787896976043,2.7026176854609374,458.33333333333337,0.27646015351590181,25.038979111316685,1.5103156383264151E-2,0.34439674223987343,2.7207935771952914E-2,2.9639746825935753,0.26375310944617292,-3.2034102902243289E-2,0.12966051568191722,0.16086689201519555,0.25480690391878441,0,null,1.5723972164906246,1.7141343117293875E-3,0.34320597597723634,-0.10978082571637796,7.7567875534421953,6.5774880661198338,0.84796547808002953,5.1226354863354846,458.33333333333337,0.27646015351590181,-615.60405597234865,-0.37132361851445955,0.13857988335499066,5.7704192583658456,1.014362984473732E-2,8.0046886349183888E-2,1.7141343117293875E-3,5.7703192583658467,3.257850772445722,0.27646015351590181,0.53448344187937957,-5.7704192583658465,0,0.25655205210210219,0.68595389458506628,0.65657532693602316,0.65657532693602316,{"$f":"Y85+(Y85-Y84)*(Z86-Z84)/(Z85-Z84)","v":1.719492745456991},458.33333333333337,-615.60405597234865]
[null,7.5806754756491896E-5,0.52908775969114819,1.4353179050570811E-3,0.28738102905467461,-9.1924176363808757E-2,14.471413022969562,9.2884742299883847,0.64184984667671185,3.2157919482730741,458.33333333333337,0.27646015351590181,-68.838580429885894,-4.1522453483919287E-2,0.30823112234604977,2.5242432238385251E-2,3.5337745552728954,0.21903005758884372,-2.003791493774635E-2,5.1712294478304291E-2,0.28651518447538271,0.20864937610847142,0,null,2.0884907408526963,1.5906585350370164E-3,0.31848351160599475,-0.10187288488087616,5.8278229192261159,5.1475424856643794,0.88327022921072695,5.1119687665758065,458.33333333333337,0.27646015351590181,-633.28802655910783,-0.38199033827413842,0.11182824207340945,5.7704192583658465,7.0868822483995033E-3,7.0933960265473911E-2,0,5.7703192583658467,2.4476856260749686,0.27646015351590181,0.49598251598128862,-5.7704192583658465,0,0.23807160767101862,0.76080140648755623,0.74144007946162738,0,2.2575383578578938,0,0]
[null,8.0043126620265833E-5,0.60775093154630122,1.5155289681488438E-3,0.30344098188579566,-9.7061251491205383E-2,14.791838860642546,9.6061857056129103,0.64942471291873072,3.7756966156720804,458.33333333333337,0.27646015351590181,-164.68005002149073,-9.9332665985340463E-2,0.25217565965564787,2.3203282077927503E-2,4.151489435173322,0.15584747924778536,3.1950070254166602E-3,-0.12683884407803944,0.62735208715077151,0.1466710132990745,0.11147812044306116,null,2.9515660869083291,1.4671827583446454E-3,0.29376104723475316,-9.3964944045374366E-2,4.1228118600772845,3.7723582539674569,0.91499645921187922,5.1108757009411754,458.33333333333337,0.27646015351590181,-635.10018071406,-0.38308340390876944,7.5259715142718869E-2,5.7704192583658465,4.6253277682544464E-3,-0.92906603973452606,0,5.7703192583658467,1.7315809812324594,0.27646015351590181,0.45748159008319783,-5.7704192583658465,0,0.21959116323993497,0.8269606680306385,0.81704627845022004,0,3.1206777895768396,0,0]
[null,8.4279498484039769E-5,0.70281369836511054,1.5957400312406065E-3,0.31950093471691671,-0.10219832661860204,14.512095158514207,9.7795547435445318,0.67388992676270409,4.283705693140349,458.33333333333337,0.27646015351590181,-261.51831870770263,-0.15774413353560438,0.19972857434301999,2.1126751951421986E-2,4.7179099801918545,0.10005446046236847,4.4367025970345666E-3,-0.13785193805500881,0.65167237547995349,9.3419977755954786E-2,0.2316598249918132,null,4.5737968332181227,1.3437069816522743E-3,0.26903858286351157,-8.6057003209872571E-2,2.6647385916257833,2.5127682006793139,0.94296986900551816,5.1189486313274939,458.33333333333337,0.27646015351590181,-621.71636012844226,-0.37501047352245126,2.6172336103799501E-2,5.7704192583658465,2.7336223408807583E-3,-1.9290660397345261,0,5.7703192583658467,1.1191902084828289,0.27646015351590181,0.41898066418510688,-5.7704192583658465,0,0.20111071880885137,0.88455906470823598,0.88193616382823548,0,4.6777167790195948,0,0]
[null,8.8515870347813706E-5,0.81878250652390949,1.6759510943323696E-3,0.33556088754803781,-0.1073354017459987,13.769247319742925,9.7230490574142241,0.70614237885558984,4.7350879100308285,458.33333333333337,0.27646015351590181,-358.46938337456891,-0.21622363801851049,0.15183530641324872,1.9045991975641934E-2,5.2277717015652403,5.2267208534749171E-2,5.3002808430514378E-3,-0.14644081239718273,0.67297180430402193,4.8082369596812669E-2,0.34048419977542432,null,8.0089209639830088,1.2202312049599032E-3,0.24431611849227,-7.8149062374370776E-2,1.5269528357277176,1.4746108293630806,0.9657212684374159,5.1362827223706686,458.33333333333337,0.27646015351590181,-592.97879477921117,-0.35767638247927669,-4.0351798213102787E-2,5.7704192583658465,1.4176823421425794E-3,-2.9290660397345261,0,5.7703192583658467,0.6413201910056413,0.27646015351590181,0.38047973828701603,-5.7704192583658465,0,0.18263027437776772,0.93093090845880433,0.93257518679127449,0,7.8182583258377099,0,0]
[null,9.2752242211587642E-5,0.9617353344904862,1.7561621574241322E-3,0.35162084037915886,-0.11247247687339533,12.697341094555728,9.411365644585528,0.74120759413329962,5.1288222655791866,458.33333333333337,0.27646015351590181,-454.73234874997905,-0.27428809078705263,0.10872659173347043,1.699103572329148E-2,5.679570509882141,1.2224806307110175E-2,6.2688640244004806E-3,-0.15700548061640918,0.7017304898848451,1.0340228424705722E-2,0.43851496286544944,null,16.225421427266859,1.0967554282675322E-3,0.21959365412102841,-7.0241121538868967E-2,0.75749696175723058,0.74380723279798755,0.98192767806291159,5.1620971224418311,458.33333333333337,0.27646015351590181,-550.18203046382098,-0.3318619824081131,-0.13155526673011136,5.7704192583658456,6.2896230463536202E-4,-3.9290660397345261,0,5.7703192583658467,0.31814872393803684,0.27646015351590181,0.34197881238892514,-5.7704192583658465,0,0.16414982994668409,0.96370765115877022,0.96671889217666007,0,14.879169225512781,0,0]
[null,9.6988614075361565E-5,1.1400001031491622,1.8363732205158953E-3,0.36768079321027997,-0.11760955200079201,11.414951868423186,8.8616352632325803,0.77631823290873758,5.4654794491269652,458.33333333333337,0.27646015351590181,-549.58942740366456,-0.33150453266341889,7.0437970193415619E-2,1.4988800223005718E-2,6.0734441353062856,-2.0595670616275999E-2,7.7445438608134479E-3,-0.17434916734538003,0.75263340799018796,-2.0358402861153091E-2,0.52631583233344303,null,38.610559496409046,9.7327965157516108E-4,0.19487118974978682,-6.2333180703367165E-2,0.32030800901872936,0.3176650642796377,0.99174873976086841,5.1942540045454688,458.33333333333337,0.27646015351590181,-496.87029357614313,-0.2997051003044765,-0.25724829198021054,5.7704192583658465,2.3455373858893535E-4,-4.9290660397345256,0,5.7703192583658467,0.13452936378786631,0.27646015351590181,0.30347788649083424,-5.7704192583658465,0,0.14566938551560046,0.98346521475687276,0.9860141886819791,0,32.65842235383456,0,0]
[null,null,{"$f":"C73","v":1.3651895295975189},{"$f":"D73+(D92-D72)","v":1.9123479117438846E-3},0.38289253471387563,-0.12247531093198144,10.012816602278019,8.1095775767227405,0.80991971578484001,5.7411448026282654,458.33333333333337,0.27646015351590181,-640.98598108869135,-0.38663363505451753,3.7170771151385298E-2,1.303421162792387E-2,6.4042385911986841,-4.6303429962015377E-2,null,null,null,null,0.60445052625095852,null,109.10026230424637,8.4980387488279002E-4,0.17014872537854522,-5.4425239867865377E-2,0.1141402681757771,0.11377096228784134,0.9967644557539761,5.2301479429308086,439.0541693344494,0.26483123575854245,-437.36302564840486,-0.26381116191913595,-0.43388140022533578,5.7587903406084875,7.2477586544766794E-5,-5.9290660397345256,0,5.7703192583658467,4.793891263382638E-2,0.27646015351590181,0.26497696059274334,-5.7704192583658465,0,0.12718894108451684,0.9935236916745972,0.99505042436567093,0,83.380835634693426,0,0]
[null,"De","hc","e0","a'","b'","N'","tN'","t","Nc","sac","Nac","sat","Nat","Mtot","u","N","Mo","a''","b''","c''",null,"x",null,374.57869680505246,7.2632809819041895E-4,0.14542626100730366,-4.6517299032363575E-2,3.3801744826478589E-2,3.3765260974459914E-2,0.99892065181232614,5.3177936812724953,375.40632043838815,0.22643975777287986,-374.98532502232706,-0.22618581932047171,-0.71413081817315172,5.7704192583658473,1.8042660688335033E-5,-6.9290660397345256,0,5.7703192583658467,1.4196732827121007E-2,0.22647603469465249,0.22647603469465249,-5.7704192583658465,1.3588562081679151E-2,0.10870849665343321,0.99784068811154647,0.9985583803761241,0,250.07966791992101,0,0]
[null,null,{"$f":"$C$35","v":0.12945607170440351},{"$f":"$D$35","v":3.2742931933764949E-4},{"$f":"$E$35","v":6.555828113227867E-2},{"$f":"$F$35","v":-2.097003764213403E-2},{"$f":"IF($C$2=1,0.5*($O$31*D95*$F$6/$O$30)*(1-W95^2+(E95-F95)*(F95^2*(1-W95^2)+2*F95*(1-W95)+2*LN((1-F95)/(1-F95*W95)))/(F95^3)),$F$6*F95*(LN((1-E95+E95^2)/(1+E95)^2)/(6*E95)+ATAN((2-E95)/(E95*3^0.5))/(E95*3^0.5)-LN((W95^2-E95*W95+E95^2)/(W95+E95)^2)/(6*E95)-ATAN((2*W95-E95)/(E95*3^0.5))/(E95*3^0.5)))","v":4.0789725576609177},{"$f":"IF($C$2=1,($O$31*D95*$F$6/$O$30)*(1-W95^3-(E95-F95)*(-2*F95^3*(1-W95^3)-3*F95^2*(1-W95^2)-6*F95*(1-W95)-6*LN((1-F95)/(1-F95*W95)))/(2*F95^4))/3,$F$6*F95*(LN((1+E95^3)/(E95^3+W95^3)))/3)","v":2.6990386030010254},{"$f":"$I$35","v":0.66169570028899294},{"$f":"$J$35","v":0.22178006084003529},{"$f":"$K$35","v":90.812088468865227},{"$f":"$L$35","v":5.4776561278259202E-2},{"$f":"$M$35","v":458.32747875640376},{"$f":"$N$35","v":0.27645662211829442},{"$f":"$O$35","v":0.11972660615436539},{"$f":"$P$35","v":2.3534552881082957E-2},{"$f":"$Q$35","v":1.0000000000010001E-4},{"$f":"$R$35","v":0.11972425269907729},null,null,null,null,{"$f":"IF(C95<$C$6,0,(C95-$C$6)/C95)","v":0},null,1597.986058326813,6.0285232149804788E-4,0.12070379663606205,-3.860935819686178E-2,8.0376953737926211E-3,8.0352992019884703E-3,0.99970188322737841,5.3945325623273828,311.62546286975629,0.18796805084604387,-311.54355501568301,-0.18791864519241933,-1.1133480303556942,5.7704192583658456,3.5103366031398612E-6,-7.9290660397345256,0,5.7703192583658467,3.3758320569929009E-3,0.18797510879656162,0.18797510879656162,-5.7704192583658465,1.1278506527793697E-2,9.02280522223496E-2,0.99940366781781909,0.99966207464878298,0,905.53556580666464,0,0]
[null,{"$f":"IF(R76>$Q$29*V76,B76/0.5,IF(Q76>Q75,$U$6,-0.5)*B76)","v":4.7016331746461164E-7},{"$f":"IF(Q76>Q75,C76,(1-$T$6)*C76+$T$6*C77)","v":0.15398187908114286},{"$f":"D76+B96","v":4.5743949340491249E-4},{"$f":"IF($C$2=1,D96/($O$31*$O$30),2^(1/3)*$O$30/D96)","v":9.1589070185621901E-2},{"$f":"IF($C$2=1,-($O$31-2)*D96/$O$30,3*($O$30/D96)^2)","v":-2.9296470502715725E-2},{"$f":"IF($C$2=1,0.5*($O$31*D96*$F$6/$O$30)*(1-W96^2+(E96-F96)*(F96^2*(1-W96^2)+2*F96*(1-W96)+2*LN((1-F96)/(1-F96*W96)))/(F96^3)),$F$6*F96*(LN((1-E96+E96^2)/(1+E96)^2)/(6*E96)+ATAN((2-E96)/(E96*3^0.5))/(E96*3^0.5)-LN((W96^2-E96*W96+E96^2)/(W96+E96)^2)/(6*E96)-ATAN((2*W96-E96)/(E96*3^0.5))/(E96*3^0.5)))","v":5.565261360579278},{"$f":"IF($C$2=1,($O$31*D96*$F$6/$O$30)*(1-W96^3-(E96-F96)*(-2*F96^3*(1-W96^3)-3*F96^2*(1-W96^2)-6*F96*(1-W96)-6*LN((1-F96)/(1-F96*W96)))/(2*F96^4))/3,$F$6*F96*(LN((1+E96^3)/(E96^3+W96^3)))/3)","v":3.6709847326072933},{"$f":"H96/G96","v":0.65962485762307255},{"$f":"G96*C96*$D$6","v":0.35991874878946345},{"$f":"MAX(MIN($K$6,$Q$6*$J$6*D96*(C96-$I$6)/C96),-$K$6)","v":144.32663025543985},{"$f":"K96*$H$6","v":8.7055772414949162E-2},{"$f":"MIN($O$6,$Q$6*$N$6*D96*(C$6-C96-$M$6)/C96)","v":458.33333333333337},{"$f":"M96*$L$6","v":0.27646015351590181},{"$f":"(0.5*$C$6-C96+I96*C96)*J96+(0.5*$C$6-$I$6)*L96+(0.5*$C$6-$M$6)*N96","v":0.15465248767925038},{"$f":"0.1*$Q$6*D96*$B$6^2/C96+$R$6","v":2.7642343077168504E-2},{"$f":"(J96+L96-N96)","v":0.1705143676885108},{"$f":"O96-P96*Q96","v":0.14993907102801812},{"$f":"((R96-R95)*(Q96-Q97)-(R96-R97)*(Q96-Q95))/((Q96^2-Q95^2)*(Q96-Q97)-(Q96^2-Q97^2)*(Q96-Q95))","v":-4.9826357806581394E-2},{"$f":"-(S96*(Q96^2-Q95^2)-(R96-R95))/(Q96-Q95)","v":0.18580315185169782},{"$f":"R96-S96*Q96^2-T96*Q96","v":0.11970567288215569},{"$f":"S76*Q96^2+T76*Q96+U76","v":0.14993594350149342},{"$f":"IF(C96<$C$6,0,(C96-$C$6)/C96)","v":0},null,8786.3062315461739,4.7937654480567675E-4,9.598133226482046E-2,-3.0701417361359978E-2,1.4826860319297184E-3,1.4825869827556212E-3,0.9999331961238157,5.4714800791436327,247.80617311046902,0.14947316216794559,-247.79432748379708,-0.14946601705426948,-1.7342350698418108,5.7704192583658473,5.0766971451054992E-7,-8.9290660397345256,0,5.7703192583658467,6.2272813341048168E-4,0.14947418289847073,0.14947418289847073,-5.7704192583658465,8.9684509739082433E-3,7.1747607791265947E-2,0.99986649527895488,0.99993854072624255,0,4044.8007813703343,0,0]
[null,{"$f":"IF(R77>$Q$29*V77,B77/0.5,IF(Q77>Q76,$U$6,-0.5)*B77)","v":1.1245780567626797E-6},{"$f":"IF(Q77>Q76,C77,(1-$T$6)*C77+$T$6*C78)","v":0.17394964462770141},{"$f":"D77+B97","v":5.5004414568257079E-4},0.11013048193352691,-3.5227286496920231E-2,6.5788970214928142,4.3296603895215604,0.65811341557359104,0.48064665555098568,186.26243739409625,0.11235085535174813,458.33333333333337,0.27646015351590181,0.18284034764175799,{"$f":"0.1*$Q$6*D97*$B$6^2/C97+$R$6","v":2.9422855016773594E-2},0.31653735738683197,0.17352691486797259,-3.5916856133980178E-2,0.17902850506711906,0.12045642665311275,0.17351996693716784,0,null,66379.946783845895,3.5590076811330563E-4,7.1258867893578853E-2,-2.2793476525858173E-2,1.9901569948235055E-4,1.9901393718285918E-4,0.99999114492225516,5.5484736471310843,183.97840039801946,0.11097315669304693,-183.97723632661305,-0.11097245454171663,{"$f":"(0.5*$C$6-Y97+AE97*Y97)*AF97+(0.5*$C$6-$I$6)*AH97+(0.5*$C$6-$M$6)*AJ97","v":-1.7633024997678539},5.7704192583658473,4.988877456130671E-8,-9.9290660397345256,0,5.7703192583658467,8.3586593782587223E-5,0.11097325700037984,0.11097325700037984,-5.7704192583658465,6.6583954200227892E-3,5.3267163360182328E-2,0.99997668690387975,0.99999186501306259,0,23162.946577984898,0,0]
[null,{"$f":"IF(R78>$Q$29*V78,B78/0.75,IF(Q78>Q77,$U$6,-0.5)*B78)","v":1.9781689190826403E-6},{"$f":"IF(Q78>Q77,C78,(1-$T$6)*C78+$T$6*C79)","v":0.19020714713826217},6.4851555698131329E-4,0.12984654303176377,-4.153383597082147E-2,7.616261573121923,4.9998578008761987,0.65647138729070009,0.6084403019865634,229.49154842880745,0.13842604082013843,458.33333333333337,0.27646015351590181,0.21164852110245636,3.1725200670683143E-2,0.47040618929080003,0.19672479035047435,-3.2635426117201202E-2,0.17644620489154056,0.12094503529737539,0.1967157121961548,0,null,780778.64607973967,{"$f":"0.1*$O$30","v":2.3242499142093391E-4},4.6536403522337136E-2,-1.4885535690356335E-2,1.7154653652874305E-5,1.715444005186734E-5,0.99998754850950144,5.6254746462843856,120.14925881198398,7.2472325533053619E-2,-120.14919418074334,-7.2472286548407705E-2,-53.171186929986995,5.7704192583658465,2.7699103141064376E-9,-10.929066039734526,0,5.7703192583658467,7.2049545342072081E-6,7.2472331102288762E-2,7.2472331102288762E-2,{"$f":"-(AP98+0.0001)","v":-5.7704192583658465},4.3483398661373256E-3,3.4786718929098605E-2,0.99999702589500161,0.99999930838272444,0,181567.2278884456,0,0]
[null,{"$f":"IF(R79>$Q$29*V79,B79,IF(Q79>Q78,$U$6,-0.5)*B79)","v":4.1915779846300418E-5},{"$f":"IF(Q79>Q78,C79,(1-$T$6)*C79+$T$6*C80)","v":0.20976979172988638},8.3554518016927841E-4,0.16729383285243099,-5.3512049303639515E-2,9.4736481444857201,6.188642048543703,0.65324803646480112,0.8346597832402175,308.38235664999951,0.18601185526048242,458.33333333333337,0.27646015351590181,0.26176570724501907,3.7062763829645622E-2,0.74421148498479817,0.23418317273771763,-3.4290697339645605E-2,0.17845672657404132,0.12036555515260172,0.23404608519357423,0,null,null,null,null,null,null,null,null,null,{"$f":"MAX(BA82:BA98)","v":458.33333333333337},null,{"$f":"MAX(BB82:BB98)","v":0},null,null,null,null,null,{"$f":"MAX(AN82:AN98)","v":8.0046886349183888E-2},5.7703192583658467]
[null,{"$f":"IF(R80>$Q$29*V80,B80,IF(Q80>Q79,$U$6,-0.5)*B80)","v":4.6152151710074355E-5},{"$f":"IF(Q80>Q79,C80,(1-$T$6)*C80+$T$6*C81)","v":0.23210975825278549},9.1999261512481524E-4,0.18420199701107759,-5.8920440627243414E-2,10.26463428384579,6.6899255973616691,0.65174514866935851,1.0006591485142142,352.64257362359461,0.21270898917866546,458.33333333333337,0.27646015351590181,0.29201685952985729,3.6880920580352805E-2,0.93690798417697796,0.25746283057432773,-5.4969420633474077E-2,0.21322013090070546,0.10594715647792352,0.25622308275286887,0,null,{"$f":"0.5*(-(AR100+AS100+AT100)+SQRT((AR100+AS100+AT100)^2+4*AQ100*(AU100+AV100)))/AQ100","v":1.4562357368169363},{"$f":"MAX(AO82:AO98)","v":1.7141343117293875E-3},0.34320597597723634,{"$f":"IF($C$2=1,-($O$31-2)*Z100/$O$30,3*($O$30/Z100)^2)","v":-0.10978082571637796},{"$f":"IF($C$2=1,0.5*($O$31*Z100*$F$6/$O$30)*(1-AW100^2+(AA100-AB100)*(AB100^2*(1-AW100^2)+2*AB100*(1-AW100)+2*LN((1-AB100)/(1-AB100*AW100)))/(AB100^3)),$F$6*AB100*(LN((1-AA100+AA100^2)/(1+AA100)^2)/(6*AA100)+ATAN((2-AA100)/(AA100*3^0.5))/(AA100*3^0.5)-LN((AW100^2-AA100*AW100+AA100^2)/(AW100+AA100)^2)/(6*AA100)-ATAN((2*AW100-AA100)/(AA100*3^0.5))/(AA100*3^0.5)))","v":8.3968130356256747},{"$f":"IF($C$2=1,($O$31*Z100*$F$6/$O$30)*(1-AW100^3-(AA100-AB100)*(-2*AB100^3*(1-AW100^3)-3*AB100^2*(1-AW100^2)-6*AB100*(1-AW100)-6*LN((1-AB100)/(1-AB100*AW100)))/(2*AB100^4))/3,$F$6*AB100*(LN((1+AA100^3)/(AA100^3+AW100^3)))/3)","v":7.0071578676710153},{"$f":"AD100/AC100","v":0.83450207095731632},{"$f":"AC100*Y100*$D$6","v":5.1356504714963318},{"$f":"MAX(MIN($K$6,$Q$6*$J$6*Z100*(Y100-$I$6)/Y100),-$K$6)","v":458.33333333333337},0.27646015351590181,{"$f":"MIN($O$6,$Q$6*$N$6*Z100*(C$6-Y100-$M$6)/Y100)","v":-594.02698073676129},-0.35830863335361307,{"$f":"(0.5*$C$6-Y100+AE100*Y100)*AF100+(0.5*$C$6-$I$6)*AH100+(0.5*$C$6-$M$6)*AJ100","v":0.13172514728417004},{"$f":"AF100+AH100-AJ100","v":5.7704192583658465},{"$f":"0.1*$Q$6*Z100*$B$6^2/Y100+$R$6","v":1.0952770166071843E-2},{"$f":"AK100-AM100*AL100","v":6.8523071385414178E-2},{"$f":"IF(AN100=$AO$88,Z100,0)","v":0},{"$f":"AP99","v":5.7703192583658467},{"$f":"AC100*$D$6","v":3.5266614749627831},{"$f":"IF(AG99<$K$6,$Q$6*Z100*$H$6*$J$6,$H$6*$K$6)","v":0.27646015351590181},{"$f":"IF(AI99<$O$6,$Q$6*Z100*$L$6*$N$6,-$L$6*$O$6)","v":0.53448344187937957},{"$f":"-(AP100+0.0001)","v":-5.7704192583658465},{"$f":"IF(AG99<$K$6,$I$6*$Q$6*Z100*$H$6*$J$6,0)","v":0},{"$f":"IF(AI99<$O$6,($C$6-$M$6)*$Q$6*Z100*$L$6*$N$6,0)","v":0.25655205210210219},{"$f":"MAX(AY82:AY98)","v":0.65657532693602316},{"$f":"IF(Y100<=$C$6,0,(Y100-$C$6)/Y100)","v":0.62918091738337589}]
[null,5.0388523573848284E-5,0.25773794179237436,1.0044400500803521E-3,0.20111016116972422,-6.4328831950847307E-2,11.026448658839449,7.1695190490411447,0.65021107619211893,1.1936123566955978,398.35840071019663,0.24028412643205108,447.76413289015471,0.27008496200231308,0.32184406294881152,3.6262394297157913E-2,1.1638115211253357,0.27964147068218947,-0.10297096053448758,0.31405790205531181,5.3607030695490221E-2,0.27242084790564153,0,null,{"$f":"0.5*(-(AR101+AS101+AT101)+SQRT((AR101+AS101+AT101)^2+4*AQ101*(AU101+AV101)))/AQ101","v":1.3651895295975189},{"$f":"Z100","v":1.7141343117293875E-3},0.34320597597723634,{"$f":"IF($C$2=1,-($O$31-2)*Z101/$O$30,3*($O$30/Z101)^2)","v":-0.10978082571637796},{"$f":"IF($C$2=1,0.5*($O$31*Z101*$F$6/$O$30)*(1-AW101^2+(AA101-AB101)*(AB101^2*(1-AW101^2)+2*AB101*(1-AW101)+2*LN((1-AB101)/(1-AB101*AW101)))/(AB101^3)),$F$6*AB101*(LN((1-AA101+AA101^2)/(1+AA101)^2)/(6*AA101)+ATAN((2-AA101)/(AA101*3^0.5))/(AA101*3^0.5)-LN((AW101^2-AA101*AW101+AA101^2)/(AW101+AA101)^2)/(6*AA101)-ATAN((2*AW101-AA101)/(AA101*3^0.5))/(AA101*3^0.5)))","v":8.9772984063123058},{"$f":"IF($C$2=1,($O$31*Z101*$F$6/$O$30)*(1-AW101^3-(AA101-AB101)*(-2*AB101^3*(1-AW101^3)-3*AB101^2*(1-AW101^2)-6*AB101*(1-AW101)-6*LN((1-AB101)/(1-AB101*AW101)))/(2*AB101^4))/3,$F$6*AB101*(LN((1+AA101^3)/(AA101^3+AW101^3)))/3)","v":7.3803759742950374},{"$f":"AD101/AC101","v":0.82211547842785226},{"$f":"AC101*Y101*$D$6","v":5.1473997911154221},{"$f":"MAX(MIN($K$6,$Q$6*$J$6*Z101*(Y101-$I$6)/Y101),-$K$6)","v":458.33333333333337},0.27646015351590181,{"$f":"MIN($O$6,$Q$6*$N$6*Z101*(C$6-Y101-$M$6)/Y101)","v":-574.54820682691798},-0.34655931373452181,{"$f":"(0.5*$C$6-Y101+AE101*Y101)*AF101+(0.5*$C$6-$I$6)*AH101+(0.5*$C$6-$M$6)*AJ101","v":0.12505122591854342},{"$f":"AF101+AH101-AJ101","v":5.7704192583658456},{"$f":"0.1*$Q$6*Z101*$B$6^2/Y101+$R$6","v":1.1683224187690968E-2},{"$f":"AK101-AM101*AL101","v":5.7634124066085798E-2},{"$f":"IF(AN101=$AO$88,Z101,0)","v":0},{"$f":"AP100","v":5.7703192583658467},{"$f":"AC101*$D$6","v":3.7704653306511684},{"$f":"IF(AG100<$K$6,$Q$6*Z101*$H$6*$J$6,$H$6*$K$6)","v":0.27646015351590181},{"$f":"IF(AI100<$O$6,$Q$6*Z101*$L$6*$N$6,-$L$6*$O$6)","v":0.53448344187937957},{"$f":"-(AP101+0.0001)","v":-5.7704192583658465},{"$f":"IF(AG100<$K$6,$I$6*$Q$6*Z101*$H$6*$J$6,0)","v":0},{"$f":"IF(AI100<$O$6,($C$6-$M$6)*$Q$6*Z101*$L$6*$N$6,0)","v":0.25655205210210219},{"$f":"IF(Y100<=$C$6,0,(Y100-$C$6)/Y100)","v":0.62918091738337589},{"$f":"IF(Y101<=$C$6,0,(Y101-$C$6)/Y101)","v":0.60445052625095852}]
[null,5.4624895437622221E-5,0.28728229315396503,1.0888874850358886E-3,0.21801832532837076,-6.9737223274451185E-2,11.759424740215046,7.6276870377444839,0.64864457286411403,1.4188752923269881,445.32600420069713,0.26861431742388625,377.60181463114958,0.22776404867085973,0.3441170779641905,3.5268335092793424E-2,1.4597255610800146,0.29263498773250463,-3.9255613212756453E-2,0.14689832565115687,0.16184955703773776,0.2849197654356268,0]
[null,5.8861267301396157E-5,0.32152034227515802,1.1733349199914258E-3,0.23492648948701744,-7.5145614598055105E-2,12.463890608736177,8.0646897396722697,0.64704432932198364,1.6831056373324131,458.33333333333337,0.27646015351590181,298.96845760585978,0.180333525133371,0.35936228021647709,3.3956611934693279E-2,1.7792322657149438,0.29894558062790966,-3.0212332929962466E-2,0.11760752219930076,0.18533668154704483,0.29297376427654581,0]
[null,6.3097639165170087E-5,0.36142247287457469,1.2577823549469623E-3,0.25183465364566399,-8.0554005921658983E-2,13.140169068012717,8.4807829689180814,0.6454089688665392,1.9946440073914837,458.33333333333337,0.27646015351590181,213.3197370712258,0.12867143401894449,0.36800358955617241,3.2381812644992708E-2,2.1424327268884409,0.29862773438957008,-2.6294846536996867E-2,0.10224445295300749,0.20026969086943155,0.29227895076855237,0]
[null,6.7334011028944023E-5,0.40821011767341625,1.3422297899024994E-3,0.26874281780431064,-8.5962397245262889E-2,13.788577754399544,8.8762182712493338,0.64373704303311374,2.3640275180224446,458.33333333333337,0.27646015351590181,122.02383107622595,7.3603040884215043E-2,0.36799983930251351,3.0595243900528438E-2,2.5668846306541315,0.28946537796313249,-2.8570289056611575E-2,0.11296023390671943,0.18775617315855037,0.28253519780445113,0]
[null,7.157038289271796E-5,0.46343492031952305,1.4266772248580359E-3,0.28565098196295718,-9.1370788568866754E-2,14.40942924411161,9.2512430150453238,0.64202702676969869,2.804689731309761,458.33333333333337,0.27646015351590181,26.361420461875202,1.5900834213354007E-2,0.35337192798328776,2.8644931232838487E-2,3.0652490506123087,0.26556807971697471,-3.1137126824239827E-2,0.12741700735212527,0.16755993250744522,0.25732418645497646,0]
[null,7.5806754756491896E-5,0.52908775969114819,1.5111246598135731E-3,0.30255914612160389,-9.6779179892470674E-2,15.003031157622461,9.6061004797724738,0.6402773132209344,3.3339264603804439,458.33333333333337,0.27646015351590181,-72.474311138774311,-4.3715474581930425E-2,0.31450740519039266,2.6575619028162353E-2,3.6541020884782762,0.2173973801969816,-1.9527116746250871E-2,4.9405272909736994E-2,0.29760055502544625,0.20792168849987294,0]
[null,8.0043126620265833E-5,0.60775093154630122,1.5955720947691096E-3,0.31946731028025044,-0.10218757121607455,15.315931770022472,9.9222464370233485,0.64783825013140484,3.9094741563069135,458.33333333333337,0.27646015351590181,-173.37767730063314,-0.10457895116239313,0.25492148993937841,2.4428770527440854E-2,4.2905132609852084,0.15010952604182881,3.1713661822510026E-3,-0.13092544297357386,0.65346676813349236,0.14196364436971343,0.11147812044306116]
[null,8.4279498484039769E-5,0.70281369836511054,1.6800195297246461E-3,0.33637547443889698,-0.10759596253967843,14.999037102908501,10.086267517372791,0.67246100187437619,4.4274420700484676,458.33333333333337,0.27646015351590181,-275.33048880657458,-0.16607543826125212,0.19939787854652624,2.2242567826316256E-2,4.8699776618256214,9.1077070090724799E-2,4.4117674025474342E-3,-0.14228812709274277,0.67938458414878833,8.5560383028188913E-2,0.2316598249918132]
[null,8.8515870347813706E-5,0.81878250652390949,1.7644669646801833E-3,0.35328363859754364,-0.11300435386328234,14.199610958296784,10.009633536927577,0.70492308319750008,4.8830850818814175,458.33333333333337,0.27646015351590181,-377.4020536474352,-0.22764355568418881,0.14891246041495435,2.0051911875132201E-2,5.3871887910815079,4.0889025521487973E-2,5.2900312500052732E-3,-0.15129662556568846,0.7024262657216318,3.7891208047779235E-2,0.34048419977542432]
[null,9.2752242211587642E-5,0.9617353344904862,1.8489143996357198E-3,0.37019180275619018,-0.11841274518688621,13.06077318843503,9.6676087777726334,0.74020187306621676,5.2756229698552541,458.33333333333337,0.27646015351590181,-478.74917702201429,-0.28877470030934771,0.10368061550853051,1.7888422478933699E-2,5.8408578236805031,-8.0311688085156485E-4,9.8575859909463357E-3,-0.20258134311245191,0.84614804703685553,-1.4500163161008661E-3,0.43851496286544944]
[null,-9.6988614075361565E-6,1.1400001031491622,1.8266743591083593E-3,0.36573887583982434,-0.1169883935498222,11.38404523410655,8.838542795940004,0.77639737142468201,5.4506813512772023,458.33333333333337,0.27646015351590181,-546.68675401032363,-0.32975368132102711,7.1075385742808431E-2,1.4909636415559573E-2,6.0568951861141311,-1.9230719289306294E-2,1.4330738328401243E-2,-0.25580180479867604,1.0043968311891054,-1.9265048675595975E-2,0.52631583233344303]
[null,null,{"$f":"C93+(C112-C92)","v":1.3651895295975189},{"$f":"D93+(D112-D92)","v":1.9026490503363486E-3},0.38095061734341995,-0.12185415248101164,9.9896020127244185,8.0913665684840019,0.80997887184869743,5.7278340304994249,458.33333333333337,0.27646015351590181,-637.73509030852802,-0.38467274393274142,3.7905312313176245E-2,1.2968105972483567E-2,6.3889669279480676,-4.4947487863147076E-2,null,null,null,null,0.60445052625095852]
[null,"De","hc","e0","a'","b'","N'","tN'","t","Nc","sac","Nac","sat","Nat","Mtot","u","N","Mo","a''","b''","c''",null,"x"]
[null,null,{"$f":"$C$35","v":0.12945607170440351},{"$f":"$D$35","v":3.2742931933764949E-4},{"$f":"$E$35","v":6.555828113227867E-2},{"$f":"$F$35","v":-2.097003764213403E-2},{"$f":"IF($C$2=1,0.5*($O$31*D115*$F$6/$O$30)*(1-W115^2+(E115-F115)*(F115^2*(1-W115^2)+2*F115*(1-W115)+2*LN((1-F115)/(1-F115*W115)))/(F115^3)),$F$6*F115*(LN((1-E115+E115^2)/(1+E115)^2)/(6*E115)+ATAN((2-E115)/(E115*3^0.5))/(E115*3^0.5)-LN((W115^2-E115*W115+E115^2)/(W115+E115)^2)/(6*E115)-ATAN((2*W115-E115)/(E115*3^0.5))/(E115*3^0.5)))","v":4.0789725576609177},{"$f":"IF($C$2=1,($O$31*D115*$F$6/$O$30)*(1-W115^3-(E115-F115)*(-2*F115^3*(1-W115^3)-3*F115^2*(1-W115^2)-6*F115*(1-W115)-6*LN((1-F115)/(1-F115*W115)))/(2*F115^4))/3,$F$6*F115*(LN((1+E115^3)/(E115^3+W115^3)))/3)","v":2.6990386030010254},{"$f":"$I$35","v":0.66169570028899294},{"$f":"$J$35","v":0.22178006084003529},{"$f":"$K$35","v":90.812088468865227},{"$f":"$L$35","v":5.4776561278259202E-2},{"$f":"$M$35","v":458.32747875640376},{"$f":"$N$35","v":0.27645662211829442},{"$f":"$O$35","v":0.11972660615436539},{"$f":"$P$35","v":2.3534552881082957E-2},{"$f":"$Q$35","v":1.0000000000010001E-4},{"$f":"$R$35","v":0.11972425269907729},null,null,null,null,{"$f":"IF(C115<$C$6,0,(C115-$C$6)/C115)","v":0}]
[null,{"$f":"IF(R96>$Q$29*V96,B96,IF(Q96>Q95,$U$6,-0.5)*B96)","v":-4.7016331746461164E-8},{"$f":"IF(Q96>Q95,C96,(1-$T$6)*C96+$T$6*C97)","v":0.15398187908114286},{"$f":"D96+B116","v":4.5739247707316601E-4},{"$f":"IF($C$2=1,D116/($O$31*$O$30),2^(1/3)*$O$30/D116)","v":9.1579656520710401E-2},{"$f":"IF($C$2=1,-($O$31-2)*D116/$O$30,3*($O$30/D116)^2)","v":-2.9293459366606978E-2},{"$f":"IF($C$2=1,0.5*($O$31*D116*$F$6/$O$30)*(1-W116^2+(E116-F116)*(F116^2*(1-W116^2)+2*F116*(1-W116)+2*LN((1-F116)/(1-F116*W116)))/(F116^3)),$F$6*F116*(LN((1-E116+E116^2)/(1+E116)^2)/(6*E116)+ATAN((2-E116)/(E116*3^0.5))/(E116*3^0.5)-LN((W116^2-E116*W116+E116^2)/(W116+E116)^2)/(6*E116)-ATAN((2*W116-E116)/(E116*3^0.5))/(E116*3^0.5)))","v":5.5647372700515616},{"$f":"IF($C$2=1,($O$31*D116*$F$6/$O$30)*(1-W116^3-(E116-F116)*(-2*F116^3*(1-W116^3)-3*F116^2*(1-W116^2)-6*F116*(1-W116)-6*LN((1-F116)/(1-F116*W116)))/(2*F116^4))/3,$F$6*F116*(LN((1+E116^3)/(E116^3+W116^3)))/3)","v":3.6706432562197731},{"$f":"H116/G116","v":0.65962561718313828},{"$f":"G116*C116*$D$6","v":0.35988485460287162},{"$f":"MAX(MIN($K$6,$Q$6*$J$6*D116*(C116-$I$6)/C116),-$K$6)","v":144.31179614333155},{"$f":"K116*$H$6","v":8.7046824689325744E-2},{"$f":"MIN($O$6,$Q$6*$N$6*D116*(C$6-C116-$M$6)/C116)","v":458.33333333333337},{"$f":"M116*$L$6","v":0.27646015351590181},{"$f":"(0.5*$C$6-C116+I116*C116)*J116+(0.5*$C$6-$I$6)*L116+(0.5*$C$6-$M$6)*N116","v":0.15464327576676357},{"$f":"0.1*$Q$6*D116*$B$6^2/C116+$R$6","v":2.7639501954810023E-2},{"$f":"(J116+L116-N116)","v":0.17047152577629554},{"$f":"O116-P116*Q116","v":0.14993152769683019},{"$f":"((R116-R115)*(Q116-Q117)-(R116-R117)*(Q116-Q115))/((Q116^2-Q115^2)*(Q116-Q117)-(Q116^2-Q117^2)*(Q116-Q115))","v":-4.9833681814351077E-2},{"$f":"-(S116*(Q116^2-Q115^2)-(R116-R115))/(Q116-Q115)","v":0.18580257536424286},{"$f":"R116-S116*Q116^2-T116*Q116","v":0.11970567293987766},{"$f":"S96*Q116^2+T96*Q116+U96","v":0.14993183875343308},{"$f":"IF(C116<$C$6,0,(C116-$C$6)/C116)","v":0}]
[null,{"$f":"IF(R97>$Q$29*V97,B97,IF(Q97>Q96,$U$6,-0.5)*B97)","v":-1.1245780567626798E-7},{"$f":"IF(Q97>Q96,C97,(1-$T$6)*C97+$T$6*C98)","v":0.17394964462770141},{"$f":"D97+B117","v":5.4993168787689447E-4},0.11010796550019418,-3.5220084196213156E-2,6.5776885610951572,4.328877283399498,0.65811527000584502,0.48055836682316366,186.22435560529132,0.11232788495790268,458.33333333333337,0.27646015351590181,0.18281709154334913,{"$f":"0.1*$Q$6*D117*$B$6^2/C117+$R$6","v":2.9416839445590998E-2},0.31642609826516455,0.173508835814288,-3.5916402274229937E-2,0.17902628502303708,0.12045639381936338,0.17350952568500083,0]
[null,-1.9781689190826404E-7,0.19020714713826217,6.4831774008940505E-4,0.12980693590238795,-4.1521166892566783E-2,7.6142190984997775,4.9985423730805225,0.65647472293847975,0.60827713481275159,229.42154655400168,0.138383816684018,458.33333333333337,0.27646015351590181,0.2116066464306926,3.1715523523351399E-2,0.47020079798086778,0.19669398196163179,-3.2669659423203275E-2,0.17647230977122499,0.12093945657104455,0.19669485475291998,0]
[null,-4.1915779846300422E-6,0.20976979172988638,8.3135360218464834E-4,0.16645459020775849,-5.3243601907739115E-2,9.433621351242504,6.1631908764085166,0.65332184183932307,0.83113329016567472,306.83533235058275,0.18507871218707966,458.33333333333337,0.27646015351590181,0.26088697215047763,3.6876835565555328E-2,0.73975184883685252,0.23360726486160546,-3.2265307390732065E-2,0.17598306295929034,0.12108010311066211,0.23361425432746105,0]
[null,4.6152151710074355E-5,0.23210975825278549,9.6614476683488958E-4,0.19344263478532814,-6.1876230782454647E-2,10.684574008165363,6.9547034507823495,0.65091069100812327,1.0415974338290883,370.33316514546152,0.22337970259231441,458.33333333333337,0.27646015351590181,0.30180012506612403,3.8731080911912331E-2,0.98851698290550083,0.26351379381841161,-3.0789618842345601E-2,0.17343267643575488,0.1221592110835962,0.26300463768044646,0]
[null,5.0388523573848284E-5,0.25773794179237436,1.0548285736542004E-3,0.21119901027150029,-6.7555938302265778E-2,11.467253408829967,7.4454623263864237,0.64928035170595422,1.2413294424734382,418.34236258370072,0.25233816825184352,458.33333333333337,0.27646015351590181,0.33399816096594021,3.8081525772192537E-2,1.2172074572093798,0.28764504381411626,-0.11430684908947338,0.35764867236254633,2.1668753824401976E-2,0.28331949440016679,0]
[null,5.4624895437622221E-5,0.28728229315396503,1.1435123804735107E-3,0.22895538575767235,-7.3235645822076881E-2,12.218345101433158,7.9127639221713579,0.64761339252426464,1.4742479637002177,458.33333333333337,0.27646015351590181,396.54450607057146,0.23919001096179848,0.35708882851577961,3.7037598807528251E-2,1.511518106254321,0.3011058273060172,-5.3361082296657356E-2,0.19134440053009216,0.1337986716316204,0.29420224742153828,0]
[null,5.8861267301396157E-5,0.32152034227515802,1.2321961872928219E-3,0.24671176124384456,-7.8915353341888053E-2,12.938225246745201,8.356906414526188,0.64590824901803978,1.7471590961019752,458.33333333333337,0.27646015351590181,313.96644496479161,0.18938009797921793,0.37064936243705526,3.5660072027530507E-2,1.8342391516386591,0.30524026217390421,-2.3968058961679944E-2,9.3002479375673755E-2,0.21529040818141951,0.29940962535718535,0]
[null,6.3097639165170087E-5,0.36142247287457469,1.3208799941121323E-3,0.26446813673001662,-8.459506086169917E-2,13.627263673863339,8.7781827485067652,0.64416327140884799,2.068583720919051,458.33333333333337,0.27646015351590181,224.02108913232763,0.1351263375105225,0.37891561361923654,3.40062716952821E-2,2.2099175369244302,0.30376455743441577,-2.5491383892735853E-2,9.9163044084458418E-2,0.20911558426842722,0.29780442447768563,0]
[null,6.7334011028944023E-5,0.40821011767341625,1.4095638009314435E-3,0.28222451221618883,-9.0274768381510329E-2,14.285824018201895,9.176880754938546,0.64237671857402645,2.4492795194834032,458.33333333333337,0.27646015351590181,128.14525234797213,7.7295395206809489E-2,0.37803498276436515,3.2130078327337767E-2,2.6484442777924957,0.29294026067330275,-2.7774899856026648E-2,0.11025719084380697,0.1957505228081538,0.28652570561473867,0]
[null,7.157038289271796E-5,0.46343492031952305,1.4982476077507539E-3,0.29998088770236092,-9.5954475901321445E-2,14.914263855773633,9.5532832645784307,0.64054675155020468,2.9029520862824145,458.33333333333337,0.27646015351590181,27.683861812433715,1.6698512043443862E-2,0.3617773712144744,3.0081926693724063E-2,3.1627137277548725,0.26663684870291759,-3.0356848799486687E-2,0.12526130411650938,0.1741234185570375,0.25908630251870646,0]
[null,7.5806754756491896E-5,0.52908775969114819,1.5869314145700651E-3,0.31773726318853313,-0.1016341834211326,15.512934833892151,9.9076682192289667,0.638671426478439,3.4472356537494844,458.33333333333337,0.27646015351590181,-76.110041847662728,-4.5908495679941555E-2,0.32014583434523114,2.7908805817939451E-2,3.7696043029453277,0.214940679843861,-1.9097523459325659E-2,4.7208080047391403E-2,0.30835911380195913,0.20636018395618294,0]
[null,8.0043126620265833E-5,0.60775093154630122,1.6756152213893755E-3,0.33549363867470516,-0.10731389094094372,15.816123402911892,10.220618467644588,0.64621514433574034,4.0371507672598019,458.33333333333337,0.27646015351590181,-182.07530457977552,-0.10982523633944578,0.25698383665017671,2.5654258976954204E-2,4.423436157115149,0.1435038599075216,3.1274280438630835E-3,-0.13488184684111595,0.67895137840709718,0.13637987776792593,0.11147812044306116]
[null,8.4279498484039769E-5,0.70281369836511054,1.7642990282086858E-3,0.3532500141608772,-0.11299359846075481,15.460117126382629,10.373663801107368,0.67099516234613454,4.5635444797953193,458.33333333333337,0.27646015351590181,-289.14265890544647,-0.17440674298689984,0.19836391216316865,2.3358383701210527E-2,5.0144113762981206,8.1235367199881975E-2,4.3580639845607642E-3,-0.14649640121855928,0.70624802632623596,7.6824278678370383E-2,0.2316598249918132]
[null,8.8515870347813706E-5,0.81878250652390949,1.852982835027997E-3,0.37100638964704946,-0.118673305980566,14.602657709129319,10.275422431336553,0.7036679648330415,5.0216882860164693,458.33333333333337,0.27646015351590181,-396.33472392030143,-0.23906347334986711,0.14528944639645719,2.1057831774622473E-2,5.5372119128822384,2.8687769434547511E-2,5.2338603960037791E-3,-0.155737475030122,0.73056526548141187,2.6860932821540451E-2,0.34048419977542432]
[null,9.2752242211587642E-5,0.9617353344904862,1.9416666418473074E-3,0.3887627651332215,-0.12435301350037709,13.396114658822418,9.9019029834906807,0.73916230456936871,5.4110770611557024,458.33333333333337,0.27646015351590181,-502.76600529404942,-0.30326130983164273,9.7956934639131715E-2,1.8785809234575908E-2,5.9907985245032469,-1.4585063604965101E-2,5.7378063361191008E-2,-0.75685639106194746,2.4603095023185824,-1.369048611674839E-2,0.43851496286544944]
[null,-9.6988614075361565E-6,1.1400001031491622,1.8169754977008232E-3,0.36379695846936866,-0.11636723509885241,11.352853319178475,8.8152206346415269,0.77647622027758401,5.4357466610583236,458.33333333333337,0.27646015351590181,-543.78408061698269,-0.32800282997863539,7.1706262306103191E-2,1.4830472608113427E-2,6.0402096445528608,-1.7872901374700545E-2,-2.7775740237019012E-2,0.26762971565431765,-0.62103870255293003,-1.785514053498849E-2,0.52631583233344303]
[null,null,{"$f":"C113","v":1.3651895295975189},{"$f":"D113+(D132-D112)","v":1.8929501889288125E-3},0.37900869997296427,-0.12123299403004183,9.9661320647411173,8.0729436145371825,0.8100377922040799,5.7143768410556843,458.33333333333337,0.27646015351590181,-634.48419952836468,-0.38271185281096531,3.863430305548024E-2,1.2902000317043262E-2,6.3735488473825512,-4.3597226194140151E-2,null,null,null,null,0.60445052625095852]
[null,"De","hc","e0","a'","b'","N'","tN'","t","Nc","sac","Nac","sat","Nat","Mtot","u","N","Mo","a''","b''","c''",null,"x"]
[null,null,{"$f":"$C$35","v":0.12945607170440351},{"$f":"$D$35","v":3.2742931933764949E-4},{"$f":"$E$35","v":6.555828113227867E-2},{"$f":"$F$35","v":-2.097003764213403E-2},{"$f":"IF($C$2=1,0.5*($O$31*D135*$F$6/$O$30)*(1-W135^2+(E135-F135)*(F135^2*(1-W135^2)+2*F135*(1-W135)+2*LN((1-F135)/(1-F135*W135)))/(F135^3)),$F$6*F135*(LN((1-E135+E135^2)/(1+E135)^2)/(6*E135)+ATAN((2-E135)/(E135*3^0.5))/(E135*3^0.5)-LN((W135^2-E135*W135+E135^2)/(W135+E135)^2)/(6*E135)-ATAN((2*W135-E135)/(E135*3^0.5))/(E135*3^0.5)))","v":4.0789725576609177},{"$f":"IF($C$2=1,($O$31*D135*$F$6/$O$30)*(1-W135^3-(E135-F135)*(-2*F135^3*(1-W135^3)-3*F135^2*(1-W135^2)-6*F135*(1-W135)-6*LN((1-F135)/(1-F135*W135)))/(2*F135^4))/3,$F$6*F135*(LN((1+E135^3)/(E135^3+W135^3)))/3)","v":2.6990386030010254},{"$f":"$I$35","v":0.66169570028899294},{"$f":"$J$35","v":0.22178006084003529},{"$f":"$K$35","v":90.812088468865227},{"$f":"$L$35","v":5.4776561278259202E-2},{"$f":"$M$35","v":458.32747875640376},{"$f":"$N$35","v":0.27645662211829442},{"$f":"$O$35","v":0.11972660615436539},{"$f":"$P$35","v":2.3534552881082957E-2},{"$f":"$Q$35","v":1.0000000000010001E-4},{"$f":"$R$35","v":0.11972425269907729},null,null,null,null,{"$f":"IF(C135<$C$6,0,(C135-$C$6)/C135)","v":0}]
[null,{"$f":"IF(R116>$Q$29*V116,B116,IF(Q116>Q115,$U$6,-0.5)*B116)","v":4.701633174646117E-9},{"$f":"IF(Q116>Q115,C116,(1-$T$6)*C116+$T$6*C117)","v":0.15398187908114286},{"$f":"D116+B136","v":4.5739717870634064E-4},{"$f":"IF($C$2=1,D136/($O$31*$O$30),2^(1/3)*$O$30/D136)","v":9.1580597887201548E-2},{"$f":"IF($C$2=1,-($O$31-2)*D136/$O$30,3*($O$30/D136)^2)","v":-2.9293760480217854E-2},{"$f":"IF($C$2=1,0.5*($O$31*D136*$F$6/$O$30)*(1-W136^2+(E136-F136)*(F136^2*(1-W136^2)+2*F136*(1-W136)+2*LN((1-F136)/(1-F136*W136)))/(F136^3)),$F$6*F136*(LN((1-E136+E136^2)/(1+E136)^2)/(6*E136)+ATAN((2-E136)/(E136*3^0.5))/(E136*3^0.5)-LN((W136^2-E136*W136+E136^2)/(W136+E136)^2)/(6*E136)-ATAN((2*W136-E136)/(E136*3^0.5))/(E136*3^0.5)))","v":5.5647896795345737},{"$f":"IF($C$2=1,($O$31*D136*$F$6/$O$30)*(1-W136^3-(E136-F136)*(-2*F136^3*(1-W136^3)-3*F136^2*(1-W136^2)-6*F136*(1-W136)-6*LN((1-F136)/(1-F136*W136)))/(2*F136^4))/3,$F$6*F136*(LN((1+E136^3)/(E136^3+W136^3)))/3)","v":3.6706774042969568},{"$f":"H136/G136","v":0.6596255412484815},{"$f":"G136*C136*$D$6","v":0.35988824404935543},{"$f":"MAX(MIN($K$6,$Q$6*$J$6*D136*(C136-$I$6)/C136),-$K$6)","v":144.31327955454236},{"$f":"K136*$H$6","v":8.7047719461888065E-2},{"$f":"MIN($O$6,$Q$6*$N$6*D136*(C$6-C136-$M$6)/C136)","v":458.33333333333337},{"$f":"M136*$L$6","v":0.27646015351590181},{"$f":"(0.5*$C$6-C136+I136*C136)*J136+(0.5*$C$6-$I$6)*L136+(0.5*$C$6-$M$6)*N136","v":0.15464419696560644},{"$f":"0.1*$Q$6*D136*$B$6^2/C136+$R$6","v":2.7639786067045868E-2},{"$f":"(J136+L136-N136)","v":0.17047580999534168},{"$f":"O136-P136*Q136","v":0.14993228204772885},{"$f":"((R136-R135)*(Q136-Q137)-(R136-R137)*(Q136-Q135))/((Q136^2-Q135^2)*(Q136-Q137)-(Q136^2-Q137^2)*(Q136-Q135))","v":-4.9832948698215973E-2},{"$f":"-(S136*(Q136^2-Q135^2)-(R136-R135))/(Q136-Q135)","v":0.18580263298900207},{"$f":"R136-S136*Q136^2-T136*Q136","v":0.11970567293410786},{"$f":"S116*Q136^2+T116*Q136+U116","v":0.14993225092404872},{"$f":"IF(C136<$C$6,0,(C136-$C$6)/C136)","v":0}]
[null,{"$f":"IF(R117>$Q$29*V117,B117,IF(Q117>Q116,$U$6,-0.5)*B117)","v":1.1245780567626798E-8},{"$f":"IF(Q117>Q116,C117,(1-$T$6)*C117+$T$6*C118)","v":0.17394964462770141},{"$f":"D117+B137","v":5.4994293365746209E-4},0.11011021714352745,-3.5220804426283864E-2,6.5778094095857043,4.3289555958075416,0.6581150845597693,0.48056719587499713,186.22816378417178,0.1123301819972872,458.33333333333337,0.27646015351590181,0.18281941719321049,{"$f":"0.1*$Q$6*D137*$B$6^2/C137+$R$6","v":2.9417441002709255E-2},0.31643722435638255,0.17351064381464554,-3.5916447137368517E-2,0.17902650698644934,0.12045639710970199,0.17351057477907983,0]
[null,1.9781689190826406E-8,0.19020714713826217,6.4833752177859583E-4,0.12981089661532555,-4.152243380039225E-2,7.614423353436913,4.9986739214967741,0.6564743893889915,0.6082934521272817,229.42854674148225,0.13838803909763003,458.33333333333337,0.27646015351590181,0.21161083403116704,3.1716491238084572E-2,0.47022133770900998,0.19669706309375881,-3.2665883817178575E-2,0.1764694235190862,0.12094006641777881,0.19669697560726745,0]
[null,4.1915779846300426E-7,0.20976979172988638,8.3177275998311132E-4,0.16653851447222573,-5.3270446647329155E-2,9.4376273034203422,6.1657384289685231,0.65331446461484699,0.83148622782236525,306.99003478052441,0.18517202649441994,458.33333333333337,0.27646015351590181,0.26097490803591189,3.6895428391964358E-2,0.74019810080088344,0.23366498201194488,-3.1657930245467217E-2,0.17524937692277129,0.12129089165474796,0.23366448865368128,0]
[null,4.6152151710074355E-5,0.23210975825278549,1.012296918544964E-3,0.20268327255957871,-6.4832020937665893E-2,11.095855343863718,7.2130462769189156,0.6500667189130136,1.0816916466182758,388.02375666732843,0.23405041600596335,458.33333333333337,0.27646015351590181,0.31140580007296631,4.0581241243471872E-2,1.0392819091083374,0.26923045019946484,-2.9071194862394338E-2,0.17064633301766824,0.1232808012110844,0.26914857480411347,0]
[null,5.0388523573848284E-5,0.25773794179237436,1.1052170972280487E-3,0.22128785937327636,-7.0783044653684263E-2,11.89786079989776,7.7138329749635304,0.64833780666099372,1.2879426648050849,438.32632445720475,0.26439221007163594,458.33333333333337,0.27646015351590181,0.34458865590944371,3.9900657247227161E-2,1.275874721360819,0.29368041596202421,-0.10196853442901294,0.33941509205888687,2.6619401597595682E-2,0.29190852906990988,0]
[null,5.4624895437622221E-5,0.28728229315396503,1.1981372759111329E-3,0.23989244618697392,-7.6734068369702604E-2,12.665424055179814,8.1890544413705904,0.64656772688329289,1.5281918678625681,458.33333333333337,0.27646015351590181,415.48719750999334,0.25061597325273721,0.36813308348029633,3.8806862522263084E-2,1.5540360481257327,0.30782582020603999,-6.7227571184943324E-2,0.24110126603215787,9.5502230940366806E-2,0.30228625773128859,0]
[null,5.8861267301396157E-5,0.32152034227515802,1.2910574545942181E-3,0.25849703300067173,-8.2685092085721015E-2,13.398973463975103,8.639050079932284,0.64475462267012484,1.8093778643946747,458.33333333333337,0.27646015351590181,328.96443232372337,0.19842667082506482,0.38159362225304888,3.7363532120367741E-2,1.8874113470855116,0.31107326776187283,-2.3243895294415555E-2,8.9733759206885477E-2,0.22451098253337626,0.30544240907809472,0]
[null,6.3097639165170087E-5,0.36142247287457469,1.3839776332773023E-3,0.27710161981436926,-8.8636115801739357E-2,14.098929852448343,9.0641530768991743,0.64289652986145918,2.1401814387059575,458.33333333333337,0.27646015351590181,234.72244119342946,0.14158124100210051,0.38941469467895889,3.5630730745571479E-2,2.2750603512197589,0.30835263187472239,-2.4780523365155495E-2,9.6129930062161917E-2,0.21791274044020131,0.30277665043424185,0]
[null,6.7334011028944023E-5,0.40821011767341625,1.4768978119603876E-3,0.29570620662806701,-9.4587139517757768E-2,14.765706689919547,9.4646905463144684,0.64099136906030729,2.5315545634777474,458.33333333333337,0.27646015351590181,134.26667361971835,8.0987749529403963E-2,0.38758205164687531,3.3664912754147104E-2,2.7270269674642456,0.29577692670898514,-2.7076692439160208E-2,0.10761556826879529,0.20366696094339387,0.28987192217688329,0]
[null,7.157038289271796E-5,0.46343492031952305,1.5698179906434718E-3,0.3143107934417646,-0.10053816323377611,15.399710255287184,9.8409836718059722,0.63903693697271136,2.9974406679431582,458.33333333333337,0.27646015351590181,29.006303162992232,1.7496189873533716E-2,0.36961927985812798,3.1518922154609635E-2,3.2564046315855264,0.26698091577127347,-2.9679347010722851E-2,0.12318837387369455,0.180554599099922,0.26011568996676271,0]
[null,7.5806754756491896E-5,0.52908775969114819,1.6627381693265571E-3,0.33291538025546236,-0.10648918694979452,16.001339798887209,10.193347843715834,0.63703089690181547,3.5557674710250167,458.33333333333337,0.27646015351590181,-79.745772556551145,-4.8101516777952692E-2,0.32515402221866163,2.9241992607716545E-2,3.8803291413188714,0.21168546615270811,-1.8741111967260308E-2,4.5125102423049006E-2,0.31876928160642137,0.20399146559628789,0]
[null,8.0043126620265833E-5,0.60775093154630122,1.7556583480096413E-3,0.35151996706915994,-0.11244021066581286,16.292663616151415,10.501499030906187,0.64455384818082972,4.1587902258363521,458.33333333333337,0.27646015351590181,-190.7729318589179,-0.11507152151649842,0.25837175610124374,2.6879747426467555E-2,4.5503219008687523,0.13606025269676794,3.0605242708292087E-3,-0.13867688484899587,0.7037152497480974,0.12995029726690155,0.11147812044306116]
[null,8.4279498484039769E-5,0.70281369836511054,1.8485785266927255E-3,0.37012455388285748,-0.11839123438183122,15.895621236931143,10.641969812066241,0.66949065113234996,4.6920973467221989,458.33333333333337,0.27646015351590181,-302.95482900431841,-0.18273804771254759,0.1966370657240864,2.4474199576104801E-2,5.1512955479506477,7.0563230408042105E-2,4.2688369485974469E-3,-0.15039947220726185,0.73203816289476342,6.7246680916460133E-2,0.2316598249918132]
[null,8.8515870347813706E-5,0.81878250652390949,1.9414987053758108E-3,0.38872914069655529,-0.12434225809784963,14.978709350280909,10.520672206046207,0.70237508185903241,5.1510081782527708,458.33333333333337,0.27646015351590181,-415.26739419316766,-0.2504833910155454,0.14097775134871093,2.2063751674112737E-2,5.6779517227842176,1.570083451959936E-2,8.9600144631628107E-3,-0.2012013935034016,0.86924951064319067,1.503053672052701E-2,0.34048419977542432]
[null,-9.2752242211587656E-6,0.9617353344904862,1.9323914176261486E-3,0.38690566889551836,-0.12375898666902801,13.363834456127714,9.8794530713720103,0.73926784290881342,5.3980381563105784,458.33333333333337,0.27646015351590181,-500.36432246684592,-0.30181264887941328,9.8559448048358547E-2,1.8696070559011686E-2,5.9763109587058931,-1.3174083318201607E-2,7.4273738032546485E-2,-0.96238468468723171,3.0855534886211045,-1.356793761003372E-2,0.43851496286544944]
[null,-9.6988614075361565E-6,1.1400001031491622,1.8072766362932872E-3,0.36185504109891298,-0.1157460766478826,11.3213757329211,8.791668456992225,0.7765547813617022,5.420675191394599,458.33333333333337,0.27646015351590181,-540.88140722364187,-0.32625197863624367,7.2330586693000007E-2,1.4751308800667284E-2,6.0233873235467446,-1.6522259742662845E-2,-1.5137416970941113E-2,0.110522198422343,-0.13303669405002971,-1.6738309503667059E-2,0.52631583233344303]
[null,null,{"$f":"C133","v":1.3651895295975189},{"$f":"D133+(D152-D132)","v":1.8832513275212764E-3},0.37706678260250859,-0.12061183557907201,9.9424063998534677,8.054308412412718,0.8100964785075998,5.7007730287549929,458.33333333333337,0.27646015351590181,-631.23330874820147,-0.38075096168918926,3.9357731721143929E-2,1.2835894661602955E-2,6.3579841439600839,-4.2252683010869541E-2,null,null,null,null,0.60445052625095852]
[null,"De","hc","e0","a'","b'","N'","tN'","t","Nc","sac","Nac","sat","Nat","Mtot","u","N","Mo","a''","b''","c''",null,"x"]
[null,null,{"$f":"$C$35","v":0.12945607170440351},{"$f":"$D$35","v":3.2742931933764949E-4},{"$f":"$E$35","v":6.555828113227867E-2},{"$f":"$F$35","v":-2.097003764213403E-2},{"$f":"IF($C$2=1,0.5*($O$31*D155*$F$6/$O$30)*(1-W155^2+(E155-F155)*(F155^2*(1-W155^2)+2*F155*(1-W155)+2*LN((1-F155)/(1-F155*W155)))/(F155^3)),$F$6*F155*(LN((1-E155+E155^2)/(1+E155)^2)/(6*E155)+ATAN((2-E155)/(E155*3^0.5))/(E155*3^0.5)-LN((W155^2-E155*W155+E155^2)/(W155+E155)^2)/(6*E155)-ATAN((2*W155-E155)/(E155*3^0.5))/(E155*3^0.5)))","v":4.0789725576609177},{"$f":"IF($C$2=1,($O$31*D155*$F$6/$O$30)*(1-W155^3-(E155-F155)*(-2*F155^3*(1-W155^3)-3*F155^2*(1-W155^2)-6*F155*(1-W155)-6*LN((1-F155)/(1-F155*W155)))/(2*F155^4))/3,$F$6*F155*(LN((1+E155^3)/(E155^3+W155^3)))/3)","v":2.6990386030010254},{"$f":"$I$35","v":0.66169570028899294},{"$f":"$J$35","v":0.22178006084003529},{"$f":"$K$35","v":90.812088468865227},{"$f":"$L$35","v":5.4776561278259202E-2},{"$f":"$M$35","v":458.32747875640376},{"$f":"$N$35","v":0.27645662211829442},{"$f":"$O$35","v":0.11972660615436539},{"$f":"$P$35","v":2.3534552881082957E-2},{"$f":"$Q$35","v":1.0000000000010001E-4},{"$f":"$R$35","v":0.11972425269907729},null,null,null,null,{"$f":"IF(C155<$C$6,0,(C155-$C$6)/C155)","v":0}]
[null,{"$f":"IF(R136>$Q$29*V136,IF(B136=B96,1.22,1)*B136,IF(Q136>Q135,$U$6,-0.5)*B136)","v":-4.7016331746461177E-10},{"$f":"IF(Q136>Q135,C136,(1-$T$6)*C136+$T$6*C137)","v":0.15398187908114286},{"$f":"D136+B156","v":4.5739670854302319E-4},{"$f":"IF($C$2=1,D156/($O$31*$O$30),2^(1/3)*$O$30/D156)","v":9.1580503750552433E-2},{"$f":"IF($C$2=1,-($O$31-2)*D156/$O$30,3*($O$30/D156)^2)","v":-2.9293730368856769E-2},{"$f":"IF($C$2=1,0.5*($O$31*D156*$F$6/$O$30)*(1-W156^2+(E156-F156)*(F156^2*(1-W156^2)+2*F156*(1-W156)+2*LN((1-F156)/(1-F156*W156)))/(F156^3)),$F$6*F156*(LN((1-E156+E156^2)/(1+E156)^2)/(6*E156)+ATAN((2-E156)/(E156*3^0.5))/(E156*3^0.5)-LN((W156^2-E156*W156+E156^2)/(W156+E156)^2)/(6*E156)-ATAN((2*W156-E156)/(E156*3^0.5))/(E156*3^0.5)))","v":5.564784438595753},{"$f":"IF($C$2=1,($O$31*D156*$F$6/$O$30)*(1-W156^3-(E156-F156)*(-2*F156^3*(1-W156^3)-3*F156^2*(1-W156^2)-6*F156*(1-W156)-6*LN((1-F156)/(1-F156*W156)))/(2*F156^4))/3,$F$6*F156*(LN((1+E156^3)/(E156^3+W156^3)))/3)","v":3.670673989322887},{"$f":"H156/G156","v":0.65962554881086544},{"$f":"G156*C156*$D$6","v":0.35988790510532015},{"$f":"MAX(MIN($K$6,$Q$6*$J$6*D156*(C156-$I$6)/C156),-$K$6)","v":144.31313121342126},{"$f":"K156*$H$6","v":8.7047629984631822E-2},{"$f":"MIN($O$6,$Q$6*$N$6*D156*(C$6-C156-$M$6)/C156)","v":458.33333333333337},{"$f":"M156*$L$6","v":0.27646015351590181},{"$f":"(0.5*$C$6-C156+I156*C156)*J156+(0.5*$C$6-$I$6)*L156+(0.5*$C$6-$M$6)*N156","v":0.15464410484413671},{"$f":"0.1*$Q$6*D156*$B$6^2/C156+$R$6","v":2.7639757655822283E-2},{"$f":"(J156+L156-N156)","v":0.17047538157405018},{"$f":"O156-P156*Q156","v":0.14993220661114612},{"$f":"((R156-R155)*(Q156-Q157)-(R156-R157)*(Q156-Q155))/((Q156^2-Q155^2)*(Q156-Q157)-(Q156^2-Q157^2)*(Q156-Q155))","v":-4.9833021948871431E-2},{"$f":"-(S156*(Q156^2-Q155^2)-(R156-R155))/(Q156-Q155)","v":0.18580262720697141},{"$f":"R156-S156*Q156^2-T156*Q156","v":0.1197056729346868},{"$f":"S136*Q156^2+T136*Q156+U136","v":0.14993220972506105},{"$f":"IF(C156<$C$6,0,(C156-$C$6)/C156)","v":0}]
[null,{"$f":"IF(R137>$Q$29*V137,IF(B137=B97,1.22,1)*B137,IF(Q137>Q136,$U$6,-0.5)*B137)","v":-1.1245780567626799E-9},{"$f":"IF(Q137>Q136,C137,(1-$T$6)*C137+$T$6*C138)","v":0.17394964462770141},{"$f":"D137+B157","v":5.4994180907940533E-4},0.11010999197919412,-3.5220732403276792E-2,6.5777973247633916,4.3289477645289489,0.6581151030956498,0.4805663129717675,186.22778296628377,0.11232995229334876,458.33333333333337,0.27646015351590181,0.18281918462793173,{"$f":"0.1*$Q$6*D157*$B$6^2/C157+$R$6","v":2.9417380846997434E-2},0.31643611174921449,0.17351046301486206,-3.591644264913308E-2,0.17902648479818423,0.12045639677766073,0.17351046991865648,0]
[null,-1.9781689190826407E-9,0.19020714713826217,6.483355436096768E-4,0.12981050054403179,-4.1522307109609712E-2,7.6144029280174337,4.9986607667231837,0.65647442274566992,0.608291820401759,229.42784672273422,0.13838761685626885,458.33333333333337,0.27646015351590181,0.21161041527262658,3.1716394466611252E-2,0.47021928374212607,0.19669675498365391,-3.2666257785827733E-2,0.17646970933912076,0.12094000596018309,0.19669676372993522,0]
[null,-4.1915779846300431E-8,0.20976979172988638,8.3173084420326505E-4,0.16653012204577902,-5.3267762173370155E-2,9.4372267409343262,6.1654836981137384,0.6533152023751555,0.83145093694047334,306.97456453753023,0.18516269506368591,458.33333333333337,0.27646015351590181,0.26096611507202788,3.6893569109323454E-2,0.74015347848825741,0.23365921156191521,-3.1684692762072669E-2,0.17528164977000965,0.12128162439209061,0.23365925319820841,0]
[null,-4.6152151710074356E-6,0.23210975825278549,1.0076817033739566E-3,0.20175920878215367,-6.4536441922144763E-2,11.055115290740792,7.1875003430185638,0.65015155011892567,1.0777200577880173,386.2546975151418,0.2329833446645985,458.33333333333337,0.27646015351590181,0.31045319065613664,4.0396225210315911E-2,1.0342432489367139,0.26867366744984034,-2.8971670647747388E-2,0.17046767220891931,0.12335843939759614,0.26867435101696119,0]
[null,6.1473998760094904E-5,0.25773794179237436,1.1666910959881435E-3,0.23359625527744315,-7.4720114402414786E-2,12.409493155277291,8.0310700680181561,0.64717148134312352,1.3433268343016451,458.33333333333337,0.27646015351590181,458.33333333333337,0.27646015351590181,0.35665299950808232,4.2119997646769394E-2,1.3433268343016449,0.30007207640845485,-7.4258645917547147E-2,0.27814062977075066,6.044003506315937E-2,0.29855983085616933,0]
[null,6.6642372433899113E-5,0.28728229315396503,1.2647796483450319E-3,0.25323565991072189,-8.1002143877805965E-2,13.194950697976816,8.5143301589077698,0.64527184328269394,1.5920837917186823,458.33333333333337,0.27646015351590181,438.59728106608799,0.26455564724768249,0.38123127060542938,4.0965364254239571E-2,1.6039882979869018,0.31552330571885817,-8.7925249643713024E-2,0.3184204177398704,3.0992870204411549E-2,0.30926419321773058,0]
[null,7.1810746107703308E-5,0.32152034227515802,1.3628682007019214E-3,0.27287506454400079,-8.7284173353197214E-2,13.942842437080992,8.9697470863422684,0.64332270315895013,1.8828211385167291,458.33333333333337,0.27646015351590181,347.26197690162013,0.20946348969699805,0.39448561477498179,3.9441753433629163E-2,1.949817802335633,0.31758138177475903,-2.2466960008499112E-2,8.5794348717567873E-2,0.23571268511579271,0.31110706751223172,0]
[null,7.6979119781507503E-5,0.36142247287457469,1.4609567530588098E-3,0.29251446917727947,-9.356620282858838E-2,14.653656934802346,9.3977074483453862,0.64132165029917476,2.2243875889334079,458.33333333333337,0.27646015351590181,247.77809070797363,0.14945622326182567,0.401669901829521,3.761257078692453E-2,2.3513915191874841,0.31322802186630772,-2.4023043223063097E-2,9.2487388345116134E-2,0.2285783780658602,0.30693928636464962,0]
[null,8.2147493455311712E-5,0.40821011767341625,1.5590453054156992E-3,0.31215387381055842,-9.9848232303979642E-2,15.327873778125973,9.798590439151166,0.63926612268522787,2.6279371266338716,458.33333333333337,0.27646015351590181,141.73480757124872,8.5492421802969204E-2,0.39857560920179508,3.5537410754854483E-2,2.8189048583468042,0.2983990293718698,-2.6340516156930109E-2,0.10446941026012251,0.21321735871471215,0.29186752961222984,0]
[null,8.7315867129115907E-5,0.46343492031952305,1.6571338577725876E-3,0.3317932784438371,-0.10613026177937082,15.965963792144208,10.172768030327989,0.63715339473169375,3.1076577662914313,458.33333333333337,0.27646015351590181,30.619681610673624,1.846935682624334E-2,0.37843215478628561,3.3272056616890033E-2,3.3656485629810899,0.2664501052462242,-2.8975687973488134E-2,0.12076677113400329,0.18821631608414224,0.25896789079380678,0]
[null,9.2484240802920116E-5,0.52908775969114819,1.7552224101294771E-3,0.351432683077116,-0.11241229125476204,16.568389247188932,10.520605146305838,0.6349805638523861,3.6817754183641624,458.33333333333337,0.27646015351590181,-84.181364021394984,-5.077700251752626E-2,0.33042142105359384,3.0868480491244601E-2,4.0090125743975911,0.20666929461164751,-1.8396387664556917E-2,4.2748016285069981E-2,0.33096204720108202,0.19846582556317091,0]
[null,9.7652614476724311E-5,0.60775093154630122,1.8533109624863655E-3,0.37107208771039474,-0.11869432073015324,16.842371442877578,10.820768403362093,0.64247297003641712,4.2991061122202208,458.33333333333337,0.27646015351590181,-201.38403713947162,-0.12147198943250267,0.2591646375881797,2.8374843334873841E-2,4.6970382551686249,0.12588691295986079,2.9430707720620548E-3,-0.14303439353955047,0.73279440832039133,0.1198664182698389,0.11147812044306116]
[null,1.0282098815052852E-4,0.70281369836511054,1.9513995148432539E-3,0.39071149234367342,-0.12497635020554441,16.392710274396599,10.943774317002978,0.66760005720932003,4.8388289603540962,458.33333333333337,0.27646015351590181,-319.8056765249421,-0.1929022394778378,0.19360682559878697,2.5835494943475812E-2,5.3081913533478353,5.646707473036694E-2,4.0995605643383169E-3,-0.15460533945117996,0.76162891139981825,5.3971557343173715E-2,0.2316598249918132]
[null,1.0798936182433271E-4,0.81878250652390949,2.0494880672001434E-3,0.41035089697695232,-0.13125837968093568,15.401395235720724,10.792428988835937,0.70074359002260189,5.2963650579289006,458.33333333333337,0.27646015351590181,-438.36525192606445,-0.26441569056767289,0.13480121655166119,2.3290973951490865E-2,5.8372409020124749,-1.1538092456883919E-3,3.6143890900321711E-2,-0.51175325237927016,1.7545286292287263,8.6496631311328009E-5,0.34048419977542432]
[null,-9.2752242211587656E-6,0.9617353344904862,1.9231161934049898E-3,0.38504857265781522,-0.12316495983767892,13.331276539884723,9.856786251132732,0.7393730241543669,5.3848870749539053,458.33333333333337,0.27646015351590181,-497.96263963964242,-0.30036398792718377,9.9155295044394534E-2,1.8606331883447465E-2,5.9617112163969903,-1.1770282441159158E-2,5.6106464775711545E-2,-0.74729070569520673,2.4492250933340416,-1.2068836792036741E-2,0.43851496286544944]
[null,-1.1832610917194111E-5,1.1400001031491622,1.7954440253760931E-3,0.35948590190695706,-0.11498826333769942,11.282585652513271,8.7626228428667865,0.77665023893834606,5.4021024992148421,458.33333333333337,0.27646015351590181,-537.34014568376585,-0.32411593999852567,7.3083370400751788E-2,1.4654728955582987E-2,6.0026785927292696,-1.4884257383175975E-2,-1.4770205400539739E-3,-5.8339440809295186E-2,0.3885288811516886,-1.5041142822026732E-2,0.52631583233344303]
[null,null,{"$f":"C153","v":1.3651895295975189},{"$f":"D153+(D172-D152)","v":1.8714187166040824E-3},0.37469764341055267,-0.11985402226888887,9.9131142747427923,8.0312855990218424,0.81016776125383905,5.6839775217046764,458.33333333333337,0.27646015351590181,-627.2672219964021,-0.37835867452062233,4.0232765728972775E-2,1.2755245761965782E-2,6.3387963497411999,-4.0620139547027839E-2,null,null,null,null,0.60445052625095852]
[null,"De","hc","e0","a'","b'","N'","tN'","t","Nc","sac","Nac","sat","Nat","Mtot","u","N","Mo","a''","b''","c''",null,"x"]
[null,null,{"$f":"$C$35","v":0.12945607170440351},{"$f":"$D$35","v":3.2742931933764949E-4},{"$f":"$E$35","v":6.555828113227867E-2},{"$f":"$F$35","v":-2.097003764213403E-2},{"$f":"IF($C$2=1,0.5*($O$31*D175*$F$6/$O$30)*(1-W175^2+(E175-F175)*(F175^2*(1-W175^2)+2*F175*(1-W175)+2*LN((1-F175)/(1-F175*W175)))/(F175^3)),$F$6*F175*(LN((1-E175+E175^2)/(1+E175)^2)/(6*E175)+ATAN((2-E175)/(E175*3^0.5))/(E175*3^0.5)-LN((W175^2-E175*W175+E175^2)/(W175+E175)^2)/(6*E175)-ATAN((2*W175-E175)/(E175*3^0.5))/(E175*3^0.5)))","v":4.0789725576609177},{"$f":"IF($C$2=1,($O$31*D175*$F$6/$O$30)*(1-W175^3-(E175-F175)*(-2*F175^3*(1-W175^3)-3*F175^2*(1-W175^2)-6*F175*(1-W175)-6*LN((1-F175)/(1-F175*W175)))/(2*F175^4))/3,$F$6*F175*(LN((1+E175^3)/(E175^3+W175^3)))/3)","v":2.6990386030010254},{"$f":"$I$35","v":0.66169570028899294},{"$f":"$J$35","v":0.22178006084003529},{"$f":"$K$35","v":90.812088468865227},{"$f":"$L$35","v":5.4776561278259202E-2},{"$f":"$M$35","v":458.32747875640376},{"$f":"$N$35","v":0.27645662211829442},{"$f":"$O$35","v":0.11972660615436539},{"$f":"$P$35","v":2.3534552881082957E-2},{"$f":"$Q$35","v":1.0000000000010001E-4},{"$f":"$R$35","v":0.11972425269907729},null,null,null,null,{"$f":"IF(C175<$C$6,0,(C175-$C$6)/C175)","v":0}]
[null,{"$f":"IF(R156>$Q$29*V156,B156,IF(Q156>Q155,$U$6,-0.5)*B156)","v":4.7016331746461179E-11},{"$f":"IF(Q156>Q155,C156,(1-$T$6)*C156+$T$6*C157)","v":0.15398187908114286},{"$f":"D156+B176","v":4.5739675555935493E-4},{"$f":"IF($C$2=1,D176/($O$31*$O$30),2^(1/3)*$O$30/D176)","v":9.158051316421735E-2},{"$f":"IF($C$2=1,-($O$31-2)*D176/$O$30,3*($O$30/D176)^2)","v":-2.929373337999288E-2},{"$f":"IF($C$2=1,0.5*($O$31*D176*$F$6/$O$30)*(1-W176^2+(E176-F176)*(F176^2*(1-W176^2)+2*F176*(1-W176)+2*LN((1-F176)/(1-F176*W176)))/(F176^3)),$F$6*F176*(LN((1-E176+E176^2)/(1+E176)^2)/(6*E176)+ATAN((2-E176)/(E176*3^0.5))/(E176*3^0.5)-LN((W176^2-E176*W176+E176^2)/(W176+E176)^2)/(6*E176)-ATAN((2*W176-E176)/(E176*3^0.5))/(E176*3^0.5)))","v":5.5647849626834587},{"$f":"IF($C$2=1,($O$31*D176*$F$6/$O$30)*(1-W176^3-(E176-F176)*(-2*F176^3*(1-W176^3)-3*F176^2*(1-W176^2)-6*F176*(1-W176)-6*LN((1-F176)/(1-F176*W176)))/(2*F176^4))/3,$F$6*F176*(LN((1+E176^3)/(E176^3+W176^3)))/3)","v":3.6706743310320569},{"$f":"H176/G176","v":0.65962554809341256},{"$f":"G176*C176*$D$6","v":0.35988793899932431},{"$f":"MAX(MIN($K$6,$Q$6*$J$6*D176*(C176-$I$6)/C176),-$K$6)","v":144.31314604753339},{"$f":"K176*$H$6","v":8.7047638932357466E-2},{"$f":"MIN($O$6,$Q$6*$N$6*D176*(C$6-C176-$M$6)/C176)","v":458.33333333333337},{"$f":"M176*$L$6","v":0.27646015351590181},{"$f":"(0.5*$C$6-C176+I176*C176)*J176+(0.5*$C$6-$I$6)*L176+(0.5*$C$6-$M$6)*N176","v":0.15464411405834616},{"$f":"0.1*$Q$6*D176*$B$6^2/C176+$R$6","v":2.7639760496944641E-2},{"$f":"(J176+L176-N176)","v":0.17047542441577995},{"$f":"O176-P176*Q176","v":0.14993221415687902},{"$f":"((R176-R175)*(Q176-Q177)-(R176-R177)*(Q176-Q175))/((Q176^2-Q175^2)*(Q176-Q177)-(Q176^2-Q177^2)*(Q176-Q175))","v":-4.9833014692706214E-2},{"$f":"-(S176*(Q176^2-Q175^2)-(R176-R175))/(Q176-Q175)","v":0.18580262780950182},{"$f":"R176-S176*Q176^2-T176*Q176","v":0.11970567293462646},{"$f":"S156*Q176^2+T156*Q176+U156","v":0.14993221384334499},{"$f":"IF(C176<$C$6,0,(C176-$C$6)/C176)","v":0}]
[null,{"$f":"IF(R157>$Q$29*V157,B157,IF(Q157>Q156,$U$6,-0.5)*B157)","v":1.12457805676268E-10},{"$f":"IF(Q157>Q156,C157,(1-$T$6)*C157+$T$6*C158)","v":0.17394964462770141},{"$f":"D157+B177","v":5.4994192153721099E-4},0.11011001449562745,-3.5220739605577499E-2,6.577798533243671,4.3289485477180483,0.65811510125156403,0.48056640126194788,186.22782104807254,0.1123299752637426,458.33333333333337,0.27646015351590181,0.18281920788522421,{"$f":"0.1*$Q$6*D177*$B$6^2/C177+$R$6","v":2.9417386862568614E-2},0.31643622300978869,0.17351048109561523,-3.5916443091042208E-2,0.17902648700441973,0.12045639681495182,0.1735104804044405,0]
[null,1.9781689190826408E-10,0.19020714713826217,6.4833574142656868E-4,0.12981054015116117,-4.1522319778687963E-2,7.6144049705607992,4.9986620821807097,0.65647441940726714,0.6082919835744246,229.42791672460902,0.13838765908040496,458.33333333333337,0.27646015351590181,0.21161045714818832,3.1716404143758578E-2,0.47021948913892775,0.1966967857943864,-3.2666220334181428E-2,0.17646968070697944,0.12094001201711121,0.19669678492005166,0]
[null,4.1915779846300436E-9,0.20976979172988638,8.3173503578124971E-4,0.16653096128842368,-5.3268030620766051E-2,9.4372667975108282,6.1655091714377361,0.65331512859888097,0.83145446605755169,306.97611156182973,0.18516362820675936,458.33333333333337,0.27646015351590181,0.2609669943745645,3.6893755037587551E-2,0.74015794074840924,0.23365978861946746,-3.1681747713373051E-2,0.17527809726641094,0.12128264460825272,0.23365978441990012,0]
[null,4.6152151710074357E-7,0.23210975825278549,1.0081432248910574E-3,0.20185161515989616,-6.4565999823696874E-2,11.059193169478768,7.1900578140549589,0.65014307136782157,1.0781175942762007,386.43160343036044,0.23309005179873496,458.33333333333337,0.27646015351590181,0.31054853101924068,4.0414726813631507E-2,1.0347474925590339,0.26872949378637712,-3.3430074917410416E-2,0.17838121272005611,0.11994364176024,0.26872939925548422,0]
[null,6.1473998760094904E-5,0.25773794179237436,1.2281650947482384E-3,0.24590465118160998,-7.8657184151145323E-2,12.906175198778357,8.3372163274882514,0.6459866071148187,1.3970926335008671,458.33333333333337,0.27646015351590181,458.33333333333337,0.27646015351590181,0.36585379489365599,4.4339338046311641E-2,1.3970926335008671,0.3039076323348493,-4.1935045918270963E-2,0.19906394247092463,0.10764853164720833,0.30408519818113322,0]
[null,6.6642372433899113E-5,0.28728229315396503,1.331422020778931E-3,0.2665788736344698,-8.527021938590934E-2,13.707137218197122,8.8267536753364428,0.64395311251559872,1.6538834813002867,458.33333333333337,0.27646015351590181,458.33333333333337,0.27646015351590181,0.39349273438401838,4.3123865986216051E-2,1.6538834813002867,0.32217088477960837,-0.11029562199668191,0.40763042728020349,-5.0307358820917747E-2,0.317118516012589,0]
[null,7.1810746107703308E-5,0.32152034227515802,1.4346789468096246E-3,0.28725309608732985,-9.1883254620673413E-2,14.466839227209007,9.2857282916024602,0.64186296299871826,1.9535809019882073,458.33333333333337,0.27646015351590181,365.55952147951689,0.22050030856893127,0.40687693734503017,4.1519974746890585E-2,2.009540746935178,0.32344085627943392,-2.374569324669204E-2,9.0561321345437457E-2,0.23734533199848423,0.31739263329296091,0]
[null,7.6979119781507503E-5,0.36142247287457469,1.5379358728403172E-3,0.30792731854018968,-9.8496289855437416E-2,15.185843745001808,9.7145850465995185,0.63971322303358535,2.3051721835822874,458.33333333333337,0.27646015351590181,260.83374022251786,0.15733120552155083,0.41332297815050167,3.9594410828277582E-2,2.4243011315766383,0.31733420317539807,-2.3371384417730012E-2,8.89016951840889E-2,0.23916886426351466,0.31160656439036039,0]
[null,8.2147493455311712E-5,0.40821011767341625,1.6411927988710109E-3,0.32860154099304978,-0.10510932509020152,15.864702461479361,10.113759881945757,0.63750076035164815,2.7199754646347749,458.33333333333337,0.27646015351590181,149.20294152277907,8.9997094076534445E-2,0.40885869630391641,3.7409908755561869E-2,2.9064385240741424,0.30012909631465284,-2.5716352366820808E-2,0.10140210882153732,0.2226460273313578,0.29434279899196936,0]
[null,8.7315867129115907E-5,0.46343492031952305,1.7444497249017035E-3,0.3492757634459096,-0.11172236032496551,16.503956506922822,10.483680039418489,0.6352222289861803,3.2123741028719137,458.33333333333337,0.27646015351590181,32.233060058355008,1.9442523778952961E-2,0.38642629536542972,3.5025191079170431E-2,3.4693917326088628,0.26491018700231012,-2.8391802682024309E-2,0.11846032589146388,0.19566792666519639,0.25843249865459694,0]
[null,9.2484240802920116E-5,0.52908775969114819,1.8477066509323971E-3,0.36994998589876965,-0.11833539555972959,17.104136713410263,10.824764282723423,0.63287405053517931,3.8008275375627285,458.33333333333337,0.27646015351590181,-88.616955486238837,-5.3452488257099834E-2,0.33477528714041638,3.2494968374772656E-2,4.1307401793357297,0.20054701564849911,-1.8142758603616912E-2,4.056623892423307E-2,0.34254857443825565,0.19364516749162125,0]
[null,9.7652614476724311E-5,0.60775093154630122,1.9509635769630897E-3,0.39062420835162948,-0.1249484307944936,17.357682406831668,11.114638991077177,0.64032966674759861,4.430642013939452,458.33333333333337,0.27646015351590181,-211.99514242002533,-0.12787245734850691,0.25898281037370685,2.986993924328013E-2,4.8349746248038601,0.1145624120880144,2.7794531199104651E-3,-0.14701634446073919,0.76040748804127856,0.11002685054851746,0.11147812044306116]
[null,1.0282098815052852E-4,0.70281369836511054,2.0542205029937823E-3,0.41129843080448936,-0.13156146602925761,16.852653519169522,11.217892879983586,0.6656454941783192,4.9745958137707973,458.33333333333337,0.27646015351590181,-336.6565240455659,-0.20306643124312806,0.18957861984579377,2.7196790310846826E-2,5.4541223985298268,4.1243996643285125E-2,7.9615224900946215E-3,-0.20033515899220966,0.89706147325639951,4.0343944142349653E-2,0.2316598249918132]
[null,-1.0798936182433273E-5,0.81878250652390949,2.0386891310177099E-3,0.4081887213489126,-0.13056676752262703,15.360897365354926,10.766599226428346,0.70090952177777111,5.2824382998499662,458.33333333333337,0.27646015351590181,-436.05546615277473,-0.2630224606124601,0.13546366951023714,2.3168251723753051E-2,5.8219209139783281,5.799402594048042E-4,4.6637164644854803E-2,-0.63644337506835169,2.1251472875050714,2.3028701844873822E-4,0.34048419977542432]
[null,-9.2752242211587656E-6,0.9617353344904862,1.913840969183831E-3,0.38319147642011209,-0.12257093300632982,13.298440558387492,9.8339022385087045,0.73947785045415271,5.3716236750215094,458.33333333333337,0.27646015351590181,-495.56095681243892,-0.29891532697495427,9.9744463469209663E-2,1.8516593207883247E-2,5.9469991555123656,-1.0373700701038005E-2,2.9020720134564873E-2,-0.42911684771813113,1.5152138557470471,-1.0606042521913661E-2,0.43851496286544944]
[null,-1.1832610917194111E-5,1.1400001031491622,1.7836114144588991E-3,0.35711676271500115,-0.11423045002751626,11.243369083904621,8.7332338042381199,0.77674527439823438,5.3833256044660551,458.33333333333337,0.27646015351590181,-533.79888414389006,-0.32197990136080784,7.3826358247255044E-2,1.4558149110498688E-2,5.9817656593427646,-1.3257078165517425E-2,1.7990105723772482E-2,-0.29753524264843856,1.1228156837405772,-1.3294023056636406E-2,0.52631583233344303]
[null,null,{"$f":"C173","v":1.3651895295975189},{"$f":"D173+(D192-D172)","v":1.8595861056868884E-3},0.37232850421859676,-0.11909620895870569,9.8834403524071259,8.0079458730919804,0.81023870105530948,5.6669630999132847,458.33333333333337,0.27646015351590181,-623.30113524460296,-0.37596638735205556,4.1099482661094699E-2,1.2674596862328611E-2,6.3193896407812415,-3.8996233451783158E-2,null,null,null,null,0.60445052625095852]
[null,"De","hc","e0","a'","b'","N'","tN'","t","Nc","sac","Nac","sat","Nat","Mtot","u","N","Mo","a''","b''","c''",null,"x"]
[null,null,{"$f":"$C$35","v":0.12945607170440351},{"$f":"$D$35","v":3.2742931933764949E-4},{"$f":"$E$35","v":6.555828113227867E-2},{"$f":"$F$35","v":-2.097003764213403E-2},{"$f":"IF($C$2=1,0.5*($O$31*D195*$F$6/$O$30)*(1-W195^2+(E195-F195)*(F195^2*(1-W195^2)+2*F195*(1-W195)+2*LN((1-F195)/(1-F195*W195)))/(F195^3)),$F$6*F195*(LN((1-E195+E195^2)/(1+E195)^2)/(6*E195)+ATAN((2-E195)/(E195*3^0.5))/(E195*3^0.5)-LN((W195^2-E195*W195+E195^2)/(W195+E195)^2)/(6*E195)-ATAN((2*W195-E195)/(E195*3^0.5))/(E195*3^0.5)))","v":4.0789725576609177},{"$f":"IF($C$2=1,($O$31*D195*$F$6/$O$30)*(1-W195^3-(E195-F195)*(-2*F195^3*(1-W195^3)-3*F195^2*(1-W195^2)-6*F195*(1-W195)-6*LN((1-F195)/(1-F195*W195)))/(2*F195^4))/3,$F$6*F195*(LN((1+E195^3)/(E195^3+W195^3)))/3)","v":2.6990386030010254},{"$f":"$I$35","v":0.66169570028899294},{"$f":"$J$35","v":0.22178006084003529},{"$f":"$K$35","v":90.812088468865227},{"$f":"$L$35","v":5.4776561278259202E-2},{"$f":"$M$35","v":458.32747875640376},{"$f":"$N$35","v":0.27645662211829442},{"$f":"$O$35","v":0.11972660615436539},{"$f":"$P$35","v":2.3534552881082957E-2},{"$f":"$Q$35","v":1.0000000000010001E-4},{"$f":"$R$35","v":0.11972425269907729},null,null,null,null,{"$f":"IF(C195<$C$6,0,(C195-$C$6)/C195)","v":0}]
[null,{"$f":"IF(R176>$Q$29*V176,B176,IF(Q176>Q175,$U$6,-0.5)*B176)","v":-4.7016331746461184E-12},{"$f":"IF(Q176>Q175,C176,(1-$T$6)*C176+$T$6*C177)","v":0.15398187908114286},{"$f":"D176+B196","v":4.5739675085772175E-4},{"$f":"IF($C$2=1,D196/($O$31*$O$30),2^(1/3)*$O$30/D196)","v":9.1580512222850866E-2},{"$f":"IF($C$2=1,-($O$31-2)*D196/$O$30,3*($O$30/D196)^2)","v":-2.9293733078879267E-2},{"$f":"IF($C$2=1,0.5*($O$31*D196*$F$6/$O$30)*(1-W196^2+(E196-F196)*(F196^2*(1-W196^2)+2*F196*(1-W196)+2*LN((1-F196)/(1-F196*W196)))/(F196^3)),$F$6*F196*(LN((1-E196+E196^2)/(1+E196)^2)/(6*E196)+ATAN((2-E196)/(E196*3^0.5))/(E196*3^0.5)-LN((W196^2-E196*W196+E196^2)/(W196+E196)^2)/(6*E196)-ATAN((2*W196-E196)/(E196*3^0.5))/(E196*3^0.5)))","v":5.5647849102847049},{"$f":"IF($C$2=1,($O$31*D196*$F$6/$O$30)*(1-W196^3-(E196-F196)*(-2*F196^3*(1-W196^3)-3*F196^2*(1-W196^2)-6*F196*(1-W196)-6*LN((1-F196)/(1-F196*W196)))/(2*F196^4))/3,$F$6*F196*(LN((1+E196^3)/(E196^3+W196^3)))/3)","v":3.6706742965198456},{"$f":"H196/G196","v":0.6596255481026394},{"$f":"G196*C196*$D$6","v":0.3598879356105717},{"$f":"MAX(MIN($K$6,$Q$6*$J$6*D196*(C196-$I$6)/C196),-$K$6)","v":144.31314456412215},{"$f":"K196*$H$6","v":8.704763803758489E-2},{"$f":"MIN($O$6,$Q$6*$N$6*D196*(C$6-C196-$M$6)/C196)","v":458.33333333333337},{"$f":"M196*$L$6","v":0.27646015351590181},{"$f":"(0.5*$C$6-C196+I196*C196)*J196+(0.5*$C$6-$I$6)*L196+(0.5*$C$6-$M$6)*N196","v":0.15464411313360166},{"$f":"0.1*$Q$6*D196*$B$6^2/C196+$R$6","v":2.7639760212832404E-2},{"$f":"(J196+L196-N196)","v":0.17047542013225481},{"$f":"O196-P196*Q196","v":0.14993221339896429},{"$f":"((R196-R195)*(Q196-Q197)-(R196-R197)*(Q196-Q195))/((Q196^2-Q195^2)*(Q196-Q197)-(Q196^2-Q197^2)*(Q196-Q195))","v":-4.9833015288428942E-2},{"$f":"-(S196*(Q196^2-Q195^2)-(R196-R195))/(Q196-Q195)","v":0.185802627706838},{"$f":"R196-S196*Q196^2-T196*Q196","v":0.11970567293463674},{"$f":"S176*Q196^2+T176*Q196+U176","v":0.14993221343376847},{"$f":"IF(C196<$C$6,0,(C196-$C$6)/C196)","v":0}]
[null,{"$f":"IF(R177>$Q$29*V177,B177,IF(Q177>Q176,$U$6,-0.5)*B177)","v":-1.1245780567626801E-11},{"$f":"IF(Q177>Q176,C177,(1-$T$6)*C177+$T$6*C178)","v":0.17394964462770141},{"$f":"D177+B197","v":5.4994191029143042E-4},0.11011001224398412,-3.5220738885347429E-2,6.5777984123966107,4.328948469367397,0.65811510143105023,0.48056639243300059,186.22781723989368,0.11232997296670322,458.33333333333337,0.27646015351590181,0.18281920555909836,{"$f":"0.1*$Q$6*D197*$B$6^2/C197+$R$6","v":2.9417386261011497E-2},0.316436211883802,0.17351047928714128,-3.5916443133466473E-2,0.17902648684679606,0.1204563967995505,0.17351047935666847,0]
[null,-1.978168919082641E-11,0.19020714713826217,6.4833572164487948E-4,0.12981053619044822,-4.1522318511780135E-2,7.6144047663098879,4.9986619505577563,0.65647441973067322,0.60829196725743162,229.42790972442154,0.13838765485799134,458.33333333333337,0.27646015351590181,0.21161045295948089,3.171640317604385E-2,0.47021946859952113,0.19669678271215338,-3.2666224052848594E-2,0.17646968354421272,0.12094001141657669,0.19669678280078651,0]
[null,-4.1915779846300438E-10,0.20976979172988638,8.3173461662345129E-4,0.16653087736415922,-5.3268003776026467E-2,9.4372627918551917,6.165506624128942,0.65331513597884217,0.83145411314602125,306.97595685939973,0.18516353489245199,458.33333333333337,0.27646015351590181,0.26096690644475778,3.6893736444761141E-2,0.7401574945225714,0.23365973091422729,-3.1682039489975569E-2,0.17527844922185082,0.12128254353152063,0.2336597313333883,0]
[null,-4.6152151710074357E-8,0.23210975825278549,1.0080970727393472E-3,0.20184237452212192,-6.4563044033541656E-2,11.058785420348887,7.1898020956993589,0.6501439192833649,1.0780778444043757,386.41391283883848,0.23307938108532128,458.33333333333337,0.27646015351590181,0.31053899777653698,4.0412876653299949E-2,1.0346970719737953,0.2687239126333294,-3.3041023398170777E-2,0.17769044801710618,0.12024178093640189,0.26872398788237395,0]
[null,-6.1473998760094908E-6,0.25773794179237436,1.2220176948722289E-3,0.24467381159119331,-7.8263477176272273E-2,12.857176243020564,8.3070980042513778,0.64610594482290251,1.3917884996979317,458.33333333333337,0.27646015351590181,458.33333333333337,0.27646015351590181,0.36494845059658171,4.411740400635742E-2,1.3917884996979315,0.30354635506400601,-4.4289881707289709E-2,0.20498564040196285,0.1040425308507707,0.30347209885400001,0]
[null,6.6642372433899113E-5,0.28728229315396503,1.39806439321283E-3,0.27992208735821772,-8.9538294894012702E-2,14.202137289012821,9.1264466070253878,0.64261078606005784,1.7136094785915164,458.33333333333337,0.27646015351590181,458.33333333333337,0.27646015351590181,0.40284880887089064,4.5282367718192544E-2,1.7136094785915161,0.32525251433592939,-8.559289017543481E-2,0.33324791939621262,5.5356005425595267E-3,0.32433360475259554,0]
[null,7.1810746107703308E-5,0.32152034227515802,1.5064896929173279E-3,0.30163112763065897,-9.6482335888149612E-2,14.97115247945324,9.5871428670842693,0.64037440539343171,2.0216826291679024,458.33333333333337,0.27646015351590181,383.85706605741365,0.23153712744086449,0.41877275418423421,4.3598196060152E-2,2.0666056552429399,0.32867247564793362,-3.6345451353659873E-2,0.1470820058595525,0.17993826618840092,0.3230853646838816,0]
[null,7.6979119781507503E-5,0.36142247287457469,1.6149149926218246E-3,0.32334016790309994,-0.10342637688228645,15.695718303499794,10.014966032445713,0.63806993976265491,2.38256983557332,458.33333333333337,0.27646015351590181,273.88938973706206,0.16520618778127599,0.42438064340521081,4.1576250869630633E-2,2.4938238013079461,0.32069679941737572,-2.2812862824576372E-2,8.536759050813747E-2,0.2496818493402472,0.31552371513725341,0]
[null,8.2147493455311712E-5,0.40821011767341625,1.7233402923263225E-3,0.34504920817554113,-0.11037041787642336,16.376464673291093,10.410413557176268,0.63569358618377192,2.8077161999706544,458.33333333333337,0.27646015351590181,156.67107547430945,9.4501766350099686E-2,0.41843989421666689,3.9282406756269254E-2,2.9896745871364567,0.30099828101589121,-2.5191370463214451E-2,9.8410133311512049E-2,0.23194835845946538,0.29594861386188753,0]
[null,8.7315867129115907E-5,0.46343492031952305,1.8317655920308193E-3,0.3667582484479821,-0.11731445887056022,17.014008900764303,10.773972520112096,0.63324126506293932,3.3116520608813711,458.33333333333337,0.27646015351590181,33.846438506036399,2.0415690731662588E-2,0.39361244002822471,3.6778325541450836E-2,3.5676965236656106,0.26239853584774842,-2.7914786663666463E-2,0.1162685840270464,0.20289971596836337,0.25691453778869972,0]
[null,9.2484240802920116E-5,0.52908775969114819,1.9401908917353172E-3,0.3884672887204233,-0.12425849986469713,17.608956023559479,11.106119901096848,0.63070859432198489,3.9130068990621143,458.33333333333337,0.27646015351590181,-93.052546951082689,-5.6127973996673408E-2,0.33822874037916867,3.4121456258300709E-2,4.2455950265746898,0.19336285538944137,-1.7974205705804259E-2,3.859992682450205E-2,0.35346964222896804,0.18775177348653718,0]
[null,9.7652614476724311E-5,0.60775093154630122,2.0486161914398142E-3,0.41017632899286433,-0.13120254085883398,17.83902841120516,11.383451009981009,0.6381205717925067,4.5535081766121648,458.33333333333337,0.27646015351590181,-222.60624770057908,-0.13427292526451118,0.25784181717374421,3.136503515168642E-2,4.9642412553925777,0.10213821569690409,2.5608196474309194E-3,-0.15052429472484097,0.78626908079175761,9.9078870160240085E-2,0.11147812044306116]
[null,1.0282098815052852E-4,0.70281369836511054,2.1570414911443107E-3,0.43188536926530524,-0.13814658185297082,17.275944143629715,11.464714747143653,0.66362305016893219,5.0995434824600583,458.33333333333337,0.27646015351590181,-353.50737156618959,-0.21323062300841827,0.18457019353891885,2.855808567821784E-2,5.5892342589843782,2.4952362695212588E-2,2.2839299094292453E-2,-0.36453273103609057,1.3489220029896578,2.6055636458028331E-2,0.2316598249918132]
[null,-1.0798936182433273E-5,0.81878250652390949,2.0278901948352765E-3,0.40602654572087282,-0.12987515536431843,15.320007501867543,10.740471565375907,0.70107482415179101,5.2683767397845651,458.33333333333337,0.27646015351590181,-433.74568037948501,-0.26162923065724736,0.13611622011551053,2.3045529496015238E-2,5.8064661239577138,2.303133788229772E-3,4.2199089177414766E-2,-0.585151098300006,1.9772188104780071,2.0346745180495063E-3,0.34048419977542432]
[null,-9.2752242211587656E-6,0.9617353344904862,1.9045657449626723E-3,0.38133438018240895,-0.12197690617498073,13.26532615931476,9.8108007487506601,0.73958232394170176,5.3582478142006709,458.33333333333337,0.27646015351590181,-493.15927398523536,-0.29746666602272476,0.10032694114824039,1.8426854532319025E-2,5.9321746337392973,-8.9843778879865333E-3,-2.2721497779649727E-2,0.17692834976780247,-0.25896892795045312,-9.1228865722279284E-3,0.43851496286544944]
[null,-1.1832610917194111E-5,1.1400001031491622,1.7717788035417051E-3,0.35474762352304523,-0.1134726367173331,11.203725313167075,8.7035007521824319,0.77683989109887608,5.3643441653194452,458.33333333333337,0.27646015351590181,-530.25762260401405,-0.31984386272308984,7.4559526170084101E-2,1.4461569265414391E-2,5.9606481815584367,-1.1640800374289564E-2,4.7309238998983545E-2,-0.6559347943652396,2.2172903284599643,-1.1510874876686117E-2,0.52631583233344303]
[null,0,{"$f":"C193","v":1.3651895295975189},{"$f":"D193+(D212-D192)","v":1.8477534947696943E-3},0.36995936502664084,-0.11833839564852253,9.8533839777679084,7.9842886819479579,0.81030930084150055,5.6497293877721342,458.33333333333337,0.27646015351590181,-619.33504849280371,-0.37357410018348869,4.1957861261654031E-2,1.2593947962691436E-2,6.2997636414715243,-3.7381034216293851E-2,null,null,null,null,0.60445052625095852]
[null,"De","hc","e0","a'","b'","N'","tN'","t","Nc","sac","Nac","sat","Nat","Mtot","u","N","Mo","a''","b''","c''",null,"x"]
[null,null,{"$f":"$C$35","v":0.12945607170440351},{"$f":"$D$35","v":3.2742931933764949E-4},{"$f":"$E$35","v":6.555828113227867E-2},{"$f":"$F$35","v":-2.097003764213403E-2},{"$f":"IF($C$2=1,0.5*($O$31*D215*$F$6/$O$30)*(1-W215^2+(E215-F215)*(F215^2*(1-W215^2)+2*F215*(1-W215)+2*LN((1-F215)/(1-F215*W215)))/(F215^3)),$F$6*F215*(LN((1-E215+E215^2)/(1+E215)^2)/(6*E215)+ATAN((2-E215)/(E215*3^0.5))/(E215*3^0.5)-LN((W215^2-E215*W215+E215^2)/(W215+E215)^2)/(6*E215)-ATAN((2*W215-E215)/(E215*3^0.5))/(E215*3^0.5)))","v":4.0789725576609177},{"$f":"IF($C$2=1,($O$31*D215*$F$6/$O$30)*(1-W215^3-(E215-F215)*(-2*F215^3*(1-W215^3)-3*F215^2*(1-W215^2)-6*F215*(1-W215)-6*LN((1-F215)/(1-F215*W215)))/(2*F215^4))/3,$F$6*F215*(LN((1+E215^3)/(E215^3+W215^3)))/3)","v":2.6990386030010254},{"$f":"$I$35","v":0.66169570028899294},{"$f":"$J$35","v":0.22178006084003529},{"$f":"$K$35","v":90.812088468865227},{"$f":"$L$35","v":5.4776561278259202E-2},{"$f":"$M$35","v":458.32747875640376},{"$f":"$N$35","v":0.27645662211829442},{"$f":"$O$35","v":0.11972660615436539},{"$f":"$P$35","v":2.3534552881082957E-2},{"$f":"$Q$35","v":1.0000000000010001E-4},{"$f":"$R$35","v":0.11972425269907729},null,null,null,null,{"$f":"IF(C215<$C$6,0,(C215-$C$6)/C215)","v":0}]
[null,{"$f":"IF(R196>$Q$29*V196,IF(B196=B156,1.22,1)*B196,IF(Q196>Q195,$U$6,-0.5)*B196)","v":4.701633174646119E-13},{"$f":"IF(Q196>Q195,C196,(1-$T$6)*C196+$T$6*C197)","v":0.15398187908114286},{"$f":"D196+B216","v":4.5739675132788505E-4},{"$f":"IF($C$2=1,D216/($O$31*$O$30),2^(1/3)*$O$30/D216)","v":9.1580512316987508E-2},{"$f":"IF($C$2=1,-($O$31-2)*D216/$O$30,3*($O$30/D216)^2)","v":-2.9293733108990624E-2},{"$f":"IF($C$2=1,0.5*($O$31*D216*$F$6/$O$30)*(1-W216^2+(E216-F216)*(F216^2*(1-W216^2)+2*F216*(1-W216)+2*LN((1-F216)/(1-F216*W216)))/(F216^3)),$F$6*F216*(LN((1-E216+E216^2)/(1+E216)^2)/(6*E216)+ATAN((2-E216)/(E216*3^0.5))/(E216*3^0.5)-LN((W216^2-E216*W216+E216^2)/(W216+E216)^2)/(6*E216)-ATAN((2*W216-E216)/(E216*3^0.5))/(E216*3^0.5)))","v":5.5647849155195406},{"$f":"IF($C$2=1,($O$31*D216*$F$6/$O$30)*(1-W216^3-(E216-F216)*(-2*F216^3*(1-W216^3)-3*F216^2*(1-W216^2)-6*F216*(1-W216)-6*LN((1-F216)/(1-F216*W216)))/(2*F216^4))/3,$F$6*F216*(LN((1+E216^3)/(E216^3+W216^3)))/3)","v":3.6706743001453823},{"$f":"H216/G216","v":0.65962554813363894},{"$f":"G216*C216*$D$6","v":0.35988793594912105},{"$f":"MAX(MIN($K$6,$Q$6*$J$6*D216*(C216-$I$6)/C216),-$K$6)","v":144.3131447124633},{"$f":"K216*$H$6","v":8.7047638127062149E-2},{"$f":"MIN($O$6,$Q$6*$N$6*D216*(C$6-C216-$M$6)/C216)","v":458.33333333333337},{"$f":"M216*$L$6","v":0.27646015351590181},{"$f":"(0.5*$C$6-C216+I216*C216)*J216+(0.5*$C$6-$I$6)*L216+(0.5*$C$6-$M$6)*N216","v":0.15464411322777422},{"$f":"0.1*$Q$6*D216*$B$6^2/C216+$R$6","v":2.7639760241243629E-2},{"$f":"(J216+L216-N216)","v":0.17047542056028142},{"$f":"O216-P216*Q216","v":0.14993221347646285},{"$f":"((R216-R215)*(Q216-Q217)-(R216-R217)*(Q216-Q215))/((Q216^2-Q215^2)*(Q216-Q217)-(Q216^2-Q217^2)*(Q216-Q215))","v":-4.9833015284597403E-2},{"$f":"-(S216*(Q216^2-Q215^2)-(R216-R215))/(Q216-Q215)","v":0.18580262773695488},{"$f":"R216-S216*Q216^2-T216*Q216","v":0.11970567293463372},{"$f":"S196*Q216^2+T196*Q216+U196","v":0.14993221347122032},{"$f":"IF(C216<$C$6,0,(C216-$C$6)/C216)","v":0}]
[null,{"$f":"IF(R197>$Q$29*V197,IF(B197=B157,1.22,1)*B197,IF(Q197>Q196,$U$6,-0.5)*B197)","v":1.1245780567626803E-12},{"$f":"IF(Q197>Q196,C197,(1-$T$6)*C197+$T$6*C198)","v":0.17394964462770141},{"$f":"D197+B217","v":5.499419114160085E-4},0.11011001246914845,-3.5220738957370434E-2,6.5777984244793712,4.3289484772564064,0.65811510142149732,0.48056639331575313,186.22781762071159,0.11232997319640717,458.33333333333337,0.27646015351590181,0.18281920579238284,{"$f":"0.1*$Q$6*D217*$B$6^2/C217+$R$6","v":2.9417386321167208E-2},0.31643621299625846,0.17351047946866474,-3.5916443092655966E-2,0.17902648683746919,0.12045639680606644,0.17351047946101375,0]
[null,1.9781689190826411E-12,0.19020714713826217,6.4833572362304841E-4,0.1298105365865195,-4.1522318638470918E-2,7.6144047867312841,4.9986619638013341,0.65647441970932607,0.60829196888883574,229.42791042444026,0.1383876552802327,458.33333333333337,0.27646015351590181,0.21161045337956319,3.1716403272815323E-2,0.4702194706531666,0.1966967830215976,-3.266622369752302E-2,0.17646968327718024,0.12094001147370308,0.19669678301147034,0]
[null,4.1915779846300442E-11,0.20976979172988638,8.3173465853923116E-4,0.16653088575658567,-5.3268006460500422E-2,9.4372631924198682,6.1655068788791141,0.65331513524295148,0.83145414843709609,306.97597232964279,0.18516354422388276,458.33333333333337,0.27646015351590181,0.26096691523809029,3.6893738304043786E-2,0.74015753914507709,0.23365973668510678,-3.1682010284313236E-2,0.17527841398909608,0.12128255365176335,0.23365973664282214,0]
[null,4.6152151710074364E-9,0.23210975825278549,1.0081016879545182E-3,0.20184329858589933,-6.4563339612557183E-2,11.058826195650463,7.1898276678004693,0.65014383449016444,1.0780818194294401,386.41568189799074,0.23308044815666268,458.33333333333337,0.27646015351590181,0.31053995110825144,4.0413061669333103E-2,1.0347021140702011,0.26872447076294309,-3.3080407484556193E-2,0.17776037275897652,0.12021160154535149,0.26872446381201948,0]
[null,6.1473998760094914E-7,0.25773794179237436,1.22263243485983E-3,0.24479689555023498,-7.8302847873759587E-2,12.862082814340511,8.3101147863265297,0.64609401962963664,1.392319635727101,458.33333333333337,0.27646015351590181,458.33333333333337,0.27646015351590181,0.36503913198608973,4.4139597410352838E-2,1.3923196357271008,0.30358270379856639,-4.5980542065571381E-2,0.20906927996241267,0.10162720235301376,0.30358973709721704,0]
[null,8.1303694369356912E-5,0.28728229315396503,1.4793680875821869E-3,0.29620080810119026,-9.474534701389882E-2,14.782983897773832,9.4750065599305149,0.64094005820823186,1.7836935958004547,458.33333333333337,0.27646015351590181,458.33333333333337,0.27646015351590181,0.41371975220655438,4.7915739831203875E-2,1.7836935958004547,0.32825275393159525,-6.1988804891108057E-2,0.25991173451008787,6.1871135979454095E-2,0.32762862111638996,0]
[null,8.7609110251398039E-5,0.32152034227515802,1.5940988031687259E-3,0.31917232611352042,-0.10209321503447058,15.560029515966777,9.935356140608544,0.63851782096000986,2.1012037266297838,458.33333333333337,0.27646015351590181,406.18007044244774,0.24500204646462306,0.43262203115813824,4.6133626062330936E-2,2.1326618336810625,0.33423460760569113,-5.1509397536138597E-2,0.21887065061770469,0.10173496141844451,0.32830637471097546,0]
[null,9.3914526133439153E-5,0.36142247287457469,1.7088295187552638E-3,0.34214384412585042,-0.1094410830550423,16.287876445674229,10.35934887046267,0.6360159290877927,2.4724579248058696,458.33333333333337,0.27646015351590181,289.81728214480597,0.1748136661381407,0.43707430004411957,4.399409572008136E-2,2.574104412183631,0.32382890414102916,-2.2243033017259713E-2,8.1120713961073496E-2,0.26239835401979628,0.31826860310914906,0]
[null,1.0021994201548028E-4,0.40821011767341625,1.8235602343418028E-3,0.36511536213818058,-0.11678895107561404,16.967258492916265,10.747563828291215,0.63342960400929016,2.9090067661152204,458.33333333333337,0.27646015351590181,165.78219889517649,9.999746652384929E-2,0.42919071589231061,4.1566854317132265E-2,3.0854694531072728,0.30093745663503885,-2.4670607777708457E-2,9.4859752631349034E-2,0.24311777715473132,0.29576490490849683,0]
[null,1.0652535789752141E-4,0.46343492031952305,1.9382909499283407E-3,0.38808688015051057,-0.12413681909618575,17.598894021149633,11.100567385809393,0.63075369238937307,3.4254956603293478,458.33333333333337,0.27646015351590181,35.814760212207695,2.1602954413968329E-2,0.40130066922475743,3.8917149585432929E-2,3.6803528594312813,0.25807182646709448,-2.7463063323270417E-2,0.11375301066828414,0.21140772337629959,0.25270342529593504,0]
[null,1.1283077377956253E-4,0.52908775969114819,2.0530216655148797E-3,0.41105839816284079,-0.13148468711675751,18.183486371343776,11.418913563411705,0.62798262831528917,4.0406772283872971,458.33333333333337,0.27646015351590181,-98.463968538192191,-5.9392066598953172E-2,0.34124130665009211,3.6105771476204938E-2,4.3765294485021515,0.18322333452359221,-1.7878273142576694E-2,3.6529484236198777E-2,0.36579159382418019,0.17812524261083068,0]
[null,1.1913618966160366E-4,0.60775093154630122,2.167752381101418E-3,0.43402991617517084,-0.13883255513732923,18.380891247815462,11.677952242755344,0.6353311210708158,4.6918215869746627,458.33333333333337,0.27646015351590181,-235.55179614285461,-0.14208149612203633,0.25517301152500771,3.3189052159942091E-2,5.1103632366126002,8.5564899508821624E-2,5.4705973643659487E-3,-0.18497874458180683,0.8880043808353526,8.3913144341349999E-2,0.11147812044306116]
[null,-1.0282098815052853E-5,0.70281369836511054,2.1467593923292579E-3,0.42982667541922365,-0.13748807027059948,17.235250584035924,11.441249974604817,0.66382846706053844,5.0875314861906027,458.33333333333337,0.27646015351590181,-351.82228681412721,-0.21221420383188924,0.18511464848320319,2.8421956141480739E-2,5.5762058435383937,2.6627970562286357E-2,3.1126618962044401E-2,-0.45915359170724357,1.6191095927540657,2.6379259574186076E-2,0.2316598249918132]
[null,-1.0798936182433273E-5,0.81878250652390949,2.017091258652843E-3,0.4038643700928331,-0.1291835432060098,15.278725084790738,10.714045559615178,0.70123950134298274,5.2541801849941701,458.33333333333337,0.27646015351590181,-431.43589460619523,-0.26023600070203451,0.1367588485409261,2.2922807268277424E-2,5.7908763392121063,4.0157063027390638E-3,3.9640079718913965E-2,-0.55592679979020099,1.8940187627453393,3.7959150665274333E-3,0.34048419977542432]
[null,-1.1315773549813694E-5,0.9617353344904862,1.8932499714128586E-3,0.37906872277241116,-0.12125219344073485,13.224549046330221,9.782322008966883,0.73970930688796932,5.3417767622344581,458.33333333333337,0.27646015351590181,-490.22922093604706,-0.29569929966100472,0.10102848554006945,1.8317373348130675E-2,5.9139362154113639,-7.2992920746514645E-3,-1.5007448936439495E-3,-7.4381159357569698E-2,0.48507415472249238,-7.3021932742189932E-3,0.43851496286544944]
[null,1.1832610917194111E-6,1.1400001031491622,1.7729620646334246E-3,0.35498453744224084,-0.11354841804835142,11.207708934717784,8.706489554800914,0.7768304481776005,5.3662515234905053,458.33333333333337,0.27646015351590181,-530.6117487580018,-0.32005746658686174,7.448665195919893E-2,1.447122724992282E-2,5.9627691435932686,-1.1801935356566942E-2,4.1948952236754079E-2,-0.59042041011329505,2.0172597853162859,-1.1835604362520513E-2,0.52631583233344303]
[null,0,{"$f":"C213","v":1.3651895295975189},{"$f":"D213+(D232-D212)","v":1.8489367558614138E-3},0.37019627894583645,-0.11841417697954085,9.8564068442867789,7.9866687027745735,0.81030225608067397,5.6514626377749257,458.33333333333337,0.27646015351590181,-619.73165716798371,-0.37381332890034547,4.1872399233111701E-2,1.2602012852655156E-2,6.3017361201911726,-3.7542160347578693E-2,null,null,null,null,0.60445052625095852]
[null,"De","hc","e0","a'","b'","N'","tN'","t","Nc","sac","Nac","sat","Nat","Mtot","u","N","Mo","a''","b''","c''",null,"x"]
[null,null,{"$f":"$C$35","v":0.12945607170440351},{"$f":"$D$35","v":3.2742931933764949E-4},{"$f":"$E$35","v":6.555828113227867E-2},{"$f":"$F$35","v":-2.097003764213403E-2},{"$f":"IF($C$2=1,0.5*($O$31*D235*$F$6/$O$30)*(1-W235^2+(E235-F235)*(F235^2*(1-W235^2)+2*F235*(1-W235)+2*LN((1-F235)/(1-F235*W235)))/(F235^3)),$F$6*F235*(LN((1-E235+E235^2)/(1+E235)^2)/(6*E235)+ATAN((2-E235)/(E235*3^0.5))/(E235*3^0.5)-LN((W235^2-E235*W235+E235^2)/(W235+E235)^2)/(6*E235)-ATAN((2*W235-E235)/(E235*3^0.5))/(E235*3^0.5)))","v":4.0789725576609177},{"$f":"IF($C$2=1,($O$31*D235*$F$6/$O$30)*(1-W235^3-(E235-F235)*(-2*F235^3*(1-W235^3)-3*F235^2*(1-W235^2)-6*F235*(1-W235)-6*LN((1-F235)/(1-F235*W235)))/(2*F235^4))/3,$F$6*F235*(LN((1+E235^3)/(E235^3+W235^3)))/3)","v":2.6990386030010254},{"$f":"$I$35","v":0.66169570028899294},{"$f":"$J$35","v":0.22178006084003529},{"$f":"$K$35","v":90.812088468865227},{"$f":"$L$35","v":5.4776561278259202E-2},{"$f":"$M$35","v":458.32747875640376},{"$f":"$N$35","v":0.27645662211829442},{"$f":"$O$35","v":0.11972660615436539},{"$f":"$P$35","v":2.3534552881082957E-2},{"$f":"$Q$35","v":1.0000000000010001E-4},{"$f":"$R$35","v":0.11972425269907729},null,null,null,null,{"$f":"IF(C235<$C$6,0,(C235-$C$6)/C235)","v":0}]
[null,{"$f":"IF(R216>$Q$29*V216,B216,IF(Q216>Q215,$U$6,-0.5)*B216)","v":-4.7016331746461193E-14},{"$f":"IF(Q216>Q215,C216,(1-$T$6)*C216+$T$6*C217)","v":0.15398187908114286},{"$f":"D216+B236","v":4.5739675128086873E-4},{"$f":"IF($C$2=1,D236/($O$31*$O$30),2^(1/3)*$O$30/D236)","v":9.1580512307573844E-2},{"$f":"IF($C$2=1,-($O$31-2)*D236/$O$30,3*($O$30/D236)^2)","v":-2.9293733105979495E-2},{"$f":"IF($C$2=1,0.5*($O$31*D236*$F$6/$O$30)*(1-W236^2+(E236-F236)*(F236^2*(1-W236^2)+2*F236*(1-W236)+2*LN((1-F236)/(1-F236*W236)))/(F236^3)),$F$6*F236*(LN((1-E236+E236^2)/(1+E236)^2)/(6*E236)+ATAN((2-E236)/(E236*3^0.5))/(E236*3^0.5)-LN((W236^2-E236*W236+E236^2)/(W236+E236)^2)/(6*E236)-ATAN((2*W236-E236)/(E236*3^0.5))/(E236*3^0.5)))","v":5.5647849149963395},{"$f":"IF($C$2=1,($O$31*D236*$F$6/$O$30)*(1-W236^3-(E236-F236)*(-2*F236^3*(1-W236^3)-3*F236^2*(1-W236^2)-6*F236*(1-W236)-6*LN((1-F236)/(1-F236*W236)))/(2*F236^4))/3,$F$6*F236*(LN((1+E236^3)/(E236^3+W236^3)))/3)","v":3.6706742997681503},{"$f":"H236/G236","v":0.65962554812786778},{"$f":"G236*C236*$D$6","v":0.35988793591528434},{"$f":"MAX(MIN($K$6,$Q$6*$J$6*D236*(C236-$I$6)/C236),-$K$6)","v":144.31314469762918},{"$f":"K236*$H$6","v":8.7047638118114432E-2},{"$f":"MIN($O$6,$Q$6*$N$6*D236*(C$6-C236-$M$6)/C236)","v":458.33333333333337},{"$f":"M236*$L$6","v":0.27646015351590181},{"$f":"(0.5*$C$6-C236+I236*C236)*J236+(0.5*$C$6-$I$6)*L236+(0.5*$C$6-$M$6)*N236","v":0.15464411321821286},{"$f":"0.1*$Q$6*D236*$B$6^2/C236+$R$6","v":2.7639760238402512E-2},{"$f":"(J236+L236-N236)","v":0.17047542051749698},{"$f":"O236-P236*Q236","v":0.14993221346856841},{"$f":"((R236-R235)*(Q236-Q237)-(R236-R237)*(Q236-Q235))/((Q236^2-Q235^2)*(Q236-Q237)-(Q236^2-Q237^2)*(Q236-Q235))","v":-4.9833015257341073E-2},{"$f":"-(S236*(Q236^2-Q235^2)-(R236-R235))/(Q236-Q235)","v":0.18580262772836192},{"$f":"R236-S236*Q236^2-T236*Q236","v":0.1197056729346346},{"$f":"S216*Q236^2+T216*Q236+U216","v":0.14993221346924032},{"$f":"IF(C236<$C$6,0,(C236-$C$6)/C236)","v":0}]
[null,{"$f":"IF(R217>$Q$29*V217,B217,IF(Q217>Q216,$U$6,-0.5)*B217)","v":-1.1245780567626803E-13},{"$f":"IF(Q217>Q216,C217,(1-$T$6)*C217+$T$6*C218)","v":0.17394964462770141},{"$f":"D217+B237","v":5.4994191130355071E-4},0.11011001244663203,-3.522073895016814E-2,6.5777984232682805,4.3289484765449346,0.65811510143450547,0.48056639322727224,186.22781758262977,0.11232997317343675,458.33333333333337,0.27646015351590181,0.18281920577001864,{"$f":"0.1*$Q$6*D237*$B$6^2/C237+$R$6","v":2.9417386315151641E-2},0.31643621288480717,0.17351047945148271,-3.5916443179066324E-2,0.1790264868863683,0.12045639679948278,0.17351047945124537,0]
[null,-1.9781689190826412E-13,0.19020714713826217,6.483357234252315E-4,0.12981053654691238,-4.1522318625801836E-2,7.6144047846934653,4.9986619623751452,0.6564744196977147,0.60829196872604052,229.42791035443838,0.13838765523800856,458.33333333333337,0.27646015351590181,0.21161045333603518,3.1716403263138175E-2,0.47021947044814727,0.19669678298912247,-3.266622369014513E-2,0.17646968325332893,0.12094001148069336,0.19669678299171622,0]
[null,-4.1915779846300442E-12,0.20976979172988638,8.317346543476532E-4,0.16653088491734305,-5.3268006192053033E-2,9.4372631523664587,6.165506853340279,0.65331513530956653,0.83145414490825809,306.97597078261845,0.18516354329073967,458.33333333333337,0.27646015351590181,0.26096691435759384,3.689373811811552E-2,0.74015753468309586,0.23365973610684571,-3.1682013193764492E-2,0.17527841750030096,0.12128255264137641,0.23365973611228186,0]
[null,-4.6152151710074366E-10,0.23210975825278549,1.008101226433001E-3,0.20184320617952156,-6.4563310054655626E-2,11.05882211812172,7.189825110636332,0.65014384297353034,1.0780814219270716,386.41550499207551,0.23308034144952852,458.33333333333337,0.27646015351590181,0.31053985577612547,4.0413043167729777E-2,1.0347016098606985,0.26872441495110555,-3.3076473954597119E-2,0.17775338893337228,0.12021461575468417,0.26872441565100191,0]
[null,-6.1473998760094919E-8,0.25773794179237436,1.2225709608610698E-3,0.2447845871543308,-7.8298910804010857E-2,12.86159222398117,8.3098131576467154,0.64609521223605559,1.3922665293523195,458.33333333333337,0.27646015351590181,458.33333333333337,0.27646015351590181,0.36503006531759935,4.4137378069953298E-2,1.3922665293523195,0.30357907113743432,-4.764225306597978E-2,0.21310407075951251,9.9231439575326708E-2,0.30357840045632289,0]
[null,8.1303694369356912E-5,0.28728229315396503,1.5606717819515439E-3,0.31247952884416275,-9.9952399133784925E-2,15.338747672659053,9.8050116673073457,0.63923156417681615,1.8507512543148454,458.33333333333337,0.27646015351590181,458.33333333333337,0.27646015351590181,0.42399983180327255,5.05491119442152E-2,1.8507512543148454,0.33044599946801473,-4.2294696815595285E-2,0.19576185074035507,0.11301069645695955,0.33057407828845625,0]
[null,8.7609110251398039E-5,0.32152034227515802,1.681707913420124E-3,0.33671352459638193,-0.10770409418079156,16.120219376885085,10.262370189986486,0.63661479723419789,2.1768509496748254,458.33333333333337,0.27646015351590181,428.50307482748173,0.25846696548838155,0.44575047121092037,4.8669056064509865E-2,2.1948441377023458,0.33892947882022412,-6.6650266650701687E-2,0.29429463183521437,1.4075679500678784E-2,0.33398360408412997,0]
[null,9.3914526133439153E-5,0.36142247287457469,1.802744044888703E-3,0.36094752034860089,-0.11545578922779812,16.84756105807412,10.679759105660196,0.63390535097909428,2.5574166153961047,458.33333333333337,0.27646015351590181,305.74517455254994,0.18442114449500541,0.44890340545306562,4.6411940570532093E-2,2.6494556244170013,0.32593702846836176,-2.1782465111093004E-2,7.6941551510069942E-2,0.27498832320304367,0.32118655531492435,0]
[null,1.0021994201548028E-4,0.40821011767341625,1.9237801763572831E-3,0.38518151610082008,-0.12320748427480474,17.521619902079788,11.057846480571543,0.63109726967989954,3.0040510592638823,458.33333333333337,0.27646015351590181,174.89332231604357,0.10549316669759889,0.43892445407051678,4.3851301877995283E-2,3.1750180460821853,0.29969577926368413,-2.4268213035690454E-2,9.14197248483858E-2,0.25407803910116161,0.29560123099933144,0]
[null,1.0652535789752141E-4,0.46343492031952305,2.0448163078258621E-3,0.40941551185303904,-0.13095917932181128,18.14322439403632,11.397285003155325,0.62818409537510955,3.5314455755835685,458.33333333333337,0.27646015351590181,37.78308191837899,2.279021809627407E-2,0.40782075904998188,4.1055973629415016E-2,3.7851155110031964,0.25241915644594493,-2.7141649001974681E-2,0.11141922294145667,0.21954563145619616,0.24850996955029575,0]
[null,1.1283077377956253E-4,0.52908775969114819,2.1658524392944422E-3,0.43364950760525822,-0.1387108743688179,18.713184851726048,11.698712435731125,0.62515881334074841,4.1583851609521476,458.33333333333337,0.27646015351590181,-103.87539012530169,-6.2656159201232936E-2,0.34295573726628187,3.8090086694109161E-2,4.4975014736692822,0.1716455162273352,-1.7899884058869997E-2,3.4873223655347105E-2,0.37687339539561127,0.16844988428992275,0]
[null,1.1913618966160366E-4,0.60775093154630122,2.2868885707630219E-3,0.4578835033574773,-0.14646256941582453,18.873587008663765,11.936246999366318,0.63243129108881535,4.8175848361769402,458.33333333333337,0.27646015351590181,-248.49734458513012,-0.1498900669795615,0.25112626223527906,3.5013069168197769E-2,5.2439350566724032,6.7520001382471134E-2,1.5561813209225447E-2,-0.29109177647931239,1.1660543296830479,6.8423020405504298E-2,0.11147812044306116]
[null,-1.0282098815052853E-5,0.70281369836511054,2.136477293514205E-3,0.42776798157314205,-0.13682955868822816,17.194194865774701,11.417515679981657,0.66403316753774788,5.0754125872907156,458.33333333333337,0.27646015351590181,-350.13720206206489,-0.21119778465536027,0.18564945789712484,2.8285826604743637E-2,5.5630705254619777,2.8293409623947274E-2,3.0996908470907678E-2,-0.45789893713308821,1.6163328025010362,2.8104716324134804E-2,0.2316598249918132]
[null,-1.0798936182433273E-5,0.81878250652390949,2.0062923224704095E-3,0.40170219446479333,-0.12849193104770121,15.237049552538236,10.687320762192243,0.70140355751562911,5.2398484423556333,458.33333333333337,0.27646015351590181,-429.12610883290563,-0.25884277074682183,0.13739153492026818,2.2800085040539604E-2,5.7751513666183563,5.7175926393811527E-3,3.6767131039463018E-2,-0.52332300098205831,1.8017160570751662,5.5480819156759065E-3,0.34048419977542432]
[null,-1.1315773549813694E-5,0.9617353344904862,1.881934197863045E-3,0.37680306536241331,-0.12052748070648896,13.183356369173955,9.7535186324580554,0.73983577166011127,5.3251378519142136,458.33333333333337,0.27646015351590181,-487.29916788685875,-0.29393193329928474,0.10172003100143204,1.8207892163942321E-2,5.8955299387293998,-5.6251423722463584E-3,1.4990214107194842E-2,-0.26917154365252444,1.0602647839587056,-5.6039975070754644E-3,0.43851496286544944]
[null,1.1832610917194111E-6,1.1400001031491622,1.7741453257251441E-3,0.35522145136143646,-0.11362419937936974,11.21168827781019,8.709474911964973,0.77682100109779928,5.3681568331355445,458.33333333333337,0.27646015351590181,-530.96587491198932,-0.32027107045063347,7.4413679326544926E-2,1.4480885234431255E-2,5.9648880571020797,-1.1963180064579915E-2,3.775536965279408E-2,-0.5391758041634519,1.8608282533157532,-1.1992780997176489E-2,0.52631583233344303]
[null,0,{"$f":"C233","v":1.3651895295975189},{"$f":"D233+(D252-D232)","v":1.8501200169531334E-3},0.37043319286503207,-0.11848995831055918,9.8594258803750368,7.9890455439653545,0.81029520794586718,5.6531936914869361,458.33333333333337,0.27646015351590181,-620.1282658431636,-0.37405255761720213,4.1786853629878565E-2,1.2610077742618873E-2,6.3037064026200396,-3.7703374173804483E-2,null,null,null,null,0.60445052625095852]
[null,"De","hc","e0","a'","b'","N'","tN'","t","Nc","sac","Nac","sat","Nat","Mtot","u","N","Mo","a''","b''","c''",null,"x"]
[null,null,{"$f":"$C$35","v":0.12945607170440351},{"$f":"$D$35","v":3.2742931933764949E-4},{"$f":"$E$35","v":6.555828113227867E-2},{"$f":"$F$35","v":-2.097003764213403E-2},{"$f":"IF($C$2=1,0.5*($O$31*D255*$F$6/$O$30)*(1-W255^2+(E255-F255)*(F255^2*(1-W255^2)+2*F255*(1-W255)+2*LN((1-F255)/(1-F255*W255)))/(F255^3)),$F$6*F255*(LN((1-E255+E255^2)/(1+E255)^2)/(6*E255)+ATAN((2-E255)/(E255*3^0.5))/(E255*3^0.5)-LN((W255^2-E255*W255+E255^2)/(W255+E255)^2)/(6*E255)-ATAN((2*W255-E255)/(E255*3^0.5))/(E255*3^0.5)))","v":4.0789725576609177},{"$f":"IF($C$2=1,($O$31*D255*$F$6/$O$30)*(1-W255^3-(E255-F255)*(-2*F255^3*(1-W255^3)-3*F255^2*(1-W255^2)-6*F255*(1-W255)-6*LN((1-F255)/(1-F255*W255)))/(2*F255^4))/3,$F$6*F255*(LN((1+E255^3)/(E255^3+W255^3)))/3)","v":2.6990386030010254},{"$f":"$I$35","v":0.66169570028899294},{"$f":"$J$35","v":0.22178006084003529},{"$f":"$K$35","v":90.812088468865227},{"$f":"$L$35","v":5.4776561278259202E-2},{"$f":"$M$35","v":458.32747875640376},{"$f":"$N$35","v":0.27645662211829442},{"$f":"$O$35","v":0.11972660615436539},{"$f":"$P$35","v":2.3534552881082957E-2},{"$f":"$Q$35","v":1.0000000000010001E-4},{"$f":"$R$35","v":0.11972425269907729},null,null,null,null,{"$f":"IF(C255<$C$6,0,(C255-$C$6)/C255)","v":0}]
[null,{"$f":"IF(R236>$Q$29*V236,B236,IF(Q236>Q235,$U$6,-0.5)*B236)","v":4.7016331746461194E-15},{"$f":"IF(Q236>Q235,C236,(1-$T$6)*C236+$T$6*C237)","v":0.15398187908114286},{"$f":"D236+B256","v":4.5739675128557037E-4},{"$f":"IF($C$2=1,D256/($O$31*$O$30),2^(1/3)*$O$30/D256)","v":9.1580512308515216E-2},{"$f":"IF($C$2=1,-($O$31-2)*D256/$O$30,3*($O$30/D256)^2)","v":-2.9293733106280601E-2},{"$f":"IF($C$2=1,0.5*($O$31*D256*$F$6/$O$30)*(1-W256^2+(E256-F256)*(F256^2*(1-W256^2)+2*F256*(1-W256)+2*LN((1-F256)/(1-F256*W256)))/(F256^3)),$F$6*F256*(LN((1-E256+E256^2)/(1+E256)^2)/(6*E256)+ATAN((2-E256)/(E256*3^0.5))/(E256*3^0.5)-LN((W256^2-E256*W256+E256^2)/(W256+E256)^2)/(6*E256)-ATAN((2*W256-E256)/(E256*3^0.5))/(E256*3^0.5)))","v":5.564784915049426},{"$f":"IF($C$2=1,($O$31*D256*$F$6/$O$30)*(1-W256^3-(E256-F256)*(-2*F256^3*(1-W256^3)-3*F256^2*(1-W256^2)-6*F256*(1-W256)-6*LN((1-F256)/(1-F256*W256)))/(2*F256^4))/3,$F$6*F256*(LN((1+E256^3)/(E256^3+W256^3)))/3)","v":3.6706742997710098},{"$f":"H256/G256","v":0.65962554812208896},{"$f":"G256*C256*$D$6","v":0.35988793591871754},{"$f":"MAX(MIN($K$6,$Q$6*$J$6*D256*(C256-$I$6)/C256),-$K$6)","v":144.3131446991126},{"$f":"K256*$H$6","v":8.7047638119009202E-2},{"$f":"MIN($O$6,$Q$6*$N$6*D256*(C$6-C256-$M$6)/C256)","v":458.33333333333337},{"$f":"M256*$L$6","v":0.27646015351590181},{"$f":"(0.5*$C$6-C256+I256*C256)*J256+(0.5*$C$6-$I$6)*L256+(0.5*$C$6-$M$6)*N256","v":0.15464411321882759},{"$f":"0.1*$Q$6*D256*$B$6^2/C256+$R$6","v":2.7639760238686622E-2},{"$f":"(J256+L256-N256)","v":0.17047542052182496},{"$f":"O256-P256*Q256","v":0.14993221346901509},{"$f":"((R256-R255)*(Q256-Q257)-(R256-R257)*(Q256-Q255))/((Q256^2-Q255^2)*(Q256-Q257)-(Q256^2-Q257^2)*(Q256-Q255))","v":-4.9833015292752428E-2},{"$f":"-(S256*(Q256^2-Q255^2)-(R256-R255))/(Q256-Q255)","v":0.18580262773273568},{"$f":"R256-S256*Q256^2-T256*Q256","v":0.11970567293463413},{"$f":"S236*Q256^2+T236*Q256+U236","v":0.14993221346929905},{"$f":"IF(C256<$C$6,0,(C256-$C$6)/C256)","v":0}]
[null,{"$f":"IF(R237>$Q$29*V237,B237,IF(Q237>Q236,$U$6,-0.5)*B237)","v":1.1245780567626804E-14},{"$f":"IF(Q237>Q236,C237,(1-$T$6)*C237+$T$6*C238)","v":0.17394964462770141},{"$f":"D237+B257","v":5.4994191131479649E-4},0.11011001244888367,-3.5220738950888369E-2,6.5777984233956239,4.3289484764491677,0.65811510140720553,0.4805663932365758,186.22781758643799,0.11232997317573383,458.33333333333337,0.27646015351590181,0.18281920577017757,{"$f":"0.1*$Q$6*D257*$B$6^2/C257+$R$6","v":2.9417386315753198E-2},0.31643621289640778,0.17351047945111003,-3.5916443061520253E-2,0.17902648681604361,0.12045639680778011,0.17351047945329584,0]
[null,1.9781689190826413E-14,0.19020714713826217,6.483357234450132E-4,0.1298105365508731,-4.1522318627068747E-2,7.6144047848946608,4.9986619625789546,0.65647441970713505,0.60829196874211344,229.42791036143859,0.13838765524223098,458.33333333333337,0.27646015351590181,0.2116104533413013,3.1716403264105887E-2,0.47021947046844259,0.19669678299328985,-3.2666223745845262E-2,0.17646968331918564,0.12094001146325128,0.19669678299208046,0]
[null,4.1915779846300446E-13,0.20976979172988638,8.3173465476681096E-4,0.16653088500126731,-5.3268006218897768E-2,9.4372631563715128,6.1655068559008219,0.6533151353036305,0.83145414526111661,306.97597093732088,0.18516354338405397,458.33333333333337,0.27646015351590181,0.26096691444576503,3.6893738136708341E-2,0.74015753512926874,0.2336597361647943,-3.1682012903168098E-2,0.17527841714654926,0.12128255274467939,0.233659736164125,0]
[null,4.615215171007437E-11,0.23210975825278549,1.0081012725851528E-3,0.20184321542015934,-6.456331301044578E-2,11.05882252587687,7.1898253663170832,0.65014384212183485,1.0780814616775303,386.41552268266696,0.23308035212024189,458.33333333333337,0.27646015351590181,0.3105398653085395,4.0413045017890122E-2,1.0347016602818702,0.2687244205314826,-3.3076867349793412E-2,0.17775408738740231,0.1202143143040971,0.26872442046238293,0]
[null,6.1473998760094921E-9,0.25773794179237436,1.2225771082609459E-3,0.24478581799392124,-7.8299304510985726E-2,12.861641283686138,8.3098433209921598,0.64609509297483403,1.3922718400622207,458.33333333333337,0.27646015351590181,458.33333333333337,0.27646015351590181,0.36503097199865769,4.4137600003993256E-2,1.3922718400622207,0.30357943442516772,-4.7478592105450274E-2,0.21270669172863102,9.9467391468815669E-2,0.30357949834362652,0]
[null,-8.1303694369356908E-6,0.28728229315396503,1.5525414125146081E-3,0.31085165676986548,-9.9431693921796321E-2,15.284292363733194,9.7728400731215288,0.63940415693111674,1.8441807549853415,458.33333333333337,0.27646015351590181,458.33333333333337,0.27646015351590181,0.42299821891930117,5.0285774732914061E-2,1.8441807549853415,0.3302621609073329,-3.2996322105229868E-2,0.16583551140423819,0.13665208143552315,0.33018655790332035,0]
[null,8.7609110251398039E-5,0.32152034227515802,1.7693170236715221E-3,0.35425472307924344,-0.11331497332711254,16.652049608172504,10.568443523762843,0.63466322599567893,2.2486685296330644,458.33333333333337,0.27646015351590181,450.82607921251588,0.27193188451214018,0.45816701935994225,5.1204486066688808E-2,2.253196798636826,0.34279323527863509,-7.3460891715211946E-2,0.33163413064116049,-3.1490432604081575E-2,0.33880294208769646,0]
[null,9.3914526133439153E-5,0.36142247287457469,1.8966585710221422E-3,0.37975119657135142,-0.12147049540055395,17.375166896468865,10.976507996477308,0.63173539925582245,2.6375058302586951,458.33333333333337,0.27646015351590181,321.67306696029385,0.19402862285187009,0.45987955790450258,4.8829785420982812E-2,2.7199373609227271,0.32706560021213155,-2.142023175123782E-2,7.2828946888297524E-2,0.28744357020147537,0.32311655631758918,0]
[null,1.0021994201548028E-4,0.40821011767341625,2.0240001183727632E-3,0.40524767006345952,-0.12962601747399541,18.040018319623019,11.341631295250636,0.62869289234112269,3.0929295604552371,458.33333333333337,0.27646015351590181,184.00444573691058,0.11098886687134848,0.44765586530339729,4.6135749438858287E-2,3.2584008470997907,0.29732710025023779,-2.3973619609806551E-2,8.809396308307979E-2,0.2648137969973352,0.2943002570326575,0]
[null,1.0652535789752141E-4,0.46343492031952305,2.1513416657233837E-3,0.43074414355556756,-0.13778153954743683,18.647551698252173,11.66455954658943,0.62552766901205292,3.6296091868821465,458.33333333333337,0.27646015351590181,39.751403624550292,2.3977481778579814E-2,0.413191102777831,4.3194797673397109E-2,3.8820918586194688,0.24550493039522092,-2.6940645955131189E-2,0.10927999305954719,0.22728266011877213,0.24304334464609773,0]
[null,1.1283077377956253E-4,0.52908775969114819,2.2786832130740047E-3,0.45624061704767571,-0.14593706162087833,19.198693117065805,11.946021031656953,0.62223094868046414,4.2662732827286094,458.33333333333337,0.27646015351590181,-109.28681171241119,-6.59202518035127E-2,0.3433944067319582,4.0074401912013391E-2,4.6086536880480233,0.15870536656383893,-1.7804465705857562E-2,3.1707011294475645E-2,0.39074004315851729,0.15740403894965277,0]
[null,-1.1913618966160367E-5,0.60775093154630122,2.2749749517968613E-3,0.45549814463924665,-0.14569956798797498,18.826508757833146,11.912030159440517,0.63272645569424968,4.8055678588418314,458.33333333333337,0.27646015351590181,-247.20278974090255,-0.14910920989380896,0.25159218792234284,3.4830667467372206E-2,5.231137222251542,6.9388186857906237E-2,2.0963502668605614E-2,-0.34976169152734804,1.3253776029771791,6.9159156440185443E-2,0.11147812044306116]
[null,-1.0282098815052853E-5,0.70281369836511054,2.1261951946991522E-3,0.42570928772706046,-0.13617104710585684,17.152776508019631,11.393511484170723,0.66423715594054333,5.0631866438292139,458.33333333333337,0.27646015351590181,-348.45211731000245,-0.21018136547883118,0.18617460456248544,2.8149697068006539E-2,5.549828162823947,2.9948622999500074E-2,3.0572180366040969E-2,-0.45335251317974556,1.6043358948560067,2.9795536287562152E-2,0.2316598249918132]
[null,-1.0798936182433273E-5,0.81878250652390949,1.9954933862879761E-3,0.39954001883675361,-0.12780031888939256,15.19498034241202,10.660296725180633,0.70156699679470858,5.2253813183634916,458.33333333333337,0.27646015351590181,-426.81632305961585,-0.25744954079160903,0.1380142593232879,2.2677362812801791E-2,5.7592910126710022,7.4087274844389372E-3,3.4557696953576682E-2,-0.49842519524409878,1.7317252622905728,7.2914892575930423E-3,0.34048419977542432]
[null,1.1315773549813695E-6,0.9617353344904862,1.8830657752180264E-3,0.37702963110341314,-0.12059995197991358,13.187494355606214,9.7564135935749814,0.73982314839265695,5.3268093039757431,458.33333333333337,0.27646015351590181,-487.59217319177765,-0.29410866993545676,0.10165132704046045,1.8218840282361159E-2,5.8973781274271015,-5.7920631478240447E-3,2.2380721436610521E-2,-0.35648222051574913,1.3181377367964953,-5.7959026745708631E-3,0.43851496286544944]
[null,1.1832610917194111E-6,1.1400001031491622,1.7753285868168636E-3,0.35545836528063207,-0.11369998071038806,11.215663343157711,8.7124568242907152,0.77681154985860768,5.3700600945961483,458.33333333333337,0.27646015351590181,-531.32000106597695,-0.3204846743144053,7.4340608311232875E-2,1.4490543218939682E-2,5.9670049224264554,-1.2124534404813508E-2,3.6603474111441325E-2,-0.52522640627327177,1.8186319135250353,-1.2150909553864553E-2,0.52631583233344303]
[null,0,{"$f":"C253","v":1.3651895295975189},{"$f":"D253+(D272-D252)","v":1.8513032780448529E-3},0.37067010678422768,-0.1185657396415775,9.8624410866892127,7.9914192060806286,0.81028815643484065,5.6549225492846054,458.33333333333337,0.27646015351590181,-620.52487451834361,-0.37429178633405885,4.17012244782861E-2,1.2618142632582593E-2,6.3056744891345655,-3.7864675620251226E-2,null,null,null,null,0.60445052625095852]
[null,"De","hc","e0","a'","b'","N'","tN'","t","Nc","sac","Nac","sat","Nat","Mtot","u","N","Mo","a''","b''","c''",null,"x"]
[null,null,{"$f":"$C$35","v":0.12945607170440351},{"$f":"$D$35","v":3.2742931933764949E-4},{"$f":"$E$35","v":6.555828113227867E-2},{"$f":"$F$35","v":-2.097003764213403E-2},{"$f":"IF($C$2=1,0.5*($O$31*D275*$F$6/$O$30)*(1-W275^2+(E275-F275)*(F275^2*(1-W275^2)+2*F275*(1-W275)+2*LN((1-F275)/(1-F275*W275)))/(F275^3)),$F$6*F275*(LN((1-E275+E275^2)/(1+E275)^2)/(6*E275)+ATAN((2-E275)/(E275*3^0.5))/(E275*3^0.5)-LN((W275^2-E275*W275+E275^2)/(W275+E275)^2)/(6*E275)-ATAN((2*W275-E275)/(E275*3^0.5))/(E275*3^0.5)))","v":4.0789725576609177},{"$f":"IF($C$2=1,($O$31*D275*$F$6/$O$30)*(1-W275^3-(E275-F275)*(-2*F275^3*(1-W275^3)-3*F275^2*(1-W275^2)-6*F275*(1-W275)-6*LN((1-F275)/(1-F275*W275)))/(2*F275^4))/3,$F$6*F275*(LN((1+E275^3)/(E275^3+W275^3)))/3)","v":2.6990386030010254},{"$f":"$I$35","v":0.66169570028899294},{"$f":"$J$35","v":0.22178006084003529},{"$f":"$K$35","v":90.812088468865227},{"$f":"$L$35","v":5.4776561278259202E-2},{"$f":"$M$35","v":458.32747875640376},{"$f":"$N$35","v":0.27645662211829442},{"$f":"$O$35","v":0.11972660615436539},{"$f":"$P$35","v":2.3534552881082957E-2},{"$f":"$Q$35","v":1.0000000000010001E-4},{"$f":"$R$35","v":0.11972425269907729},null,null,null,null,{"$f":"IF(C275<$C$6,0,(C275-$C$6)/C275)","v":0}]
[null,{"$f":"IF(R256>$Q$29*V256,IF(B256=B216,1.22,1)*B256,IF(Q256>Q255,$U$6,-0.5)*B256)","v":-4.7016331746461192E-16},{"$f":"IF(Q256>Q255,C256,(1-$T$6)*C256+$T$6*C257)","v":0.15398187908114286},{"$f":"D256+B276","v":4.5739675128510021E-4},{"$f":"IF($C$2=1,D276/($O$31*$O$30),2^(1/3)*$O$30/D276)","v":9.1580512308421069E-2},{"$f":"IF($C$2=1,-($O$31-2)*D276/$O$30,3*($O$30/D276)^2)","v":-2.9293733106250493E-2},{"$f":"IF($C$2=1,0.5*($O$31*D276*$F$6/$O$30)*(1-W276^2+(E276-F276)*(F276^2*(1-W276^2)+2*F276*(1-W276)+2*LN((1-F276)/(1-F276*W276)))/(F276^3)),$F$6*F276*(LN((1-E276+E276^2)/(1+E276)^2)/(6*E276)+ATAN((2-E276)/(E276*3^0.5))/(E276*3^0.5)-LN((W276^2-E276*W276+E276^2)/(W276+E276)^2)/(6*E276)-ATAN((2*W276-E276)/(E276*3^0.5))/(E276*3^0.5)))","v":5.5647849150493789},{"$f":"IF($C$2=1,($O$31*D276*$F$6/$O$30)*(1-W276^3-(E276-F276)*(-2*F276^3*(1-W276^3)-3*F276^2*(1-W276^2)-6*F276*(1-W276)-6*LN((1-F276)/(1-F276*W276)))/(2*F276^4))/3,$F$6*F276*(LN((1+E276^3)/(E276^3+W276^3)))/3)","v":3.670674299600996},{"$f":"H276/G276","v":0.65962554809154283},{"$f":"G276*C276*$D$6","v":0.35988793591871454},{"$f":"MAX(MIN($K$6,$Q$6*$J$6*D276*(C276-$I$6)/C276),-$K$6)","v":144.31314469896427},{"$f":"K276*$H$6","v":8.7047638118919732E-2},{"$f":"MIN($O$6,$Q$6*$N$6*D276*(C$6-C276-$M$6)/C276)","v":458.33333333333337},{"$f":"M276*$L$6","v":0.27646015351590181},{"$f":"(0.5*$C$6-C276+I276*C276)*J276+(0.5*$C$6-$I$6)*L276+(0.5*$C$6-$M$6)*N276","v":0.15464411321711535},{"$f":"0.1*$Q$6*D276*$B$6^2/C276+$R$6","v":2.7639760238658211E-2},{"$f":"(J276+L276-N276)","v":0.17047542052173248},{"$f":"O276-P276*Q276","v":0.14993221346731023},{"$f":"((R276-R275)*(Q276-Q277)-(R276-R277)*(Q276-Q275))/((Q276^2-Q275^2)*(Q276-Q277)-(Q276^2-Q277^2)*(Q276-Q275))","v":-4.9833015195943478E-2},{"$f":"-(S276*(Q276^2-Q275^2)-(R276-R275))/(Q276-Q275)","v":0.18580262770630762},{"$f":"R276-S276*Q276^2-T276*Q276","v":0.11970567293463677},{"$f":"S256*Q276^2+T256*Q276+U256","v":0.14993221346899946},{"$f":"IF(C276<$C$6,0,(C276-$C$6)/C276)","v":0}]
[null,{"$f":"IF(R257>$Q$29*V257,IF(B257=B217,1.22,1)*B257,IF(Q257>Q256,$U$6,-0.5)*B257)","v":-1.1245780567626805E-15},{"$f":"IF(Q257>Q256,C257,(1-$T$6)*C257+$T$6*C258)","v":0.17394964462770141},{"$f":"D257+B277","v":5.4994191131367196E-4},0.11011001244865851,-3.5220738950816344E-2,6.5777984233797051,4.3289484765450572,0.65811510142337593,0.48056639323541278,186.22781758605717,0.11232997317550411,458.33333333333337,0.27646015351590181,0.18281920577123625,{"$f":"0.1*$Q$6*D277*$B$6^2/C277+$R$6","v":2.9417386315693041E-2},0.31643621289501511,0.17351047945222869,-3.5916443191977038E-2,0.17902648690029449,0.12045639679551931,0.17351047945089235,0]
[null,-1.9781689190826413E-15,0.19020714713826217,6.4833572344303507E-4,0.12981053655047703,-4.1522318626942056E-2,7.614404784878154,4.9986619624704431,0.65647441969430731,0.60829196874079472,229.42791036073857,0.13838765524180874,458.33333333333337,0.27646015351590181,0.21161045333945849,3.1716403264009117E-2,0.47021947046670165,0.19669678299154775,-3.2666223694244774E-2,0.17646968326023033,0.12094001147807565,0.19669678299303611,0]
[null,-4.1915779846300451E-14,0.20976979172988638,8.3173465472489517E-4,0.16653088499287486,-5.3268006216213297E-2,9.4372631559724471,6.1655068556203512,0.65331513530153718,0.83145414522595762,306.97597092185066,0.18516354337472254,458.33333333333337,0.27646015351590181,0.26096691443650427,3.6893738134849058E-2,0.74015753508477833,0.2336597361585511,-3.1682012930422235E-2,0.17527841718308326,0.12128255273203761,0.23365973615908267,0]
[null,-4.6152151710074373E-12,0.23210975825278549,1.0081012679699377E-3,0.20184321449609557,-6.4563312714866775E-2,11.058822485099016,7.1898253407841368,0.65014384221031851,1.0780814577022564,386.41552091360785,0.23308035105317057,458.33333333333337,0.27646015351590181,0.31053986435608438,4.0413044832874084E-2,1.034701655239525,0.26872441997424046,-3.30768280172061E-2,0.1777540175586646,0.12021434444015391,0.26872441998033053,0]
[null,-6.1473998760094921E-10,0.25773794179237436,1.2225764935209582E-3,0.24478569490996219,-7.8299265140288246E-2,12.861636377720101,8.3098403046930027,0.64609510490344269,1.3922713089917134,458.33333333333337,0.27646015351590181,458.33333333333337,0.27646015351590181,0.3650308813315451,4.4137577810589253E-2,1.3922713089917131,0.30357939809747242,-4.7494976911945833E-2,0.21274647512045847,9.9443769244288716E-2,0.30357939167372455,0]
[null,8.1303694369356917E-7,0.28728229315396503,1.5533544494583018E-3,0.31101444397729527,-9.9483764442995185E-2,15.289749068895999,9.7760654929329274,0.63938691530395475,1.8448391531896804,458.33333333333337,0.27646015351590181,458.33333333333337,0.27646015351590181,0.42309864323704066,5.0312108454044178E-2,1.8448391531896804,0.33028089568149444,-3.4352765190642877E-2,0.17020368406122569,0.1331997585093741,0.33029120378854071,0]
[null,1.068831145067056E-4,0.32152034227515802,1.8762001381782277E-3,0.37565498522833446,-0.12016024588562413,17.262945874384695,10.913864155008165,0.6322133101976819,2.3311630718080716,458.33333333333337,0.27646015351590181,458.33333333333337,0.27646015351590181,0.46986515700650128,5.4297710669347118E-2,2.3311630718080716,0.34328833901040012,-6.4058378085409803E-2,0.29425438960469436,5.44717862874744E-3,0.34239271993043829,0]
[null,1.1457572188279576E-4,0.36142247287457469,2.0112342929049379E-3,0.40269168156310697,-0.12880843693131605,17.975968340735697,11.306943329241085,0.62900329567326818,2.7287059506099793,458.33333333333337,0.27646015351590181,341.10509569774143,0.20574974644724503,0.47213192885480115,5.1779556138532697E-2,2.7994163576786364,0.32717939240725347,-2.6927208624614465E-2,0.10374997537635273,0.24776133021147617,0.32345750102801424,0]
[null,1.2226832925888595E-4,0.40821011767341625,2.146268447631649E-3,0.42972837789787965,-0.13745662797700803,18.624432528745302,11.652492130616652,0.62565622402894561,3.1931263535470831,458.33333333333337,0.27646015351590181,195.12001631036836,0.11769362108332297,0.45697184245379396,4.8922775463111148E-2,3.351892885979662,0.29298793941661133,-2.3749341486800538E-2,8.4201931876400016E-2,0.27758035003431125,0.29074725168376103,0]
[null,1.299609366349761E-4,0.46343492031952305,2.28130260235836E-3,0.45676507423265233,-0.14610481902270003,19.209444500171049,11.951380437884888,0.62216168915131653,3.7389775001540095,458.33333333333337,0.27646015351590181,42.152756106079281,2.5425943470992824E-2,0.41821208029534579,4.5804163007055261E-2,3.9900117101989188,0.23545293352133517,-2.684903489755339E-2,0.10695958517555083,0.23612476560125478,0.23441081690986498,0]
[null,1.3765354401106629E-4,0.52908775969114819,2.4163367570850711E-3,0.48380177056742502,-0.15475301006839198,19.732083614888751,12.204456226322742,0.61850823585168302,4.3848016438127591,458.33333333333337,0.27646015351590181,-115.88874604868479,-6.9902444778294007E-2,0.34223369827096822,4.2495266477856557E-2,4.7311642421069546,0.14118161305212693,-1.3354076159929482E-2,-1.073232444437482E-2,0.49087450951109729,0.14221747271121976,0]
[null,-1.1913618966160367E-5,0.60775093154630122,2.2630613328307007E-3,0.45311278592101595,-0.14493656656012543,18.778945509692289,11.887456498744035,0.63302044795905166,4.7934270833285417,458.33333333333337,0.27646015351590181,-245.908234896675,-0.14832835280805645,0.2520445723460118,3.4648265766546629E-2,5.2182155896525,7.1242451768595144E-2,2.3674233329096E-2,-0.3791410400786322,1.4050381160276921,7.1077130244597164E-2,0.11147812044306116]
[null,-1.254416055436448E-5,0.70281369836511054,2.1136510341447875E-3,0.42319768123484092,-0.13536766297536382,17.101754324888837,11.363860312949065,0.66448506375809668,5.0481258263547923,458.33333333333337,0.27646015351590181,-346.39631391248628,-0.20894133408346574,0.18680217311879982,2.7983619033187267E-2,5.5335273139541599,3.195405285537059E-2,2.975034169520617E-2,-0.44446979508550227,1.5804865866124462,3.1815235982592727E-2,0.2316598249918132]
[null,-1.3174702142568593E-5,0.81878250652390949,1.9823186841454077E-3,0.39690216457054522,-0.12695655205625608,15.143121967859759,10.626921517397141,0.70176556326707629,5.2075478118054255,458.33333333333337,0.27646015351590181,-423.9983844162025,-0.25574980024624949,0.13876046357552707,2.2527641694961659E-2,5.7397577655675764,9.4572572169469571E-3,3.3938974747813676E-2,-0.49168944958105398,1.7135222065464406,9.3824556931914049E-3,0.34048419977542432]
[null,1.1315773549813695E-6,0.9617353344904862,1.8841973525730079E-3,0.37725619684441292,-0.12067242325333816,13.191628180605921,9.7593053036550916,0.73981051997834768,5.3284790751146467,458.33333333333337,0.27646015351590181,-487.88517849669643,-0.29428540657162872,0.10158252289421321,1.8229788400779996E-2,5.8992246352021773,-5.9590939341910426E-3,2.71833735250578E-2,-0.4130611258427796,1.4847767356970567,-5.9628018560073937E-3,0.43851496286544944]
[null,1.4435785318976815E-6,1.1400001031491622,1.7767721653487612E-3,0.35574740026205065,-0.11379243393423041,11.220507131001446,8.7160900931754863,0.77680001370825413,5.3723793004255747,458.33333333333337,0.27646015351590181,-531.75203497384177,-0.32074527102820682,7.4251328471300712E-2,1.4502325960039966E-2,5.9695847249696827,-1.2321535056285152E-2,3.5178413753080479E-2,-0.50795273413608544,1.7663294429293193,-1.2352345819074628E-2,0.52631583233344303]
[null,0,{"$f":"C273","v":1.3651895295975189},{"$f":"D273+(D292-D272)","v":1.8527468565767505E-3},0.37095914176564632,-0.11865819286541984,9.8661144530683682,7.9943107695551632,0.81027954901424515,5.6570287826386689,458.33333333333337,0.27646015351590181,-621.00873710206304,-0.37458364536862393,4.159664379649039E-2,1.2627981798338324E-2,6.3080725815231942,-3.8061581945581555E-2,null,null,null,null,0.60445052625095852]
[null,"De","hc","e0","a'","b'","N'","tN'","t","Nc","sac","Nac","sat","Nat","Mtot","u","N","Mo","a''","b''","c''",null,"x"]
[null,null,{"$f":"$C$35","v":0.12945607170440351},{"$f":"$D$35","v":3.2742931933764949E-4},{"$f":"$E$35","v":6.555828113227867E-2},{"$f":"$F$35","v":-2.097003764213403E-2},{"$f":"IF($C$2=1,0.5*($O$31*D295*$F$6/$O$30)*(1-W295^2+(E295-F295)*(F295^2*(1-W295^2)+2*F295*(1-W295)+2*LN((1-F295)/(1-F295*W295)))/(F295^3)),$F$6*F295*(LN((1-E295+E295^2)/(1+E295)^2)/(6*E295)+ATAN((2-E295)/(E295*3^0.5))/(E295*3^0.5)-LN((W295^2-E295*W295+E295^2)/(W295+E295)^2)/(6*E295)-ATAN((2*W295-E295)/(E295*3^0.5))/(E295*3^0.5)))","v":4.0789725576609177},{"$f":"IF($C$2=1,($O$31*D295*$F$6/$O$30)*(1-W295^3-(E295-F295)*(-2*F295^3*(1-W295^3)-3*F295^2*(1-W295^2)-6*F295*(1-W295)-6*LN((1-F295)/(1-F295*W295)))/(2*F295^4))/3,$F$6*F295*(LN((1+E295^3)/(E295^3+W295^3)))/3)","v":2.6990386030010254},{"$f":"$I$35","v":0.66169570028899294},{"$f":"$J$35","v":0.22178006084003529},{"$f":"$K$35","v":90.812088468865227},{"$f":"$L$35","v":5.4776561278259202E-2},{"$f":"$M$35","v":458.32747875640376},{"$f":"$N$35","v":0.27645662211829442},{"$f":"$O$35","v":0.11972660615436539},{"$f":"$P$35","v":2.3534552881082957E-2},{"$f":"$Q$35","v":1.0000000000010001E-4},{"$f":"$R$35","v":0.11972425269907729},null,null,null,null,{"$f":"IF(C295<$C$6,0,(C295-$C$6)/C295)","v":0}]
[null,{"$f":"IF(R276>$Q$29*V276,B276,IF(Q276>Q275,$U$6,-0.5)*B276)","v":4.7016331746461197E-17},{"$f":"IF(Q276>Q275,C276,(1-$T$6)*C276+$T$6*C277)","v":0.15398187908114286},{"$f":"D276+B296","v":4.5739675128514721E-4},{"$f":"IF($C$2=1,D296/($O$31*$O$30),2^(1/3)*$O$30/D296)","v":9.1580512308430478E-2},{"$f":"IF($C$2=1,-($O$31-2)*D296/$O$30,3*($O$30/D296)^2)","v":-2.9293733106253505E-2},{"$f":"IF($C$2=1,0.5*($O$31*D296*$F$6/$O$30)*(1-W296^2+(E296-F296)*(F296^2*(1-W296^2)+2*F296*(1-W296)+2*LN((1-F296)/(1-F296*W296)))/(F296^3)),$F$6*F296*(LN((1-E296+E296^2)/(1+E296)^2)/(6*E296)+ATAN((2-E296)/(E296*3^0.5))/(E296*3^0.5)-LN((W296^2-E296*W296+E296^2)/(W296+E296)^2)/(6*E296)-ATAN((2*W296-E296)/(E296*3^0.5))/(E296*3^0.5)))","v":5.5647849150444042},{"$f":"IF($C$2=1,($O$31*D296*$F$6/$O$30)*(1-W296^3-(E296-F296)*(-2*F296^3*(1-W296^3)-3*F296^2*(1-W296^2)-6*F296*(1-W296)-6*LN((1-F296)/(1-F296*W296)))/(2*F296^4))/3,$F$6*F296*(LN((1+E296^3)/(E296^3+W296^3)))/3)","v":3.6706742997941482},{"$f":"H296/G296","v":0.65962554812684215},{"$f":"G296*C296*$D$6","v":0.3598879359183928},{"$f":"MAX(MIN($K$6,$Q$6*$J$6*D296*(C296-$I$6)/C296),-$K$6)","v":144.31314469897907},{"$f":"K296*$H$6","v":8.7047638118928655E-2},{"$f":"MIN($O$6,$Q$6*$N$6*D296*(C$6-C296-$M$6)/C296)","v":458.33333333333337},{"$f":"M296*$L$6","v":0.27646015351590181},{"$f":"(0.5*$C$6-C296+I296*C296)*J296+(0.5*$C$6-$I$6)*L296+(0.5*$C$6-$M$6)*N296","v":0.1546441132190034},{"$f":"0.1*$Q$6*D296*$B$6^2/C296+$R$6","v":2.7639760238661049E-2},{"$f":"(J296+L296-N296)","v":0.17047542052141962},{"$f":"O296-P296*Q296","v":0.14993221346920643},{"$f":"((R296-R295)*(Q296-Q297)-(R296-R297)*(Q296-Q295))/((Q296^2-Q295^2)*(Q296-Q297)-(Q296^2-Q297^2)*(Q296-Q295))","v":-4.983301530973544E-2},{"$f":"-(S296*(Q296^2-Q295^2)-(R296-R295))/(Q296-Q295)","v":0.18580262773715725},{"$f":"R296-S296*Q296^2-T296*Q296","v":0.1197056729346337},{"$f":"S276*Q296^2+T276*Q296+U276","v":0.14993221346725741},{"$f":"IF(C296<$C$6,0,(C296-$C$6)/C296)","v":0}]
[null,{"$f":"IF(R277>$Q$29*V277,B277,IF(Q277>Q276,$U$6,-0.5)*B277)","v":1.1245780567626805E-16},{"$f":"IF(Q277>Q276,C277,(1-$T$6)*C277+$T$6*C278)","v":0.17394964462770141},{"$f":"D277+B297","v":5.4994191131378439E-4},0.11011001244868102,-3.5220738950823546E-2,6.5777984233853548,4.3289484764193267,0.65811510140369633,0.48056639323582556,186.22781758609523,0.11232997317552708,458.33333333333337,0.27646015351590181,0.18281920576968286,{"$f":"0.1*$Q$6*D297*$B$6^2/C297+$R$6","v":2.9417386315699057E-2},0.31643621289545087,0.17351047945066059,-3.5916443080409366E-2,0.17902648682141226,0.12045639680767282,0.17351047945229681,0]
[null,1.9781689190826414E-16,0.19020714713826217,6.4833572344323294E-4,0.12981053655051666,-4.1522318626954734E-2,7.6144047848810548,4.998661962454352,0.65647441969194398,0.60829196874102653,229.42791036080857,0.13838765524185095,458.33333333333337,0.27646015351590181,0.21161045333924139,3.1716403264018797E-2,0.47021947046697565,0.1966967829913174,-3.2666223711736372E-2,0.17646968328287099,0.1209400114710268,0.19669678299158766,0]
[null,4.1915779846300453E-15,0.20976979172988638,8.3173465472908669E-4,0.1665308849937141,-5.3268006216481735E-2,9.4372631560123299,6.1655068556522812,0.65331513530215957,0.83145414522947136,306.97597092339765,0.18516354337565569,458.33333333333337,0.27646015351590181,0.26096691443750197,3.6893738135034986E-2,0.74015753508922522,0.23365973615924712,-3.168201292887788E-2,0.17527841718267861,0.1212825527316162,0.23365973615912197,0]
[null,4.6152151710074373E-13,0.23210975825278549,1.0081012684314591E-3,0.20184321458850196,-6.4563312744424659E-2,11.058822489175901,7.1898253433551824,0.65014384220312826,1.078081458099696,386.41552109051372,0.23308035115987769,458.33333333333337,0.27646015351590181,0.31053986445172821,4.0413044851375687E-2,1.0347016557436719,0.26872442003036651,-3.3076831952424869E-2,0.17775402454616951,0.12021434142426626,0.26872442002934604,0]
[null,6.1473998760094924E-11,0.25773794179237436,1.2225765549949571E-3,0.2447857072183581,-7.8299269077357986E-2,12.861636868315896,8.3098406063357455,0.64609510371161927,1.3922713620986766,458.33333333333337,0.27646015351590181,458.33333333333337,0.27646015351590181,0.36503089039861314,4.4137580029929659E-2,1.3922713620986764,0.3035794017306036,-4.7493338625388008E-2,0.21274249725299518,9.94461311868578E-2,0.30357940237230074,0]
[null,-8.1303694369356922E-8,0.28728229315396503,1.5532731457639324E-3,0.31099816525655227,-9.94785573908753E-2,15.289203510159554,9.7757430335788502,0.639388639642539,1.844773326856441,458.33333333333337,0.27646015351590181,458.33333333333337,0.27646015351590181,0.42308860343628463,5.0309475081931163E-2,1.844773326856441,0.33027902571698925,-3.8688752338031991E-2,0.18424165797306236,0.1220600513606952,0.33027803517890364,0]
[null,1.068831145067056E-4,0.32152034227515802,1.9830832526849334E-3,0.39705524737742554,-0.12700551844413571,17.832685780696053,11.228947614766104,0.62968347857738183,2.4080999190757901,458.33333333333337,0.27646015351590181,458.33333333333337,0.27646015351590181,0.4795815241520402,5.7390935272005415E-2,2.4080999190757901,0.34137841756784004,-5.1517844105982466E-2,0.23880215912258843,6.5068113345728151E-2,0.34257012500797229,0]
[null,1.1457572188279576E-4,0.36142247287457469,2.1258100147877337E-3,0.42563216655486258,-0.13614637846207814,18.530291985683242,11.603159896396889,0.62617253442965981,2.8128508600724911,458.33333333333337,0.27646015351590181,360.53712443518901,0.21747087004261995,0.48315196030074514,5.4729326856082582E-2,2.8718401435457732,0.3259780824062094,-3.4587984614649389E-2,0.14941351573974496,0.18214957046543034,0.32363344189674526,0]
[null,1.2226832925888595E-4,0.40821011767341625,2.2685367768905348E-3,0.45420908573229979,-0.14528723848002068,19.15682501274447,11.925098075004302,0.62249866912032059,3.2844041129346149,458.33333333333337,0.27646015351590181,206.23558688382613,0.12439837529529747,0.46484317868728758,5.1709801487364024E-2,3.4364658911552195,0.28714420963755372,-2.3665381473585507E-2,8.0510392430327649E-2,0.28994453003809156,0.28647437022493749,0]
[null,1.299609366349761E-4,0.46343492031952305,2.4112635389933364E-3,0.48278600490973711,-0.15442809849796318,19.713563236021479,12.195766609196177,0.61864851438483448,3.8371005151497868,458.33333333333337,0.27646015351590181,44.554108587608262,2.6874405163405828E-2,0.42158050085315124,4.841352834071342E-2,4.0866862635022825,0.22372959961547925,-2.3387006562497668E-2,7.8416135618174551E-2,0.2938539599094242,0.22482917732088886,0]
[null,-1.3765354401106629E-5,0.52908775969114819,2.4025714026839643E-3,0.48104565521545006,-0.15387141522364062,19.681630234430799,12.180730645743852,0.61888829841112625,4.3735900520779145,458.33333333333337,0.27646015351590181,-115.22855261505744,-6.9504225480815876E-2,0.34243264132603179,4.2253180021272235E-2,4.7195544310746316,0.14301645832964233,-1.4729810573631742E-2,2.1787840000953829E-3,0.46082822735857332,0.14277143667461251,0]
[null,-1.1913618966160367E-5,0.60775093154630122,2.2511477138645402E-3,0.45072742720278525,-0.14417356513227589,18.730896530554329,11.862525441049007,0.63331327583271546,4.7811623223595454,458.33333333333337,0.27646015351590181,-244.61368005244739,-0.14754749572230391,0.25248338936823678,3.4465864065721059E-2,5.2051699715977504,7.3082708688175568E-2,2.3228029037142411E-2,-0.37454231305767927,1.3933036658875022,7.296937039273832E-2,0.11147812044306116]
[null,-1.254416055436448E-5,0.70281369836511054,2.1011068735904228E-3,0.42068607474262132,-0.13456427884487079,17.050190795525754,11.333806164148598,0.66473192588101548,5.0329052133503733,458.33333333333337,0.27646015351590181,-344.34051051497022,-0.20770130268810036,0.18741530253565164,2.7817540998368001E-2,5.5170666695543753,3.3944074264593199E-2,2.8840142332519331E-2,-0.43471671986766669,1.5544682373126562,3.3858727979819481E-2,0.2316598249918132]
[null,-1.3174702142568593E-5,0.81878250652390949,1.9691439820028393E-3,0.39426431030433678,-0.12611278522311961,15.090675777793104,10.593099436601234,0.70196322501273656,5.189512162162055,458.33333333333337,0.27646015351590181,-421.18044577278908,-0.25405005970088995,0.13949177437685653,2.2377920577121534E-2,5.7200223753788464,1.1489567961270652E-2,3.4733883952753328E-2,-0.50094521926206514,1.7404614312593791,1.1485192117419274E-2,0.34048419977542432]
[null,1.1315773549813695E-6,0.9617353344904862,1.8853289299279893E-3,0.37748276258541275,-0.12074489452676275,13.19575784481591,9.7621937632270814,0.73979788641409938,5.3301471655905841,458.33333333333337,0.27646015351590181,-488.17818380161532,-0.29446214320780079,0.10151361858845979,1.824073651919883E-2,5.9010694623142861,-6.1262346551054087E-3,2.9275094448376272E-2,-0.43750812510906412,1.5562040891079496,-6.1293517806821907E-3,0.43851496286544944]
[null,1.4435785318976815E-6,1.1400001031491622,1.7782157438806588E-3,0.35603643524346928,-0.11388488715807275,11.225344554219072,8.7197182366775472,0.7767884713525538,5.3746954588717442,458.33333333333337,0.27646015351590181,-532.18406888170671,-0.32100586774200845,7.4161902256714665E-2,1.451410870114025E-2,5.9721614801296541,-1.2518698646649784E-2,3.3789675824665806E-2,-0.4911107923982066,1.7153075968134806,-1.2547931457861594E-2,0.52631583233344303]
[null,0,{"$f":"C293","v":1.3651895295975189},{"$f":"D293+(D312-D292)","v":1.854190435108648E-3},0.3712481767470649,-0.11875064608926218,9.8697821213854073,7.9971976030950431,0.81027093655563776,5.6591317488401414,458.33333333333337,0.27646015351590181,-621.49259968578258,-0.37487550440318912,4.1491938806401521E-2,1.2637820964094061E-2,6.3104674067592317,-3.8258618479972584E-2,null,null,null,null,0.60445052625095852]
[null,"De","hc","e0","a'","b'","N'","tN'","t","Nc","sac","Nac","sat","Nat","Mtot","u","N","Mo","a''","b''","c''",null,"x"]
[null,null,{"$f":"$C$35","v":0.12945607170440351},{"$f":"$D$35","v":3.2742931933764949E-4},{"$f":"$E$35","v":6.555828113227867E-2},{"$f":"$F$35","v":-2.097003764213403E-2},{"$f":"IF($C$2=1,0.5*($O$31*D315*$F$6/$O$30)*(1-W315^2+(E315-F315)*(F315^2*(1-W315^2)+2*F315*(1-W315)+2*LN((1-F315)/(1-F315*W315)))/(F315^3)),$F$6*F315*(LN((1-E315+E315^2)/(1+E315)^2)/(6*E315)+ATAN((2-E315)/(E315*3^0.5))/(E315*3^0.5)-LN((W315^2-E315*W315+E315^2)/(W315+E315)^2)/(6*E315)-ATAN((2*W315-E315)/(E315*3^0.5))/(E315*3^0.5)))","v":4.0789725576609177},{"$f":"IF($C$2=1,($O$31*D315*$F$6/$O$30)*(1-W315^3-(E315-F315)*(-2*F315^3*(1-W315^3)-3*F315^2*(1-W315^2)-6*F315*(1-W315)-6*LN((1-F315)/(1-F315*W315)))/(2*F315^4))/3,$F$6*F315*(LN((1+E315^3)/(E315^3+W315^3)))/3)","v":2.6990386030010254},{"$f":"$I$35","v":0.66169570028899294},{"$f":"$J$35","v":0.22178006084003529},{"$f":"$K$35","v":90.812088468865227},{"$f":"$L$35","v":5.4776561278259202E-2},{"$f":"$M$35","v":458.32747875640376},{"$f":"$N$35","v":0.27645662211829442},{"$f":"$O$35","v":0.11972660615436539},{"$f":"$P$35","v":2.3534552881082957E-2},{"$f":"$Q$35","v":1.0000000000010001E-4},{"$f":"$R$35","v":0.11972425269907729},null,null,null,null,{"$f":"IF(C315<$C$6,0,(C315-$C$6)/C315)","v":0}]
[null,{"$f":"IF(R296>$Q$29*V296,B296,IF(Q296>Q295,$U$6,-0.5)*B296)","v":-4.7016331746461197E-18},{"$f":"IF(Q296>Q295,C296,(1-$T$6)*C296+$T$6*C297)","v":0.15398187908114286},{"$f":"D296+B316","v":4.5739675128514249E-4},{"$f":"IF($C$2=1,D316/($O$31*$O$30),2^(1/3)*$O$30/D316)","v":9.1580512308429535E-2},{"$f":"IF($C$2=1,-($O$31-2)*D316/$O$30,3*($O$30/D316)^2)","v":-2.9293733106253203E-2},{"$f":"IF($C$2=1,0.5*($O$31*D316*$F$6/$O$30)*(1-W316^2+(E316-F316)*(F316^2*(1-W316^2)+2*F316*(1-W316)+2*LN((1-F316)/(1-F316*W316)))/(F316^3)),$F$6*F316*(LN((1-E316+E316^2)/(1+E316)^2)/(6*E316)+ATAN((2-E316)/(E316*3^0.5))/(E316*3^0.5)-LN((W316^2-E316*W316+E316^2)/(W316+E316)^2)/(6*E316)-ATAN((2*W316-E316)/(E316*3^0.5))/(E316*3^0.5)))","v":5.5647849150399029},{"$f":"IF($C$2=1,($O$31*D316*$F$6/$O$30)*(1-W316^3-(E316-F316)*(-2*F316^3*(1-W316^3)-3*F316^2*(1-W316^2)-6*F316*(1-W316)-6*LN((1-F316)/(1-F316*W316)))/(2*F316^4))/3,$F$6*F316*(LN((1+E316^3)/(E316^3+W316^3)))/3)","v":3.6706742999408917},{"$f":"H316/G316","v":0.65962554815374574},{"$f":"G316*C316*$D$6","v":0.3598879359181017},{"$f":"MAX(MIN($K$6,$Q$6*$J$6*D316*(C316-$I$6)/C316),-$K$6)","v":144.3131446989776},{"$f":"K316*$H$6","v":8.7047638118927767E-2},{"$f":"MIN($O$6,$Q$6*$N$6*D316*(C$6-C316-$M$6)/C316)","v":458.33333333333337},{"$f":"M316*$L$6","v":0.27646015351590181},{"$f":"(0.5*$C$6-C316+I316*C316)*J316+(0.5*$C$6-$I$6)*L316+(0.5*$C$6-$M$6)*N316","v":0.15464411322043076},{"$f":"0.1*$Q$6*D316*$B$6^2/C316+$R$6","v":2.7639760238660768E-2},{"$f":"(J316+L316-N316)","v":0.17047542052112763},{"$f":"O316-P316*Q316","v":0.14993221347064192},{"$f":"((R316-R315)*(Q316-Q317)-(R316-R317)*(Q316-Q315))/((Q316^2-Q315^2)*(Q316-Q317)-(Q316^2-Q317^2)*(Q316-Q315))","v":-4.9833015349861724E-2},{"$f":"-(S316*(Q316^2-Q315^2)-(R316-R315))/(Q316-Q315)","v":0.18580262775271658},{"$f":"R316-S316*Q316^2-T316*Q316","v":0.11970567293463213},{"$f":"S296*Q316^2+T296*Q316+U296","v":0.14993221346915714},{"$f":"IF(C316<$C$6,0,(C316-$C$6)/C316)","v":0}]
[null,{"$f":"IF(R297>$Q$29*V297,B297,IF(Q297>Q296,$U$6,-0.5)*B297)","v":-1.1245780567626805E-17},{"$f":"IF(Q297>Q296,C297,(1-$T$6)*C297+$T$6*C298)","v":0.17394964462770141},{"$f":"D297+B317","v":5.4994191131377311E-4},0.11011001244867877,-3.5220738950822825E-2,6.5777984233825109,4.3289484764890185,0.65811510141457585,0.48056639323561778,186.22781758609139,0.11232997317552476,458.33333333333337,0.27646015351590181,0.18281920577054811,{"$f":"0.1*$Q$6*D317*$B$6^2/C317+$R$6","v":2.9417386315698454E-2},0.31643621289524071,0.17351047945153222,-3.5916443037622946E-2,0.17902648679660738,0.12045639681214218,0.17351047945062775,0]
[null,-1.9781689190826415E-17,0.19020714713826217,6.483357234432132E-4,0.1298105365505127,-4.1522318626953471E-2,7.614404784874794,4.9986619626002593,0.65647441971164577,0.60829196874052627,229.42791036080163,0.13838765524184679,458.33333333333337,0.27646015351590181,0.21161045334141765,3.1716403264017833E-2,0.47021947046647128,0.19669678299351012,-3.2666223734422045E-2,0.17646968330957247,0.12094001146575345,0.19669678299124388,0]
[null,-4.1915779846300456E-16,0.20976979172988638,8.3173465472866754E-4,0.16653088499363017,-5.3268006216454895E-2,9.4372631560024676,6.1655068557584078,0.6533151353140878,0.8314541452286025,306.97597092324293,0.18516354337556234,458.33333333333337,0.27646015351590181,0.26096691443939141,3.6893738135016396E-2,0.7401575350882631,0.23365973616118582,-3.1682012943300947E-2,0.17527841719938064,0.12128255272921776,0.23365973615912361,0]
[null,-4.6152151710074377E-14,0.23210975825278549,1.008101268385307E-3,0.20184321457926133,-6.456331274146887E-2,11.058822488769621,7.18982534307768,0.6501438422019199,1.0780814580600895,386.41552107282314,0.23308035114920697,458.33333333333337,0.27646015351590181,0.3105398644417075,4.0413044849525528E-2,1.0347016556933948,0.26872442002429203,-3.307683154671022E-2,0.17775402381711486,0.12021434174368018,0.26872442002487101,0]
[null,-6.1473998760094925E-12,0.25773794179237436,1.2225765488475572E-3,0.2447857059875185,-7.8299268683651016E-2,12.86163681925807,8.3098405761460441,0.64609510382873658,1.3922713567881699,458.33333333333337,0.27646015351590181,458.33333333333337,0.27646015351590181,0.36503088949119922,4.4137579807995618E-2,1.3922713567881697,0.30357940136657502,-4.7493502452225077E-2,0.21274289503462757,9.9445894995467465E-2,0.30357940130313299,0]
[null,8.1303694369356932E-9,0.28728229315396503,1.5532812761333693E-3,0.31099979312862658,-9.9479078096087276E-2,15.289258067149916,9.7757752803494018,0.63938846721106546,1.8447799096245066,458.33333333333337,0.27646015351590181,458.33333333333337,0.27646015351590181,0.4230896074429803,5.0309738419142463E-2,1.8447799096245063,0.33027921274888211,-3.827669194402987E-2,0.18290760690678862,0.12311866657538773,0.33027929888505536,0]
[null,-1.0688311450670562E-5,0.32152034227515802,1.972394941234263E-3,0.39491522116251643,-0.12632099118828455,17.777547677404208,11.198791723079177,0.62994018783103445,2.4006541499018152,458.33333333333337,0.27646015351590181,458.33333333333337,0.27646015351590181,0.47865583511517001,5.7081612811739596E-2,2.4006541499018152,0.34162262443557873,-4.9522682982039289E-2,0.23065172029268161,7.331378734027072E-2,0.34144494166853051,0]
[null,1.1457572188279576E-4,0.36142247287457469,2.2403857366705294E-3,0.44857265154661818,-0.14348431999284025,19.038814726683459,11.865690094320115,0.6232368067372388,2.8900433096298985,458.33333333333337,0.27646015351590181,379.9691531726366,0.22919199363799486,0.4929594673586617,5.767909757363246E-2,2.9373114695078058,0.32353799250477122,-3.798239767133877E-2,0.16905007406598435,0.15468975110009847,0.32260543632898975,0]
[null,1.2226832925888595E-4,0.40821011767341625,2.3908051061494206E-3,0.47868979356671992,-0.15311784898303329,19.637997947663017,12.160079371136632,0.6192117650457194,3.3669003702960474,458.33333333333337,0.27646015351590181,217.35115745728393,0.13110312950727199,0.47129497447522972,5.4496827511616892E-2,3.5122573943046773,0.27988808908140672,-1.8617644741332061E-2,4.4155766513191572E-2,0.35446804359802192,0.2807827411589795,0]
[null,-1.2996093663497611E-5,0.46343492031952305,2.3982674453298389E-3,0.48018391184202869,-0.15359577055043688,19.66572424656033,12.17321639885833,0.61900676762451345,3.8277890066767672,458.33333333333337,0.27646015351590181,44.313973339455366,2.6729558994164529E-2,0.42131713017859063,4.8152591807347607E-2,4.0775196011985049,0.22497399323562023,-2.5095029779445572E-2,9.3317674466481954E-2,0.26170347981156256,0.22476103429597349,0]
[null,-1.3765354401106629E-5,0.52908775969114819,2.3888060482828576E-3,0.47828953986347511,-0.15298982037888925,19.630538557760005,12.156536737496369,0.61926659330957867,4.3622366201634968,458.33333333333337,0.27646015351590181,-114.56835918143005,-6.9106006183337731E-2,0.34261327111171003,4.2011093564687921E-2,4.7078027798627362,0.14483332804279872,-1.5489609729171154E-2,8.930962719311708E-3,0.4460906418428976,0.14462272574719454,0]
[null,-1.1913618966160367E-5,0.60775093154630122,2.2392340948983796E-3,0.4483420684845546,-0.14341056370442637,18.682361085166288,11.837236408775162,0.63360494719127736,4.7687733882575545,458.33333333333337,0.27646015351590181,-243.31912520821987,-0.1467666386365514,0.25290861277618548,3.4283462364895496E-2,5.1920001804100071,7.4908869992568378E-2,2.271418234049756E-2,-0.36927905110563869,1.3799026031784472,7.483477217801715E-2,0.11147812044306116]
[null,-1.254416055436448E-5,0.70281369836511054,2.0885627130360581E-3,0.41817446825040172,-0.13376089471437777,16.998085041372153,11.303348344900037,0.66497774998704118,5.0175245454815984,458.33333333333337,0.27646015351590181,-342.28470711745405,-0.20646127129273489,0.18801396131537923,2.7651462963548739E-2,5.5004459702902349,3.5918583284897887E-2,2.8745583099615529E-2,-0.4337694789358002,1.5521492548152338,3.5888198906582236E-2,0.2316598249918132]
[null,1.3174702142568594E-6,0.81878250652390949,1.970461452217096E-3,0.3945280957309576,-0.12619716190643326,15.095946877794193,10.596501777278936,0.70194349934194311,5.1913248336398876,458.33333333333337,0.27646015351590181,-421.46223963713038,-0.25422003375542584,0.13941931453733525,2.2392892688905541E-2,5.7220050209112152,1.1287070138691707E-2,3.47701481849991E-2,-0.50137986534982071,1.7417638827374866,1.1284326146321799E-2,0.34048419977542432]
[null,1.1315773549813695E-6,0.9617353344904862,1.8864605072829708E-3,0.37770932832641252,-0.12081736580018734,13.199883348887436,9.7650789727524003,0.73978524769125775,5.3318135756666161,458.33333333333337,0.27646015351590181,-488.47118910653415,-0.2946388798439728,0.10144461412049111,1.8251684637617668E-2,5.9029126090264903,-6.2934852628773186E-3,3.0694647325236708E-2,-0.45400250355434252,1.6041077459335193,-6.2957035815189855E-3,0.43851496286544944]
[null,1.4435785318976815E-6,1.1400001031491622,1.7796593224125563E-3,0.35632547022488786,-0.11397734038191509,11.230175614110715,8.723341255863442,0.77677692278494415,5.3770085705571562,458.33333333333337,0.27646015351590181,-532.61610278957141,-0.32126646445580997,7.4072329708052526E-2,1.4525891442240533E-2,5.974735188528868,-1.271602503665234E-2,3.2436035410008557E-2,-0.47468609790412197,1.66552361242189,-1.2743715467397942E-2,0.52631583233344303]
[null,0,{"$f":"C313","v":1.3651895295975189},{"$f":"D313+(D332-D312)","v":1.8556340136405456E-3},0.37153721172848347,-0.11884309931310452,9.8734440928299563,8.0000797077340131,0.81026231905679491,5.6612314485711304,458.33333333333337,0.27646015351590181,-621.97646226950201,-0.37516736343775425,4.138710957016524E-2,1.2647660129849794E-2,6.3128589655247858,-3.8455785073467405E-2,null,null,null,null,0.60445052625095852]
[null,"De","hc","e0","a'","b'","N'","tN'","t","Nc","sac","Nac","sat","Nat","Mtot","u","N","Mo","a''","b''","c''",null,"x"]
[null,null,{"$f":"$C$35","v":0.12945607170440351},{"$f":"$D$35","v":3.2742931933764949E-4},{"$f":"$E$35","v":6.555828113227867E-2},{"$f":"$F$35","v":-2.097003764213403E-2},{"$f":"IF($C$2=1,0.5*($O$31*D335*$F$6/$O$30)*(1-W335^2+(E335-F335)*(F335^2*(1-W335^2)+2*F335*(1-W335)+2*LN((1-F335)/(1-F335*W335)))/(F335^3)),$F$6*F335*(LN((1-E335+E335^2)/(1+E335)^2)/(6*E335)+ATAN((2-E335)/(E335*3^0.5))/(E335*3^0.5)-LN((W335^2-E335*W335+E335^2)/(W335+E335)^2)/(6*E335)-ATAN((2*W335-E335)/(E335*3^0.5))/(E335*3^0.5)))","v":4.0789725576609177},{"$f":"IF($C$2=1,($O$31*D335*$F$6/$O$30)*(1-W335^3-(E335-F335)*(-2*F335^3*(1-W335^3)-3*F335^2*(1-W335^2)-6*F335*(1-W335)-6*LN((1-F335)/(1-F335*W335)))/(2*F335^4))/3,$F$6*F335*(LN((1+E335^3)/(E335^3+W335^3)))/3)","v":2.6990386030010254},{"$f":"$I$35","v":0.66169570028899294},{"$f":"$J$35","v":0.22178006084003529},{"$f":"$K$35","v":90.812088468865227},{"$f":"$L$35","v":5.4776561278259202E-2},{"$f":"$M$35","v":458.32747875640376},{"$f":"$N$35","v":0.27645662211829442},{"$f":"$O$35","v":0.11972660615436539},{"$f":"$P$35","v":2.3534552881082957E-2},{"$f":"$Q$35","v":1.0000000000010001E-4},{"$f":"$R$35","v":0.11972425269907729},null,null,null,null,{"$f":"IF(C335<$C$6,0,(C335-$C$6)/C335)","v":0}]
[null,{"$f":"IF(R316>$Q$29*V316,B316,IF(Q316>Q315,$U$6,-0.5)*B316)","v":4.7016331746461195E-19},{"$f":"IF(Q316>Q315,C316,(1-$T$6)*C316+$T$6*C317)","v":0.15398187908114286},{"$f":"D316+B336","v":4.5739675128514298E-4},{"$f":"IF($C$2=1,D336/($O$31*$O$30),2^(1/3)*$O$30/D336)","v":9.1580512308429632E-2},{"$f":"IF($C$2=1,-($O$31-2)*D336/$O$30,3*($O$30/D336)^2)","v":-2.9293733106253231E-2},{"$f":"IF($C$2=1,0.5*($O$31*D336*$F$6/$O$30)*(1-W336^2+(E336-F336)*(F336^2*(1-W336^2)+2*F336*(1-W336)+2*LN((1-F336)/(1-F336*W336)))/(F336^3)),$F$6*F336*(LN((1-E336+E336^2)/(1+E336)^2)/(6*E336)+ATAN((2-E336)/(E336*3^0.5))/(E336*3^0.5)-LN((W336^2-E336*W336+E336^2)/(W336+E336)^2)/(6*E336)-ATAN((2*W336-E336)/(E336*3^0.5))/(E336*3^0.5)))","v":5.5647849150413204},{"$f":"IF($C$2=1,($O$31*D336*$F$6/$O$30)*(1-W336^3-(E336-F336)*(-2*F336^3*(1-W336^3)-3*F336^2*(1-W336^2)-6*F336*(1-W336)-6*LN((1-F336)/(1-F336*W336)))/(2*F336^4))/3,$F$6*F336*(LN((1+E336^3)/(E336^3+W336^3)))/3)","v":3.670674299885849},{"$f":"H336/G336","v":0.65962554814368657},{"$f":"G336*C336*$D$6","v":0.35988793591819335},{"$f":"MAX(MIN($K$6,$Q$6*$J$6*D336*(C336-$I$6)/C336),-$K$6)","v":144.31314469897774},{"$f":"K336*$H$6","v":8.704763811892785E-2},{"$f":"MIN($O$6,$Q$6*$N$6*D336*(C$6-C336-$M$6)/C336)","v":458.33333333333337},{"$f":"M336*$L$6","v":0.27646015351590181},{"$f":"(0.5*$C$6-C336+I336*C336)*J336+(0.5*$C$6-$I$6)*L336+(0.5*$C$6-$M$6)*N336","v":0.1546441132198933},{"$f":"0.1*$Q$6*D336*$B$6^2/C336+$R$6","v":2.7639760238660795E-2},{"$f":"(J336+L336-N336)","v":0.17047542052121939},{"$f":"O336-P336*Q336","v":0.14993221347010191},{"$f":"((R336-R335)*(Q336-Q337)-(R336-R337)*(Q336-Q335))/((Q336^2-Q335^2)*(Q336-Q337)-(Q336^2-Q337^2)*(Q336-Q335))","v":-4.9833015268901493E-2},{"$f":"-(S336*(Q336^2-Q335^2)-(R336-R335))/(Q336-Q335)","v":0.18580262773564629},{"$f":"R336-S336*Q336^2-T336*Q336","v":0.11970567293463386},{"$f":"S316*Q336^2+T316*Q336+U316","v":0.14993221347065738},{"$f":"IF(C336<$C$6,0,(C336-$C$6)/C336)","v":0}]
[null,{"$f":"IF(R317>$Q$29*V317,B317,IF(Q317>Q316,$U$6,-0.5)*B317)","v":1.1245780567626807E-18},{"$f":"IF(Q317>Q316,C317,(1-$T$6)*C317+$T$6*C318)","v":0.17394964462770141},{"$f":"D317+B337","v":5.499419113137742E-4},0.11011001244867898,-3.5220738950822894E-2,6.5777984233754836,4.3289484766984652,0.65811510144712038,0.48056639323510436,186.22781758609176,0.11232997317552498,458.33333333333337,0.27646015351590181,0.18281920577316063,{"$f":"0.1*$Q$6*D337*$B$6^2/C337+$R$6","v":2.9417386315698509E-2},0.31643621289472756,0.17351047945415982,-3.5916443207839696E-2,0.179026486901844,0.12045639679859341,0.17351047945145204,0]
[null,1.9781689190826417E-18,0.19020714713826217,6.4833572344321516E-4,0.12981053655051308,-4.1522318626953589E-2,7.6144047848793717,4.9986619624906874,0.65647441969686104,0.60829196874089198,229.42791036080234,0.13838765524184721,458.33333333333337,0.27646015351590181,0.21161045333978201,3.171640326401793E-2,0.47021947046683732,0.19669678299186283,-3.2666223654609465E-2,0.17646968321812256,0.12094001148940724,0.1966967829935635,0]
[null,4.1915779846300456E-17,0.20976979172988638,8.317346547287095E-4,0.16653088499363858,-5.3268006216457588E-2,9.437263156003544,6.1655068557422474,0.6533151353123009,0.83145414522869732,306.97597092325844,0.1851635433755717,458.33333333333337,0.27646015351590181,0.26096691443910042,3.6893738135018256E-2,0.74015753508836724,0.23365973616088961,-3.1682012953150207E-2,0.1752784172164549,0.12128255272166627,0.23365973616119923,0]
[null,4.6152151710074379E-15,0.23210975825278549,1.0081012683899222E-3,0.20184321458018539,-6.4563312741764453E-2,11.058822488811639,7.1898253430846557,0.65014384220008048,1.0780814580641855,386.41552107459228,0.23308035115027409,458.33333333333337,0.27646015351590181,0.31053986444224463,4.041304484971054E-2,1.0347016556985578,0.26872442002442909,-3.3076831581834464E-2,0.17775402387905595,0.12021434171676665,0.26872442002485636,0]
[null,6.1473998760094931E-13,0.25773794179237436,1.2225765494622972E-3,0.24478570611060249,-7.8299268723021717E-2,12.861636824163369,8.3098405791763152,0.64609510381792778,1.3922713573191683,458.33333333333337,0.27646015351590181,458.33333333333337,0.27646015351590181,0.36503088958225527,4.4137579830189025E-2,1.3922713573191681,0.30357940140329487,-4.7493486073435606E-2,0.21274285526817274,9.9445918606175132E-2,0.30357940140931783,0]
[null,-8.130369436935694E-10,0.28728229315396503,1.5532804630964256E-3,0.31099963034141914,-9.9479026025566089E-2,15.289252611462391,9.7757720556784857,0.63938848445407759,1.8447792513490888,458.33333333333337,0.27646015351590181,458.33333333333337,0.27646015351590181,0.42308950704249948,5.0309712085421336E-2,1.8447792513490886,0.33027919404596773,-3.8318074548665079E-2,0.18304158380713254,0.12301235121981519,0.33027918530966693,0]
[null,1.0688311450670563E-6,0.32152034227515802,1.9734637723793302E-3,0.39512922378400739,-0.12638944391386969,17.783079769982979,11.201820776474634,0.62991455481084846,2.4014011956275736,458.33333333333337,0.27646015351590181,458.33333333333337,0.27646015351590181,0.47874886140993977,5.7112545057766188E-2,2.4014011956275736,0.34159872742288638,-4.9321344889867155E-2,0.22976345518274308,7.426725732964945E-2,0.34161727637687866,0]
[null,1.1457572188279576E-4,0.36142247287457469,2.3549614585533251E-3,0.47151313653837373,-0.15082226152360237,19.502199553014485,12.095054910723354,0.62018927033560189,2.9603839393564462,458.33333333333337,0.27646015351590181,399.40118191008423,0.24091311723336983,0.50157383221590601,6.0628868291182351E-2,2.995930975638978,0.31993392768441697,-3.6848884834499329E-2,0.16244544527106927,0.16399952590092437,0.32023720432187325,0]
[null,-1.2226832925888595E-5,0.40821011767341625,2.378578273223532E-3,0.47624172278327792,-0.152334787932732,19.592163034476659,12.13825668601296,0.6195465332058061,3.3590420546677984,458.33333333333337,0.27646015351590181,216.23960039993815,0.13043265408607452,0.47071297106319782,5.4218124909191603E-2,3.5050695540976258,0.28067467216372821,-1.8708803735508019E-2,4.4516768437061836E-2,0.35448754609995692,0.2805097677791083,0]
[null,1.2996093663497612E-6,0.46343492031952305,2.3995670546961886E-3,0.48044412114879953,-0.1536790033451895,19.670533746707058,12.175490203811734,0.61897101322174186,3.8287251406100227,458.33333333333337,0.27646015351590181,44.337986864270654,2.6744043611088657E-2,0.42134419773181681,4.8178685460684184E-2,4.0784412505148353,0.22485025955338309,-2.4616297494017003E-2,8.9316311182895403E-2,0.27003862166493364,0.22487136168017297,0]
[null,-1.3765354401106629E-5,0.52908775969114819,2.3750406938817508E-3,0.47553342451150016,-0.15210822553413789,19.57880747829806,12.131873633472551,0.61964313439008012,4.350741102169148,458.33333333333337,0.27646015351590181,-113.90816574780268,-6.8707786885859601E-2,0.34277554927242093,4.1769007108103599E-2,4.6959090425709089,0.14663209109426867,-1.6039761520248184E-2,1.4062780247796541E-2,0.43429634556101493,0.14645954522447613,0]
[null,1.1913618966160369E-6,0.60775093154630122,2.2404254567949958E-3,0.4485806043563777,-0.14348686384721132,18.68723654167357,11.839781437346424,0.6335758318755722,4.7700178748158404,458.33333333333337,0.27646015351590181,-243.44858069264259,-0.14684472434512663,0.25286670289645186,3.4301702534978051E-2,5.1933227526768686,7.4726890665996526E-2,2.2628648017953105E-2,-0.36833808482904612,1.3773172055938845,7.4732458780240485E-2,0.11147812044306116]
[null,1.254416055436448E-6,0.70281369836511054,2.0898171290914948E-3,0.4184256288996237,-0.1338412331274271,17.003320041985365,11.30641231176164,0.66495321406897812,5.0190698221412031,458.33333333333337,0.27646015351590181,-342.49028745720574,-0.20658527443227148,0.1879547475123291,2.7668070767030668E-2,5.5021152500893757,3.572183340449761E-2,2.8731173911795426E-2,-0.43360727218691231,1.5516923690705171,3.5722452187913589E-2,0.2316598249918132]
[null,-1.3174702142568596E-7,0.81878250652390949,1.9703297051956704E-3,0.39450171718829552,-0.1261887242381019,15.095420032746782,10.596161744630221,0.70194547231171878,5.1911436576063306,458.33333333333337,0.27646015351590181,-421.43406025069629,-0.25420303634997227,0.13942656723295951,2.2391395477727141E-2,5.7218068474722044,1.1307327264042211E-2,3.4792884516068219E-2,-0.50164343978723314,1.7425273891079465,1.1307576498126304E-2,0.34048419977542432]
[null,1.1315773549813695E-6,0.9617353344904862,1.8875920846379522E-3,0.37793589406741235,-0.12088983707361192,13.204004693458758,9.7679609327915653,0.73977260380940313,5.3334783056005532,458.33333333333337,0.27646015351590181,-488.76419441145299,-0.29481561648014476,0.10137550952971611,1.8262632756036505E-2,5.9047540755965997,-6.4608456676144149E-3,3.2027681246774492E-2,-0.46949363551212064,1.6491026122134755,-6.462108980841208E-3,0.43851496286544944]
[null,1.4435785318976815E-6,1.1400001031491622,1.7811029009444539E-3,0.3566145052063065,-0.11406979360575743,11.235000311968037,8.7269591518707035,0.77676536800576201,5.379318636100261,458.33333333333337,0.27646015351590181,-533.04813669743623,-0.32152706116961155,7.398261090816749E-2,1.4537674183340817E-2,5.9773058507857737,-1.2913514044732871E-2,3.1116320907667781E-2,-0.45866479734832655,1.6169365855101949,-1.2939696486977681E-2,0.52631583233344303]
[null,0,{"$f":"C333","v":1.3651895295975189},{"$f":"D333+(D352-D332)","v":1.8570775921724432E-3},0.37182624670990211,-0.11893555253694685,9.8771003685921119,8.0029570844925075,0.81025369651409684,5.6633278825140136,458.33333333333337,0.27646015351590181,-622.46032485322155,-0.37545922247231939,4.1282156139219248E-2,1.2657499295605531E-2,6.3152472585022341,-3.8653081586847535E-2,null,null,null,null,0.60445052625095852]
[null,"De","hc","e0","a'","b'","N'","tN'","t","Nc","sac","Nac","sat","Nat","Mtot","u","N","Mo","a''","b''","c''",null,"x"]
[null,null,{"$f":"$C$35","v":0.12945607170440351},{"$f":"$D$35","v":3.2742931933764949E-4},{"$f":"$E$35","v":6.555828113227867E-2},{"$f":"$F$35","v":-2.097003764213403E-2},{"$f":"IF($C$2=1,0.5*($O$31*D355*$F$6/$O$30)*(1-W355^2+(E355-F355)*(F355^2*(1-W355^2)+2*F355*(1-W355)+2*LN((1-F355)/(1-F355*W355)))/(F355^3)),$F$6*F355*(LN((1-E355+E355^2)/(1+E355)^2)/(6*E355)+ATAN((2-E355)/(E355*3^0.5))/(E355*3^0.5)-LN((W355^2-E355*W355+E355^2)/(W355+E355)^2)/(6*E355)-ATAN((2*W355-E355)/(E355*3^0.5))/(E355*3^0.5)))","v":4.0789725576609177},{"$f":"IF($C$2=1,($O$31*D355*$F$6/$O$30)*(1-W355^3-(E355-F355)*(-2*F355^3*(1-W355^3)-3*F355^2*(1-W355^2)-6*F355*(1-W355)-6*LN((1-F355)/(1-F355*W355)))/(2*F355^4))/3,$F$6*F355*(LN((1+E355^3)/(E355^3+W355^3)))/3)","v":2.6990386030010254},{"$f":"$I$35","v":0.66169570028899294},{"$f":"$J$35","v":0.22178006084003529},{"$f":"$K$35","v":90.812088468865227},{"$f":"$L$35","v":5.4776561278259202E-2},{"$f":"$M$35","v":458.32747875640376},{"$f":"$N$35","v":0.27645662211829442},{"$f":"$O$35","v":0.11972660615436539},{"$f":"$P$35","v":2.3534552881082957E-2},{"$f":"$Q$35","v":1.0000000000010001E-4},{"$f":"$R$35","v":0.11972425269907729},null,null,null,null,{"$f":"IF(C355<$C$6,0,(C355-$C$6)/C355)","v":0}]
[null,{"$f":"IF(R336>$Q$29*V336,B336,IF(Q336>Q335,$U$6,-0.5)*B336)","v":-4.7016331746461195E-20},{"$f":"IF(Q336>Q335,C336,(1-$T$6)*C336+$T$6*C337)","v":0.15398187908114286},{"$f":"D336+B356","v":4.5739675128514293E-4},{"$f":"IF($C$2=1,D356/($O$31*$O$30),2^(1/3)*$O$30/D356)","v":9.1580512308429632E-2},{"$f":"IF($C$2=1,-($O$31-2)*D356/$O$30,3*($O$30/D356)^2)","v":-2.9293733106253231E-2},{"$f":"IF($C$2=1,0.5*($O$31*D356*$F$6/$O$30)*(1-W356^2+(E356-F356)*(F356^2*(1-W356^2)+2*F356*(1-W356)+2*LN((1-F356)/(1-F356*W356)))/(F356^3)),$F$6*F356*(LN((1-E356+E356^2)/(1+E356)^2)/(6*E356)+ATAN((2-E356)/(E356*3^0.5))/(E356*3^0.5)-LN((W356^2-E356*W356+E356^2)/(W356+E356)^2)/(6*E356)-ATAN((2*W356-E356)/(E356*3^0.5))/(E356*3^0.5)))","v":5.5647849150413204},{"$f":"IF($C$2=1,($O$31*D356*$F$6/$O$30)*(1-W356^3-(E356-F356)*(-2*F356^3*(1-W356^3)-3*F356^2*(1-W356^2)-6*F356*(1-W356)-6*LN((1-F356)/(1-F356*W356)))/(2*F356^4))/3,$F$6*F356*(LN((1+E356^3)/(E356^3+W356^3)))/3)","v":3.670674299885849},{"$f":"H356/G356","v":0.65962554814368657},{"$f":"G356*C356*$D$6","v":0.35988793591819335},{"$f":"MAX(MIN($K$6,$Q$6*$J$6*D356*(C356-$I$6)/C356),-$K$6)","v":144.31314469897774},{"$f":"K356*$H$6","v":8.704763811892785E-2},{"$f":"MIN($O$6,$Q$6*$N$6*D356*(C$6-C356-$M$6)/C356)","v":458.33333333333337},{"$f":"M356*$L$6","v":0.27646015351590181},{"$f":"(0.5*$C$6-C356+I356*C356)*J356+(0.5*$C$6-$I$6)*L356+(0.5*$C$6-$M$6)*N356","v":0.1546441132198933},{"$f":"0.1*$Q$6*D356*$B$6^2/C356+$R$6","v":2.7639760238660788E-2},{"$f":"(J356+L356-N356)","v":0.17047542052121939},{"$f":"O356-P356*Q356","v":0.14993221347010191},{"$f":"((R356-R355)*(Q356-Q357)-(R356-R357)*(Q356-Q355))/((Q356^2-Q355^2)*(Q356-Q357)-(Q356^2-Q357^2)*(Q356-Q355))","v":-4.9833015348903414E-2},{"$f":"-(S356*(Q356^2-Q355^2)-(R356-R355))/(Q356-Q355)","v":0.18580262774929265},{"$f":"R356-S356*Q356^2-T356*Q356","v":0.1197056729346325},{"$f":"S336*Q356^2+T336*Q356+U336","v":0.14993221347010191},{"$f":"IF(C356<$C$6,0,(C356-$C$6)/C356)","v":0}]
[null,{"$f":"IF(R337>$Q$29*V337,B337,IF(Q337>Q336,$U$6,-0.5)*B337)","v":-1.1245780567626808E-19},{"$f":"IF(Q337>Q336,C337,(1-$T$6)*C337+$T$6*C338)","v":0.17394964462770141},{"$f":"D337+B357","v":5.4994191131377409E-4},0.11011001244867896,-3.5220738950822887E-2,6.5777984233855404,4.3289484764128705,0.65811510140269625,0.48056639323583905,186.22781758609173,0.11232997317552497,458.33333333333337,0.27646015351590181,0.18281920576960167,{"$f":"0.1*$Q$6*D357*$B$6^2/C357+$R$6","v":2.9417386315698506E-2},0.3164362128954622,0.17351047945057924,-3.591644304165513E-2,0.17902648679560904,0.12045639681187423,0.17351047945427461,0]
[null,-1.9781689190826417E-19,0.19020714713826217,6.4833572344321494E-4,0.12981053655051306,-4.1522318626953582E-2,7.6144047848790857,4.9986619624952517,0.6564744196974851,0.60829196874086922,229.42791036080226,0.13838765524184715,458.33333333333337,0.27646015351590181,0.21161045333984951,3.1716403264017916E-2,0.47021947046681456,0.19669678299193105,-3.2666223727816024E-2,0.17646968330020366,0.12094001146706911,0.1966967829918595,0]
[null,-4.191577984630046E-18,0.20976979172988638,8.3173465472870527E-4,0.16653088499363772,-5.3268006216457317E-2,9.4372631560088003,6.1655068556534109,0.65331513530252372,0.8314541452291605,306.9759709232568,0.18516354337557073,458.33333333333337,0.27646015351590181,0.26096691443748632,3.6893738135018068E-2,0.74015753508882931,0.23365973615925861,-3.168201293130532E-2,0.17527841718348747,0.12128255273240968,0.23365973616094893,0]
[null,-4.6152151710074377E-16,0.23210975825278549,1.0081012683894608E-3,0.20184321458009299,-6.4563312741734907E-2,11.058822488807257,7.1898253430828269,0.65014384220017274,1.0780814580637583,386.41552107441538,0.2330803511501674,458.33333333333337,0.27646015351590181,0.31053986444216464,4.0413044849692048E-2,1.034701655698024,0.26872442002438979,-3.3076831587025658E-2,0.17775402389407369,0.12021434170680453,0.26872442002437075,0]
[null,-6.1473998760094936E-14,0.25773794179237436,1.2225765494008232E-3,0.24478570609829409,-7.8299268719084644E-2,12.861636823672777,8.3098405788735423,0.64609510381903157,1.3922713572660617,458.33333333333337,0.27646015351590181,458.33333333333337,0.27646015351590181,0.36503088957315671,4.4137579827969682E-2,1.3922713572660617,0.30357940139963024,-4.7493487711710441E-2,0.21274285924586706,9.9445916244419397E-2,0.30357940139902012,0]
[null,8.1303694369356945E-11,0.28728229315396503,1.55328054440012E-3,0.3109996466201399,-9.9479031232618212E-2,15.289253157031345,9.7757723781428822,0.63938848272959115,1.8447793171766549,458.33333333333337,0.27646015351590181,458.33333333333337,0.27646015351590181,0.42308951708245379,5.0309714718793447E-2,1.8447793171766547,0.33027919591616572,-3.8313938087714515E-2,0.18302819194443062,0.12302297813036417,0.33027919678866036,0]
[null,-1.0688311450670563E-7,0.32152034227515802,1.9733568892648236E-3,0.3951078235218583,-0.12638259864131118,17.782526743624469,11.201518005831032,0.62991711849088527,2.4013265157534618,458.33333333333337,0.27646015351590181,458.33333333333337,0.27646015351590181,0.47873956335616924,5.710945183316353E-2,2.4013265157534618,0.34160112236904849,-4.9257683288061307E-2,0.2294964922737241,7.4543089860698686E-2,0.34159925866076091,0]
[null,-1.1457572188279576E-5,0.36142247287457469,2.3435038863650454E-3,0.46921908803919815,-0.15008846737052614,19.457873662694713,12.073596253776243,0.62049926230758434,2.9536553827419159,458.33333333333337,0.27646015351590181,397.45797903633945,0.23974100487383232,0.50076554348791802,6.0333891219427352E-2,2.9903745313839853,0.32034461180605062,-3.7150836256083564E-2,0.16421999245387683,0.16148073189383999,0.32025699733928636,0]
[null,1.2226832925888595E-6,0.40821011767341625,2.3798009565161207E-3,0.4764865298616221,-0.15241309403776215,19.596769242962253,12.140455625292802,0.61951311845205193,3.3598317810491301,458.33333333333337,0.27646015351590181,216.35075610567273,0.13049970162819427,0.47077179983658102,5.4245995169434125E-2,3.5057922329368378,0.28059661130364966,-1.8588857166706312E-2,4.3638280813446242E-2,0.35607768625193859,0.28061205343798157,0]
[null,-1.2996093663497612E-7,0.46343492031952305,2.3994370937595534E-3,0.48041810021812237,-0.15367068006571424,19.670053052832909,12.175263011245603,0.61897458936909699,3.8286315770725721,458.33333333333337,0.27646015351590181,44.335585511789127,2.6742595149396246E-2,0.42134149828463274,4.8176076095350517E-2,4.078349135439078,0.22486263999231274,-2.454171280257857E-2,8.8785579501434744E-2,0.27096468071640323,0.22486052795871481,0]
[null,-1.3765354401106629E-5,0.52908775969114819,2.361275339480644E-3,0.47277730915952521,-0.15122663068938649,19.526435886741648,12.106740463325471,0.62001793535428995,4.3391032515889698,458.33333333333337,0.27646015351590181,-113.24797231417533,-6.830956758838147E-2,0.342919437346205,4.1526920651519278E-2,4.6838729726932531,0.14841261606737657,-1.649140416581724E-2,1.8246987187115947E-2,0.42474545421461246,0.14827365078202803,0]
[null,-1.191361896616037E-7,0.60775093154630122,2.240306320605334E-3,0.44855675076919532,-0.14347923383293282,18.686749215245548,11.839527095805147,0.6335787439233086,4.7698934821177899,458.33333333333337,0.27646015351590181,-243.43563514420032,-0.14683691577426911,0.25287090000983603,3.4299878517969791E-2,5.1931905514079606,7.4745094975874421E-2,2.2388504263064248E-2,-0.36577233817618482,1.3704698671980524,7.4744513799924972E-2,0.11147812044306116]
[null,-1.2544160554364482E-7,0.70281369836511054,2.0896916874859513E-3,0.41840051283470153,-0.13383319928612217,17.002796786293196,11.306106097041452,0.66495566812607376,5.0189153666085575,458.33333333333337,0.27646015351590181,-342.46972942323055,-0.20657287411831782,0.18796067542260403,2.7666409986682478E-2,5.5019483942427767,3.5741515421914033E-2,2.8732397305346977E-2,-0.43362115571974563,1.55173180686964,3.5741430224208726E-2,0.2316598249918132]
[null,1.3174702142568597E-8,0.81878250652390949,1.970342879897813E-3,0.39450435504256176,-0.12618956800493503,15.095472719899268,10.596195749922753,0.70194527501974524,5.1911617761202162,458.33333333333337,0.27646015351590181,-421.43687818933972,-0.25420473609051764,0.1394258420346432,2.2391545198844984E-2,5.7218266657266357,1.1305301629068731E-2,3.4782493020830196E-2,-0.5015260691216139,1.7421960500729974,1.130527634382994E-2,0.34048419977542432]
[null,1.1315773549813695E-6,0.9617353344904862,1.8887236619929337E-3,0.37816245980841212,-0.12096230834703654,13.208121879169253,9.77083964390566,0.73975995476808953,5.3351413556506593,458.33333333333337,0.27646015351590181,-489.05719971637188,-0.29499235311631683,0.1013063048554512,1.8273580874455336E-2,5.906593862282878,-6.6283157795364728E-3,3.3301321984325026E-2,-0.48430238943522391,1.6921376438584685,-6.6286407421858318E-3,0.43851496286544944]
[null,1.4435785318976815E-6,1.1400001031491622,1.7825464794763515E-3,0.35690354018772508,-0.11416224682959976,11.239818649103247,8.730571925651164,0.77675380699738605,5.3816256561293425,458.33333333333337,0.27646015351590181,-533.48017060530117,-0.32178765788341318,7.3892745829991419E-2,1.4549456924441101E-2,5.9798734675286571,-1.3111165599425018E-2,2.9829415515363951E-2,-0.44303368661975701,1.5695075328666419,-1.3135873168524714E-2,0.52631583233344303]
[null,0,{"$f":"C353","v":1.3651895295975189},{"$f":"D353+(D372-D352)","v":1.8585211707043408E-3},0.37211528169132069,-0.11902800576078919,9.8807509498697907,8.0058297343232798,0.81024506891642489,5.6654210513556507,458.33333333333337,0.27646015351590181,-622.94418743694098,-0.37575108150688452,4.1177078507107667E-2,1.2667338461361262E-2,6.3176322863784371,-3.8850507938871598E-2,null,null,null,null,0.60445052625095852]
[null,"De","hc","e0","a'","b'","N'","tN'","t","Nc","sac","Nac","sat","Nat","Mtot","u","N","Mo","a''","b''","c''",null,"x"]
[null,null,{"$f":"$C$35","v":0.12945607170440351},{"$f":"$D$35","v":3.2742931933764949E-4},{"$f":"$E$35","v":6.555828113227867E-2},{"$f":"$F$35","v":-2.097003764213403E-2},{"$f":"IF($C$2=1,0.5*($O$31*D375*$F$6/$O$30)*(1-W375^2+(E375-F375)*(F375^2*(1-W375^2)+2*F375*(1-W375)+2*LN((1-F375)/(1-F375*W375)))/(F375^3)),$F$6*F375*(LN((1-E375+E375^2)/(1+E375)^2)/(6*E375)+ATAN((2-E375)/(E375*3^0.5))/(E375*3^0.5)-LN((W375^2-E375*W375+E375^2)/(W375+E375)^2)/(6*E375)-ATAN((2*W375-E375)/(E375*3^0.5))/(E375*3^0.5)))","v":4.0789725576609177},{"$f":"IF($C$2=1,($O$31*D375*$F$6/$O$30)*(1-W375^3-(E375-F375)*(-2*F375^3*(1-W375^3)-3*F375^2*(1-W375^2)-6*F375*(1-W375)-6*LN((1-F375)/(1-F375*W375)))/(2*F375^4))/3,$F$6*F375*(LN((1+E375^3)/(E375^3+W375^3)))/3)","v":2.6990386030010254},{"$f":"$I$35","v":0.66169570028899294},{"$f":"$J$35","v":0.22178006084003529},{"$f":"$K$35","v":90.812088468865227},{"$f":"$L$35","v":5.4776561278259202E-2},{"$f":"$M$35","v":458.32747875640376},{"$f":"$N$35","v":0.27645662211829442},{"$f":"$O$35","v":0.11972660615436539},{"$f":"$P$35","v":2.3534552881082957E-2},{"$f":"$Q$35","v":1.0000000000010001E-4},{"$f":"$R$35","v":0.11972425269907729},null,null,null,null,{"$f":"IF(C375<$C$6,0,(C375-$C$6)/C375)","v":0}]
[null,{"$f":"IF(R356>$Q$29*V356,B356,IF(Q356>Q355,$U$6,-0.5)*B356)","v":4.7016331746461197E-21},{"$f":"IF(Q356>Q355,C356,(1-$T$6)*C356+$T$6*C357)","v":0.15398187908114286},{"$f":"D356+B376","v":4.5739675128514293E-4},{"$f":"IF($C$2=1,D376/($O$31*$O$30),2^(1/3)*$O$30/D376)","v":9.1580512308429632E-2},{"$f":"IF($C$2=1,-($O$31-2)*D376/$O$30,3*($O$30/D376)^2)","v":-2.9293733106253231E-2},{"$f":"IF($C$2=1,0.5*($O$31*D376*$F$6/$O$30)*(1-W376^2+(E376-F376)*(F376^2*(1-W376^2)+2*F376*(1-W376)+2*LN((1-F376)/(1-F376*W376)))/(F376^3)),$F$6*F376*(LN((1-E376+E376^2)/(1+E376)^2)/(6*E376)+ATAN((2-E376)/(E376*3^0.5))/(E376*3^0.5)-LN((W376^2-E376*W376+E376^2)/(W376+E376)^2)/(6*E376)-ATAN((2*W376-E376)/(E376*3^0.5))/(E376*3^0.5)))","v":5.5647849150413204},{"$f":"IF($C$2=1,($O$31*D376*$F$6/$O$30)*(1-W376^3-(E376-F376)*(-2*F376^3*(1-W376^3)-3*F376^2*(1-W376^2)-6*F376*(1-W376)-6*LN((1-F376)/(1-F376*W376)))/(2*F376^4))/3,$F$6*F376*(LN((1+E376^3)/(E376^3+W376^3)))/3)","v":3.670674299885849},{"$f":"H376/G376","v":0.65962554814368657},{"$f":"G376*C376*$D$6","v":0.35988793591819335},{"$f":"MAX(MIN($K$6,$Q$6*$J$6*D376*(C376-$I$6)/C376),-$K$6)","v":144.31314469897774},{"$f":"K376*$H$6","v":8.704763811892785E-2},{"$f":"MIN($O$6,$Q$6*$N$6*D376*(C$6-C376-$M$6)/C376)","v":458.33333333333337},{"$f":"M376*$L$6","v":0.27646015351590181},{"$f":"(0.5*$C$6-C376+I376*C376)*J376+(0.5*$C$6-$I$6)*L376+(0.5*$C$6-$M$6)*N376","v":0.1546441132198933},{"$f":"0.1*$Q$6*D376*$B$6^2/C376+$R$6","v":2.7639760238660788E-2},{"$f":"(J376+L376-N376)","v":0.17047542052121939},{"$f":"O376-P376*Q376","v":0.14993221347010191},{"$f":"((R376-R375)*(Q376-Q377)-(R376-R377)*(Q376-Q375))/((Q376^2-Q375^2)*(Q376-Q377)-(Q376^2-Q377^2)*(Q376-Q375))","v":-4.9833015348903414E-2},{"$f":"-(S376*(Q376^2-Q375^2)-(R376-R375))/(Q376-Q375)","v":0.18580262774929265},{"$f":"R376-S376*Q376^2-T376*Q376","v":0.1197056729346325},{"$f":"S356*Q376^2+T356*Q376+U356","v":0.14993221347010191},{"$f":"IF(C376<$C$6,0,(C376-$C$6)/C376)","v":0}]
[null,{"$f":"IF(R357>$Q$29*V357,B357,IF(Q357>Q356,$U$6,-0.5)*B357)","v":1.1245780567626808E-20},{"$f":"IF(Q357>Q356,C357,(1-$T$6)*C357+$T$6*C358)","v":0.17394964462770141},{"$f":"D357+B377","v":5.4994191131377409E-4},0.11011001244867896,-3.5220738950822887E-2,6.5777984233855404,4.3289484764128705,0.65811510140269625,0.48056639323583905,186.22781758609173,0.11232997317552497,458.33333333333337,0.27646015351590181,0.18281920576960167,{"$f":"0.1*$Q$6*D377*$B$6^2/C377+$R$6","v":2.9417386315698506E-2},0.3164362128954622,0.17351047945057924,-3.591644304165513E-2,0.17902648679560904,0.12045639681187423,0.17351047945057924,0]
[null,1.978168919082642E-20,0.19020714713826217,6.4833572344321494E-4,0.12981053655051306,-4.1522318626953582E-2,7.6144047848790857,4.9986619624952517,0.6564744196974851,0.60829196874086922,229.42791036080226,0.13838765524184715,458.33333333333337,0.27646015351590181,0.21161045333984951,3.1716403264017916E-2,0.47021947046681456,0.19669678299193105,-3.2666223709382027E-2,0.17646968328570242,0.12094001146981198,0.19669678299193105,0]
[null,4.1915779846300461E-19,0.20976979172988638,8.317346547287057E-4,0.16653088499363783,-5.3268006216457338E-2,9.4372631560026008,6.1655068557644013,0.65331513531471375,0.83145414522861427,306.97597092325702,0.18516354337557084,458.33333333333337,0.27646015351590181,0.2609669144395047,3.6893738135018082E-2,0.7401575350882833,0.23365973616129712,-3.1682012960960938E-2,0.17527841722719337,0.12128255271841534,0.2336597361591885,0]
[null,4.6152151710074382E-17,0.23210975825278549,1.008101268389507E-3,0.20184321458010224,-6.4563312741737863E-2,11.058822488809065,7.189825343060722,0.65014384219806753,1.0780814580639346,386.41552107443306,0.23308035115017806,458.33333333333337,0.27646015351590181,0.31053986444167336,4.0413044849693894E-2,1.0347016556982109,0.26872442002388902,-3.3076831572774565E-2,0.17775402385985087,0.12021434172643641,0.26872442002441022,0]
[null,6.1473998760094939E-15,0.25773794179237436,1.2225765494069706E-3,0.24478570609952491,-7.8299268719478357E-2,12.861636823722531,8.3098405788932919,0.64609510381806778,1.3922713572714476,458.33333333333337,0.27646015351590181,458.33333333333337,0.27646015351590181,0.36503088957377378,4.4137579828191623E-2,1.3922713572714476,0.30357940139970058,-4.7493487544891806E-2,0.21274285884144725,9.9445916483753782E-2,0.30357940140006384,0]
[null,-8.1303694369356955E-12,0.28728229315396503,1.5532805362697506E-3,0.31099964499226779,-9.9479030711912997E-2,15.289253102471838,9.7757723459263541,0.63938848290410533,1.8447793105935832,458.33333333333337,0.27646015351590181,458.33333333333337,0.27646015351590181,0.42308951607950063,5.0309714455456241E-2,1.8447793105935832,0.33027919573020403,-3.8314351757362017E-2,0.18302953121000012,0.12302191537425572,0.33027919564187114,0]
[null,1.0688311450670563E-8,0.32152034227515802,1.9733675775762743E-3,0.39510996354807326,-0.12638328316856703,17.782582048090308,11.201548284233946,0.62991686212615516,2.4013339839879917,458.33333333333337,0.27646015351590181,458.33333333333337,0.27646015351590181,0.47874049320693141,5.7109761155623794E-2,2.4013339839879917,0.34160088292649471,-4.9263313195243387E-2,0.22952006193324925,7.4518768929266455E-2,0.34160106955789443,0]
[null,1.1457572188279577E-6,0.36142247287457469,2.3446496435838736E-3,0.46944849288911578,-0.15016184678583377,19.462326289373227,12.075756828420777,0.62046831652464662,2.9543312800667891,458.33333333333337,0.27646015351590181,397.65229932371392,0.23985821610978605,0.50084690126152243,6.0363388926602861E-2,2.9909332174729051,0.32030403620170977,-3.7122589073515011E-2,0.16405403344966815,0.16171623682629155,0.32031221326883258,0]
[null,-1.2226832925888595E-7,0.40821011767341625,2.3796786881868618E-3,0.47646204915378765,-0.1524052634272591,19.596308849392376,12.140235898149774,0.61951646054640575,3.3597528473775289,458.33333333333337,0.27646015351590181,216.33964053509928,0.1304929968739823,0.47076592324643746,5.4243208143409882E-2,3.5057200040194485,0.28060442337589475,-1.8599575150804164E-2,4.3716435376941004E-2,0.3559369730294335,0.28060287338601014,0]
[null,1.2996093663497613E-8,0.46343492031952305,2.3994500898532169E-3,0.48042070231119011,-0.15367151239366175,19.670101124780384,12.175285732388971,0.61897423176185673,3.8286409339246141,458.33333333333337,0.27646015351590181,44.335825647037282,2.6742739995565489E-2,0.42134176830315651,4.8176337031883884E-2,4.0783583474449498,0.22486140201985161,-2.4547444040075864E-2,8.8825539057415109E-2,0.27089682722968988,0.22486161383019543,0]
[null,1.376535440110663E-6,0.52908775969114819,2.3626518749207547E-3,0.47305292069472266,-0.15131479017386162,19.531701900613591,12.109274958162237,0.61998053317523871,4.3402734486514136,458.33333333333337,0.27646015351590181,-113.31399165753807,-6.8349389518129286E-2,0.34290587719052179,4.1551129297177705E-2,4.6850829916854444,0.14823538803499176,-1.6451231192188619E-2,1.7874852695841423E-2,0.42559478777383652,0.14824773857429357,0]
[null,1.191361896616037E-8,0.60775093154630122,2.2403182342243004E-3,0.44855913612791359,-0.14347999683436066,18.686797950076151,11.839552531600306,0.63357845272534019,4.7699059219460427,458.33333333333337,0.27646015351590181,-243.43692969904458,-0.14683769663135487,0.25287048036445747,3.4300060919670618E-2,5.1932037720932991,7.4743274613394056E-2,2.2416811314456976E-2,-0.36607481713154538,1.3712772199525016,7.4743333497971687E-2,0.11147812044306116]
[null,1.2544160554364483E-8,0.70281369836511054,2.0897042316465058E-3,0.41840302444119382,-0.13383400267025267,17.002849114305917,11.306136720335227,0.66495542272514963,5.0189308128830996,458.33333333333337,0.27646015351590181,-342.47178522662807,-0.20657411414971319,0.18796008269733497,2.7666576064717296E-2,5.5019650805487146,3.5739547290915524E-2,2.8732272819872763E-2,-0.43361974431432798,1.5517278014579676,3.5739555576204785E-2,0.2316598249918132]
[null,-1.3174702142568597E-9,0.81878250652390949,1.9703415624275989E-3,0.39450409125713515,-0.12618948362825172,15.095467451209249,10.596192349424323,0.70194529474974932,5.1911599642775039,458.33333333333337,0.27646015351590181,-421.43659639547536,-0.25420456611646314,0.13942591455839254,2.2391530226733205E-2,5.721824683909869,1.1305504196556543E-2,3.476817632422035E-2,-0.50136545628568407,1.7417457673645997,1.1305506722026237E-2,0.34048419977542432]
[null,1.1315773549813695E-6,0.9617353344904862,1.8898552393479151E-3,0.37838902554941195,-0.12103477962046112,13.212234906670506,9.7737151065391341,0.73974730055735272,5.3368027260801281,458.33333333333337,0.27646015351590181,-489.35020502129078,-0.29516908975248884,0.10123700008829144,1.8284528992874173E-2,5.9084319693485181,-6.7958955576861851E-3,3.4515552557552169E-2,-0.49842737704262025,1.7332053126823088,-6.795301207577209E-3,0.43851496286544944]
[null,1.4435785318976815E-6,1.1400001031491622,1.7839900580082491E-3,0.35719257516914371,-0.1142547000534421,11.244630626795253,8.7341795784428413,0.77674223976996071,5.3839296312567422,458.33333333333337,0.27646015351590181,-533.91220451316588,-0.32204825459721464,7.3802734616537469E-2,1.4561239665541384E-2,5.9824380393698586,-1.3308979458978548E-2,2.8574242722683441E-2,-0.42778003411467636,1.5231988548655091,-1.3332244325618081E-2,0.52631583233344303]
[null,0,{"$f":"C373","v":1.3651895295975189},{"$f":"D373+(D392-D372)","v":1.8599647492362383E-3},0.37240431667273932,-0.11912045898463153,9.8843958378465757,8.0086976582950093,0.81023643626556663,5.6675109557746852,458.33333333333337,0.27646015351590181,-623.42805002066041,-0.3760429405414496,4.1071876767122636E-2,1.2677177627116997E-2,6.3200140498320359,-3.9048063948473127E-2,null,null,null,null,0.60445052625095852]
[null,"De","hc","e0","a'","b'","N'","tN'","t","Nc","sac","Nac","sat","Nat","Mtot","u","N","Mo","a''","b''","c''",null,"x"]
[null,null,{"$f":"$C$35","v":0.12945607170440351},{"$f":"$D$35","v":3.2742931933764949E-4},{"$f":"$E$35","v":6.555828113227867E-2},{"$f":"$F$35","v":-2.097003764213403E-2},{"$f":"IF($C$2=1,0.5*($O$31*D395*$F$6/$O$30)*(1-W395^2+(E395-F395)*(F395^2*(1-W395^2)+2*F395*(1-W395)+2*LN((1-F395)/(1-F395*W395)))/(F395^3)),$F$6*F395*(LN((1-E395+E395^2)/(1+E395)^2)/(6*E395)+ATAN((2-E395)/(E395*3^0.5))/(E395*3^0.5)-LN((W395^2-E395*W395+E395^2)/(W395+E395)^2)/(6*E395)-ATAN((2*W395-E395)/(E395*3^0.5))/(E395*3^0.5)))","v":4.0789725576609177},{"$f":"IF($C$2=1,($O$31*D395*$F$6/$O$30)*(1-W395^3-(E395-F395)*(-2*F395^3*(1-W395^3)-3*F395^2*(1-W395^2)-6*F395*(1-W395)-6*LN((1-F395)/(1-F395*W395)))/(2*F395^4))/3,$F$6*F395*(LN((1+E395^3)/(E395^3+W395^3)))/3)","v":2.6990386030010254},{"$f":"$I$35","v":0.66169570028899294},{"$f":"$J$35","v":0.22178006084003529},{"$f":"$K$35","v":90.812088468865227},{"$f":"$L$35","v":5.4776561278259202E-2},{"$f":"$M$35","v":458.32747875640376},{"$f":"$N$35","v":0.27645662211829442},{"$f":"$O$35","v":0.11972660615436539},{"$f":"$P$35","v":2.3534552881082957E-2},{"$f":"$Q$35","v":1.0000000000010001E-4},{"$f":"$R$35","v":0.11972425269907729},null,null,null,null,{"$f":"IF(C395<$C$6,0,(C395-$C$6)/C395)","v":0}]
[null,{"$f":"IF(R376>$Q$29*V376,B376,IF(Q376>Q375,$U$6,-0.5)*B376)","v":-4.7016331746461202E-22},{"$f":"IF(Q376>Q375,C376,(1-$T$6)*C376+$T$6*C377)","v":0.15398187908114286},{"$f":"D376+B396","v":4.5739675128514293E-4},{"$f":"IF($C$2=1,D396/($O$31*$O$30),2^(1/3)*$O$30/D396)","v":9.1580512308429632E-2},{"$f":"IF($C$2=1,-($O$31-2)*D396/$O$30,3*($O$30/D396)^2)","v":-2.9293733106253231E-2},{"$f":"IF($C$2=1,0.5*($O$31*D396*$F$6/$O$30)*(1-W396^2+(E396-F396)*(F396^2*(1-W396^2)+2*F396*(1-W396)+2*LN((1-F396)/(1-F396*W396)))/(F396^3)),$F$6*F396*(LN((1-E396+E396^2)/(1+E396)^2)/(6*E396)+ATAN((2-E396)/(E396*3^0.5))/(E396*3^0.5)-LN((W396^2-E396*W396+E396^2)/(W396+E396)^2)/(6*E396)-ATAN((2*W396-E396)/(E396*3^0.5))/(E396*3^0.5)))","v":5.5647849150413204},{"$f":"IF($C$2=1,($O$31*D396*$F$6/$O$30)*(1-W396^3-(E396-F396)*(-2*F396^3*(1-W396^3)-3*F396^2*(1-W396^2)-6*F396*(1-W396)-6*LN((1-F396)/(1-F396*W396)))/(2*F396^4))/3,$F$6*F396*(LN((1+E396^3)/(E396^3+W396^3)))/3)","v":3.670674299885849},{"$f":"H396/G396","v":0.65962554814368657},{"$f":"G396*C396*$D$6","v":0.35988793591819335},{"$f":"MAX(MIN($K$6,$Q$6*$J$6*D396*(C396-$I$6)/C396),-$K$6)","v":144.31314469897774},{"$f":"K396*$H$6","v":8.704763811892785E-2},{"$f":"MIN($O$6,$Q$6*$N$6*D396*(C$6-C396-$M$6)/C396)","v":458.33333333333337},{"$f":"M396*$L$6","v":0.27646015351590181},{"$f":"(0.5*$C$6-C396+I396*C396)*J396+(0.5*$C$6-$I$6)*L396+(0.5*$C$6-$M$6)*N396","v":0.1546441132198933},{"$f":"0.1*$Q$6*D396*$B$6^2/C396+$R$6","v":2.7639760238660788E-2},{"$f":"(J396+L396-N396)","v":0.17047542052121939},{"$f":"O396-P396*Q396","v":0.14993221347010191},{"$f":"((R396-R395)*(Q396-Q397)-(R396-R397)*(Q396-Q395))/((Q396^2-Q395^2)*(Q396-Q397)-(Q396^2-Q397^2)*(Q396-Q395))","v":-4.9833015348903414E-2},{"$f":"-(S396*(Q396^2-Q395^2)-(R396-R395))/(Q396-Q395)","v":0.18580262774929265},{"$f":"R396-S396*Q396^2-T396*Q396","v":0.1197056729346325},{"$f":"S376*Q396^2+T376*Q396+U376","v":0.14993221347010191},{"$f":"IF(C396<$C$6,0,(C396-$C$6)/C396)","v":0}]
[null,{"$f":"IF(R377>$Q$29*V377,B377,IF(Q377>Q376,$U$6,-0.5)*B377)","v":-1.1245780567626809E-21},{"$f":"IF(Q377>Q376,C377,(1-$T$6)*C377+$T$6*C378)","v":0.17394964462770141},{"$f":"D377+B397","v":5.4994191131377409E-4},0.11011001244867896,-3.5220738950822887E-2,6.5777984233855404,4.3289484764128705,0.65811510140269625,0.48056639323583905,186.22781758609173,0.11232997317552497,458.33333333333337,0.27646015351590181,0.18281920576960167,{"$f":"0.1*$Q$6*D397*$B$6^2/C397+$R$6","v":2.9417386315698506E-2},0.3164362128954622,0.17351047945057924,-3.591644304165513E-2,0.17902648679560904,0.12045639681187423,0.17351047945057924,0]
[null,-1.9781689190826419E-21,0.19020714713826217,6.4833572344321494E-4,0.12981053655051306,-4.1522318626953582E-2,7.6144047848790857,4.9986619624952517,0.6564744196974851,0.60829196874086922,229.42791036080226,0.13838765524184715,458.33333333333337,0.27646015351590181,0.21161045333984951,3.1716403264017916E-2,0.47021947046681456,0.19669678299193105,-3.2666223709382027E-2,0.17646968328570242,0.12094001146981198,0.19669678299193105,0]
[null,-4.1915779846300465E-20,0.20976979172988638,8.317346547287057E-4,0.16653088499363783,-5.3268006216457338E-2,9.4372631560026008,6.1655068557644013,0.65331513531471375,0.83145414522861427,306.97597092325702,0.18516354337557084,458.33333333333337,0.27646015351590181,0.2609669144395047,3.6893738135018082E-2,0.7401575350882833,0.23365973616129712,-3.1682012957256069E-2,0.17527841722270909,0.12128255271970478,0.23365973616129712,0]
[null,-4.6152151710074385E-18,0.23210975825278549,1.0081012683895024E-3,0.20184321458010132,-6.4563312741737572E-2,11.058822488807351,7.1898253430871089,0.65014384220055443,1.0780814580637677,386.41552107443135,0.23308035115017703,458.33333333333337,0.27646015351590181,0.31053986444226395,4.041304484969372E-2,1.0347016556980431,0.2687244200244866,-3.3076831576315441E-2,0.17775402386822653,0.1202143417221769,0.26872442002387065,0]
[null,-6.1473998760094945E-16,0.25773794179237436,1.2225765494063559E-3,0.24478570609940184,-7.8299268719438986E-2,12.861636823716076,8.3098405789085223,0.64609510381957624,1.3922713572707488,458.33333333333337,0.27646015351590181,458.33333333333337,0.27646015351590181,0.36503088957419016,4.4137579828169425E-2,1.3922713572707486,0.30357940140017869,-4.7493487564704645E-2,0.21274285888930206,9.9445916456066819E-2,0.30357940139964434,0]
[null,8.1303694369356955E-13,0.28728229315396503,1.5532805370827875E-3,0.31099964515505502,-9.9479030763983511E-2,15.289253107929973,9.7757723491276387,0.63938848288523031,1.844779311252154,458.33333333333337,0.27646015351590181,458.33333333333337,0.27646015351590181,0.4230895161790853,5.0309714481789954E-2,1.8447793112521538,0.33027919574807629,-3.8314310385704008E-2,0.18302939726552789,0.12302202166620935,0.33027919575764436,0]
[null,-1.0688311450670564E-9,0.32152034227515802,1.9733665087451292E-3,0.39510974954545175,-0.12638321471584144,17.782576517660583,11.201545256417837,0.62991688776331922,2.4013332371668157,458.33333333333337,0.27646015351590181,458.33333333333337,0.27646015351590181,0.47874040022278802,5.7109730223377751E-2,2.4013332371668157,0.34160090687176081,-4.9262742757309762E-2,0.22951767334411954,7.4521234015011317E-2,0.34160088821043194,0]
[null,-1.1457572188279578E-7,0.36142247287457469,2.3445350678619908E-3,0.46942555240412398,-0.15015450884430301,19.46188122716822,12.075540918125677,0.62047141163663933,2.9542637207640481,458.33333333333337,0.27646015351590181,397.63286729497656,0.23984649498619073,0.50083877077635219,6.03604391558853E-2,2.9908773792937593,0.32030809870077759,-3.7125433193785869E-2,0.16407074386041751,0.16169252321588029,0.32030727516582874,0]
[null,1.2226832925888596E-8,0.40821011767341625,2.3796909150197876E-3,0.47646449722457113,-0.15240604648830944,19.596354891020951,12.140257872537234,0.61951612634347109,3.3597607411341488,458.33333333333337,0.27646015351590181,216.34075209215661,0.13049366734940349,0.47076651096872346,5.4243486846012309E-2,3.505727227300647,0.28060364222893364,-1.8598490767086247E-2,4.37085243450114E-2,0.35595122480436614,0.28060379716433498,0]
[null,-1.2996093663497613E-9,0.46343492031952305,2.3994487902438506E-3,0.48042044210188334,-0.15367142916086701,19.670096317612145,12.17528346028601,0.61897426752224627,3.82863999824457,458.33333333333337,0.27646015351590181,44.33580163351246,2.6742725510948563E-2,0.42134174130133223,4.8176310938230549E-2,4.0783574262495232,0.22486152581709354,-2.4546853178544444E-2,8.8821408423506151E-2,0.27090386680689532,0.2248615046419295,0]
[null,-1.3765354401106631E-7,0.52908775969114819,2.3625142213767438E-3,0.47302535954120295,-0.15130597422541411,19.531175587925087,12.109021720580948,0.61998427417073676,4.3401564930988856,458.33333333333337,0.27646015351590181,-113.30738972320179,-6.8345407325154497E-2,0.34290724149848162,4.1548708432611874E-2,4.6849620539399419,0.14825311910148051,-1.6455298072313228E-2,1.7912525936043582E-2,0.42550880389922469,0.14825186869620738,0]
[null,-1.1913618966160371E-9,0.60775093154630122,2.2403170428624036E-3,0.44855889759204176,-0.14347992053421788,18.686793076615771,11.839549988034541,0.63357848184503551,4.7699046779690066,458.33333333333337,0.27646015351590181,-243.4368002435601,-0.14683761854564628,0.25287052232917295,3.4300042679500535E-2,5.1932024500305545,7.4743456649838197E-2,2.2414022062779444E-2,-0.36604501251589455,1.3711976687374956,7.474345077125899E-2,0.11147812044306116]
[null,-1.2544160554364484E-9,0.70281369836511054,2.0897029772304503E-3,0.41840277328054459,-0.13383392233183961,17.002843881530378,11.306133658013797,0.66495544726463507,5.0189292682632418,458.33333333333337,0.27646015351590181,-342.47157964628838,-0.20657399014657368,0.18796014196822289,2.7666559456913816E-2,5.5019634119257166,3.5739744102415649E-2,2.873228530034486E-2,-0.43361988580115751,1.5517282029380612,3.5739743273804692E-2,0.2316598249918132]
[null,1.3174702142568598E-10,0.81878250652390949,1.9703416941746201E-3,0.39450411763567778,-0.12618949206592003,15.095467978077375,10.596192689483273,0.70194529277739226,5.191160145461474,458.33333333333337,0.27646015351590181,-421.43662457486181,-0.25420458311386857,0.13942590730874663,2.2391531723944379E-2,5.7218248820912443,1.1305483942546213E-2,3.4747580896764781E-2,-0.50113429010130717,1.7410973546606416,1.1305483686641304E-2,0.34048419977542432]
[null,1.1315773549813695E-6,0.9617353344904862,1.8909868167028966E-3,0.37861559129041172,-0.12110725089388572,13.216343776600961,9.7765873212631664,0.73973464117755816,5.338462417146844,458.33333333333337,0.27646015351590181,-489.64321032620961,-0.29534582638866086,0.10116759527173583,1.829547711129301E-2,5.9102683970514063,-6.9635849081166046E-3,3.5673642661055639E-2,-0.51190632692578586,1.772414467612635,-6.9620893327284605E-3,0.43851496286544944]
[null,1.4435785318976815E-6,1.1400001031491622,1.7854336365401467E-3,0.35748161015056229,-0.11434715327728444,11.249436246362521,8.7377821111402092,0.77673066630032694,5.3862305621137434,458.33333333333337,0.27646015351590181,-534.34423842103081,-0.32230885131101628,7.3712577206822241E-2,1.4573022406641668E-2,5.9849995669406608,-1.3506955585944683E-2,2.7349780604563199E-2,-0.41289175726850208,1.4779748796769263,-1.3528808646433133E-2,0.52631583233344303]
[null,0,{"$f":"C393","v":1.3651895295975189},{"$f":"D393+(D412-D392)","v":1.8614083277681359E-3},0.3726933516541579,-0.1192129122084739,9.8880350337227938,8.0115608573354606,0.81022779854767057,5.6695975964593597,458.33333333333337,0.27646015351590181,-623.91191260437984,-0.37633479957601473,4.0966550891733636E-2,1.2687016792872733E-2,6.3223925495512763,-3.9245749555556861E-2,null,null,null,null,0.60445052625095852]
[null,"De","hc","e0","a'","b'","N'","tN'","t","Nc","sac","Nac","sat","Nat","Mtot","u","N","Mo","a''","b''","c''",null,"x"]
[null,null,{"$f":"$C$35","v":0.12945607170440351},{"$f":"$D$35","v":3.2742931933764949E-4},{"$f":"$E$35","v":6.555828113227867E-2},{"$f":"$F$35","v":-2.097003764213403E-2},{"$f":"IF($C$2=1,0.5*($O$31*D415*$F$6/$O$30)*(1-W415^2+(E415-F415)*(F415^2*(1-W415^2)+2*F415*(1-W415)+2*LN((1-F415)/(1-F415*W415)))/(F415^3)),$F$6*F415*(LN((1-E415+E415^2)/(1+E415)^2)/(6*E415)+ATAN((2-E415)/(E415*3^0.5))/(E415*3^0.5)-LN((W415^2-E415*W415+E415^2)/(W415+E415)^2)/(6*E415)-ATAN((2*W415-E415)/(E415*3^0.5))/(E415*3^0.5)))","v":4.0789725576609177},{"$f":"IF($C$2=1,($O$31*D415*$F$6/$O$30)*(1-W415^3-(E415-F415)*(-2*F415^3*(1-W415^3)-3*F415^2*(1-W415^2)-6*F415*(1-W415)-6*LN((1-F415)/(1-F415*W415)))/(2*F415^4))/3,$F$6*F415*(LN((1+E415^3)/(E415^3+W415^3)))/3)","v":2.6990386030010254},{"$f":"$I$35","v":0.66169570028899294},{"$f":"$J$35","v":0.22178006084003529},{"$f":"$K$35","v":90.812088468865227},{"$f":"$L$35","v":5.4776561278259202E-2},{"$f":"$M$35","v":458.32747875640376},{"$f":"$N$35","v":0.27645662211829442},{"$f":"$O$35","v":0.11972660615436539},{"$f":"$P$35","v":2.3534552881082957E-2},{"$f":"$Q$35","v":1.0000000000010001E-4},{"$f":"$R$35","v":0.11972425269907729},null,null,null,null,{"$f":"IF(C415<$C$6,0,(C415-$C$6)/C415)","v":0}]
[null,{"$f":"IF(R396>$Q$29*V396,B396,IF(Q396>Q395,$U$6,-0.5)*B396)","v":4.7016331746461207E-23},{"$f":"IF(Q396>Q395,C396,(1-$T$6)*C396+$T$6*C397)","v":0.15398187908114286},{"$f":"D396+B416","v":4.5739675128514293E-4},{"$f":"IF($C$2=1,D416/($O$31*$O$30),2^(1/3)*$O$30/D416)","v":9.1580512308429632E-2},{"$f":"IF($C$2=1,-($O$31-2)*D416/$O$30,3*($O$30/D416)^2)","v":-2.9293733106253231E-2},{"$f":"IF($C$2=1,0.5*($O$31*D416*$F$6/$O$30)*(1-W416^2+(E416-F416)*(F416^2*(1-W416^2)+2*F416*(1-W416)+2*LN((1-F416)/(1-F416*W416)))/(F416^3)),$F$6*F416*(LN((1-E416+E416^2)/(1+E416)^2)/(6*E416)+ATAN((2-E416)/(E416*3^0.5))/(E416*3^0.5)-LN((W416^2-E416*W416+E416^2)/(W416+E416)^2)/(6*E416)-ATAN((2*W416-E416)/(E416*3^0.5))/(E416*3^0.5)))","v":5.5647849150413204},{"$f":"IF($C$2=1,($O$31*D416*$F$6/$O$30)*(1-W416^3-(E416-F416)*(-2*F416^3*(1-W416^3)-3*F416^2*(1-W416^2)-6*F416*(1-W416)-6*LN((1-F416)/(1-F416*W416)))/(2*F416^4))/3,$F$6*F416*(LN((1+E416^3)/(E416^3+W416^3)))/3)","v":3.670674299885849},{"$f":"H416/G416","v":0.65962554814368657},{"$f":"G416*C416*$D$6","v":0.35988793591819335},{"$f":"MAX(MIN($K$6,$Q$6*$J$6*D416*(C416-$I$6)/C416),-$K$6)","v":144.31314469897774},{"$f":"K416*$H$6","v":8.704763811892785E-2},{"$f":"MIN($O$6,$Q$6*$N$6*D416*(C$6-C416-$M$6)/C416)","v":458.33333333333337},{"$f":"M416*$L$6","v":0.27646015351590181},{"$f":"(0.5*$C$6-C416+I416*C416)*J416+(0.5*$C$6-$I$6)*L416+(0.5*$C$6-$M$6)*N416","v":0.1546441132198933},{"$f":"0.1*$Q$6*D416*$B$6^2/C416+$R$6","v":2.7639760238660788E-2},{"$f":"(J416+L416-N416)","v":0.17047542052121939},{"$f":"O416-P416*Q416","v":0.14993221347010191},{"$f":"((R416-R415)*(Q416-Q417)-(R416-R417)*(Q416-Q415))/((Q416^2-Q415^2)*(Q416-Q417)-(Q416^2-Q417^2)*(Q416-Q415))","v":-4.9833015348903414E-2},{"$f":"-(S416*(Q416^2-Q415^2)-(R416-R415))/(Q416-Q415)","v":0.18580262774929265},{"$f":"R416-S416*Q416^2-T416*Q416","v":0.1197056729346325},{"$f":"S396*Q416^2+T396*Q416+U396","v":0.14993221347010191},{"$f":"IF(C416<$C$6,0,(C416-$C$6)/C416)","v":0}]
[null,{"$f":"IF(R397>$Q$29*V397,B397,IF(Q397>Q396,$U$6,-0.5)*B397)","v":1.1245780567626809E-22},{"$f":"IF(Q397>Q396,C397,(1-$T$6)*C397+$T$6*C398)","v":0.17394964462770141},{"$f":"D397+B417","v":5.4994191131377409E-4},0.11011001244867896,-3.5220738950822887E-2,6.5777984233855404,4.3289484764128705,0.65811510140269625,0.48056639323583905,186.22781758609173,0.11232997317552497,458.33333333333337,0.27646015351590181,0.18281920576960167,{"$f":"0.1*$Q$6*D417*$B$6^2/C417+$R$6","v":2.9417386315698506E-2},0.3164362128954622,0.17351047945057924,-3.591644304165513E-2,0.17902648679560904,0.12045639681187423,0.17351047945057924,0]
[null,1.9781689190826421E-22,0.19020714713826217,6.4833572344321494E-4,0.12981053655051306,-4.1522318626953582E-2,7.6144047848790857,4.9986619624952517,0.6564744196974851,0.60829196874086922,229.42791036080226,0.13838765524184715,458.33333333333337,0.27646015351590181,0.21161045333984951,3.1716403264017916E-2,0.47021947046681456,0.19669678299193105,-3.2666223709382027E-2,0.17646968328570242,0.12094001146981198,0.19669678299193105,0]
[null,4.1915779846300468E-21,0.20976979172988638,8.317346547287057E-4,0.16653088499363783,-5.3268006216457338E-2,9.4372631560026008,6.1655068557644013,0.65331513531471375,0.83145414522861427,306.97597092325702,0.18516354337557084,458.33333333333337,0.27646015351590181,0.2609669144395047,3.6893738135018082E-2,0.7401575350882833,0.23365973616129712,-3.168201295883398E-2,0.17527841722461895,0.12128255271915558,0.23365973616129709,0]
[null,4.6152151710074385E-19,0.23210975825278549,1.0081012683895029E-3,0.20184321458010143,-6.45633127417376E-2,11.058822488807907,7.1898253430757819,0.6501438421994975,1.0780814580638216,386.41552107443147,0.23308035115017711,458.33333333333337,0.27646015351590181,0.31053986444200971,4.0413044849693741E-2,1.0347016556980968,0.26872442002423014,-3.3076831578554844E-2,0.17775402387131051,0.12021434172112114,0.26872442002449243,0]
[null,6.1473998760094953E-17,0.25773794179237436,1.2225765494064172E-3,0.24478570609941411,-7.8299268719442913E-2,12.861636823719769,8.3098405788707872,0.64609510381645674,1.3922713572711487,458.33333333333337,0.27646015351590181,458.33333333333337,0.27646015351590181,0.36503088957314223,4.4137579828171639E-2,1.3922713572711487,0.30357940139910999,-4.7493487555908175E-2,0.21274285886560881,9.9445916470902174E-2,0.30357940140021084,0]
[null,-8.1303694369356965E-14,0.28728229315396503,1.5532805370014838E-3,0.31099964513877632,-9.9479030758776468E-2,15.289253107382951,9.7757723488180144,0.63938848288785544,1.844779311186151,458.33333333333337,0.27646015351590181,458.33333333333337,0.27646015351590181,0.42308951616949347,5.0309714479156588E-2,1.844779311186151,0.33027919574666303,-3.8314314526506986E-2,0.18302941067490044,0.1230220110222382,0.33027919574532616,0]
[null,1.0688311450670564E-10,0.32152034227515802,1.9733666156282435E-3,0.39510977094571387,-0.12638322156111398,17.782577070703454,11.201545559201618,0.62991688519972766,2.4013333118489197,458.33333333333337,0.27646015351590181,458.33333333333337,0.27646015351590181,0.47874040952129726,5.7109733316602365E-2,2.4013333118489197,0.34160090447733193,-4.9262799726954687E-2,0.2295179118876341,7.4520987836315444E-2,0.34160090634339585,0]
[null,1.1457572188279579E-8,0.36142247287457469,2.3445465254341791E-3,0.4694278464526232,-0.15015524263845612,19.461925735394214,12.075562510619919,0.62047110213039358,2.9542704769987509,458.33333333333337,0.27646015351590181,397.63481049785031,0.23984766709855029,0.50083958387739713,6.0360734132957068E-2,2.9908829634161025,0.32030769249984703,-3.7125148974962295E-2,0.16406907395925802,0.16169489295358408,0.3203077747954356,0]
[null,-1.2226832925888598E-9,0.40821011767341625,2.3796896923364949E-3,0.47646425241749274,-0.15240596818220437,19.596350286881655,12.140255675111097,0.61951615976359253,3.359759951762527,458.33333333333337,0.27646015351590181,216.34064093645085,0.13049360030186136,0.47076645219681929,5.4243458975752057E-2,3.5057265049765673,0.28060372034391623,-1.8598599079630469E-2,4.3709314492596019E-2,0.35594980143088784,0.28060370485004915,0]
[null,1.2996093663497613E-10,0.46343492031952305,2.3994489202047871E-3,0.48042046812281397,-0.15367143748414647,19.670096798329894,12.175283687492906,0.61897426394600452,3.8286400918127543,458.33333333333337,0.27646015351590181,44.335804034864935,2.6742726959410251E-2,0.42134174400117308,4.8176313547595884E-2,4.0783575183692458,0.22486151343702127,-2.4546912088604215E-2,8.8821820149813865E-2,0.27090316537292997,0.224861515554931,0]
[null,1.3765354401106632E-8,0.52908775969114819,2.3625279867311448E-3,0.47302811565655489,-0.15130685582025888,19.531228222081534,12.109047046450177,0.61998390007854098,4.3401681892958113,458.33333333333337,0.27646015351590181,-113.30804991663544,-6.8345805544451993E-2,0.34290710514964273,4.1548950519068463E-2,4.6849741483561651,0.14825134607647752,-1.6454891880207507E-2,1.7908763209789E-2,0.42551739178306902,0.14825147096433317,0]
[null,1.1913618966160372E-10,0.60775093154630122,2.2403171619985933E-3,0.44855892144562892,-0.14347992816423216,18.68679356396316,11.839550242383124,0.63357847893259178,4.7699048023670549,458.33333333333337,0.27646015351590181,-243.43681318910856,-0.14683762635421715,0.25287051813134509,3.4300044503517542E-2,5.1932025822371735,7.4743438444827837E-2,2.2414301432135901E-2,-0.36604799770513596,1.3712056364298795,7.4743439034112624E-2,0.11147812044306116]
[null,1.2544160554364484E-10,0.70281369836511054,2.0897031026720558E-3,0.41840279839660949,-0.13383393036568092,17.002844404805021,11.306133964271245,0.66495544481228797,5.0189294227243684,458.33333333333337,0.27646015351590181,-342.47160020432233,-0.20657400254688763,0.18796013604675571,2.7666561117694163E-2,5.5019635787871577,3.5739724426913505E-2,2.8732283943151454E-2,-0.43361987046289308,1.5517281595546031,3.5739724504219694E-2,0.2316598249918132]
[null,-1.3174702142568598E-11,0.81878250652390949,1.9703416809999179E-3,0.39450411499782351,-0.1261894912221532,15.095467925391139,10.596192655469752,0.70194529297409591,5.1911601273432755,458.33333333333337,0.27646015351590181,-421.4366217569231,-0.25420458141412799,0.13942590803145485,2.2391531574223262E-2,5.721824862273305,1.1305485965686479E-2,3.4721238319617792E-2,-0.50083862736751428,1.7402680612543284,1.130548599360659E-2,0.34048419977542432]
[null,1.1315773549813695E-6,0.9617353344904862,1.892118394057878E-3,0.37884215703141155,-0.12117972216731031,13.220448489605705,9.7794562885711276,0.73972197662280648,5.3401204291113773,458.33333333333337,0.27646015351590181,-489.93621563112845,-0.29552256302483287,0.10109809041720144,1.8306425229711848E-2,5.9121031456521118,-7.1313837690231557E-3,3.6778235848595173E-2,-0.52476958853211764,1.8098522122684877,-7.1290045009477776E-3,0.43851496286544944]
[null,1.4435785318976815E-6,1.1400001031491622,1.7868772150720442E-3,0.35777064513198092,-0.11443960650112678,11.254235509090464,8.7413795249209425,0.77671908659279487,5.3885284493157988,458.33333333333337,0.27646015351590181,-534.77627232889563,-0.32256944802481785,7.3622273708212102E-2,1.4584805147741952E-2,5.987558050856518,-1.3705093774323815E-2,2.6155043632174812E-2,-0.39835720033132821,1.4338011852448544,-1.3725565073090973E-2,0.52631583233344303]
[null,0,{"$f":"C413","v":1.3651895295975189},{"$f":"D413+(D432-D412)","v":1.8628519063000335E-3},0.37298238663557653,-0.11930536543231622,9.8916685386780987,8.0144193325411752,0.81021915576764814,5.6716809740860628,458.33333333333337,0.27646015351590181,-624.39577518809938,-0.37662665861057992,4.0861100998507538E-2,1.2696855958628466E-2,6.3247677862125444,-3.9443564554806576E-2,null,null,null,null,0.60445052625095852]
[null,"De","hc","e0","a'","b'","N'","tN'","t","Nc","sac","Nac","sat","Nat","Mtot","u","N","Mo","a''","b''","c''",null,"x"]
[null,null,{"$f":"$C$35","v":0.12945607170440351},{"$f":"$D$35","v":3.2742931933764949E-4},{"$f":"$E$35","v":6.555828113227867E-2},{"$f":"$F$35","v":-2.097003764213403E-2},{"$f":"IF($C$2=1,0.5*($O$31*D435*$F$6/$O$30)*(1-W435^2+(E435-F435)*(F435^2*(1-W435^2)+2*F435*(1-W435)+2*LN((1-F435)/(1-F435*W435)))/(F435^3)),$F$6*F435*(LN((1-E435+E435^2)/(1+E435)^2)/(6*E435)+ATAN((2-E435)/(E435*3^0.5))/(E435*3^0.5)-LN((W435^2-E435*W435+E435^2)/(W435+E435)^2)/(6*E435)-ATAN((2*W435-E435)/(E435*3^0.5))/(E435*3^0.5)))","v":4.0789725576609177},{"$f":"IF($C$2=1,($O$31*D435*$F$6/$O$30)*(1-W435^3-(E435-F435)*(-2*F435^3*(1-W435^3)-3*F435^2*(1-W435^2)-6*F435*(1-W435)-6*LN((1-F435)/(1-F435*W435)))/(2*F435^4))/3,$F$6*F435*(LN((1+E435^3)/(E435^3+W435^3)))/3)","v":2.6990386030010254},{"$f":"$I$35","v":0.66169570028899294},{"$f":"$J$35","v":0.22178006084003529},{"$f":"$K$35","v":90.812088468865227},{"$f":"$L$35","v":5.4776561278259202E-2},{"$f":"$M$35","v":458.32747875640376},{"$f":"$N$35","v":0.27645662211829442},{"$f":"$O$35","v":0.11972660615436539},{"$f":"$P$35","v":2.3534552881082957E-2},{"$f":"$Q$35","v":1.0000000000010001E-4},{"$f":"$R$35","v":0.11972425269907729},null,null,null,null,{"$f":"IF(C435<$C$6,0,(C435-$C$6)/C435)","v":0}]
[null,{"$f":"IF(R416>$Q$29*V416,B416,IF(Q416>Q415,$U$6,-0.5)*B416)","v":-4.7016331746461207E-24},{"$f":"IF(Q416>Q415,C416,(1-$T$6)*C416+$T$6*C417)","v":0.15398187908114286},{"$f":"D416+B436","v":4.5739675128514293E-4},{"$f":"IF($C$2=1,D436/($O$31*$O$30),2^(1/3)*$O$30/D436)","v":9.1580512308429632E-2},{"$f":"IF($C$2=1,-($O$31-2)*D436/$O$30,3*($O$30/D436)^2)","v":-2.9293733106253231E-2},{"$f":"IF($C$2=1,0.5*($O$31*D436*$F$6/$O$30)*(1-W436^2+(E436-F436)*(F436^2*(1-W436^2)+2*F436*(1-W436)+2*LN((1-F436)/(1-F436*W436)))/(F436^3)),$F$6*F436*(LN((1-E436+E436^2)/(1+E436)^2)/(6*E436)+ATAN((2-E436)/(E436*3^0.5))/(E436*3^0.5)-LN((W436^2-E436*W436+E436^2)/(W436+E436)^2)/(6*E436)-ATAN((2*W436-E436)/(E436*3^0.5))/(E436*3^0.5)))","v":5.5647849150413204},{"$f":"IF($C$2=1,($O$31*D436*$F$6/$O$30)*(1-W436^3-(E436-F436)*(-2*F436^3*(1-W436^3)-3*F436^2*(1-W436^2)-6*F436*(1-W436)-6*LN((1-F436)/(1-F436*W436)))/(2*F436^4))/3,$F$6*F436*(LN((1+E436^3)/(E436^3+W436^3)))/3)","v":3.670674299885849},{"$f":"H436/G436","v":0.65962554814368657},{"$f":"G436*C436*$D$6","v":0.35988793591819335},{"$f":"MAX(MIN($K$6,$Q$6*$J$6*D436*(C436-$I$6)/C436),-$K$6)","v":144.31314469897774},{"$f":"K436*$H$6","v":8.704763811892785E-2},{"$f":"MIN($O$6,$Q$6*$N$6*D436*(C$6-C436-$M$6)/C436)","v":458.33333333333337},{"$f":"M436*$L$6","v":0.27646015351590181},{"$f":"(0.5*$C$6-C436+I436*C436)*J436+(0.5*$C$6-$I$6)*L436+(0.5*$C$6-$M$6)*N436","v":0.1546441132198933},{"$f":"0.1*$Q$6*D436*$B$6^2/C436+$R$6","v":2.7639760238660788E-2},{"$f":"(J436+L436-N436)","v":0.17047542052121939},{"$f":"O436-P436*Q436","v":0.14993221347010191},{"$f":"((R436-R435)*(Q436-Q437)-(R436-R437)*(Q436-Q435))/((Q436^2-Q435^2)*(Q436-Q437)-(Q436^2-Q437^2)*(Q436-Q435))","v":-4.9833015348903414E-2},{"$f":"-(S436*(Q436^2-Q435^2)-(R436-R435))/(Q436-Q435)","v":0.18580262774929265},{"$f":"R436-S436*Q436^2-T436*Q436","v":0.1197056729346325},{"$f":"S416*Q436^2+T416*Q436+U416","v":0.14993221347010191},{"$f":"IF(C436<$C$6,0,(C436-$C$6)/C436)","v":0}]
[null,{"$f":"IF(R417>$Q$29*V417,B417,IF(Q417>Q416,$U$6,-0.5)*B417)","v":-1.1245780567626811E-23},{"$f":"IF(Q417>Q416,C417,(1-$T$6)*C417+$T$6*C418)","v":0.17394964462770141},{"$f":"D417+B437","v":5.4994191131377409E-4},0.11011001244867896,-3.5220738950822887E-2,6.5777984233855404,4.3289484764128705,0.65811510140269625,0.48056639323583905,186.22781758609173,0.11232997317552497,458.33333333333337,0.27646015351590181,0.18281920576960167,{"$f":"0.1*$Q$6*D437*$B$6^2/C437+$R$6","v":2.9417386315698506E-2},0.3164362128954622,0.17351047945057924,-3.591644304165513E-2,0.17902648679560904,0.12045639681187423,0.17351047945057924,0]
[null,-1.9781689190826423E-23,0.19020714713826217,6.4833572344321494E-4,0.12981053655051306,-4.1522318626953582E-2,7.6144047848790857,4.9986619624952517,0.6564744196974851,0.60829196874086922,229.42791036080226,0.13838765524184715,458.33333333333337,0.27646015351590181,0.21161045333984951,3.1716403264017916E-2,0.47021947046681456,0.19669678299193105,-3.2666223709382027E-2,0.17646968328570242,0.12094001146981198,0.19669678299193105,0]
[null,-4.1915779846300471E-22,0.20976979172988638,8.317346547287057E-4,0.16653088499363783,-5.3268006216457338E-2,9.4372631560026008,6.1655068557644013,0.65331513531471375,0.83145414522861427,306.97597092325702,0.18516354337557084,458.33333333333337,0.27646015351590181,0.2609669144395047,3.6893738135018082E-2,0.7401575350882833,0.23365973616129712,-3.168201295883398E-2,0.17527841722461895,0.12128255271915558,0.23365973616129709,0]
[null,-4.6152151710074385E-20,0.23210975825278549,1.0081012683895029E-3,0.20184321458010143,-6.45633127417376E-2,11.058822488807907,7.1898253430757819,0.6501438421994975,1.0780814580638216,386.41552107443147,0.23308035115017711,458.33333333333337,0.27646015351590181,0.31053986444200971,4.0413044849693741E-2,1.0347016556980968,0.26872442002423014,-3.3076831573152235E-2,0.17775402386172162,0.12021434172525866,0.26872442002423014,0]
[null,-6.1473998760094954E-18,0.25773794179237436,1.2225765494064112E-3,0.24478570609941291,-7.8299268719442525E-2,12.861636823716353,8.3098405789143701,0.646095103820017,1.3922713572707788,458.33333333333337,0.27646015351590181,458.33333333333337,0.27646015351590181,0.36503088957435365,4.4137579828171417E-2,1.3922713572707788,0.30357940140033807,-4.7493487563792278E-2,0.21274285888826108,9.9445916455904559E-2,0.3035794013990803,0]
[null,8.1303694369356971E-15,0.28728229315396503,1.5532805370096143E-3,0.31099964514040418,-9.9479030759297177E-2,15.289253107437675,9.7757723488508841,0.63938848288771677,1.8447793111927542,458.33333333333337,0.27646015351590181,458.33333333333337,0.27646015351590181,0.42308951617051876,5.0309714479419926E-2,1.8447793111927542,0.33027919574687037,-3.8314314110818946E-2,0.18302940932637105,0.12302201209523556,0.33027919574693815,0]
[null,-1.0688311450670564E-11,0.32152034227515802,1.9733666049399322E-3,0.39510976880568766,-0.12638322087658677,17.782577015400381,11.201545528915354,0.62991688545560032,2.4013333043808731,458.33333333333337,0.27646015351590181,458.33333333333337,0.27646015351590181,0.4787404085910954,5.7109733007279902E-2,2.4013333043808731,0.34160090471641458,-4.9262794027555269E-2,0.22951788802217962,7.4521012466447045E-2,0.34160090453016756,0]
[null,-1.1457572188279579E-9,0.36142247287457469,2.3445453796769604E-3,0.4694276170477733,-0.15015516925904079,19.461921284591043,12.075560351391132,0.62047113308139545,2.9542698013782296,458.33333333333337,0.27646015351590181,397.63461617756286,0.23984754988731427,0.50083950256815535,6.0360704635249895E-2,2.9908824050068175,0.32030773312077299,-3.7125177399582397E-2,0.1640692409662991,0.16169465595459775,0.32030772489029741,0]
[null,1.2226832925888599E-10,0.40821011767341625,2.3796898146048241E-3,0.47646427689820053,-0.15240597601281486,19.596350747294803,12.140255894860566,0.61951615642195423,3.359760030699555,458.33333333333337,0.27646015351590181,216.3406520520214,0.13049360700661555,0.47076645807450801,5.4243461762778084E-2,3.5057265772088413,0.28060371253292538,-1.8598588246670517E-2,4.370923546567259E-2,0.35594994379041445,0.28060371408181944,0]
[null,-1.2996093663497614E-11,0.46343492031952305,2.3994489072086934E-3,0.48042046552072087,-0.15367143665181854,19.670096750256832,12.175283664782206,0.61897426430417701,3.828640082455685,458.33333333333337,0.27646015351590181,44.335803794729692,2.6742726814564084E-2,0.42134174373213851,4.8176313286659347E-2,4.0783575091570228,0.22486151467599011,-2.4546906196776425E-2,8.8821778971715268E-2,0.27090323552589024,0.22486151446326602,0]
[null,-1.3765354401106634E-9,0.52908775969114819,2.3625266101957045E-3,0.47302784004501969,-0.15130676766077439,19.53122295869375,12.109044513890339,0.61998393748817215,4.3401670196823101,458.33333333333337,0.27646015351590181,-113.30798389729206,-6.8345765722522239E-2,0.34290711878610708,4.1548926310422792E-2,4.6849729389207342,0.1482515233805646,-1.6454932506751358E-2,1.7909139548874516E-2,0.42551653284653984,0.14825151088951283,0]
[null,-1.1913618966160373E-11,0.60775093154630122,2.2403171500849743E-3,0.44855891906027023,-0.14347992740123072,18.686793515229237,11.839550216943509,0.63357847922355393,4.7699047899274589,458.33333333333337,0.27646015351590181,-243.4368118945537,-0.14683762557336005,0.25287051855031978,3.4300044321115844E-2,5.1932025690167203,7.47434402645136E-2,2.2414273496030868E-2,-0.3660476992007845,1.3712048397131302,7.4743440206373801E-2,0.11147812044306116]
[null,-1.2544160554364485E-11,0.70281369836511054,2.0897030901278952E-3,0.41840279588500301,-0.13383392956229678,17.002844352478913,11.306133933633882,0.66495544505678639,5.0189294072786561,458.33333333333337,0.27646015351590181,-342.47159814851898,-0.20657400130685624,0.18796013663631927,2.7666560951616126E-2,5.5019635621014142,3.5739726391869509E-2,2.873228410979119E-2,-0.43361987233311877,1.5517281648052486,3.5739726386685877E-2,0.2316598249918132]
[null,1.3174702142568599E-12,0.81878250652390949,1.9703416823173879E-3,0.39450411526160889,-0.12618949130652987,15.095467930660002,10.596192658870505,0.7019452929543748,5.1911601291551781,458.33333333333337,0.27646015351590181,-421.43662203871702,-0.25420458158410209,0.13942590795897045,2.2391531589195369E-2,5.7218248642551819,1.1305485763157042E-2,3.4689377272684868E-2,-0.50048102562953289,1.739265034470574,1.1305485760560341E-2,0.34048419977542432]
[null,1.1315773549813695E-6,0.9617353344904862,1.8932499714128595E-3,0.37906872277241133,-0.1212521934407349,13.224549046330527,9.7823220089636802,0.73970930688770997,5.3417767622345824,458.33333333333337,0.27646015351590181,-490.22922093604728,-0.29569929966100489,0.10102848553873925,1.8317373348130685E-2,5.9139362154114892,-7.2992920759840096E-3,3.7831881526804341E-2,-0.53704645432230314,1.8456026875603302,-7.2960460860640453E-3,0.43851496286544944]
[null,1.4435785318976815E-6,1.1400001031491622,1.7883207936039418E-3,0.3580596801133995,-0.11453205972496913,11.25902841628127,8.7449718208090967,0.77670750063685001,5.390823293486398,458.33333333333337,0.27646015351590181,-535.20830623676045,-0.32283004473861943,7.3531824137235052E-2,1.4596587888842235E-2,5.9901134917409191,-1.390339390910092E-2,2.4989089812087271E-2,-0.38416522337170539,1.390644876036299,-1.3922512418693689E-2,0.52631583233344303]
[null,0,{"$f":"C433","v":1.3651895295975189},{"$f":"D433+(D452-D432)","v":1.8642954848319311E-3},0.37327142161699511,-0.11939781865615856,9.8952963539126628,8.0172730848338034,0.81021050791103622,5.6737610893429498,458.33333333333337,0.27646015351590181,-624.87963777181892,-0.37691851764514506,4.0755527055228127E-2,1.2706695124384203E-2,6.3271397605039965,-3.9641508890865443E-2,null,null,null,null,0.60445052625095852]
[null,"De","hc","e0","a'","b'","N'","tN'","t","Nc","sac","Nac","sat","Nat","Mtot","u","N","Mo","a''","b''","c''",null,"x"]
[null,null,{"$f":"$C$35","v":0.12945607170440351},{"$f":"$D$35","v":3.2742931933764949E-4},{"$f":"$E$35","v":6.555828113227867E-2},{"$f":"$F$35","v":-2.097003764213403E-2},{"$f":"IF($C$2=1,0.5*($O$31*D455*$F$6/$O$30)*(1-W455^2+(E455-F455)*(F455^2*(1-W455^2)+2*F455*(1-W455)+2*LN((1-F455)/(1-F455*W455)))/(F455^3)),$F$6*F455*(LN((1-E455+E455^2)/(1+E455)^2)/(6*E455)+ATAN((2-E455)/(E455*3^0.5))/(E455*3^0.5)-LN((W455^2-E455*W455+E455^2)/(W455+E455)^2)/(6*E455)-ATAN((2*W455-E455)/(E455*3^0.5))/(E455*3^0.5)))","v":4.0789725576609177},{"$f":"IF($C$2=1,($O$31*D455*$F$6/$O$30)*(1-W455^3-(E455-F455)*(-2*F455^3*(1-W455^3)-3*F455^2*(1-W455^2)-6*F455*(1-W455)-6*LN((1-F455)/(1-F455*W455)))/(2*F455^4))/3,$F$6*F455*(LN((1+E455^3)/(E455^3+W455^3)))/3)","v":2.6990386030010254},{"$f":"$I$35","v":0.66169570028899294},{"$f":"$J$35","v":0.22178006084003529},{"$f":"$K$35","v":90.812088468865227},{"$f":"$L$35","v":5.4776561278259202E-2},{"$f":"$M$35","v":458.32747875640376},{"$f":"$N$35","v":0.27645662211829442},{"$f":"$O$35","v":0.11972660615436539},{"$f":"$P$35","v":2.3534552881082957E-2},{"$f":"$Q$35","v":1.0000000000010001E-4},{"$f":"$R$35","v":0.11972425269907729},null,null,null,null,{"$f":"IF(C455<$C$6,0,(C455-$C$6)/C455)","v":0}]
[null,{"$f":"IF(R436>$Q$29*V436,B436,IF(Q436>Q435,$U$6,-0.5)*B436)","v":4.7016331746461211E-25},{"$f":"IF(Q436>Q435,C436,(1-$T$6)*C436+$T$6*C437)","v":0.15398187908114286},{"$f":"D436+B456","v":4.5739675128514293E-4},{"$f":"IF($C$2=1,D456/($O$31*$O$30),2^(1/3)*$O$30/D456)","v":9.1580512308429632E-2},{"$f":"IF($C$2=1,-($O$31-2)*D456/$O$30,3*($O$30/D456)^2)","v":-2.9293733106253231E-2},{"$f":"IF($C$2=1,0.5*($O$31*D456*$F$6/$O$30)*(1-W456^2+(E456-F456)*(F456^2*(1-W456^2)+2*F456*(1-W456)+2*LN((1-F456)/(1-F456*W456)))/(F456^3)),$F$6*F456*(LN((1-E456+E456^2)/(1+E456)^2)/(6*E456)+ATAN((2-E456)/(E456*3^0.5))/(E456*3^0.5)-LN((W456^2-E456*W456+E456^2)/(W456+E456)^2)/(6*E456)-ATAN((2*W456-E456)/(E456*3^0.5))/(E456*3^0.5)))","v":5.5647849150413204},{"$f":"IF($C$2=1,($O$31*D456*$F$6/$O$30)*(1-W456^3-(E456-F456)*(-2*F456^3*(1-W456^3)-3*F456^2*(1-W456^2)-6*F456*(1-W456)-6*LN((1-F456)/(1-F456*W456)))/(2*F456^4))/3,$F$6*F456*(LN((1+E456^3)/(E456^3+W456^3)))/3)","v":3.670674299885849},{"$f":"H456/G456","v":0.65962554814368657},{"$f":"G456*C456*$D$6","v":0.35988793591819335},{"$f":"MAX(MIN($K$6,$Q$6*$J$6*D456*(C456-$I$6)/C456),-$K$6)","v":144.31314469897774},{"$f":"K456*$H$6","v":8.704763811892785E-2},{"$f":"MIN($O$6,$Q$6*$N$6*D456*(C$6-C456-$M$6)/C456)","v":458.33333333333337},{"$f":"M456*$L$6","v":0.27646015351590181},{"$f":"(0.5*$C$6-C456+I456*C456)*J456+(0.5*$C$6-$I$6)*L456+(0.5*$C$6-$M$6)*N456","v":0.1546441132198933},{"$f":"0.1*$Q$6*D456*$B$6^2/C456+$R$6","v":2.7639760238660788E-2},{"$f":"(J456+L456-N456)","v":0.17047542052121939},{"$f":"O456-P456*Q456","v":0.14993221347010191},{"$f":"((R456-R455)*(Q456-Q457)-(R456-R457)*(Q456-Q455))/((Q456^2-Q455^2)*(Q456-Q457)-(Q456^2-Q457^2)*(Q456-Q455))","v":-4.9833015348903414E-2},{"$f":"-(S456*(Q456^2-Q455^2)-(R456-R455))/(Q456-Q455)","v":0.18580262774929265},{"$f":"R456-S456*Q456^2-T456*Q456","v":0.1197056729346325},{"$f":"S436*Q456^2+T436*Q456+U436","v":0.14993221347010191},{"$f":"IF(C456<$C$6,0,(C456-$C$6)/C456)","v":0}]
[null,{"$f":"IF(R437>$Q$29*V437,B437,IF(Q437>Q436,$U$6,-0.5)*B437)","v":1.1245780567626811E-24},{"$f":"IF(Q437>Q436,C437,(1-$T$6)*C437+$T$6*C438)","v":0.17394964462770141},{"$f":"D437+B457","v":5.4994191131377409E-4},0.11011001244867896,-3.5220738950822887E-2,6.5777984233855404,4.3289484764128705,0.65811510140269625,0.48056639323583905,186.22781758609173,0.11232997317552497,458.33333333333337,0.27646015351590181,0.18281920576960167,{"$f":"0.1*$Q$6*D457*$B$6^2/C457+$R$6","v":2.9417386315698506E-2},0.3164362128954622,0.17351047945057924,-3.591644304165513E-2,0.17902648679560904,0.12045639681187423,0.17351047945057924,0]
[null,1.9781689190826422E-24,0.19020714713826217,6.4833572344321494E-4,0.12981053655051306,-4.1522318626953582E-2,7.6144047848790857,4.9986619624952517,0.6564744196974851,0.60829196874086922,229.42791036080226,0.13838765524184715,458.33333333333337,0.27646015351590181,0.21161045333984951,3.1716403264017916E-2,0.47021947046681456,0.19669678299193105,-3.2666223709382027E-2,0.17646968328570242,0.12094001146981198,0.19669678299193105,0]
[null,4.1915779846300475E-23,0.20976979172988638,8.317346547287057E-4,0.16653088499363783,-5.3268006216457338E-2,9.4372631560026008,6.1655068557644013,0.65331513531471375,0.83145414522861427,306.97597092325702,0.18516354337557084,458.33333333333337,0.27646015351590181,0.2609669144395047,3.6893738135018082E-2,0.7401575350882833,0.23365973616129712,-3.168201295883398E-2,0.17527841722461895,0.12128255271915558,0.23365973616129709,0]
[null,4.6152151710074391E-21,0.23210975825278549,1.0081012683895029E-3,0.20184321458010143,-6.45633127417376E-2,11.058822488807907,7.1898253430757819,0.6501438421994975,1.0780814580638216,386.41552107443147,0.23308035115017711,458.33333333333337,0.27646015351590181,0.31053986444200971,4.0413044849693741E-2,1.0347016556980968,0.26872442002423014,-3.3076831574738078E-2,0.17775402386453629,0.12021434172404413,0.26872442002423014,0]
[null,6.147399876009496E-19,0.25773794179237436,1.2225765494064118E-3,0.24478570609941303,-7.8299268719442566E-2,12.861636823717271,8.3098405789015377,0.64609510381897306,1.3922713572708783,458.33333333333337,0.27646015351590181,458.33333333333337,0.27646015351590181,0.36503088957399682,4.4137579828171451E-2,1.3922713572708783,0.3035794013999768,-4.7493487563213886E-2,0.21274285888582462,9.9445916457806371E-2,0.30357940140034606,0]
[null,-8.1303694369356977E-16,0.28728229315396503,1.5532805370088013E-3,0.31099964514024142,-9.9479030759245107E-2,15.289253107433938,9.7757723488300972,0.63938848288651351,1.8447793111923032,458.33333333333337,0.27646015351590181,458.33333333333337,0.27646015351590181,0.42308951616980606,5.0309714479393593E-2,1.844779311192303,0.33027919574622888,-3.8314314149851342E-2,0.18302940945215995,0.12302201199539553,0.33027919574685161,0]
[null,1.0688311450670564E-12,0.32152034227515802,1.9733666060087634E-3,0.3951097690196903,-0.12638322094503948,17.782577020929882,11.201545531951076,0.62991688543044078,2.4013333051275687,458.33333333333337,0.27646015351590181,458.33333333333337,0.27646015351590181,0.47874040868442941,5.7109733038212152E-2,2.4013333051275687,0.34160090469282633,-4.9262794599086404E-2,0.2295178904171884,7.4521009992605247E-2,0.34160090471113186,0]
[null,1.1457572188279579E-10,0.36142247287457469,2.3445454942526821E-3,0.46942763998825826,-0.15015517659698233,19.461921729670767,12.075560567318439,0.62047112998654108,2.9542698689401918,458.33333333333337,0.27646015351590181,397.63463560959167,0.23984756160843793,0.50083951069933075,6.0360707585020608E-2,2.9908824608476556,0.32030772905893856,-3.7125174558259019E-2,0.16406922427162213,0.16169467964690759,0.32030772988173395,0]
[null,-1.22268329258886E-11,0.40821011767341625,2.3796898023779912E-3,0.47646427445012979,-0.15240597522975383,19.59635070125448,12.140255872879381,0.61951615675576832,3.359760022806022,458.33333333333337,0.27646015351590181,216.34065094046437,0.13049360633614016,0.47076645748627888,5.4243461484075481E-2,3.505726569985784,0.28060371331355494,-1.8598589327969237E-2,4.3709243354016089E-2,0.35594992957976335,0.28060371315912036,0]
[null,1.2996093663497616E-12,0.46343492031952305,2.3994489085083026E-3,0.48042046578093017,-0.15367143673505129,19.670096755064005,12.175283667053266,0.61897426426836344,3.8286400833913663,458.33333333333337,0.27646015351590181,44.335803818743216,2.6742726829048699E-2,0.42134174375904604,4.8176313312752995E-2,4.0783575100782192,0.22486151455209857,-2.4546906786722684E-2,8.8821783096114881E-2,0.27090322849642023,0.22486151457336856,0]
[null,1.3765354401106635E-10,0.52908775969114819,2.3625267478492484E-3,0.47302786760617316,-0.15130677647672283,19.531223485033095,12.109044767146012,0.6199839337471742,4.3401671366437862,458.33333333333337,0.27646015351590181,-113.30799049922639,-6.8345769704715204E-2,0.34290711742239155,4.1548928731287356E-2,4.6849730598644026,0.14825150565008424,-1.6454928439740783E-2,1.7909101876694675E-2,0.42551661882382258,0.1482515068992456,0]
[null,1.1913618966160374E-12,0.60775093154630122,2.2403171512763364E-3,0.44855891929880615,-0.14347992747753088,18.686793520100277,11.839550219501854,0.63357847919530719,4.7699047911708181,458.33333333333337,0.27646015351590181,-243.43681202400921,-0.14683762565144579,0.2528705185108564,3.4300044339356017E-2,5.1932025703381655,7.4743440084999696E-2,2.2414276261376077E-2,-0.36604772876723302,1.3712049186746764,7.4743440088438806E-2,0.11147812044306116]
[null,1.2544160554364486E-12,0.70281369836511054,2.0897030913823111E-3,0.4184027961361636,-0.13383392964263519,17.0028443577133,11.306133936682668,0.66495544503138782,5.0189294088237517,458.33333333333337,0.27646015351590181,-342.47159835409923,-0.20657400143085933,0.1879601365740344,2.7666560968223928E-2,5.5019635637705129,3.5739726192030918E-2,2.8732284110571056E-2,-0.43361987235097599,1.5517281648760906,3.5739726195830546E-2,0.2316598249918132]
[null,-1.31747021425686E-13,0.81878250652390949,1.9703416821856409E-3,0.39450411523523032,-0.1261894912980922,15.095467930135493,10.596192658513027,0.70194529295508357,5.1911601289748051,458.33333333333337,0.27646015351590181,-421.43662201053758,-0.25420458156710463,0.13942590796087084,2.2391531587698157E-2,5.7218248640578109,1.1305485778043661E-2,3.4652244661331745E-2,-0.50006425707380386,1.7380960527321676,1.1305485783586589E-2,0.34048419977542432]
[null,1.1315773549813695E-6,0.9617353344904862,1.894381548767841E-3,0.3792952885134111,-0.12132466471415951,13.228645447408777,9.7851844830407142,0.73969663197507751,5.3434314167722849,458.33333333333337,0.27646015351590181,-490.52222624096618,-0.2958760362971769,0.10095878069242573,1.8328321466549512E-2,5.915767606585363,-7.4673097224710189E-3,3.8836982120609355E-2,-0.54876452622151151,1.8797451731638251,-7.4632134916108317E-3,0.43851496286544944]
[null,1.4435785318976815E-6,1.1400001031491622,1.7897643721358394E-3,0.35834871509481808,-0.11462451294881147,11.26381496922644,8.7485589999220021,0.77669590843099789,5.3931150952439113,458.33333333333337,0.27646015351590181,-535.64034014462527,-0.323090641452421,7.344122856578375E-2,1.4608370629942519E-2,5.9926658902122334,-1.4101855819850975E-2,2.3851015866517063E-2,-0.37030514369940093,1.3484744053037911,-1.4119649629770414E-2,0.52631583233344303]
[null,0,{"$f":"C453","v":1.3651895295975189},{"$f":"D453+(D472-D452)","v":1.8657390633638287E-3},0.37356045659841375,-0.1194902718800009,9.8989184806115471,8.020122115256946,0.81020185497693575,5.6758379429095109,458.33333333333337,0.27646015351590181,-625.36350035553835,-0.37721037667971019,4.0649829134625351E-2,1.2716534290139934E-2,6.3295084731051228,-3.9839582403347201E-2,null,null,null,null,0.60445052625095852]
[null,"De","hc","e0","a'","b'","N'","tN'","t","Nc","sac","Nac","sat","Nat","Mtot","u","N","Mo","a''","b''","c''",null,"x"]
[null,null,{"$f":"$C$35","v":0.12945607170440351},{"$f":"$D$35","v":3.2742931933764949E-4},{"$f":"$E$35","v":6.555828113227867E-2},{"$f":"$F$35","v":-2.097003764213403E-2},{"$f":"IF($C$2=1,0.5*($O$31*D475*$F$6/$O$30)*(1-W475^2+(E475-F475)*(F475^2*(1-W475^2)+2*F475*(1-W475)+2*LN((1-F475)/(1-F475*W475)))/(F475^3)),$F$6*F475*(LN((1-E475+E475^2)/(1+E475)^2)/(6*E475)+ATAN((2-E475)/(E475*3^0.5))/(E475*3^0.5)-LN((W475^2-E475*W475+E475^2)/(W475+E475)^2)/(6*E475)-ATAN((2*W475-E475)/(E475*3^0.5))/(E475*3^0.5)))","v":4.0789725576609177},{"$f":"IF($C$2=1,($O$31*D475*$F$6/$O$30)*(1-W475^3-(E475-F475)*(-2*F475^3*(1-W475^3)-3*F475^2*(1-W475^2)-6*F475*(1-W475)-6*LN((1-F475)/(1-F475*W475)))/(2*F475^4))/3,$F$6*F475*(LN((1+E475^3)/(E475^3+W475^3)))/3)","v":2.6990386030010254},{"$f":"$I$35","v":0.66169570028899294},{"$f":"$J$35","v":0.22178006084003529},{"$f":"$K$35","v":90.812088468865227},{"$f":"$L$35","v":5.4776561278259202E-2},{"$f":"$M$35","v":458.32747875640376},{"$f":"$N$35","v":0.27645662211829442},{"$f":"$O$35","v":0.11972660615436539},{"$f":"$P$35","v":2.3534552881082957E-2},{"$f":"$Q$35","v":1.0000000000010001E-4},{"$f":"$R$35","v":0.11972425269907729},null,null,null,null,{"$f":"IF(C475<$C$6,0,(C475-$C$6)/C475)","v":0}]
[null,{"$f":"IF(R456>$Q$29*V456,B456,IF(Q456>Q455,$U$6,-0.5)*B456)","v":-4.7016331746461215E-26},{"$f":"IF(Q456>Q455,C456,(1-$T$6)*C456+$T$6*C457)","v":0.15398187908114286},{"$f":"D456+B476","v":4.5739675128514293E-4},{"$f":"IF($C$2=1,D476/($O$31*$O$30),2^(1/3)*$O$30/D476)","v":9.1580512308429632E-2},{"$f":"IF($C$2=1,-($O$31-2)*D476/$O$30,3*($O$30/D476)^2)","v":-2.9293733106253231E-2},{"$f":"IF($C$2=1,0.5*($O$31*D476*$F$6/$O$30)*(1-W476^2+(E476-F476)*(F476^2*(1-W476^2)+2*F476*(1-W476)+2*LN((1-F476)/(1-F476*W476)))/(F476^3)),$F$6*F476*(LN((1-E476+E476^2)/(1+E476)^2)/(6*E476)+ATAN((2-E476)/(E476*3^0.5))/(E476*3^0.5)-LN((W476^2-E476*W476+E476^2)/(W476+E476)^2)/(6*E476)-ATAN((2*W476-E476)/(E476*3^0.5))/(E476*3^0.5)))","v":5.5647849150413204},{"$f":"IF($C$2=1,($O$31*D476*$F$6/$O$30)*(1-W476^3-(E476-F476)*(-2*F476^3*(1-W476^3)-3*F476^2*(1-W476^2)-6*F476*(1-W476)-6*LN((1-F476)/(1-F476*W476)))/(2*F476^4))/3,$F$6*F476*(LN((1+E476^3)/(E476^3+W476^3)))/3)","v":3.670674299885849},{"$f":"H476/G476","v":0.65962554814368657},{"$f":"G476*C476*$D$6","v":0.35988793591819335},{"$f":"MAX(MIN($K$6,$Q$6*$J$6*D476*(C476-$I$6)/C476),-$K$6)","v":144.31314469897774},{"$f":"K476*$H$6","v":8.704763811892785E-2},{"$f":"MIN($O$6,$Q$6*$N$6*D476*(C$6-C476-$M$6)/C476)","v":458.33333333333337},{"$f":"M476*$L$6","v":0.27646015351590181},{"$f":"(0.5*$C$6-C476+I476*C476)*J476+(0.5*$C$6-$I$6)*L476+(0.5*$C$6-$M$6)*N476","v":0.1546441132198933},{"$f":"0.1*$Q$6*D476*$B$6^2/C476+$R$6","v":2.7639760238660788E-2},{"$f":"(J476+L476-N476)","v":0.17047542052121939},{"$f":"O476-P476*Q476","v":0.14993221347010191},{"$f":"((R476-R475)*(Q476-Q477)-(R476-R477)*(Q476-Q475))/((Q476^2-Q475^2)*(Q476-Q477)-(Q476^2-Q477^2)*(Q476-Q475))","v":-4.9833015348903414E-2},{"$f":"-(S476*(Q476^2-Q475^2)-(R476-R475))/(Q476-Q475)","v":0.18580262774929265},{"$f":"R476-S476*Q476^2-T476*Q476","v":0.1197056729346325},{"$f":"S456*Q476^2+T456*Q476+U456","v":0.14993221347010191},{"$f":"IF(C476<$C$6,0,(C476-$C$6)/C476)","v":0}]
[null,{"$f":"IF(R457>$Q$29*V457,B457,IF(Q457>Q456,$U$6,-0.5)*B457)","v":-1.1245780567626811E-25},{"$f":"IF(Q457>Q456,C457,(1-$T$6)*C457+$T$6*C458)","v":0.17394964462770141},{"$f":"D457+B477","v":5.4994191131377409E-4},0.11011001244867896,-3.5220738950822887E-2,6.5777984233855404,4.3289484764128705,0.65811510140269625,0.48056639323583905,186.22781758609173,0.11232997317552497,458.33333333333337,0.27646015351590181,0.18281920576960167,{"$f":"0.1*$Q$6*D477*$B$6^2/C477+$R$6","v":2.9417386315698506E-2},0.3164362128954622,0.17351047945057924,-3.591644304165513E-2,0.17902648679560904,0.12045639681187423,0.17351047945057924,0]
[null,-1.9781689190826424E-25,0.19020714713826217,6.4833572344321494E-4,0.12981053655051306,-4.1522318626953582E-2,7.6144047848790857,4.9986619624952517,0.6564744196974851,0.60829196874086922,229.42791036080226,0.13838765524184715,458.33333333333337,0.27646015351590181,0.21161045333984951,3.1716403264017916E-2,0.47021947046681456,0.19669678299193105,-3.2666223709382027E-2,0.17646968328570242,0.12094001146981198,0.19669678299193105,0]
[null,-4.191577984630048E-24,0.20976979172988638,8.317346547287057E-4,0.16653088499363783,-5.3268006216457338E-2,9.4372631560026008,6.1655068557644013,0.65331513531471375,0.83145414522861427,306.97597092325702,0.18516354337557084,458.33333333333337,0.27646015351590181,0.2609669144395047,3.6893738135018082E-2,0.7401575350882833,0.23365973616129712,-3.168201295883398E-2,0.17527841722461895,0.12128255271915558,0.23365973616129709,0]
[null,-4.6152151710074393E-22,0.23210975825278549,1.0081012683895029E-3,0.20184321458010143,-6.45633127417376E-2,11.058822488807907,7.1898253430757819,0.6501438421994975,1.0780814580638216,386.41552107443147,0.23308035115017711,458.33333333333337,0.27646015351590181,0.31053986444200971,4.0413044849693741E-2,1.0347016556980968,0.26872442002423014,-3.3076831574738078E-2,0.17775402386453629,0.12021434172404413,0.26872442002423014,0]
[null,-6.1473998760094958E-20,0.25773794179237436,1.2225765494064118E-3,0.24478570609941303,-7.8299268719442566E-2,12.861636823717271,8.3098405789015377,0.64609510381897306,1.3922713572708783,458.33333333333337,0.27646015351590181,458.33333333333337,0.27646015351590181,0.36503088957399682,4.4137579828171451E-2,1.3922713572708783,0.3035794013999768,-4.7493487561572803E-2,0.2127428588818418,9.9445916460170425E-2,0.3035794013999768,0]
[null,8.130369436935698E-17,0.28728229315396503,1.5532805370088827E-3,0.31099964514025769,-9.9479030759250325E-2,15.289253107432675,9.7757723488471324,0.63938848288768046,1.8447793111921507,458.33333333333337,0.27646015351590181,458.33333333333337,0.27646015351590181,0.42308951617039908,5.0309714479396229E-2,1.8447793111921507,0.33027919574682474,-3.8314314148902906E-2,0.18302940945042062,0.12302201199597873,0.3302791957462225,0]
[null,-1.0688311450670564E-13,0.32152034227515802,1.9733666059018802E-3,0.39510976899829003,-0.12638322093819418,17.782577020378032,11.20154553163843,0.62991688543240743,2.4013333050530479,458.33333333333337,0.27646015351590181,458.33333333333337,0.27646015351590181,0.47874040867469436,5.7109733035118931E-2,2.4013333050530479,0.341600904694775,-4.926279453960089E-2,0.22951789016607652,7.4521010254012698E-2,0.34160090469335358,0]
[null,-1.145757218827958E-11,0.36142247287457469,2.3445454827951098E-3,0.46942763769420975,-0.15015517586318816,19.461921685162217,12.075560545728491,0.62047113029618794,2.9542698621839079,458.33333333333337,0.27646015351590181,397.63463366638871,0.23984756043632552,0.50083950988637393,6.0360707290043537E-2,2.9908824552634843,0.32030772946528802,-3.71251748426299E-2,0.16406922594334117,0.16169467727323789,0.32030772938284757,0]
[null,1.22268329258886E-12,0.40821011767341625,2.3796898036006747E-3,0.47646427469493691,-0.15240597530805994,19.59635070585734,12.140255875084684,0.61951615672279059,3.3597600235951743,458.33333333333337,0.27646015351590181,216.34065105162011,0.13049360640318772,0.4707664575456324,5.4243461511945743E-2,3.5057265707078886,0.2806037132360335,-1.8598589221725852E-2,4.3709242578144486E-2,0.35594993097909378,0.2806037132509529,0]
[null,-1.2996093663497617E-13,0.46343492031952305,2.3994489083783415E-3,0.48042046575490921,-0.15367143672672801,19.670096754583497,12.175283666823494,0.61897426427180269,3.8286400832978389,458.33333333333337,0.27646015351590181,44.335803816341858,2.6742726827600236E-2,0.421341743756107,4.8176313310143618E-2,4.07835750998614,0.22486151456423753,-2.4546906725750883E-2,8.8821782667334342E-2,0.27090322923287791,0.22486151456235626,0]
[null,-1.3765354401106635E-11,0.52908775969114819,2.3625267340838941E-3,0.47302786485005788,-0.15130677559512798,19.531223432398747,12.109044741823318,0.61998393412143427,4.3401671249475466,458.33333333333337,0.27646015351590181,-113.30798983903296,-6.8345769306495913E-2,0.34290711755912467,4.1548928489200901E-2,4.6849730477699438,0.14825150742349769,-1.6454928851474301E-2,1.7909105689000244E-2,0.42551661012567044,0.14825150729822867,0]
[null,-1.1913618966160374E-13,0.60775093154630122,2.2403171511572004E-3,0.44855891927495256,-0.14347992746990088,18.686793519614941,11.839550219233786,0.63357847919741717,4.7699047910469332,458.33333333333337,0.27646015351590181,-243.43681201106367,-0.1468376256436372,0.25287051851275211,3.4300044337532004E-2,5.1932025702064717,7.4743440100884961E-2,2.2414275994077523E-2,-0.36604772590646056,1.3712049110253126,7.4743440102547076E-2,0.11147812044306116]
[null,-1.2544160554364487E-13,0.70281369836511054,2.0897030912568693E-3,0.41840279611104747,-0.13383392963460133,17.002844357190721,11.306133936372865,0.66495544503360438,5.0189294086694956,458.33333333333337,0.27646015351590181,-342.47159833354118,-0.20657400141845902,0.18796013657913141,2.7666560966563142E-2,5.501963563603856,3.5739726210876316E-2,2.8732284115897139E-2,-0.43361987240408428,1.5517281650063326,3.5739726211605261E-2,0.2316598249918132]
[null,1.31747021425686E-14,0.81878250652390949,1.9703416821988157E-3,0.39450411523786821,-0.12618949129893597,15.095467930188002,10.59619265854937,0.70194529295504937,5.1911601289928617,458.33333333333337,0.27646015351590181,-421.43662201335553,-0.25420458156880438,0.13942590796083681,2.2391531587847877E-2,5.7218248640775675,1.1305485776710561E-2,3.4610072057063297E-2,-0.49959092067851035,1.736768405467209,1.1305485775998436E-2,0.34048419977542432]
[null,1.1315773549813695E-6,0.9617353344904862,1.8955131261228224E-3,0.37952185425441093,-0.1213971359875841,13.232737693493387,9.7880437112357779,0.73968395187404157,5.3450843929882259,458.33333333333337,0.27646015351590181,-490.81523154588496,-0.29605277293334886,0.10088897586424489,1.833926958496835E-2,5.9175973194374762,-7.635436672205051E-3,3.9795813200946051E-2,-0.55994995118658619,1.9123547768487135,-7.6305061008961061E-3,0.43851496286544944]
[null,1.4435785318976815E-6,1.1400001031491622,1.791207950667737E-3,0.35863775007623672,-0.11471696617265381,11.268595169225248,8.7521410633055918,0.77668430996685889,5.3954038552104322,458.33333333333337,0.27646015351590181,-536.07237405249009,-0.32335123816622258,7.3350487023540717E-2,1.4620153371042803E-2,5.9952152468925561,-1.4300479378442699E-2,2.2739954545260913E-2,-0.35676670386359138,1.3072594797914636,-1.4316975636504914E-2,0.52631583233344303]
[null,null,{"$f":"C473","v":1.3651895295975189},{"$f":"D473+(D492-D472)","v":1.8671826418957262E-3},0.37384949157983233,-0.11958272510384324,9.9025349199647525,8.0229664248144719,0.81019319696001935,5.6779115354680672,458.33333333333337,0.27646015351590181,-625.84736293925789,-0.37750223571427538,4.0544007275229402E-2,1.2726373455895669E-2,6.3318739246982441,-4.0037784966128268E-2,null,null,null,null,0.60445052625095852]
[null,"De","hc","e0","a'","b'","N'","tN'","t","Nc","sac","Nac","sat","Nat","Mtot","u","N","Mo","a''","b''","c''",null,"x"]
[null,null,{"$f":"$C$35","v":0.12945607170440351},{"$f":"$D$35","v":3.2742931933764949E-4},{"$f":"$E$35","v":6.555828113227867E-2},{"$f":"$F$35","v":-2.097003764213403E-2},{"$f":"IF($C$2=1,0.5*($O$31*D495*$F$6/$O$30)*(1-W495^2+(E495-F495)*(F495^2*(1-W495^2)+2*F495*(1-W495)+2*LN((1-F495)/(1-F495*W495)))/(F495^3)),$F$6*F495*(LN((1-E495+E495^2)/(1+E495)^2)/(6*E495)+ATAN((2-E495)/(E495*3^0.5))/(E495*3^0.5)-LN((W495^2-E495*W495+E495^2)/(W495+E495)^2)/(6*E495)-ATAN((2*W495-E495)/(E495*3^0.5))/(E495*3^0.5)))","v":4.0789725576609177},{"$f":"IF($C$2=1,($O$31*D495*$F$6/$O$30)*(1-W495^3-(E495-F495)*(-2*F495^3*(1-W495^3)-3*F495^2*(1-W495^2)-6*F495*(1-W495)-6*LN((1-F495)/(1-F495*W495)))/(2*F495^4))/3,$F$6*F495*(LN((1+E495^3)/(E495^3+W495^3)))/3)","v":2.6990386030010254},{"$f":"$I$35","v":0.66169570028899294},{"$f":"$J$35","v":0.22178006084003529},{"$f":"$K$35","v":90.812088468865227},{"$f":"$L$35","v":5.4776561278259202E-2},{"$f":"$M$35","v":458.32747875640376},{"$f":"$N$35","v":0.27645662211829442},{"$f":"$O$35","v":0.11972660615436539},{"$f":"$P$35","v":2.3534552881082957E-2},{"$f":"$Q$35","v":1.0000000000010001E-4},{"$f":"$R$35","v":0.11972425269907729},null,null,null,null,{"$f":"IF(C495<$C$6,0,(C495-$C$6)/C495)","v":0}]
[null,{"$f":"IF(R476>$Q$29*V476,B476,IF(Q476>Q475,$U$6,-0.5)*B476)","v":4.7016331746461218E-27},{"$f":"IF(Q476>Q475,C476,(1-$T$6)*C476+$T$6*C477)","v":0.15398187908114286},{"$f":"D476+B496","v":4.5739675128514293E-4},{"$f":"IF($C$2=1,D496/($O$31*$O$30),2^(1/3)*$O$30/D496)","v":9.1580512308429632E-2},{"$f":"IF($C$2=1,-($O$31-2)*D496/$O$30,3*($O$30/D496)^2)","v":-2.9293733106253231E-2},{"$f":"IF($C$2=1,0.5*($O$31*D496*$F$6/$O$30)*(1-W496^2+(E496-F496)*(F496^2*(1-W496^2)+2*F496*(1-W496)+2*LN((1-F496)/(1-F496*W496)))/(F496^3)),$F$6*F496*(LN((1-E496+E496^2)/(1+E496)^2)/(6*E496)+ATAN((2-E496)/(E496*3^0.5))/(E496*3^0.5)-LN((W496^2-E496*W496+E496^2)/(W496+E496)^2)/(6*E496)-ATAN((2*W496-E496)/(E496*3^0.5))/(E496*3^0.5)))","v":5.5647849150413204},{"$f":"IF($C$2=1,($O$31*D496*$F$6/$O$30)*(1-W496^3-(E496-F496)*(-2*F496^3*(1-W496^3)-3*F496^2*(1-W496^2)-6*F496*(1-W496)-6*LN((1-F496)/(1-F496*W496)))/(2*F496^4))/3,$F$6*F496*(LN((1+E496^3)/(E496^3+W496^3)))/3)","v":3.670674299885849},{"$f":"H496/G496","v":0.65962554814368657},{"$f":"G496*C496*$D$6","v":0.35988793591819335},{"$f":"MAX(MIN($K$6,$Q$6*$J$6*D496*(C496-$I$6)/C496),-$K$6)","v":144.31314469897774},{"$f":"K496*$H$6","v":8.704763811892785E-2},{"$f":"MIN($O$6,$Q$6*$N$6*D496*(C$6-C496-$M$6)/C496)","v":458.33333333333337},{"$f":"M496*$L$6","v":0.27646015351590181},{"$f":"(0.5*$C$6-C496+I496*C496)*J496+(0.5*$C$6-$I$6)*L496+(0.5*$C$6-$M$6)*N496","v":0.1546441132198933},{"$f":"0.1*$Q$6*D496*$B$6^2/C496+$R$6","v":2.7639760238660788E-2},{"$f":"(J496+L496-N496)","v":0.17047542052121939},{"$f":"O496-P496*Q496","v":0.14993221347010191},{"$f":"((R496-R495)*(Q496-Q497)-(R496-R497)*(Q496-Q495))/((Q496^2-Q495^2)*(Q496-Q497)-(Q496^2-Q497^2)*(Q496-Q495))","v":-4.9833015348903414E-2},{"$f":"-(S496*(Q496^2-Q495^2)-(R496-R495))/(Q496-Q495)","v":0.18580262774929265},{"$f":"R496-S496*Q496^2-T496*Q496","v":0.1197056729346325},{"$f":"S476*Q496^2+T476*Q496+U476","v":0.14993221347010191},{"$f":"IF(C496<$C$6,0,(C496-$C$6)/C496)","v":0}]
[null,{"$f":"IF(R477>$Q$29*V477,B477,IF(Q477>Q476,$U$6,-0.5)*B477)","v":1.1245780567626812E-26},{"$f":"IF(Q477>Q476,C477,(1-$T$6)*C477+$T$6*C478)","v":0.17394964462770141},{"$f":"D477+B497","v":5.4994191131377409E-4},0.11011001244867896,-3.5220738950822887E-2,6.5777984233855404,4.3289484764128705,0.65811510140269625,0.48056639323583905,186.22781758609173,0.11232997317552497,458.33333333333337,0.27646015351590181,0.18281920576960167,{"$f":"0.1*$Q$6*D497*$B$6^2/C497+$R$6","v":2.9417386315698506E-2},0.3164362128954622,0.17351047945057924,-3.591644304165513E-2,0.17902648679560904,0.12045639681187423,0.17351047945057924,0]
[null,1.9781689190826425E-26,0.19020714713826217,6.4833572344321494E-4,0.12981053655051306,-4.1522318626953582E-2,7.6144047848790857,4.9986619624952517,0.6564744196974851,0.60829196874086922,229.42791036080226,0.13838765524184715,458.33333333333337,0.27646015351590181,0.21161045333984951,3.1716403264017916E-2,0.47021947046681456,0.19669678299193105,-3.2666223709382027E-2,0.17646968328570242,0.12094001146981198,0.19669678299193105,0]
[null,4.1915779846300478E-25,0.20976979172988638,8.317346547287057E-4,0.16653088499363783,-5.3268006216457338E-2,9.4372631560026008,6.1655068557644013,0.65331513531471375,0.83145414522861427,306.97597092325702,0.18516354337557084,458.33333333333337,0.27646015351590181,0.2609669144395047,3.6893738135018082E-2,0.7401575350882833,0.23365973616129712,-3.168201295883398E-2,0.17527841722461895,0.12128255271915558,0.23365973616129709,0]
[null,4.6152151710074393E-23,0.23210975825278549,1.0081012683895029E-3,0.20184321458010143,-6.45633127417376E-2,11.058822488807907,7.1898253430757819,0.6501438421994975,1.0780814580638216,386.41552107443147,0.23308035115017711,458.33333333333337,0.27646015351590181,0.31053986444200971,4.0413044849693741E-2,1.0347016556980968,0.26872442002423014,-3.3076831574738078E-2,0.17775402386453629,0.12021434172404413,0.26872442002423014,0]
[null,6.1473998760094962E-21,0.25773794179237436,1.2225765494064118E-3,0.24478570609941303,-7.8299268719442566E-2,12.861636823717271,8.3098405789015377,0.64609510381897306,1.3922713572708783,458.33333333333337,0.27646015351590181,458.33333333333337,0.27646015351590181,0.36503088957399682,4.4137579828171451E-2,1.3922713572708783,0.3035794013999768,-4.749348756094264E-2,0.21274285888031239,9.9445916461078254E-2,0.3035794013999768,0]
[null,-8.130369436935698E-18,0.28728229315396503,1.5532805370088746E-3,0.31099964514025608,-9.9479030759249812E-2,15.289253107431593,9.775772348853387,0.63938848288813477,1.8447793111920201,458.33333333333337,0.27646015351590181,458.33333333333337,0.27646015351590181,0.42308951617061813,5.0309714479395973E-2,1.8447793111920201,0.33027919574705084,-3.8314314150344135E-2,0.18302940945559765,0.12302201199156459,0.3302791957468193,0]
[null,1.0688311450670566E-14,0.32152034227515802,1.9733666059125687E-3,0.39510976900043004,-0.12638322093887874,17.782577020433433,11.201545531667337,0.62991688543207058,2.401333305060529,458.33333333333337,0.27646015351590181,458.33333333333337,0.27646015351590181,0.478740408675564,5.7109733035428253E-2,2.401333305060529,0.34160090469447457,-4.9262794545462847E-2,0.22951789019010488,7.4521010229867457E-2,0.34160090469472204,0]
[null,1.1457572188279581E-12,0.36142247287457469,2.3445454839408669E-3,0.46942763792361458,-0.15015517593656758,19.461921689614297,12.075560547879244,0.62047113026476064,2.9542698628597224,458.33333333333337,0.27646015351590181,397.63463386070902,0.23984756055353676,0.50083950996720028,6.0360707319541233E-2,2.9908824558220877,0.32030772942417252,-3.7125174812707308E-2,0.16406922576754063,0.16169467752265387,0.32030772943288638,0]
[null,-1.2226832925888601E-13,0.40821011767341625,2.3796898034784061E-3,0.47646427467045616,-0.15240597530022931,19.596350705397075,12.140255874864964,0.61951615672612903,3.3597600235162628,458.33333333333337,0.27646015351590181,216.3406510405045,0.13049360639648294,0.47076645753975332,5.4243461509158708E-2,3.5057265706356819,0.28060371324384176,-1.8598589232313945E-2,4.3709242656514748E-2,0.35594993083602644,0.28060371324229333,0]
[null,1.2996093663497618E-14,0.46343492031952305,2.3994489083913376E-3,0.48042046575751129,-0.15367143672756034,19.670096754630595,12.17528366685354,0.6189742642718481,3.8286400833070058,458.33333333333337,0.27646015351590181,44.335803816582001,2.6742726827745086E-2,0.42134174375707434,4.8176313310404568E-2,4.0783575099951621,0.22486151456370598,-2.4546906733649416E-2,8.8821782724930923E-2,0.27090322912982823,0.2248615145632325,0]
[null,1.3765354401106635E-12,0.52908775969114819,2.3625267354604297E-3,0.47302786512566941,-0.15130677568328746,19.531223437662245,12.109044744355726,0.61998393408401342,4.3401671261171844,458.33333333333337,0.27646015351590181,-113.3079899050523,-6.8345769346317836E-2,0.34290711754546421,4.154892851340955E-2,4.6849730489794039,0.14825150724616859,-1.6454928809978123E-2,1.790910530387476E-2,0.42551661100666172,0.1482515072586813,0]
[null,1.1913618966160374E-14,0.60775093154630122,2.240317151169114E-3,0.44855891927733793,-0.1434799274706639,18.68679351966373,11.839550219258463,0.63357847919708354,4.7699047910593864,458.33333333333337,0.27646015351590181,-243.43681201235825,-0.14683762564441807,0.25287051851221021,3.43000443377144E-2,5.1932025702197055,7.4743440098941932E-2,2.2414276035795842E-2,-0.36604772634130561,1.3712049121582552,7.4743440099121816E-2,0.11147812044306116]
[null,1.2544160554364488E-14,0.70281369836511054,2.0897030912694135E-3,0.41840279611355913,-0.13383392963540472,17.002844357241113,11.306133936418442,0.66495544503431425,5.0189294086843699,458.33333333333337,0.27646015351590181,-342.47159833559698,-0.20657400141969903,0.18796013658188837,2.7666560966729221E-2,5.5019635636199702,3.5739726212273698E-2,2.8732284030576739E-2,-0.43361987148041459,1.5517281625104107,3.5739726208983802E-2,0.2316598249918132]
[null,-1.3174702142568601E-15,0.81878250652390949,1.9703416821974982E-3,0.39450411523760442,-0.1261894912988516,15.095467930184359,10.596192658532088,0.70194529295407393,5.1911601289916094,458.33333333333337,0.27646015351590181,-421.4366220130737,-0.2542045815686344,0.13942590795669446,2.2391531587832907E-2,5.7218248640761455,1.1305485772685725E-2,3.45630820983222E-2,-0.49906351535740895,1.7352891019891612,1.1305485776857971E-2,0.34048419977542432]
[null,1.1315773549813695E-6,0.9617353344904862,1.8966447034778039E-3,0.3797484199954107,-0.12146960726100868,13.236825785219704,9.7908996941297453,0.73967126658585369,5.3467356911390365,458.33333333333337,0.27646015351590181,-491.10823685080385,-0.29622950956952093,0.10081907110232741,1.8350217703387187E-2,5.919425354224459,-7.8036728266412392E-3,4.0710522868129866E-2,-0.57062741156092267,1.9435023993926319,-7.7979233869240883E-3,0.43851496286544944]
[null,1.4435785318976815E-6,1.1400001031491622,1.7926515291996346E-3,0.3589267850576553,-0.11480941939649615,11.273369017578039,8.7557180119934781,0.77667270523488541,5.397689574008564,458.33333333333337,0.27646015351590181,-536.50440796035491,-0.3236118348800241,7.3259599533019762E-2,1.4631936112143086E-2,5.9977615624044898,-1.4499264463950237E-2,2.1655075826047233E-2,-0.34354008738049996,1.2669711109595587,-1.4514489447147394E-2,0.52631583233344303]
[null,null,{"$f":"C493","v":1.3651895295975189},{"$f":"D493+(D512-D492)","v":1.8686262204276238E-3},0.37413852656125096,-0.11967517832768558,9.9061456731604789,8.0258060145169701,0.8101845338557796,5.6799818676999099,458.33333333333337,0.27646015351590181,-626.33122552297732,-0.37779409474884046,4.0438061521957711E-2,1.2736212621651404E-2,6.3342361159646519,-4.0236116446711462E-2,null,null,null,null,0.60445052625095852]
[null,"De","hc","e0","a'","b'","N'","tN'","t","Nc","sac","Nac","sat","Nat","Mtot","u","N","Mo","a''","b''","c''",null,"x"]
[null,null,{"$f":"$C$35","v":0.12945607170440351},{"$f":"$D$35","v":3.2742931933764949E-4},{"$f":"$E$35","v":6.555828113227867E-2},{"$f":"$F$35","v":-2.097003764213403E-2},{"$f":"IF($C$2=1,0.5*($O$31*D515*$F$6/$O$30)*(1-W515^2+(E515-F515)*(F515^2*(1-W515^2)+2*F515*(1-W515)+2*LN((1-F515)/(1-F515*W515)))/(F515^3)),$F$6*F515*(LN((1-E515+E515^2)/(1+E515)^2)/(6*E515)+ATAN((2-E515)/(E515*3^0.5))/(E515*3^0.5)-LN((W515^2-E515*W515+E515^2)/(W515+E515)^2)/(6*E515)-ATAN((2*W515-E515)/(E515*3^0.5))/(E515*3^0.5)))","v":4.0789725576609177},{"$f":"IF($C$2=1,($O$31*D515*$F$6/$O$30)*(1-W515^3-(E515-F515)*(-2*F515^3*(1-W515^3)-3*F515^2*(1-W515^2)-6*F515*(1-W515)-6*LN((1-F515)/(1-F515*W515)))/(2*F515^4))/3,$F$6*F515*(LN((1+E515^3)/(E515^3+W515^3)))/3)","v":2.6990386030010254},{"$f":"$I$35","v":0.66169570028899294},{"$f":"$J$35","v":0.22178006084003529},{"$f":"$K$35","v":90.812088468865227},{"$f":"$L$35","v":5.4776561278259202E-2},{"$f":"$M$35","v":458.32747875640376},{"$f":"$N$35","v":0.27645662211829442},{"$f":"$O$35","v":0.11972660615436539},{"$f":"$P$35","v":2.3534552881082957E-2},{"$f":"$Q$35","v":1.0000000000010001E-4},{"$f":"$R$35","v":0.11972425269907729},null,null,null,null,{"$f":"IF(C515<$C$6,0,(C515-$C$6)/C515)","v":0}]
[null,{"$f":"IF(R496>$Q$29*V496,B496,IF(Q496>Q495,$U$6,-0.5)*B496)","v":-4.7016331746461222E-28},{"$f":"IF(Q496>Q495,C496,(1-$T$6)*C496+$T$6*C497)","v":0.15398187908114286},{"$f":"D496+B516","v":4.5739675128514293E-4},{"$f":"IF($C$2=1,D516/($O$31*$O$30),2^(1/3)*$O$30/D516)","v":9.1580512308429632E-2},{"$f":"IF($C$2=1,-($O$31-2)*D516/$O$30,3*($O$30/D516)^2)","v":-2.9293733106253231E-2},{"$f":"IF($C$2=1,0.5*($O$31*D516*$F$6/$O$30)*(1-W516^2+(E516-F516)*(F516^2*(1-W516^2)+2*F516*(1-W516)+2*LN((1-F516)/(1-F516*W516)))/(F516^3)),$F$6*F516*(LN((1-E516+E516^2)/(1+E516)^2)/(6*E516)+ATAN((2-E516)/(E516*3^0.5))/(E516*3^0.5)-LN((W516^2-E516*W516+E516^2)/(W516+E516)^2)/(6*E516)-ATAN((2*W516-E516)/(E516*3^0.5))/(E516*3^0.5)))","v":5.5647849150413204},{"$f":"IF($C$2=1,($O$31*D516*$F$6/$O$30)*(1-W516^3-(E516-F516)*(-2*F516^3*(1-W516^3)-3*F516^2*(1-W516^2)-6*F516*(1-W516)-6*LN((1-F516)/(1-F516*W516)))/(2*F516^4))/3,$F$6*F516*(LN((1+E516^3)/(E516^3+W516^3)))/3)","v":3.670674299885849},{"$f":"H516/G516","v":0.65962554814368657},{"$f":"G516*C516*$D$6","v":0.35988793591819335},{"$f":"MAX(MIN($K$6,$Q$6*$J$6*D516*(C516-$I$6)/C516),-$K$6)","v":144.31314469897774},{"$f":"K516*$H$6","v":8.704763811892785E-2},{"$f":"MIN($O$6,$Q$6*$N$6*D516*(C$6-C516-$M$6)/C516)","v":458.33333333333337},{"$f":"M516*$L$6","v":0.27646015351590181},{"$f":"(0.5*$C$6-C516+I516*C516)*J516+(0.5*$C$6-$I$6)*L516+(0.5*$C$6-$M$6)*N516","v":0.1546441132198933},{"$f":"0.1*$Q$6*D516*$B$6^2/C516+$R$6","v":2.7639760238660788E-2},{"$f":"(J516+L516-N516)","v":0.17047542052121939},{"$f":"O516-P516*Q516","v":0.14993221347010191},{"$f":"((R516-R515)*(Q516-Q517)-(R516-R517)*(Q516-Q515))/((Q516^2-Q515^2)*(Q516-Q517)-(Q516^2-Q517^2)*(Q516-Q515))","v":-4.9833015348903414E-2},{"$f":"-(S516*(Q516^2-Q515^2)-(R516-R515))/(Q516-Q515)","v":0.18580262774929265},{"$f":"R516-S516*Q516^2-T516*Q516","v":0.1197056729346325},{"$f":"S496*Q516^2+T496*Q516+U496","v":0.14993221347010191},{"$f":"IF(C516<$C$6,0,(C516-$C$6)/C516)","v":0}]
[null,{"$f":"IF(R497>$Q$29*V497,B497,IF(Q497>Q496,$U$6,-0.5)*B497)","v":-1.1245780567626813E-27},{"$f":"IF(Q497>Q496,C497,(1-$T$6)*C497+$T$6*C498)","v":0.17394964462770141},{"$f":"D497+B517","v":5.4994191131377409E-4},0.11011001244867896,-3.5220738950822887E-2,6.5777984233855404,4.3289484764128705,0.65811510140269625,0.48056639323583905,186.22781758609173,0.11232997317552497,458.33333333333337,0.27646015351590181,0.18281920576960167,{"$f":"0.1*$Q$6*D517*$B$6^2/C517+$R$6","v":2.9417386315698506E-2},0.3164362128954622,0.17351047945057924,-3.591644304165513E-2,0.17902648679560904,0.12045639681187423,0.17351047945057924,0]
[null,-1.9781689190826425E-27,0.19020714713826217,6.4833572344321494E-4,0.12981053655051306,-4.1522318626953582E-2,7.6144047848790857,4.9986619624952517,0.6564744196974851,0.60829196874086922,229.42791036080226,0.13838765524184715,458.33333333333337,0.27646015351590181,0.21161045333984951,3.1716403264017916E-2,0.47021947046681456,0.19669678299193105,-3.2666223709382027E-2,0.17646968328570242,0.12094001146981198,0.19669678299193105,0]
[null,-4.191577984630048E-26,0.20976979172988638,8.317346547287057E-4,0.16653088499363783,-5.3268006216457338E-2,9.4372631560026008,6.1655068557644013,0.65331513531471375,0.83145414522861427,306.97597092325702,0.18516354337557084,458.33333333333337,0.27646015351590181,0.2609669144395047,3.6893738135018082E-2,0.7401575350882833,0.23365973616129712,-3.168201295883398E-2,0.17527841722461895,0.12128255271915558,0.23365973616129709,0]
[null,-4.6152151710074394E-24,0.23210975825278549,1.0081012683895029E-3,0.20184321458010143,-6.45633127417376E-2,11.058822488807907,7.1898253430757819,0.6501438421994975,1.0780814580638216,386.41552107443147,0.23308035115017711,458.33333333333337,0.27646015351590181,0.31053986444200971,4.0413044849693741E-2,1.0347016556980968,0.26872442002423014,-3.3076831574738078E-2,0.17775402386453629,0.12021434172404413,0.26872442002423014,0]
[null,-6.1473998760094968E-22,0.25773794179237436,1.2225765494064118E-3,0.24478570609941303,-7.8299268719442566E-2,12.861636823717271,8.3098405789015377,0.64609510381897306,1.3922713572708783,458.33333333333337,0.27646015351590181,458.33333333333337,0.27646015351590181,0.36503088957399682,4.4137579828171451E-2,1.3922713572708783,0.3035794013999768,-4.7493487561576744E-2,0.21274285888185135,9.9445916460164763E-2,0.3035794013999768,0]
[null,8.130369436935698E-19,0.28728229315396503,1.5532805370088755E-3,0.31099964514025624,-9.9479030759249867E-2,15.289253107432556,9.7757723488470347,0.63938848288767902,1.8447793111921365,458.33333333333337,0.27646015351590181,458.33333333333337,0.27646015351590181,0.42308951617039597,5.0309714479396E-2,1.8447793111921365,0.33027919574682274,-3.8314314148840629E-2,0.18302940945021592,0.12302201199614304,0.33027919574705566,0]
[null,-1.0688311450670566E-15,0.32152034227515802,1.9733666059114996E-3,0.39510976900021605,-0.12638322093881027,17.78257702042697,11.201545531670945,0.62991688543250235,2.4013333050596564,458.33333333333337,0.27646015351590181,458.33333333333337,0.27646015351590181,0.47874040867576562,5.7109733035397306E-2,2.4013333050596564,0.34160090469480037,-4.9262794545860002E-2,0.22951789019278532,7.4521010226040518E-2,0.34160090469448079,0]
[null,-1.1457572188279582E-13,0.36142247287457469,2.3445454838262911E-3,0.46942763790067404,-0.15015517592922961,19.461921689168705,12.075560547667093,0.620471130268066,2.9542698627920823,458.33333333333337,0.27646015351590181,397.63463384127687,0.23984756054181555,0.5008395099592835,6.0360707316591454E-2,2.9908824557661688,0.32030772942845354,-3.7125174816996502E-2,0.16406922579189712,0.1616946774892124,0.32030772942741609,0]
[null,1.2226832925888602E-14,0.40821011767341625,2.3796898034906329E-3,0.4764642746729042,-0.15240597530101238,19.596350705444252,12.140255874877449,0.61951615672527471,3.3597600235243514,458.33333333333337,0.27646015351590181,216.34065104161607,0.13049360639715341,0.47076645753964991,5.4243461509437409E-2,3.5057265706431,0.28060371324235889,-1.8598589229361223E-2,4.3709242634721861E-2,0.35594993087529725,0.28060371324319866,0]
[null,-1.2996093663497619E-15,0.46343492031952305,2.3994489083900379E-3,0.48042046575725106,-0.15367143672747713,19.670096754626595,12.175283666845734,0.6189742642715772,3.8286400833062277,458.33333333333337,0.27646015351590181,44.335803816557977,2.6742726827730594E-2,0.42134174375651789,4.8176313310378471E-2,4.0783575099943983,0.22486151456329276,-2.454690673412311E-2,8.8821782729163815E-2,0.27090322911994563,0.22486151456379111,0]
[null,-1.3765354401106636E-13,0.52908775969114819,2.3625267353227764E-3,0.47302786509810829,-0.15130677567447157,19.531223437137466,12.109044744093552,0.61998393408724817,4.3401671260005692,458.33333333333337,0.27646015351590181,-113.30798989845039,-6.834576934233566E-2,0.34290711754568926,4.1548928510988695E-2,4.6849730488588062,0.14825150726274597,-1.6454928807098135E-2,1.7909105279700237E-2,0.42551661105684913,0.14825150726260272,0]
[null,-1.1913618966160375E-15,0.60775093154630122,2.2403171511679227E-3,0.4485589192770994,-0.14347992747058758,18.686793519656735,11.83955021927021,0.63357847919794941,4.7699047910576011,458.33333333333337,0.27646015351590181,-243.43681201222878,-0.14683762564434,0.25287051851465231,3.4300044337696158E-2,5.1932025702178422,7.4743440101542685E-2,2.2414276004512488E-2,-0.36604772602324853,1.3712049113525648,7.4743440099190206E-2,0.11147812044306116]
[null,-1.2544160554364488E-15,0.70281369836511054,2.0897030912681593E-3,0.418402796113308,-0.13383392963532439,17.002844357237262,11.30613393640281,0.66495544503354542,5.0189294086832339,458.33333333333337,0.27646015351590181,-342.47159833539143,-0.20657400141957508,0.18796013657916322,2.7666560966712619E-2,5.5019635636187108,3.5739726209674721E-2,2.8732284082028527E-2,-0.43361987204720381,1.5517281640685896,3.5739726212421274E-2,0.2316598249918132]
[null,1.3174702142568602E-16,0.81878250652390949,1.97034168219763E-3,0.39450411523763085,-0.12618949129886003,15.095467930184926,10.596192658531047,0.70194529295397856,5.1911601289918039,458.33333333333337,0.27646015351590181,-421.4366220131019,-0.25420458156865139,0.13942590795629017,2.2391531587834402E-2,5.7218248640763569,1.1305485772268142E-2,3.4511486346548985E-2,-0.49848441554503781,1.733664802036071,1.1305485772664214E-2,0.34048419977542432]
[null,1.1315773549813695E-6,0.9617353344904862,1.8977762808327853E-3,0.37997498573641053,-0.12154207853443327,13.24090972323409,9.7937524322069187,0.73965857610384766,5.3483853114858046,458.33333333333337,0.27646015351590181,-491.40124215572268,-0.29640624620569295,0.10074906641420975,1.8361165821806025E-2,5.9212517112073995,-7.9720181279219898E-3,4.1583149673606906E-2,-0.58082033317659909,1.9732553386065763,-7.9654647822720026E-3,0.43851496286544944]
[null,1.4435785318976815E-6,1.1400001031491622,1.7940951077315321E-3,0.35921582003907393,-0.11490187262033849,11.278136515574799,8.7592898471024672,0.77666109423361984,5.399972252255953,458.33333333333337,0.27646015351590181,-536.93644186821973,-0.32387243159382567,7.3168566166456894E-2,1.464371885324337E-2,6.0003048373656798,-1.469821090568231E-2,2.0595579568553513E-2,-0.33061582935206352,1.2275813432567391,-1.4712190113446599E-2,0.52631583233344303]
[null,null,{"$f":"C513","v":1.3651895295975189},{"$f":"D513+(D532-D512)","v":1.8700697989595214E-3},0.37442756154266954,-0.11976763155152792,9.9097507413908428,8.028640885338886,0.81017586565573485,5.6820489402885723,458.33333333333337,0.27646015351590181,-626.81508810669686,-0.37808595378340565,4.0331991888979526E-2,1.2746051787407139E-2,6.3365950475878794,-4.0434576743403186E-2,null,null,null,null,0.60445052625095852]
[null,"De","hc","e0","a'","b'","N'","tN'","t","Nc","sac","Nac","sat","Nat","Mtot","u","N","Mo","a''","b''","c''",null,"x"]
[null,null,{"$f":"$C$35","v":0.12945607170440351},{"$f":"$D$35","v":3.2742931933764949E-4},{"$f":"$E$35","v":6.555828113227867E-2},{"$f":"$F$35","v":-2.097003764213403E-2},{"$f":"IF($C$2=1,0.5*($O$31*D535*$F$6/$O$30)*(1-W535^2+(E535-F535)*(F535^2*(1-W535^2)+2*F535*(1-W535)+2*LN((1-F535)/(1-F535*W535)))/(F535^3)),$F$6*F535*(LN((1-E535+E535^2)/(1+E535)^2)/(6*E535)+ATAN((2-E535)/(E535*3^0.5))/(E535*3^0.5)-LN((W535^2-E535*W535+E535^2)/(W535+E535)^2)/(6*E535)-ATAN((2*W535-E535)/(E535*3^0.5))/(E535*3^0.5)))","v":4.0789725576609177},{"$f":"IF($C$2=1,($O$31*D535*$F$6/$O$30)*(1-W535^3-(E535-F535)*(-2*F535^3*(1-W535^3)-3*F535^2*(1-W535^2)-6*F535*(1-W535)-6*LN((1-F535)/(1-F535*W535)))/(2*F535^4))/3,$F$6*F535*(LN((1+E535^3)/(E535^3+W535^3)))/3)","v":2.6990386030010254},{"$f":"$I$35","v":0.66169570028899294},{"$f":"$J$35","v":0.22178006084003529},{"$f":"$K$35","v":90.812088468865227},{"$f":"$L$35","v":5.4776561278259202E-2},{"$f":"$M$35","v":458.32747875640376},{"$f":"$N$35","v":0.27645662211829442},{"$f":"$O$35","v":0.11972660615436539},{"$f":"$P$35","v":2.3534552881082957E-2},{"$f":"$Q$35","v":1.0000000000010001E-4},{"$f":"$R$35","v":0.11972425269907729},null,null,null,null,{"$f":"IF(C535<$C$6,0,(C535-$C$6)/C535)","v":0}]
[null,{"$f":"IF(R516>$Q$29*V516,B516,IF(Q516>Q515,$U$6,-0.5)*B516)","v":4.7016331746461222E-29},{"$f":"IF(Q516>Q515,C516,(1-$T$6)*C516+$T$6*C517)","v":0.15398187908114286},{"$f":"D516+B536","v":4.5739675128514293E-4},{"$f":"IF($C$2=1,D536/($O$31*$O$30),2^(1/3)*$O$30/D536)","v":9.1580512308429632E-2},{"$f":"IF($C$2=1,-($O$31-2)*D536/$O$30,3*($O$30/D536)^2)","v":-2.9293733106253231E-2},{"$f":"IF($C$2=1,0.5*($O$31*D536*$F$6/$O$30)*(1-W536^2+(E536-F536)*(F536^2*(1-W536^2)+2*F536*(1-W536)+2*LN((1-F536)/(1-F536*W536)))/(F536^3)),$F$6*F536*(LN((1-E536+E536^2)/(1+E536)^2)/(6*E536)+ATAN((2-E536)/(E536*3^0.5))/(E536*3^0.5)-LN((W536^2-E536*W536+E536^2)/(W536+E536)^2)/(6*E536)-ATAN((2*W536-E536)/(E536*3^0.5))/(E536*3^0.5)))","v":5.5647849150413204},{"$f":"IF($C$2=1,($O$31*D536*$F$6/$O$30)*(1-W536^3-(E536-F536)*(-2*F536^3*(1-W536^3)-3*F536^2*(1-W536^2)-6*F536*(1-W536)-6*LN((1-F536)/(1-F536*W536)))/(2*F536^4))/3,$F$6*F536*(LN((1+E536^3)/(E536^3+W536^3)))/3)","v":3.670674299885849},{"$f":"H536/G536","v":0.65962554814368657},{"$f":"G536*C536*$D$6","v":0.35988793591819335},{"$f":"MAX(MIN($K$6,$Q$6*$J$6*D536*(C536-$I$6)/C536),-$K$6)","v":144.31314469897774},{"$f":"K536*$H$6","v":8.704763811892785E-2},{"$f":"MIN($O$6,$Q$6*$N$6*D536*(C$6-C536-$M$6)/C536)","v":458.33333333333337},{"$f":"M536*$L$6","v":0.27646015351590181},{"$f":"(0.5*$C$6-C536+I536*C536)*J536+(0.5*$C$6-$I$6)*L536+(0.5*$C$6-$M$6)*N536","v":0.1546441132198933},{"$f":"0.1*$Q$6*D536*$B$6^2/C536+$R$6","v":2.7639760238660788E-2},{"$f":"(J536+L536-N536)","v":0.17047542052121939},{"$f":"O536-P536*Q536","v":0.14993221347010191},{"$f":"((R536-R535)*(Q536-Q537)-(R536-R537)*(Q536-Q535))/((Q536^2-Q535^2)*(Q536-Q537)-(Q536^2-Q537^2)*(Q536-Q535))","v":-4.9833015348903414E-2},{"$f":"-(S536*(Q536^2-Q535^2)-(R536-R535))/(Q536-Q535)","v":0.18580262774929265},{"$f":"R536-S536*Q536^2-T536*Q536","v":0.1197056729346325},{"$f":"S516*Q536^2+T516*Q536+U516","v":0.14993221347010191},{"$f":"IF(C536<$C$6,0,(C536-$C$6)/C536)","v":0}]
[null,{"$f":"IF(R517>$Q$29*V517,B517,IF(Q517>Q516,$U$6,-0.5)*B517)","v":1.1245780567626814E-28},{"$f":"IF(Q517>Q516,C517,(1-$T$6)*C517+$T$6*C518)","v":0.17394964462770141},{"$f":"D517+B537","v":5.4994191131377409E-4},0.11011001244867896,-3.5220738950822887E-2,6.5777984233855404,4.3289484764128705,0.65811510140269625,0.48056639323583905,186.22781758609173,0.11232997317552497,458.33333333333337,0.27646015351590181,0.18281920576960167,{"$f":"0.1*$Q$6*D537*$B$6^2/C537+$R$6","v":2.9417386315698506E-2},0.3164362128954622,0.17351047945057924,-3.591644304165513E-2,0.17902648679560904,0.12045639681187423,0.17351047945057924,0]
[null,1.9781689190826426E-28,0.19020714713826217,6.4833572344321494E-4,0.12981053655051306,-4.1522318626953582E-2,7.6144047848790857,4.9986619624952517,0.6564744196974851,0.60829196874086922,229.42791036080226,0.13838765524184715,458.33333333333337,0.27646015351590181,0.21161045333984951,3.1716403264017916E-2,0.47021947046681456,0.19669678299193105,-3.2666223709382027E-2,0.17646968328570242,0.12094001146981198,0.19669678299193105,0]
[null,4.1915779846300483E-27,0.20976979172988638,8.317346547287057E-4,0.16653088499363783,-5.3268006216457338E-2,9.4372631560026008,6.1655068557644013,0.65331513531471375,0.83145414522861427,306.97597092325702,0.18516354337557084,458.33333333333337,0.27646015351590181,0.2609669144395047,3.6893738135018082E-2,0.7401575350882833,0.23365973616129712,-3.168201295883398E-2,0.17527841722461895,0.12128255271915558,0.23365973616129709,0]
[null,4.6152151710074396E-25,0.23210975825278549,1.0081012683895029E-3,0.20184321458010143,-6.45633127417376E-2,11.058822488807907,7.1898253430757819,0.6501438421994975,1.0780814580638216,386.41552107443147,0.23308035115017711,458.33333333333337,0.27646015351590181,0.31053986444200971,4.0413044849693741E-2,1.0347016556980968,0.26872442002423014,-3.3076831574738078E-2,0.17775402386453629,0.12021434172404413,0.26872442002423014,0]
[null,6.1473998760094968E-23,0.25773794179237436,1.2225765494064118E-3,0.24478570609941303,-7.8299268719442566E-2,12.861636823717271,8.3098405789015377,0.64609510381897306,1.3922713572708783,458.33333333333337,0.27646015351590181,458.33333333333337,0.27646015351590181,0.36503088957399682,4.4137579828171451E-2,1.3922713572708783,0.3035794013999768,-4.7493487561576744E-2,0.21274285888185135,9.9445916460164763E-2,0.3035794013999768,0]
[null,-8.130369436935698E-20,0.28728229315396503,1.5532805370088755E-3,0.31099964514025624,-9.9479030759249867E-2,15.289253107432556,9.7757723488470347,0.63938848288767902,1.8447793111921365,458.33333333333337,0.27646015351590181,458.33333333333337,0.27646015351590181,0.42308951617039597,5.0309714479396E-2,1.8447793111921365,0.33027919574682274,-3.8314314148419688E-2,0.18302940944885332,0.12302201199722412,0.33027919574682274,0]
[null,1.0688311450670566E-16,0.32152034227515802,1.9733666059116063E-3,0.39510976900023737,-0.1263832209388171,17.782577020426771,11.201545531676496,0.62991688543282154,2.4013333050596297,458.33333333333337,0.27646015351590181,458.33333333333337,0.27646015351590181,0.47874040867600798,5.7109733035400408E-2,2.4013333050596297,0.34160090469503679,-4.9262794547379939E-2,0.22951789019966362,7.4521010218524419E-2,0.34160090469480053,0]
[null,1.1457572188279582E-14,0.36142247287457469,2.3445454838377485E-3,0.46942763790296804,-0.15015517592996339,19.461921689214549,12.075560547679926,0.62047113026726375,2.9542698627990416,458.33333333333337,0.27646015351590181,397.63463384322012,0.2398475605429877,0.50083950995959747,6.0360707316886426E-2,2.9908824557719558,0.32030772942753594,-3.7125174813665382E-2,0.16406922577254751,0.16169467751670469,0.32030772942811792,0]
[null,-1.2226832925888602E-15,0.40821011767341625,2.3796898034894104E-3,0.47646427467265939,-0.15240597530093408,19.596350705438454,12.140255874883389,0.6195161567257611,3.3597600235233571,458.33333333333337,0.27646015351590181,216.34065104150491,0.13049360639708638,0.47076645754018892,5.4243461509409549E-2,3.5057265706421727,0.28060371324304589,-1.8598589233083409E-2,4.3709242661104812E-2,0.3559499308291586,0.28060371324243927,0]
[null,1.299609366349762E-16,0.46343492031952305,2.399448908390168E-3,0.48042046575727715,-0.15367143672748546,19.670096754627739,12.175283666841183,0.61897426427130986,3.8286400833064498,458.33333333333337,0.27646015351590181,44.335803816560386,2.6742726827732047E-2,0.42134174375606459,4.817631331038108E-2,4.0783575099946194,0.22486151456281817,-2.4546906730497354E-2,8.8821782699815194E-2,0.27090322917888265,0.22486151456326814,0]
[null,1.3765354401106637E-14,0.52908775969114819,2.3625267353365419E-3,0.47302786510086442,-0.15130677567535314,19.531223437188409,12.109044744127608,0.61998393408737484,4.3401671260118899,458.33333333333337,0.27646015351590181,-113.30798989911058,-6.8345769342733884E-2,0.34290711754667691,4.1548928511230779E-2,4.6849730488705257,0.14825150726211253,-1.6454928813545228E-2,1.7909105338526674E-2,0.42551661092371951,0.14825150726114894,0]
[null,1.1913618966160376E-16,0.60775093154630122,2.240317151168042E-3,0.44855891927712327,-0.14347992747059524,18.686793519659023,11.839550219261396,0.63357847919740007,4.7699047910581855,458.33333333333337,0.27646015351590181,-243.4368120122418,-0.14683762564434785,0.25287051851308562,3.4300044337697996E-2,5.1932025702184346,7.4743440099946129E-2,2.241427601535256E-2,-0.36604772613566633,1.3712049116425056,7.4743440101463943E-2,0.11147812044306116]
[null,1.2544160554364488E-16,0.70281369836511054,2.0897030912682846E-3,0.41840279611333309,-0.13383392963533242,17.002844357238132,11.306133936401205,0.66495544503341697,5.0189294086834906,458.33333333333337,0.27646015351590181,-342.47159833541201,-0.20657400141958748,0.18796013657871646,2.7666560966714278E-2,5.5019635636189799,3.5739726209211398E-2,2.8732284153059461E-2,-0.43361987280337838,1.5517281660783826,3.5739726209643052E-2,0.2316598249918132]
[null,-1.3174702142568602E-17,0.81878250652390949,1.970341682197617E-3,0.39450411523762824,-0.1261894912988592,15.095467930181353,10.596192658559534,0.70194529295603192,5.1911601289905756,458.33333333333337,0.27646015351590181,-421.43662201309911,-0.25420458156864972,0.13942590796498666,2.2391531587834256E-2,5.7218248640751268,1.1305485780993024E-2,3.4455487337313566E-2,-0.49785589447215156,1.7319018817727228,1.1305485772395318E-2,0.34048419977542432]
[null,1.1315773549813695E-6,0.9617353344904862,1.8989078581877668E-3,0.3802015514774103,-0.12161454980785789,13.244989508180298,9.7966019259790951,0.73964588042357993,5.3500332542885589,458.33333333333337,0.27646015351590181,-491.69424746064152,-0.29658298284186491,0.10067896181883904,1.8372113940224862E-2,5.9230763906463251,-8.1404725067710793E-3,4.2415622471027987E-2,-0.59055088207849515,2.0016772754431709,-8.133129777208925E-3,0.43851496286544944]
[null,1.4435785318976815E-6,1.1400001031491622,1.7955386862634297E-3,0.35950485502049251,-0.11499432584418083,11.282897664509679,8.7628565697151632,0.77664947695827302,5.4022518905722396,458.33333333333337,0.27646015351590181,-537.36847577608467,-0.3241330283076273,7.3077386975684375E-2,1.4655501594343654E-2,6.0028450723957683,-1.4897318553409755E-2,1.9560698803534303E-2,-0.31798485737614435,1.1890633811328772,-1.4910076668925187E-2,0.52631583233344303]
[null,null,{"$f":"C533","v":1.3651895295975189},{"$f":"D533+(D552-D532)","v":1.871513377491419E-3},0.37471659652408812,-0.11986008477537025,9.9133501258402514,8.0314710383218042,0.81016719235880519,5.6841127539131699,458.33333333333337,0.27646015351590181,-627.29895069041618,-0.37837781281797067,4.0225798447855995E-2,1.2755890953162874E-2,6.3389507202470421,-4.0633165697088539E-2,null,null,null,null,0.60445052625095852]
[null,"De","hc","e0","a'","b'","N'","tN'","t","Nc","sac","Nac","sat","Nat","Mtot","u","N","Mo","a''","b''","c''",null,"x"]
[null,null,{"$f":"$C$35","v":0.12945607170440351},{"$f":"$D$35","v":3.2742931933764949E-4},{"$f":"$E$35","v":6.555828113227867E-2},{"$f":"$F$35","v":-2.097003764213403E-2},{"$f":"IF($C$2=1,0.5*($O$31*D555*$F$6/$O$30)*(1-W555^2+(E555-F555)*(F555^2*(1-W555^2)+2*F555*(1-W555)+2*LN((1-F555)/(1-F555*W555)))/(F555^3)),$F$6*F555*(LN((1-E555+E555^2)/(1+E555)^2)/(6*E555)+ATAN((2-E555)/(E555*3^0.5))/(E555*3^0.5)-LN((W555^2-E555*W555+E555^2)/(W555+E555)^2)/(6*E555)-ATAN((2*W555-E555)/(E555*3^0.5))/(E555*3^0.5)))","v":4.0789725576609177},{"$f":"IF($C$2=1,($O$31*D555*$F$6/$O$30)*(1-W555^3-(E555-F555)*(-2*F555^3*(1-W555^3)-3*F555^2*(1-W555^2)-6*F555*(1-W555)-6*LN((1-F555)/(1-F555*W555)))/(2*F555^4))/3,$F$6*F555*(LN((1+E555^3)/(E555^3+W555^3)))/3)","v":2.6990386030010254},{"$f":"$I$35","v":0.66169570028899294},{"$f":"$J$35","v":0.22178006084003529},{"$f":"$K$35","v":90.812088468865227},{"$f":"$L$35","v":5.4776561278259202E-2},{"$f":"$M$35","v":458.32747875640376},{"$f":"$N$35","v":0.27645662211829442},{"$f":"$O$35","v":0.11972660615436539},{"$f":"$P$35","v":2.3534552881082957E-2},{"$f":"$Q$35","v":1.0000000000010001E-4},{"$f":"$R$35","v":0.11972425269907729},null,null,null,null,{"$f":"IF(C555<$C$6,0,(C555-$C$6)/C555)","v":0}]
[null,{"$f":"IF(R536>$Q$29*V536,B536,IF(Q536>Q535,$U$6,-0.5)*B536)","v":-4.7016331746461227E-30},{"$f":"IF(Q536>Q535,C536,(1-$T$6)*C536+$T$6*C537)","v":0.15398187908114286},{"$f":"D536+B556","v":4.5739675128514293E-4},{"$f":"IF($C$2=1,D556/($O$31*$O$30),2^(1/3)*$O$30/D556)","v":9.1580512308429632E-2},{"$f":"IF($C$2=1,-($O$31-2)*D556/$O$30,3*($O$30/D556)^2)","v":-2.9293733106253231E-2},{"$f":"IF($C$2=1,0.5*($O$31*D556*$F$6/$O$30)*(1-W556^2+(E556-F556)*(F556^2*(1-W556^2)+2*F556*(1-W556)+2*LN((1-F556)/(1-F556*W556)))/(F556^3)),$F$6*F556*(LN((1-E556+E556^2)/(1+E556)^2)/(6*E556)+ATAN((2-E556)/(E556*3^0.5))/(E556*3^0.5)-LN((W556^2-E556*W556+E556^2)/(W556+E556)^2)/(6*E556)-ATAN((2*W556-E556)/(E556*3^0.5))/(E556*3^0.5)))","v":5.5647849150413204},{"$f":"IF($C$2=1,($O$31*D556*$F$6/$O$30)*(1-W556^3-(E556-F556)*(-2*F556^3*(1-W556^3)-3*F556^2*(1-W556^2)-6*F556*(1-W556)-6*LN((1-F556)/(1-F556*W556)))/(2*F556^4))/3,$F$6*F556*(LN((1+E556^3)/(E556^3+W556^3)))/3)","v":3.670674299885849},{"$f":"H556/G556","v":0.65962554814368657},{"$f":"G556*C556*$D$6","v":0.35988793591819335},{"$f":"MAX(MIN($K$6,$Q$6*$J$6*D556*(C556-$I$6)/C556),-$K$6)","v":144.31314469897774},{"$f":"K556*$H$6","v":8.704763811892785E-2},{"$f":"MIN($O$6,$Q$6*$N$6*D556*(C$6-C556-$M$6)/C556)","v":458.33333333333337},{"$f":"M556*$L$6","v":0.27646015351590181},{"$f":"(0.5*$C$6-C556+I556*C556)*J556+(0.5*$C$6-$I$6)*L556+(0.5*$C$6-$M$6)*N556","v":0.1546441132198933},{"$f":"0.1*$Q$6*D556*$B$6^2/C556+$R$6","v":2.7639760238660788E-2},{"$f":"(J556+L556-N556)","v":0.17047542052121939},{"$f":"O556-P556*Q556","v":0.14993221347010191},{"$f":"((R556-R555)*(Q556-Q557)-(R556-R557)*(Q556-Q555))/((Q556^2-Q555^2)*(Q556-Q557)-(Q556^2-Q557^2)*(Q556-Q555))","v":-4.9833015348903414E-2},{"$f":"-(S556*(Q556^2-Q555^2)-(R556-R555))/(Q556-Q555)","v":0.18580262774929265},{"$f":"R556-S556*Q556^2-T556*Q556","v":0.1197056729346325},{"$f":"S536*Q556^2+T536*Q556+U536","v":0.14993221347010191},{"$f":"IF(C556<$C$6,0,(C556-$C$6)/C556)","v":0}]
[null,{"$f":"IF(R537>$Q$29*V537,B537,IF(Q537>Q536,$U$6,-0.5)*B537)","v":-1.1245780567626814E-29},{"$f":"IF(Q537>Q536,C537,(1-$T$6)*C537+$T$6*C538)","v":0.17394964462770141},{"$f":"D537+B557","v":5.4994191131377409E-4},0.11011001244867896,-3.5220738950822887E-2,6.5777984233855404,4.3289484764128705,0.65811510140269625,0.48056639323583905,186.22781758609173,0.11232997317552497,458.33333333333337,0.27646015351590181,0.18281920576960167,{"$f":"0.1*$Q$6*D557*$B$6^2/C557+$R$6","v":2.9417386315698506E-2},0.3164362128954622,0.17351047945057924,-3.591644304165513E-2,0.17902648679560904,0.12045639681187423,0.17351047945057924,0]
[null,-1.9781689190826427E-29,0.19020714713826217,6.4833572344321494E-4,0.12981053655051306,-4.1522318626953582E-2,7.6144047848790857,4.9986619624952517,0.6564744196974851,0.60829196874086922,229.42791036080226,0.13838765524184715,458.33333333333337,0.27646015351590181,0.21161045333984951,3.1716403264017916E-2,0.47021947046681456,0.19669678299193105,-3.2666223709382027E-2,0.17646968328570242,0.12094001146981198,0.19669678299193105,0]
[null,-4.1915779846300485E-28,0.20976979172988638,8.317346547287057E-4,0.16653088499363783,-5.3268006216457338E-2,9.4372631560026008,6.1655068557644013,0.65331513531471375,0.83145414522861427,306.97597092325702,0.18516354337557084,458.33333333333337,0.27646015351590181,0.2609669144395047,3.6893738135018082E-2,0.7401575350882833,0.23365973616129712,-3.168201295883398E-2,0.17527841722461895,0.12128255271915558,0.23365973616129709,0]
[null,-4.6152151710074397E-26,0.23210975825278549,1.0081012683895029E-3,0.20184321458010143,-6.45633127417376E-2,11.058822488807907,7.1898253430757819,0.6501438421994975,1.0780814580638216,386.41552107443147,0.23308035115017711,458.33333333333337,0.27646015351590181,0.31053986444200971,4.0413044849693741E-2,1.0347016556980968,0.26872442002423014,-3.3076831574738078E-2,0.17775402386453629,0.12021434172404413,0.26872442002423014,0]
[null,-6.1473998760094969E-24,0.25773794179237436,1.2225765494064118E-3,0.24478570609941303,-7.8299268719442566E-2,12.861636823717271,8.3098405789015377,0.64609510381897306,1.3922713572708783,458.33333333333337,0.27646015351590181,458.33333333333337,0.27646015351590181,0.36503088957399682,4.4137579828171451E-2,1.3922713572708783,0.3035794013999768,-4.7493487561576744E-2,0.21274285888185135,9.9445916460164763E-2,0.3035794013999768,0]
[null,8.1303694369356989E-21,0.28728229315396503,1.5532805370088755E-3,0.31099964514025624,-9.9479030759249867E-2,15.289253107432556,9.7757723488470347,0.63938848288767902,1.8447793111921365,458.33333333333337,0.27646015351590181,458.33333333333337,0.27646015351590181,0.42308951617039597,5.0309714479396E-2,1.8447793111921365,0.33027919574682274,-3.8314314148273208E-2,0.18302940944837914,0.12302201199760032,0.33027919574682274,0]
[null,-1.0688311450670566E-17,0.32152034227515802,1.9733666059115955E-3,0.3951097690002352,-0.1263832209388164,17.782577020426587,11.201545531678308,0.62991688543293001,2.4013333050596049,458.33333333333337,0.27646015351590181,458.33333333333337,0.27646015351590181,0.47874040867608803,5.7109733035400095E-2,2.4013333050596049,0.34160090469511906,-4.9262794547115553E-2,0.22951789019868854,7.4521010219423367E-2,0.34160090469503707,0]
[null,-1.1457572188279582E-15,0.36142247287457469,2.3445454838366027E-3,0.46942763790273867,-0.15015517592989003,19.461921689209216,12.075560547683814,0.62047113026763356,2.954269862798232,458.33333333333337,0.27646015351590181,397.63463384302582,0.23984756054287051,0.50083950995986026,6.0360707316856936E-2,2.9908824557712634,0.32030772942792873,-3.7125174815168589E-2,0.16406922578111235,0.16169467750488775,0.32030772942757602,0]
[null,1.2226832925888603E-16,0.40821011767341625,2.3796898034895327E-3,0.47646427467268393,-0.15240597530094191,19.596350705439434,12.140255874879946,0.61951615672555449,3.359760023523525,458.33333333333337,0.27646015351590181,216.34065104151603,0.13049360639709306,0.4707664575399263,5.4243461509412325E-2,3.505726570642334,0.28060371324276479,-1.8598589231797226E-2,4.3709242651557956E-2,0.35594993084655269,0.28060371324303196,0]
[null,-1.299609366349762E-17,0.46343492031952305,2.399448908390155E-3,0.48042046575727454,-0.15367143672748459,19.670096754628105,12.175283666839633,0.61897426427121949,3.8286400833065217,458.33333333333337,0.27646015351590181,44.335803816560144,2.6742726827731902E-2,0.42134174375591099,4.8176313310380817E-2,4.0783575099946914,0.22486151456266218,-2.4546906730079573E-2,8.8821782696855742E-2,0.2709032291838554,0.22486151456281017,0]
[null,-1.3765354401106639E-15,0.52908775969114819,2.3625267353351654E-3,0.47302786510058886,-0.15130677567526499,19.531223437183101,12.109044744127369,0.61998393408753105,4.3401671260107104,458.33333333333337,0.27646015351590181,-113.30798989904456,-6.8345769342694054E-2,0.34290711754696268,4.1548928511206576E-2,4.6849730488693062,0.14825150726256237,-1.6454928815581953E-2,1.7909105357086164E-2,0.42551661088175646,0.14825150726227865,0]
[null,-1.1913618966160377E-17,0.60775093154630122,2.2403171511680303E-3,0.44855891927712094,-0.14347992747059449,18.686793519659144,11.83955021925815,0.63357847919722232,4.7699047910582166,458.33333333333337,0.27646015351590181,-243.43681201224049,-0.14683762564434705,0.25287051851257203,3.4300044337697809E-2,5.1932025702184648,7.4743440099432457E-2,2.2414276029841852E-2,-0.36604772628030768,1.371204912002381,7.4743440099942049E-2,0.11147812044306116]
[null,-1.2544160554364488E-17,0.70281369836511054,2.0897030912682721E-3,0.41840279611333059,-0.13383392963533161,17.002844357236512,11.306133936413323,0.66495544503419302,5.0189294086830119,458.33333333333337,0.27646015351590181,-342.47159833540991,-0.20657400141958621,0.18796013658143751,2.7666560966714111E-2,5.5019635636184994,3.5739726211946654E-2,2.8732284092689846E-2,-0.43361987214738834,1.5517281642993133,3.5739726209267575E-2,0.2316598249918132]
[null,1.3174702142568603E-18,0.81878250652390949,1.9703416821976183E-3,0.39450411523762846,-0.12618949129885931,15.095467930182128,10.596192658552637,0.70194529295553898,5.191160128990842,458.33333333333337,0.27646015351590181,-421.4366220130994,-0.25420458156864989,0.13942590796289797,2.2391531587834267E-2,5.7218248640753933,1.1305485778898283E-2,3.4395279368220961E-2,-0.49718013298697983,1.7300064584474313,1.1305485780965574E-2,0.34048419977542432]
[null,1.1315773549813695E-6,0.9617353344904862,1.9000394355427482E-3,0.38042811721841013,-0.12168702108128247,13.249065140694141,9.7994481760109,0.73963317954503549,5.3516795198041223,458.33333333333337,0.27646015351590181,-491.98725276556036,-0.29675971947803692,0.10060875735790381,1.83830620586437E-2,5.9248993927980607,-8.3090358711233187E-3,4.3209765017144117E-2,-0.59984001680615584,2.028828422492932,-8.3009178688393526E-3,0.43851496286544944]
[null,1.4435785318976815E-6,1.1400001031491622,1.7969822647953273E-3,0.35979389000191114,-0.11508677906802316,11.287652465684479,8.7664181808374551,0.77663785339672597,5.4045284895807244,458.33333333333337,0.27646015351590181,-537.80050968394949,-0.32439362502142888,7.2986061967478408E-2,1.4667284335443937E-2,6.0053822681180549,-1.5096587302042316E-2,1.8549698393217837E-2,-0.30563847620575835,1.1513915452369725,-1.5108148200019267E-2,0.52631583233344303]
[null,null,{"$f":"C553","v":1.3651895295975189},{"$f":"D553+(D572-D552)","v":1.8729569560233166E-3},0.37500563150550675,-0.11995253799921261,9.9169438277036281,8.034296474411974,0.8101585139534262,5.6861733092588489,458.33333333333337,0.27646015351590181,-627.78281327413583,-0.37866967185253592,4.0119481188922793E-2,1.2765730118918607E-2,6.3413031346272861,-4.0831883229981727E-2,null,null,null,null,0.60445052625095852]
[null,"De","hc","e0","a'","b'","N'","tN'","t","Nc","sac","Nac","sat","Nat","Mtot","u","N","Mo","a''","b''","c''",null,"x"]
[null,null,{"$f":"$C$35","v":0.12945607170440351},{"$f":"$D$35","v":3.2742931933764949E-4},{"$f":"$E$35","v":6.555828113227867E-2},{"$f":"$F$35","v":-2.097003764213403E-2},{"$f":"IF($C$2=1,0.5*($O$31*D575*$F$6/$O$30)*(1-W575^2+(E575-F575)*(F575^2*(1-W575^2)+2*F575*(1-W575)+2*LN((1-F575)/(1-F575*W575)))/(F575^3)),$F$6*F575*(LN((1-E575+E575^2)/(1+E575)^2)/(6*E575)+ATAN((2-E575)/(E575*3^0.5))/(E575*3^0.5)-LN((W575^2-E575*W575+E575^2)/(W575+E575)^2)/(6*E575)-ATAN((2*W575-E575)/(E575*3^0.5))/(E575*3^0.5)))","v":4.0789725576609177},{"$f":"IF($C$2=1,($O$31*D575*$F$6/$O$30)*(1-W575^3-(E575-F575)*(-2*F575^3*(1-W575^3)-3*F575^2*(1-W575^2)-6*F575*(1-W575)-6*LN((1-F575)/(1-F575*W575)))/(2*F575^4))/3,$F$6*F575*(LN((1+E575^3)/(E575^3+W575^3)))/3)","v":2.6990386030010254},{"$f":"$I$35","v":0.66169570028899294},{"$f":"$J$35","v":0.22178006084003529},{"$f":"$K$35","v":90.812088468865227},{"$f":"$L$35","v":5.4776561278259202E-2},{"$f":"$M$35","v":458.32747875640376},{"$f":"$N$35","v":0.27645662211829442},{"$f":"$O$35","v":0.11972660615436539},{"$f":"$P$35","v":2.3534552881082957E-2},{"$f":"$Q$35","v":1.0000000000010001E-4},{"$f":"$R$35","v":0.11972425269907729},null,null,null,null,{"$f":"IF(C575<$C$6,0,(C575-$C$6)/C575)","v":0}]
[null,{"$f":"IF(R556>$Q$29*V556,B556,IF(Q556>Q555,$U$6,-0.5)*B556)","v":4.7016331746461229E-31},{"$f":"IF(Q556>Q555,C556,(1-$T$6)*C556+$T$6*C557)","v":0.15398187908114286},{"$f":"D556+B576","v":4.5739675128514293E-4},{"$f":"IF($C$2=1,D576/($O$31*$O$30),2^(1/3)*$O$30/D576)","v":9.1580512308429632E-2},{"$f":"IF($C$2=1,-($O$31-2)*D576/$O$30,3*($O$30/D576)^2)","v":-2.9293733106253231E-2},{"$f":"IF($C$2=1,0.5*($O$31*D576*$F$6/$O$30)*(1-W576^2+(E576-F576)*(F576^2*(1-W576^2)+2*F576*(1-W576)+2*LN((1-F576)/(1-F576*W576)))/(F576^3)),$F$6*F576*(LN((1-E576+E576^2)/(1+E576)^2)/(6*E576)+ATAN((2-E576)/(E576*3^0.5))/(E576*3^0.5)-LN((W576^2-E576*W576+E576^2)/(W576+E576)^2)/(6*E576)-ATAN((2*W576-E576)/(E576*3^0.5))/(E576*3^0.5)))","v":5.5647849150413204},{"$f":"IF($C$2=1,($O$31*D576*$F$6/$O$30)*(1-W576^3-(E576-F576)*(-2*F576^3*(1-W576^3)-3*F576^2*(1-W576^2)-6*F576*(1-W576)-6*LN((1-F576)/(1-F576*W576)))/(2*F576^4))/3,$F$6*F576*(LN((1+E576^3)/(E576^3+W576^3)))/3)","v":3.670674299885849},{"$f":"H576/G576","v":0.65962554814368657},{"$f":"G576*C576*$D$6","v":0.35988793591819335},{"$f":"MAX(MIN($K$6,$Q$6*$J$6*D576*(C576-$I$6)/C576),-$K$6)","v":144.31314469897774},{"$f":"K576*$H$6","v":8.704763811892785E-2},{"$f":"MIN($O$6,$Q$6*$N$6*D576*(C$6-C576-$M$6)/C576)","v":458.33333333333337},{"$f":"M576*$L$6","v":0.27646015351590181},{"$f":"(0.5*$C$6-C576+I576*C576)*J576+(0.5*$C$6-$I$6)*L576+(0.5*$C$6-$M$6)*N576","v":0.1546441132198933},{"$f":"0.1*$Q$6*D576*$B$6^2/C576+$R$6","v":2.7639760238660788E-2},{"$f":"(J576+L576-N576)","v":0.17047542052121939},{"$f":"O576-P576*Q576","v":0.14993221347010191},{"$f":"((R576-R575)*(Q576-Q577)-(R576-R577)*(Q576-Q575))/((Q576^2-Q575^2)*(Q576-Q577)-(Q576^2-Q577^2)*(Q576-Q575))","v":-4.9833015348903414E-2},{"$f":"-(S576*(Q576^2-Q575^2)-(R576-R575))/(Q576-Q575)","v":0.18580262774929265},{"$f":"R576-S576*Q576^2-T576*Q576","v":0.1197056729346325},{"$f":"S556*Q576^2+T556*Q576+U556","v":0.14993221347010191},{"$f":"IF(C576<$C$6,0,(C576-$C$6)/C576)","v":0}]
[null,{"$f":"IF(R557>$Q$29*V557,B557,IF(Q557>Q556,$U$6,-0.5)*B557)","v":1.1245780567626814E-30},{"$f":"IF(Q557>Q556,C557,(1-$T$6)*C557+$T$6*C558)","v":0.17394964462770141},{"$f":"D557+B577","v":5.4994191131377409E-4},0.11011001244867896,-3.5220738950822887E-2,6.5777984233855404,4.3289484764128705,0.65811510140269625,0.48056639323583905,186.22781758609173,0.11232997317552497,458.33333333333337,0.27646015351590181,0.18281920576960167,{"$f":"0.1*$Q$6*D577*$B$6^2/C577+$R$6","v":2.9417386315698506E-2},0.3164362128954622,0.17351047945057924,-3.591644304165513E-2,0.17902648679560904,0.12045639681187423,0.17351047945057924,0]
[null,1.9781689190826427E-30,0.19020714713826217,6.4833572344321494E-4,0.12981053655051306,-4.1522318626953582E-2,7.6144047848790857,4.9986619624952517,0.6564744196974851,0.60829196874086922,229.42791036080226,0.13838765524184715,458.33333333333337,0.27646015351590181,0.21161045333984951,3.1716403264017916E-2,0.47021947046681456,0.19669678299193105,-3.2666223709382027E-2,0.17646968328570242,0.12094001146981198,0.19669678299193105,0]
[null,4.1915779846300487E-29,0.20976979172988638,8.317346547287057E-4,0.16653088499363783,-5.3268006216457338E-2,9.4372631560026008,6.1655068557644013,0.65331513531471375,0.83145414522861427,306.97597092325702,0.18516354337557084,458.33333333333337,0.27646015351590181,0.2609669144395047,3.6893738135018082E-2,0.7401575350882833,0.23365973616129712,-3.168201295883398E-2,0.17527841722461895,0.12128255271915558,0.23365973616129709,0]
[null,4.61521517100744E-27,0.23210975825278549,1.0081012683895029E-3,0.20184321458010143,-6.45633127417376E-2,11.058822488807907,7.1898253430757819,0.6501438421994975,1.0780814580638216,386.41552107443147,0.23308035115017711,458.33333333333337,0.27646015351590181,0.31053986444200971,4.0413044849693741E-2,1.0347016556980968,0.26872442002423014,-3.3076831574738078E-2,0.17775402386453629,0.12021434172404413,0.26872442002423014,0]
[null,6.1473998760094971E-25,0.25773794179237436,1.2225765494064118E-3,0.24478570609941303,-7.8299268719442566E-2,12.861636823717271,8.3098405789015377,0.64609510381897306,1.3922713572708783,458.33333333333337,0.27646015351590181,458.33333333333337,0.27646015351590181,0.36503088957399682,4.4137579828171451E-2,1.3922713572708783,0.3035794013999768,-4.7493487561576744E-2,0.21274285888185135,9.9445916460164763E-2,0.3035794013999768,0]
[null,-8.1303694369356996E-22,0.28728229315396503,1.5532805370088755E-3,0.31099964514025624,-9.9479030759249867E-2,15.289253107432556,9.7757723488470347,0.63938848288767902,1.8447793111921365,458.33333333333337,0.27646015351590181,458.33333333333337,0.27646015351590181,0.42308951617039597,5.0309714479396E-2,1.8447793111921365,0.33027919574682274,-3.8314314148592384E-2,0.18302940944941234,0.12302201199678059,0.33027919574682274,0]
[null,1.0688311450670567E-18,0.32152034227515802,1.9733666059115963E-3,0.39510976900023542,-0.12638322093881646,17.782577020427158,11.201545531674375,0.62991688543268853,2.4013333050596817,458.33333333333337,0.27646015351590181,458.33333333333337,0.27646015351590181,0.47874040867591322,5.7109733035400116E-2,2.4013333050596817,0.34160090469493976,-4.9262794546554634E-2,0.22951789019598559,7.4521010222500683E-2,0.3416009046951185,0]
[null,1.1457572188279583E-16,0.36142247287457469,2.3445454838367172E-3,0.4694276379027616,-0.15015517592989733,19.461921689209706,12.075560547684249,0.62047113026764023,2.9542698627983066,458.33333333333337,0.27646015351590181,397.63463384304515,0.23984756054288217,0.50083950995987969,6.0360707316859885E-2,2.9908824557713265,0.32030772942793551,-3.7125174814464895E-2,0.16406922577763786,0.16169467750899513,0.32030772942792513,0]
[null,-1.2226832925888604E-17,0.40821011767341625,2.3796898034895205E-3,0.47646427467268149,-0.15240597530094113,19.596350705438287,12.140255874887885,0.6195161567259958,3.3597600235233283,458.33333333333337,0.27646015351590181,216.34065104151492,0.1304936063970924,0.47076645754050878,5.4243461509412054E-2,3.5057265706421377,0.28060371324335887,-1.8598589232920862E-2,4.3709242659957286E-2,0.35594993083149373,0.28060371324278172,0]
[null,1.2996093663497622E-18,0.46343492031952305,2.3994489083901563E-3,0.48042046575727476,-0.15367143672748471,19.67009675462722,12.175283666844999,0.61897426427152014,3.8286400833063494,458.33333333333337,0.27646015351590181,44.335803816560166,2.6742726827731916E-2,0.42134174375642836,4.8176313310380844E-2,4.0783575099945191,0.22486151456318773,-2.4546906732234818E-2,8.8821782713076697E-2,0.27090322915405513,0.22486151456268128,0]
[null,1.376535440110664E-16,0.52908775969114819,2.3625267353353028E-3,0.47302786510061634,-0.15130677567527379,19.53122343718497,12.109044744118584,0.6199839340870219,4.3401671260111261,458.33333333333337,0.27646015351590181,-113.30798989905117,-6.8345769342698037E-2,0.34290711754582126,4.1548928511208991E-2,4.6849730488697254,0.14825150726139222,-1.6454928812091828E-2,1.7909105323832889E-2,0.42551661095982957,0.14825150726250519,0]
[null,1.1913618966160378E-18,0.60775093154630122,2.2403171511680316E-3,0.44855891927712122,-0.14347992747059454,18.686793519659489,11.839550219255107,0.63357847919704779,4.7699047910583046,458.33333333333337,0.27646015351590181,-243.43681201224064,-0.14683762564434713,0.25287051851207015,3.4300044337697837E-2,5.1932025702185536,7.4743440098927388E-2,2.2414276025710656E-2,-0.36604772623829562,1.3712049118951264,7.4743440099420466E-2,0.11147812044306116]
[null,1.2544160554364489E-18,0.70281369836511054,2.0897030912682734E-3,0.41840279611333081,-0.13383392963533169,17.00284435723724,11.306133936408067,0.6649554450338554,5.0189294086832268,458.33333333333337,0.27646015351590181,-342.47159833541008,-0.20657400141958632,0.18796013658025415,2.7666560966714129E-2,5.5019635636187143,3.5739726210757272E-2,2.8732284106818506E-2,-0.43361987230067062,1.5517281647138055,3.5739726211921452E-2,0.2316598249918132]
[null,-1.3174702142568604E-19,0.81878250652390949,1.9703416821976183E-3,0.39450411523762846,-0.12618949129885931,15.095467930182128,10.596192658552637,0.70194529295553898,5.191160128990842,458.33333333333337,0.27646015351590181,-421.4366220130994,-0.25420458156864989,0.13942590796289797,2.2391531587834267E-2,5.7218248640753933,1.1305485778898283E-2,3.4331046920078864E-2,-0.49645920157354628,1.7279843392511214,1.1305485778898339E-2,0.34048419977542432]
[null,1.1315773549813695E-6,0.9617353344904862,1.9011710128977297E-3,0.38065468295940991,-0.12175949235470707,13.25313662142436,9.8022911827729331,0.73962047346037596,5.3533241082945411,458.33333333333337,0.27646015351590181,-492.28025807047925,-0.29693645611420899,0.10053845303295197,1.839401017706253E-2,5.9267207179246517,-8.4777081691614076E-3,4.3967311473864151E-2,-0.60870766846852553,2.0547660468714066,-8.4688285502565464E-3,0.43851496286544944]
[null,1.4435785318976815E-6,1.1400001031491622,1.7984258433272249E-3,0.36008292498332972,-0.1151792322918655,11.29240092039057,8.7699746815700301,0.77662622354597588,5.4068020498997162,458.33333333333337,0.27646015351590181,-538.23254359181419,-0.3246542217352304,7.2894591204700349E-2,1.4679067076544218E-2,6.0079164251508477,-1.5296016990360692E-2,1.7561869245037585E-2,-0.29356829686503833,1.1145410555480544,-1.5306403869378427E-2,0.52631583233344303]
[null,null,{"$f":"C573","v":1.3651895295975189},{"$f":"D573+(D592-D572)","v":1.8744005345552141E-3},0.37529466648692533,-0.12004499122305495,9.9205318481613993,8.0371171946729785,0.81014983044104838,5.6882306070024393,458.33333333333337,0.27646015351590181,-628.26667585785515,-0.37896153088710094,4.0013040203462968E-2,1.2775569284674342E-2,6.3436522914054416,-4.1030729163270399E-2,null,null,null,null,0.60445052625095852]
[null,"De","hc","e0","a'","b'","N'","tN'","t","Nc","sac","Nac","sat","Nat","Mtot","u","N","Mo","a''","b''","c''",null,"x"]
[null,null,{"$f":"$C$35","v":0.12945607170440351},{"$f":"$D$35","v":3.2742931933764949E-4},{"$f":"$E$35","v":6.555828113227867E-2},{"$f":"$F$35","v":-2.097003764213403E-2},{"$f":"IF($C$2=1,0.5*($O$31*D595*$F$6/$O$30)*(1-W595^2+(E595-F595)*(F595^2*(1-W595^2)+2*F595*(1-W595)+2*LN((1-F595)/(1-F595*W595)))/(F595^3)),$F$6*F595*(LN((1-E595+E595^2)/(1+E595)^2)/(6*E595)+ATAN((2-E595)/(E595*3^0.5))/(E595*3^0.5)-LN((W595^2-E595*W595+E595^2)/(W595+E595)^2)/(6*E595)-ATAN((2*W595-E595)/(E595*3^0.5))/(E595*3^0.5)))","v":4.0789725576609177},{"$f":"IF($C$2=1,($O$31*D595*$F$6/$O$30)*(1-W595^3-(E595-F595)*(-2*F595^3*(1-W595^3)-3*F595^2*(1-W595^2)-6*F595*(1-W595)-6*LN((1-F595)/(1-F595*W595)))/(2*F595^4))/3,$F$6*F595*(LN((1+E595^3)/(E595^3+W595^3)))/3)","v":2.6990386030010254},{"$f":"$I$35","v":0.66169570028899294},{"$f":"$J$35","v":0.22178006084003529},{"$f":"$K$35","v":90.812088468865227},{"$f":"$L$35","v":5.4776561278259202E-2},{"$f":"$M$35","v":458.32747875640376},{"$f":"$N$35","v":0.27645662211829442},{"$f":"$O$35","v":0.11972660615436539},{"$f":"$P$35","v":2.3534552881082957E-2},{"$f":"$Q$35","v":1.0000000000010001E-4},{"$f":"$R$35","v":0.11972425269907729},null,null,null,null,{"$f":"IF(C595<$C$6,0,(C595-$C$6)/C595)","v":0}]
[null,{"$f":"IF(R576>$Q$29*V576,B576,IF(Q576>Q575,$U$6,-0.5)*B576)","v":-4.7016331746461231E-32},{"$f":"IF(Q576>Q575,C576,(1-$T$6)*C576+$T$6*C577)","v":0.15398187908114286},{"$f":"D576+B596","v":4.5739675128514293E-4},{"$f":"IF($C$2=1,D596/($O$31*$O$30),2^(1/3)*$O$30/D596)","v":9.1580512308429632E-2},{"$f":"IF($C$2=1,-($O$31-2)*D596/$O$30,3*($O$30/D596)^2)","v":-2.9293733106253231E-2},{"$f":"IF($C$2=1,0.5*($O$31*D596*$F$6/$O$30)*(1-W596^2+(E596-F596)*(F596^2*(1-W596^2)+2*F596*(1-W596)+2*LN((1-F596)/(1-F596*W596)))/(F596^3)),$F$6*F596*(LN((1-E596+E596^2)/(1+E596)^2)/(6*E596)+ATAN((2-E596)/(E596*3^0.5))/(E596*3^0.5)-LN((W596^2-E596*W596+E596^2)/(W596+E596)^2)/(6*E596)-ATAN((2*W596-E596)/(E596*3^0.5))/(E596*3^0.5)))","v":5.5647849150413204},{"$f":"IF($C$2=1,($O$31*D596*$F$6/$O$30)*(1-W596^3-(E596-F596)*(-2*F596^3*(1-W596^3)-3*F596^2*(1-W596^2)-6*F596*(1-W596)-6*LN((1-F596)/(1-F596*W596)))/(2*F596^4))/3,$F$6*F596*(LN((1+E596^3)/(E596^3+W596^3)))/3)","v":3.670674299885849},{"$f":"H596/G596","v":0.65962554814368657},{"$f":"G596*C596*$D$6","v":0.35988793591819335},{"$f":"MAX(MIN($K$6,$Q$6*$J$6*D596*(C596-$I$6)/C596),-$K$6)","v":144.31314469897774},{"$f":"K596*$H$6","v":8.704763811892785E-2},{"$f":"MIN($O$6,$Q$6*$N$6*D596*(C$6-C596-$M$6)/C596)","v":458.33333333333337},{"$f":"M596*$L$6","v":0.27646015351590181},{"$f":"(0.5*$C$6-C596+I596*C596)*J596+(0.5*$C$6-$I$6)*L596+(0.5*$C$6-$M$6)*N596","v":0.1546441132198933},{"$f":"0.1*$Q$6*D596*$B$6^2/C596+$R$6","v":2.7639760238660788E-2},{"$f":"(J596+L596-N596)","v":0.17047542052121939},{"$f":"O596-P596*Q596","v":0.14993221347010191},{"$f":"((R596-R595)*(Q596-Q597)-(R596-R597)*(Q596-Q595))/((Q596^2-Q595^2)*(Q596-Q597)-(Q596^2-Q597^2)*(Q596-Q595))","v":-4.9833015348903414E-2},{"$f":"-(S596*(Q596^2-Q595^2)-(R596-R595))/(Q596-Q595)","v":0.18580262774929265},{"$f":"R596-S596*Q596^2-T596*Q596","v":0.1197056729346325},{"$f":"S576*Q596^2+T576*Q596+U576","v":0.14993221347010191},{"$f":"IF(C596<$C$6,0,(C596-$C$6)/C596)","v":0}]
[null,{"$f":"IF(R577>$Q$29*V577,B577,IF(Q577>Q576,$U$6,-0.5)*B577)","v":-1.1245780567626814E-31},{"$f":"IF(Q577>Q576,C577,(1-$T$6)*C577+$T$6*C578)","v":0.17394964462770141},{"$f":"D577+B597","v":5.4994191131377409E-4},0.11011001244867896,-3.5220738950822887E-2,6.5777984233855404,4.3289484764128705,0.65811510140269625,0.48056639323583905,186.22781758609173,0.11232997317552497,458.33333333333337,0.27646015351590181,0.18281920576960167,{"$f":"0.1*$Q$6*D597*$B$6^2/C597+$R$6","v":2.9417386315698506E-2},0.3164362128954622,0.17351047945057924,-3.591644304165513E-2,0.17902648679560904,0.12045639681187423,0.17351047945057924,0]
[null,-1.9781689190826427E-31,0.19020714713826217,6.4833572344321494E-4,0.12981053655051306,-4.1522318626953582E-2,7.6144047848790857,4.9986619624952517,0.6564744196974851,0.60829196874086922,229.42791036080226,0.13838765524184715,458.33333333333337,0.27646015351590181,0.21161045333984951,3.1716403264017916E-2,0.47021947046681456,0.19669678299193105,-3.2666223709382027E-2,0.17646968328570242,0.12094001146981198,0.19669678299193105,0]
[null,-4.1915779846300491E-30,0.20976979172988638,8.317346547287057E-4,0.16653088499363783,-5.3268006216457338E-2,9.4372631560026008,6.1655068557644013,0.65331513531471375,0.83145414522861427,306.97597092325702,0.18516354337557084,458.33333333333337,0.27646015351590181,0.2609669144395047,3.6893738135018082E-2,0.7401575350882833,0.23365973616129712,-3.168201295883398E-2,0.17527841722461895,0.12128255271915558,0.23365973616129709,0]
[null,-4.6152151710074402E-28,0.23210975825278549,1.0081012683895029E-3,0.20184321458010143,-6.45633127417376E-2,11.058822488807907,7.1898253430757819,0.6501438421994975,1.0780814580638216,386.41552107443147,0.23308035115017711,458.33333333333337,0.27646015351590181,0.31053986444200971,4.0413044849693741E-2,1.0347016556980968,0.26872442002423014,-3.3076831574738078E-2,0.17775402386453629,0.12021434172404413,0.26872442002423014,0]
[null,-6.1473998760094971E-26,0.25773794179237436,1.2225765494064118E-3,0.24478570609941303,-7.8299268719442566E-2,12.861636823717271,8.3098405789015377,0.64609510381897306,1.3922713572708783,458.33333333333337,0.27646015351590181,458.33333333333337,0.27646015351590181,0.36503088957399682,4.4137579828171451E-2,1.3922713572708783,0.3035794013999768,-4.7493487561576744E-2,0.21274285888185135,9.9445916460164763E-2,0.3035794013999768,0]
[null,8.1303694369356996E-23,0.28728229315396503,1.5532805370088755E-3,0.31099964514025624,-9.9479030759249867E-2,15.289253107432556,9.7757723488470347,0.63938848288767902,1.8447793111921365,458.33333333333337,0.27646015351590181,458.33333333333337,0.27646015351590181,0.42308951617039597,5.0309714479396E-2,1.8447793111921365,0.33027919574682274,-3.8314314148592384E-2,0.18302940944941234,0.12302201199678059,0.33027919574682274,0]
[null,-1.0688311450670567E-19,0.32152034227515802,1.9733666059115963E-3,0.39510976900023542,-0.12638322093881646,17.782577020427158,11.201545531674375,0.62991688543268853,2.4013333050596817,458.33333333333337,0.27646015351590181,458.33333333333337,0.27646015351590181,0.47874040867591322,5.7109733035400116E-2,2.4013333050596817,0.34160090469493976,-4.9262794546211068E-2,0.22951789019452679,7.4521010224022688E-2,0.3416009046949397,0]
[null,-1.1457572188279584E-17,0.36142247287457469,2.3445454838367059E-3,0.46942763790275932,-0.15015517592989663,19.461921689208879,12.075560547688267,0.62047113026787315,2.9542698627981809,458.33333333333337,0.27646015351590181,397.63463384304333,0.23984756054288106,0.50083950996011151,6.0360707316859594E-2,2.9908824557712017,0.32030772942817576,-3.7125174815749173E-2,0.16406922578495822,0.16169467749882216,0.32030772942794272,0]
[null,1.2226832925888605E-18,0.40821011767341625,2.3796898034895218E-3,0.47646427467268171,-0.15240597530094122,19.59635070543893,12.14025587488384,0.6195161567257691,3.3597600235234388,458.33333333333337,0.27646015351590181,216.34065104151506,0.13049360639709248,0.47076645754021057,5.4243461509412089E-2,3.5057265706422482,0.28060371324305455,-1.8598589231507034E-2,4.3709242649749416E-2,0.35594993084960891,0.28060371324334932,0]
[null,-1.2996093663497623E-19,0.46343492031952305,2.3994489083901563E-3,0.48042046575727476,-0.15367143672748471,19.67009675462722,12.175283666844999,0.61897426427152014,3.8286400833063494,458.33333333333337,0.27646015351590181,44.335803816560166,2.6742726827731916E-2,0.42134174375642836,4.8176313310380844E-2,4.0783575099945191,0.22486151456318773,-2.4546906732935588E-2,8.8821782718906769E-2,0.27090322914193388,0.2248615145631877,0]
[null,-1.3765354401106641E-17,0.52908775969114819,2.362526735335289E-3,0.47302786510061356,-0.15130677567527293,19.531223437185037,12.109044744116991,0.61998393408693819,4.3401671260111403,458.33333333333337,0.27646015351590181,-113.30798989905048,-6.8345769342697621E-2,0.34290711754563008,4.1548928511208748E-2,4.6849730488697396,0.14825150726120159,-1.6454928811479693E-2,1.7909105318157433E-2,0.42551661097279447,0.1482515072613903,0]
[null,-1.1913618966160379E-19,0.60775093154630122,2.2403171511680316E-3,0.44855891927712122,-0.14347992747059454,18.686793519659489,11.839550219255107,0.63357847919704779,4.7699047910583046,458.33333333333337,0.27646015351590181,-243.43681201224064,-0.14683762564434713,0.25287051851207015,3.4300044337697837E-2,5.1932025702185536,7.4743440098927388E-2,2.2414276025256967E-2,-0.36604772623344339,1.3712049118821636,7.4743440098927527E-2,0.11147812044306116]
[null,-1.2544160554364489E-19,0.70281369836511054,2.0897030912682734E-3,0.41840279611333081,-0.13383392963533169,17.00284435723724,11.306133936408067,0.6649554450338554,5.0189294086832268,458.33333333333337,0.27646015351590181,-342.47159833541008,-0.20657400141958632,0.18796013658025415,2.7666560966714129E-2,5.5019635636187143,3.5739726210757272E-2,2.8732284106818506E-2,-0.43361987230067062,1.5517281647138055,3.5739726210757272E-2,0.2316598249918132]
[null,1.3174702142568605E-20,0.81878250652390949,1.9703416821976183E-3,0.39450411523762846,-0.12618949129885931,15.095467930182128,10.596192658552637,0.70194529295553898,5.191160128990842,458.33333333333337,0.27646015351590181,-421.4366220130994,-0.25420458156864989,0.13942590796289797,2.2391531587834267E-2,5.7218248640753933,1.1305485778898283E-2,3.4337646107068583E-2,-0.49653326945211368,1.7281920900511929,1.1305485778898339E-2,0.34048419977542432]
[null,-1.1315773549813696E-7,0.9617353344904862,1.9010578551622314E-3,0.38063202638530991,-0.12175224522736461,13.25272966016451,9.8020070280190179,0.73962174430239924,5.3531597249047262,458.33333333333337,0.27646015351590181,-492.25095753998727,-0.29691878245059172,0.10054548795444879,1.8392915365220645E-2,5.9265386608712198,-8.4608360436636554E-3,4.4063289449278273E-2,-0.60982109861614864,2.0579946493851518,-8.461768760744004E-3,0.43851496286544944]
[null,1.4435785318976815E-6,1.1400001031491622,1.7998694218591225E-3,0.36037195996474836,-0.11527168551570786,11.29714302992347,8.7735260729689397,0.77661458739877298,5.4090725721495101,458.33333333333337,0.27646015351590181,-538.66457749967913,-0.32491481844903203,7.2802974724119729E-2,1.4690849817644505E-2,6.0104475441144434,-1.5495607483295801E-2,1.7036409132317357E-2,-0.28720160110878673,1.0952660986276574,-1.5504842810170283E-2,0.52631583233344303]
[null,null,{"$f":"C593","v":1.3651895295975189},{"$f":"D593+(D612-D592)","v":1.8758441130871117E-3},0.37558370146834397,-0.12013744444689729,9.9241141884050066,8.0399332000775665,0.81014114181305452,5.6902846478270916,458.33333333333337,0.27646015351590181,-628.75053844157469,-0.37925338992166613,3.990647550474144E-2,1.2785408450430077E-2,6.345998191264659,-4.122970339626772E-2,null,null,null,null,0.60445052625095852]
[null,"De","hc","e0","a'","b'","N'","tN'","t","Nc","sac","Nac","sat","Nat","Mtot","u","N","Mo","a''","b''","c''",null,"x"]
[null,null,{"$f":"$C$35","v":0.12945607170440351},{"$f":"$D$35","v":3.2742931933764949E-4},{"$f":"$E$35","v":6.555828113227867E-2},{"$f":"$F$35","v":-2.097003764213403E-2},{"$f":"IF($C$2=1,0.5*($O$31*D615*$F$6/$O$30)*(1-W615^2+(E615-F615)*(F615^2*(1-W615^2)+2*F615*(1-W615)+2*LN((1-F615)/(1-F615*W615)))/(F615^3)),$F$6*F615*(LN((1-E615+E615^2)/(1+E615)^2)/(6*E615)+ATAN((2-E615)/(E615*3^0.5))/(E615*3^0.5)-LN((W615^2-E615*W615+E615^2)/(W615+E615)^2)/(6*E615)-ATAN((2*W615-E615)/(E615*3^0.5))/(E615*3^0.5)))","v":4.0789725576609177},{"$f":"IF($C$2=1,($O$31*D615*$F$6/$O$30)*(1-W615^3-(E615-F615)*(-2*F615^3*(1-W615^3)-3*F615^2*(1-W615^2)-6*F615*(1-W615)-6*LN((1-F615)/(1-F615*W615)))/(2*F615^4))/3,$F$6*F615*(LN((1+E615^3)/(E615^3+W615^3)))/3)","v":2.6990386030010254},{"$f":"$I$35","v":0.66169570028899294},{"$f":"$J$35","v":0.22178006084003529},{"$f":"$K$35","v":90.812088468865227},{"$f":"$L$35","v":5.4776561278259202E-2},{"$f":"$M$35","v":458.32747875640376},{"$f":"$N$35","v":0.27645662211829442},{"$f":"$O$35","v":0.11972660615436539},{"$f":"$P$35","v":2.3534552881082957E-2},{"$f":"$Q$35","v":1.0000000000010001E-4},{"$f":"$R$35","v":0.11972425269907729},null,null,null,null,{"$f":"IF(C615<$C$6,0,(C615-$C$6)/C615)","v":0}]
[null,{"$f":"IF(R596>$Q$29*V596,B596,IF(Q596>Q595,$U$6,-0.5)*B596)","v":4.7016331746461231E-33},{"$f":"IF(Q596>Q595,C596,(1-$T$6)*C596+$T$6*C597)","v":0.15398187908114286},{"$f":"D596+B616","v":4.5739675128514293E-4},{"$f":"IF($C$2=1,D616/($O$31*$O$30),2^(1/3)*$O$30/D616)","v":9.1580512308429632E-2},{"$f":"IF($C$2=1,-($O$31-2)*D616/$O$30,3*($O$30/D616)^2)","v":-2.9293733106253231E-2},{"$f":"IF($C$2=1,0.5*($O$31*D616*$F$6/$O$30)*(1-W616^2+(E616-F616)*(F616^2*(1-W616^2)+2*F616*(1-W616)+2*LN((1-F616)/(1-F616*W616)))/(F616^3)),$F$6*F616*(LN((1-E616+E616^2)/(1+E616)^2)/(6*E616)+ATAN((2-E616)/(E616*3^0.5))/(E616*3^0.5)-LN((W616^2-E616*W616+E616^2)/(W616+E616)^2)/(6*E616)-ATAN((2*W616-E616)/(E616*3^0.5))/(E616*3^0.5)))","v":5.5647849150413204},{"$f":"IF($C$2=1,($O$31*D616*$F$6/$O$30)*(1-W616^3-(E616-F616)*(-2*F616^3*(1-W616^3)-3*F616^2*(1-W616^2)-6*F616*(1-W616)-6*LN((1-F616)/(1-F616*W616)))/(2*F616^4))/3,$F$6*F616*(LN((1+E616^3)/(E616^3+W616^3)))/3)","v":3.670674299885849},{"$f":"H616/G616","v":0.65962554814368657},{"$f":"G616*C616*$D$6","v":0.35988793591819335},{"$f":"MAX(MIN($K$6,$Q$6*$J$6*D616*(C616-$I$6)/C616),-$K$6)","v":144.31314469897774},{"$f":"K616*$H$6","v":8.704763811892785E-2},{"$f":"MIN($O$6,$Q$6*$N$6*D616*(C$6-C616-$M$6)/C616)","v":458.33333333333337},{"$f":"M616*$L$6","v":0.27646015351590181},{"$f":"(0.5*$C$6-C616+I616*C616)*J616+(0.5*$C$6-$I$6)*L616+(0.5*$C$6-$M$6)*N616","v":0.1546441132198933},{"$f":"0.1*$Q$6*D616*$B$6^2/C616+$R$6","v":2.7639760238660788E-2},{"$f":"(J616+L616-N616)","v":0.17047542052121939},{"$f":"O616-P616*Q616","v":0.14993221347010191},{"$f":"((R616-R615)*(Q616-Q617)-(R616-R617)*(Q616-Q615))/((Q616^2-Q615^2)*(Q616-Q617)-(Q616^2-Q617^2)*(Q616-Q615))","v":-4.9833015348903414E-2},{"$f":"-(S616*(Q616^2-Q615^2)-(R616-R615))/(Q616-Q615)","v":0.18580262774929265},{"$f":"R616-S616*Q616^2-T616*Q616","v":0.1197056729346325},{"$f":"S596*Q616^2+T596*Q616+U596","v":0.14993221347010191},{"$f":"IF(C616<$C$6,0,(C616-$C$6)/C616)","v":0}]
[null,{"$f":"IF(R597>$Q$29*V597,B597,IF(Q597>Q596,$U$6,-0.5)*B597)","v":1.1245780567626814E-32},{"$f":"IF(Q597>Q596,C597,(1-$T$6)*C597+$T$6*C598)","v":0.17394964462770141},{"$f":"D597+B617","v":5.4994191131377409E-4},0.11011001244867896,-3.5220738950822887E-2,6.5777984233855404,4.3289484764128705,0.65811510140269625,0.48056639323583905,186.22781758609173,0.11232997317552497,458.33333333333337,0.27646015351590181,0.18281920576960167,{"$f":"0.1*$Q$6*D617*$B$6^2/C617+$R$6","v":2.9417386315698506E-2},0.3164362128954622,0.17351047945057924,-3.591644304165513E-2,0.17902648679560904,0.12045639681187423,0.17351047945057924,0]
[null,1.9781689190826428E-32,0.19020714713826217,6.4833572344321494E-4,0.12981053655051306,-4.1522318626953582E-2,7.6144047848790857,4.9986619624952517,0.6564744196974851,0.60829196874086922,229.42791036080226,0.13838765524184715,458.33333333333337,0.27646015351590181,0.21161045333984951,3.1716403264017916E-2,0.47021947046681456,0.19669678299193105,-3.2666223709382027E-2,0.17646968328570242,0.12094001146981198,0.19669678299193105,0]
[null,4.1915779846300491E-31,0.20976979172988638,8.317346547287057E-4,0.16653088499363783,-5.3268006216457338E-2,9.4372631560026008,6.1655068557644013,0.65331513531471375,0.83145414522861427,306.97597092325702,0.18516354337557084,458.33333333333337,0.27646015351590181,0.2609669144395047,3.6893738135018082E-2,0.7401575350882833,0.23365973616129712,-3.168201295883398E-2,0.17527841722461895,0.12128255271915558,0.23365973616129709,0]
[null,4.6152151710074403E-29,0.23210975825278549,1.0081012683895029E-3,0.20184321458010143,-6.45633127417376E-2,11.058822488807907,7.1898253430757819,0.6501438421994975,1.0780814580638216,386.41552107443147,0.23308035115017711,458.33333333333337,0.27646015351590181,0.31053986444200971,4.0413044849693741E-2,1.0347016556980968,0.26872442002423014,-3.3076831574738078E-2,0.17775402386453629,0.12021434172404413,0.26872442002423014,0]
[null,6.1473998760094973E-27,0.25773794179237436,1.2225765494064118E-3,0.24478570609941303,-7.8299268719442566E-2,12.861636823717271,8.3098405789015377,0.64609510381897306,1.3922713572708783,458.33333333333337,0.27646015351590181,458.33333333333337,0.27646015351590181,0.36503088957399682,4.4137579828171451E-2,1.3922713572708783,0.3035794013999768,-4.7493487561576744E-2,0.21274285888185135,9.9445916460164763E-2,0.3035794013999768,0]
[null,-8.1303694369357008E-24,0.28728229315396503,1.5532805370088755E-3,0.31099964514025624,-9.9479030759249867E-2,15.289253107432556,9.7757723488470347,0.63938848288767902,1.8447793111921365,458.33333333333337,0.27646015351590181,458.33333333333337,0.27646015351590181,0.42308951617039597,5.0309714479396E-2,1.8447793111921365,0.33027919574682274,-3.8314314148592384E-2,0.18302940944941234,0.12302201199678059,0.33027919574682274,0]
[null,1.0688311450670568E-20,0.32152034227515802,1.9733666059115963E-3,0.39510976900023542,-0.12638322093881646,17.782577020427158,11.201545531674375,0.62991688543268853,2.4013333050596817,458.33333333333337,0.27646015351590181,458.33333333333337,0.27646015351590181,0.47874040867591322,5.7109733035400116E-2,2.4013333050596817,0.34160090469493976,-4.9262794546795496E-2,0.22951789019700833,7.4521010221433648E-2,0.34160090469493976,0]
[null,1.1457572188279585E-18,0.36142247287457469,2.3445454838367072E-3,0.4694276379027596,-0.15015517592989672,19.461921689209849,12.075560547681308,0.62047113026748457,2.9542698627983279,458.33333333333337,0.27646015351590181,397.63463384304356,0.2398475605428812,0.50083950995971604,6.0360707316859628E-2,2.9908824557713487,0.3203077294277713,-3.7125174814444779E-2,0.16406922577725305,0.16169467750980315,0.32030772942816721,0]
[null,-1.2226832925888605E-19,0.40821011767341625,2.3796898034895218E-3,0.47646427467268171,-0.15240597530094122,19.59635070543893,12.14025587488384,0.6195161567257691,3.3597600235234388,458.33333333333337,0.27646015351590181,216.34065104151506,0.13049360639709248,0.47076645754021057,5.4243461509412089E-2,3.5057265706422482,0.28060371324305455,-1.859858923221171E-2,4.3709242655093711E-2,0.35594993083953375,0.28060371324305461,0]
[null,1.2996093663497624E-20,0.46343492031952305,2.3994489083901563E-3,0.48042046575727476,-0.15367143672748471,19.67009675462722,12.175283666844999,0.61897426427152014,3.8286400833063494,458.33333333333337,0.27646015351590181,44.335803816560166,2.6742726827731916E-2,0.42134174375642836,4.8176313310380844E-2,4.0783575099945191,0.22486151456318773,-2.4546906731499958E-2,8.882178270801884E-2,0.27090322916245996,0.2248615145631877,0]
[null,1.3765354401106642E-18,0.52908775969114819,2.3625267353352903E-3,0.47302786510061384,-0.15130677567527298,19.531223437183492,12.109044744125258,0.61998393408741059,4.3401671260107975,458.33333333333337,0.27646015351590181,-113.30798989905054,-6.8345769342697663E-2,0.34290711754669134,4.1548928511208769E-2,4.6849730488693968,0.14825150726227698,-1.6454928814816326E-2,1.7909105349093228E-2,0.42551661090212539,0.14825150726124836,0]
[null,1.1913618966160379E-20,0.60775093154630122,2.2403171511680316E-3,0.44855891927712122,-0.14347992747059454,18.686793519659489,11.839550219255107,0.63357847919704779,4.7699047910583046,458.33333333333337,0.27646015351590181,-243.43681201224064,-0.14683762564434713,0.25287051851207015,3.4300044337697837E-2,5.1932025702185536,7.4743440098927388E-2,2.2414276027718043E-2,-0.366047726259765,1.3712049119524834,7.4743440098927527E-2,0.11147812044306116]
[null,1.254416055436449E-20,0.70281369836511054,2.0897030912682734E-3,0.41840279611333081,-0.13383392963533169,17.00284435723724,11.306133936408067,0.6649554450338554,5.0189294086832268,458.33333333333337,0.27646015351590181,-342.47159833541008,-0.20657400141958632,0.18796013658025415,2.7666560966714129E-2,5.5019635636187143,3.5739726210757272E-2,2.8732284106818506E-2,-0.43361987230067062,1.5517281647138055,3.5739726210757272E-2,0.2316598249918132]
[null,-1.3174702142568606E-21,0.81878250652390949,1.9703416821976183E-3,0.39450411523762846,-0.12618949129885931,15.095467930182128,10.596192658552637,0.70194529295553898,5.191160128990842,458.33333333333337,0.27646015351590181,-421.4366220130994,-0.25420458156864989,0.13942590796289797,2.2391531587834267E-2,5.7218248640753933,1.1305485778898283E-2,3.4344206754648693E-2,-0.49660690477250152,1.728398627581631,1.1305485778898339E-2,0.34048419977542432]
[null,-1.1315773549813696E-7,0.9617353344904862,1.9009446974267332E-3,0.38060936981120991,-0.12174499810002215,13.252322657390108,9.8017228408582238,0.73962301509406203,5.3529953247459883,458.33333333333337,0.27646015351590181,-492.2216570094954,-0.29690110878697451,0.10055252188641838,1.8391820553378759E-2,5.9263565870488639,-8.44396499791851E-3,4.4112609218065452E-2,-0.61039102915398891,2.059640998398593,-8.4448966558952065E-3,0.43851496286544944]
[null,1.4435785318976815E-6,1.1400001031491622,1.80131300039102E-3,0.36066099494616694,-0.1153641387395502,11.301878795573922,8.777072356129942,0.77660294495170545,5.411340056948112,458.33333333333337,0.27646015351590181,-539.09661140754395,-0.32517541516283355,7.2711212586170512E-2,1.4702632558744785E-2,6.0129756256268472,-1.5695358622109565E-2,1.6548780671979946E-2,-0.28129732308903999,1.0774029288178797,-1.5703834547217577E-2,0.52631583233344303]
[null,null,{"$f":"C613","v":1.3651895295975189},{"$f":"D613+(D632-D612)","v":1.8772876916190093E-3},0.37587273644976255,-0.12022989767073962,9.9276908496232963,8.0427444916107067,0.81013244806226881,5.692335432414465,458.33333333333337,0.27646015351590181,-629.23440102529412,-0.37954524895623126,3.9799787117213173E-2,1.2795247616185812E-2,6.3483408348865975,-4.1428805817104605E-2,null,null,null,null,0.60445052625095852]
[null,"De","hc","e0","a'","b'","N'","tN'","t","Nc","sac","Nac","sat","Nat","Mtot","u","N","Mo","a''","b''","c''",null,"x"]
[null,null,{"$f":"$C$35","v":0.12945607170440351},{"$f":"$D$35","v":3.2742931933764949E-4},{"$f":"$E$35","v":6.555828113227867E-2},{"$f":"$F$35","v":-2.097003764213403E-2},{"$f":"IF($C$2=1,0.5*($O$31*D635*$F$6/$O$30)*(1-W635^2+(E635-F635)*(F635^2*(1-W635^2)+2*F635*(1-W635)+2*LN((1-F635)/(1-F635*W635)))/(F635^3)),$F$6*F635*(LN((1-E635+E635^2)/(1+E635)^2)/(6*E635)+ATAN((2-E635)/(E635*3^0.5))/(E635*3^0.5)-LN((W635^2-E635*W635+E635^2)/(W635+E635)^2)/(6*E635)-ATAN((2*W635-E635)/(E635*3^0.5))/(E635*3^0.5)))","v":4.0789725576609177},{"$f":"IF($C$2=1,($O$31*D635*$F$6/$O$30)*(1-W635^3-(E635-F635)*(-2*F635^3*(1-W635^3)-3*F635^2*(1-W635^2)-6*F635*(1-W635)-6*LN((1-F635)/(1-F635*W635)))/(2*F635^4))/3,$F$6*F635*(LN((1+E635^3)/(E635^3+W635^3)))/3)","v":2.6990386030010254},{"$f":"$I$35","v":0.66169570028899294},{"$f":"$J$35","v":0.22178006084003529},{"$f":"$K$35","v":90.812088468865227},{"$f":"$L$35","v":5.4776561278259202E-2},{"$f":"$M$35","v":458.32747875640376},{"$f":"$N$35","v":0.27645662211829442},{"$f":"$O$35","v":0.11972660615436539},{"$f":"$P$35","v":2.3534552881082957E-2},{"$f":"$Q$35","v":1.0000000000010001E-4},{"$f":"$R$35","v":0.11972425269907729},null,null,null,null,{"$f":"IF(C635<$C$6,0,(C635-$C$6)/C635)","v":0}]
[null,{"$f":"IF(R616>$Q$29*V616,B616,IF(Q616>Q615,$U$6,-0.5)*B616)","v":-4.7016331746461231E-34},{"$f":"IF(Q616>Q615,C616,(1-$T$6)*C616+$T$6*C617)","v":0.15398187908114286},{"$f":"D616+B636","v":4.5739675128514293E-4},{"$f":"IF($C$2=1,D636/($O$31*$O$30),2^(1/3)*$O$30/D636)","v":9.1580512308429632E-2},{"$f":"IF($C$2=1,-($O$31-2)*D636/$O$30,3*($O$30/D636)^2)","v":-2.9293733106253231E-2},{"$f":"IF($C$2=1,0.5*($O$31*D636*$F$6/$O$30)*(1-W636^2+(E636-F636)*(F636^2*(1-W636^2)+2*F636*(1-W636)+2*LN((1-F636)/(1-F636*W636)))/(F636^3)),$F$6*F636*(LN((1-E636+E636^2)/(1+E636)^2)/(6*E636)+ATAN((2-E636)/(E636*3^0.5))/(E636*3^0.5)-LN((W636^2-E636*W636+E636^2)/(W636+E636)^2)/(6*E636)-ATAN((2*W636-E636)/(E636*3^0.5))/(E636*3^0.5)))","v":5.5647849150413204},{"$f":"IF($C$2=1,($O$31*D636*$F$6/$O$30)*(1-W636^3-(E636-F636)*(-2*F636^3*(1-W636^3)-3*F636^2*(1-W636^2)-6*F636*(1-W636)-6*LN((1-F636)/(1-F636*W636)))/(2*F636^4))/3,$F$6*F636*(LN((1+E636^3)/(E636^3+W636^3)))/3)","v":3.670674299885849},{"$f":"H636/G636","v":0.65962554814368657},{"$f":"G636*C636*$D$6","v":0.35988793591819335},{"$f":"MAX(MIN($K$6,$Q$6*$J$6*D636*(C636-$I$6)/C636),-$K$6)","v":144.31314469897774},{"$f":"K636*$H$6","v":8.704763811892785E-2},{"$f":"MIN($O$6,$Q$6*$N$6*D636*(C$6-C636-$M$6)/C636)","v":458.33333333333337},{"$f":"M636*$L$6","v":0.27646015351590181},{"$f":"(0.5*$C$6-C636+I636*C636)*J636+(0.5*$C$6-$I$6)*L636+(0.5*$C$6-$M$6)*N636","v":0.1546441132198933},{"$f":"0.1*$Q$6*D636*$B$6^2/C636+$R$6","v":2.7639760238660788E-2},{"$f":"(J636+L636-N636)","v":0.17047542052121939},{"$f":"O636-P636*Q636","v":0.14993221347010191},{"$f":"((R636-R635)*(Q636-Q637)-(R636-R637)*(Q636-Q635))/((Q636^2-Q635^2)*(Q636-Q637)-(Q636^2-Q637^2)*(Q636-Q635))","v":-4.9833015348903414E-2},{"$f":"-(S636*(Q636^2-Q635^2)-(R636-R635))/(Q636-Q635)","v":0.18580262774929265},{"$f":"R636-S636*Q636^2-T636*Q636","v":0.1197056729346325},{"$f":"S616*Q636^2+T616*Q636+U616","v":0.14993221347010191},{"$f":"IF(C636<$C$6,0,(C636-$C$6)/C636)","v":0}]
[null,{"$f":"IF(R617>$Q$29*V617,B617,IF(Q617>Q616,$U$6,-0.5)*B617)","v":-1.1245780567626814E-33},{"$f":"IF(Q617>Q616,C617,(1-$T$6)*C617+$T$6*C618)","v":0.17394964462770141},{"$f":"D617+B637","v":5.4994191131377409E-4},0.11011001244867896,-3.5220738950822887E-2,6.5777984233855404,4.3289484764128705,0.65811510140269625,0.48056639323583905,186.22781758609173,0.11232997317552497,458.33333333333337,0.27646015351590181,0.18281920576960167,{"$f":"0.1*$Q$6*D637*$B$6^2/C637+$R$6","v":2.9417386315698506E-2},0.3164362128954622,0.17351047945057924,-3.591644304165513E-2,0.17902648679560904,0.12045639681187423,0.17351047945057924,0]
[null,-1.9781689190826429E-33,0.19020714713826217,6.4833572344321494E-4,0.12981053655051306,-4.1522318626953582E-2,7.6144047848790857,4.9986619624952517,0.6564744196974851,0.60829196874086922,229.42791036080226,0.13838765524184715,458.33333333333337,0.27646015351590181,0.21161045333984951,3.1716403264017916E-2,0.47021947046681456,0.19669678299193105,-3.2666223709382027E-2,0.17646968328570242,0.12094001146981198,0.19669678299193105,0]
[null,-4.1915779846300492E-32,0.20976979172988638,8.317346547287057E-4,0.16653088499363783,-5.3268006216457338E-2,9.4372631560026008,6.1655068557644013,0.65331513531471375,0.83145414522861427,306.97597092325702,0.18516354337557084,458.33333333333337,0.27646015351590181,0.2609669144395047,3.6893738135018082E-2,0.7401575350882833,0.23365973616129712,-3.168201295883398E-2,0.17527841722461895,0.12128255271915558,0.23365973616129709,0]
[null,-4.6152151710074408E-30,0.23210975825278549,1.0081012683895029E-3,0.20184321458010143,-6.45633127417376E-2,11.058822488807907,7.1898253430757819,0.6501438421994975,1.0780814580638216,386.41552107443147,0.23308035115017711,458.33333333333337,0.27646015351590181,0.31053986444200971,4.0413044849693741E-2,1.0347016556980968,0.26872442002423014,-3.3076831574738078E-2,0.17775402386453629,0.12021434172404413,0.26872442002423014,0]
[null,-6.147399876009498E-28,0.25773794179237436,1.2225765494064118E-3,0.24478570609941303,-7.8299268719442566E-2,12.861636823717271,8.3098405789015377,0.64609510381897306,1.3922713572708783,458.33333333333337,0.27646015351590181,458.33333333333337,0.27646015351590181,0.36503088957399682,4.4137579828171451E-2,1.3922713572708783,0.3035794013999768,-4.7493487561576744E-2,0.21274285888185135,9.9445916460164763E-2,0.3035794013999768,0]
[null,8.1303694369357012E-25,0.28728229315396503,1.5532805370088755E-3,0.31099964514025624,-9.9479030759249867E-2,15.289253107432556,9.7757723488470347,0.63938848288767902,1.8447793111921365,458.33333333333337,0.27646015351590181,458.33333333333337,0.27646015351590181,0.42308951617039597,5.0309714479396E-2,1.8447793111921365,0.33027919574682274,-3.8314314148592384E-2,0.18302940944941234,0.12302201199678059,0.33027919574682274,0]
[null,-1.0688311450670569E-21,0.32152034227515802,1.9733666059115963E-3,0.39510976900023542,-0.12638322093881646,17.782577020427158,11.201545531674375,0.62991688543268853,2.4013333050596817,458.33333333333337,0.27646015351590181,458.33333333333337,0.27646015351590181,0.47874040867591322,5.7109733035400116E-2,2.4013333050596817,0.34160090469493976,-4.9262794546795496E-2,0.22951789019700833,7.4521010221433648E-2,0.3416009046949397,0]
[null,-1.1457572188279585E-19,0.36142247287457469,2.3445454838367072E-3,0.4694276379027596,-0.15015517592989672,19.461921689209849,12.075560547681308,0.62047113026748457,2.9542698627983279,458.33333333333337,0.27646015351590181,397.63463384304356,0.2398475605428812,0.50083950995971604,6.0360707316859628E-2,2.9908824557713487,0.3203077294277713,-3.7125174814444779E-2,0.16406922577725305,0.16169467750980315,0.32030772942777125,0]
[null,1.2226832925888606E-20,0.40821011767341625,2.3796898034895218E-3,0.47646427467268171,-0.15240597530094122,19.59635070543893,12.14025587488384,0.6195161567257691,3.3597600235234388,458.33333333333337,0.27646015351590181,216.34065104151506,0.13049360639709248,0.47076645754021057,5.4243461509412089E-2,3.5057265706422482,0.28060371324305455,-1.859858923221171E-2,4.3709242655093711E-2,0.35594993083953375,0.28060371324305455,0]
[null,-1.2996093663497625E-21,0.46343492031952305,2.3994489083901563E-3,0.48042046575727476,-0.15367143672748471,19.67009675462722,12.175283666844999,0.61897426427152014,3.8286400833063494,458.33333333333337,0.27646015351590181,44.335803816560166,2.6742726827731916E-2,0.42134174375642836,4.8176313310380844E-2,4.0783575099945191,0.22486151456318773,-2.4546906731499958E-2,8.882178270801884E-2,0.27090322916245996,0.22486151456318776,0]
[null,-1.3765354401106643E-19,0.52908775969114819,2.3625267353352903E-3,0.47302786510061384,-0.15130677567527298,19.531223437183492,12.109044744125258,0.61998393408741059,4.3401671260107975,458.33333333333337,0.27646015351590181,-113.30798989905054,-6.8345769342697663E-2,0.34290711754669134,4.1548928511208769E-2,4.6849730488693968,0.14825150726227698,-1.6454928814816326E-2,1.7909105349093228E-2,0.42551661090212539,0.14825150726227693,0]
[null,-1.1913618966160379E-21,0.60775093154630122,2.2403171511680316E-3,0.44855891927712122,-0.14347992747059454,18.686793519659489,11.839550219255107,0.63357847919704779,4.7699047910583046,458.33333333333337,0.27646015351590181,-243.43681201224064,-0.14683762564434713,0.25287051851207015,3.4300044337697837E-2,5.1932025702185536,7.4743440098927388E-2,2.2414276027718043E-2,-0.366047726259765,1.3712049119524834,7.4743440098927527E-2,0.11147812044306116]
[null,-1.254416055436449E-21,0.70281369836511054,2.0897030912682734E-3,0.41840279611333081,-0.13383392963533169,17.00284435723724,11.306133936408067,0.6649554450338554,5.0189294086832268,458.33333333333337,0.27646015351590181,-342.47159833541008,-0.20657400141958632,0.18796013658025415,2.7666560966714129E-2,5.5019635636187143,3.5739726210757272E-2,2.8732284106818506E-2,-0.43361987230067062,1.5517281647138055,3.5739726210757272E-2,0.2316598249918132]
[null,1.3174702142568607E-22,0.81878250652390949,1.9703416821976183E-3,0.39450411523762846,-0.12618949129885931,15.095467930182128,10.596192658552637,0.70194529295553898,5.191160128990842,458.33333333333337,0.27646015351590181,-421.4366220130994,-0.25420458156864989,0.13942590796289797,2.2391531587834267E-2,5.7218248640753933,1.1305485778898283E-2,3.4350728437230235E-2,-0.49668010275798935,1.7286039384443532,1.1305485778898339E-2,0.34048419977542432]
[null,-1.1315773549813696E-7,0.9617353344904862,1.900831539691235E-3,0.38058671323710991,-0.12173775097267966,13.251915613106926,9.8014386212379829,0.73962428583108264,5.352830907820656,458.33333333333337,0.27646015351590181,-492.19235647900354,-0.29688343512335735,0.10055955480682616,1.8390725741536877E-2,5.9261744964599146,-8.427095054058531E-3,4.4120635069998658E-2,-0.61047996896896528,2.0598871358314561,-8.4280238850986677E-3,0.43851496286544944]
[null,1.4435785318976815E-6,1.1400001031491622,1.8027565789229176E-3,0.36095002992758557,-0.11545659196339253,11.306608218637345,8.7806135321019632,0.77659129619688805,5.4136045049157699,458.33333333333337,0.27646015351590181,-539.52864531540877,-0.32543601187663512,7.2619304823776168E-2,1.4714415299845069E-2,6.0155006703083069,-1.5895270275636655E-2,1.6095421535480461E-2,-0.27581197246043165,1.0608189145300262,-1.590302008204425E-2,0.52631583233344303]
[null,null,{"$f":"C633","v":1.3651895295975189},{"$f":"D633+(D652-D632)","v":1.8787312701509069E-3},0.37616177143118118,-0.12032235089458196,9.9312618330011819,8.0455510702956126,0.81012374918568464,5.6943829614439645,458.33333333333337,0.27646015351590181,-629.71826360901366,-0.3798371079907964,3.9692975097746927E-2,1.2805086781941546E-2,6.350680222950662,-4.1628036281496195E-2,null,null,null,null,0.60445052625095852]
[null,"De","hc","e0","a'","b'","N'","tN'","t","Nc","sac","Nac","sat","Nat","Mtot","u","N","Mo","a''","b''","c''",null,"x"]
[null,null,{"$f":"$C$35","v":0.12945607170440351},{"$f":"$D$35","v":3.2742931933764949E-4},{"$f":"$E$35","v":6.555828113227867E-2},{"$f":"$F$35","v":-2.097003764213403E-2},{"$f":"IF($C$2=1,0.5*($O$31*D655*$F$6/$O$30)*(1-W655^2+(E655-F655)*(F655^2*(1-W655^2)+2*F655*(1-W655)+2*LN((1-F655)/(1-F655*W655)))/(F655^3)),$F$6*F655*(LN((1-E655+E655^2)/(1+E655)^2)/(6*E655)+ATAN((2-E655)/(E655*3^0.5))/(E655*3^0.5)-LN((W655^2-E655*W655+E655^2)/(W655+E655)^2)/(6*E655)-ATAN((2*W655-E655)/(E655*3^0.5))/(E655*3^0.5)))","v":4.0789725576609177},{"$f":"IF($C$2=1,($O$31*D655*$F$6/$O$30)*(1-W655^3-(E655-F655)*(-2*F655^3*(1-W655^3)-3*F655^2*(1-W655^2)-6*F655*(1-W655)-6*LN((1-F655)/(1-F655*W655)))/(2*F655^4))/3,$F$6*F655*(LN((1+E655^3)/(E655^3+W655^3)))/3)","v":2.6990386030010254},{"$f":"$I$35","v":0.66169570028899294},{"$f":"$J$35","v":0.22178006084003529},{"$f":"$K$35","v":90.812088468865227},{"$f":"$L$35","v":5.4776561278259202E-2},{"$f":"$M$35","v":458.32747875640376},{"$f":"$N$35","v":0.27645662211829442},{"$f":"$O$35","v":0.11972660615436539},{"$f":"$P$35","v":2.3534552881082957E-2},{"$f":"$Q$35","v":1.0000000000010001E-4},{"$f":"$R$35","v":0.11972425269907729},null,null,null,null,{"$f":"IF(C655<$C$6,0,(C655-$C$6)/C655)","v":0}]
[null,{"$f":"IF(R636>$Q$29*V636,B636,IF(Q636>Q635,$U$6,-0.5)*B636)","v":4.7016331746461231E-35},{"$f":"IF(Q636>Q635,C636,(1-$T$6)*C636+$T$6*C637)","v":0.15398187908114286},{"$f":"D636+B656","v":4.5739675128514293E-4},{"$f":"IF($C$2=1,D656/($O$31*$O$30),2^(1/3)*$O$30/D656)","v":9.1580512308429632E-2},{"$f":"IF($C$2=1,-($O$31-2)*D656/$O$30,3*($O$30/D656)^2)","v":-2.9293733106253231E-2},{"$f":"IF($C$2=1,0.5*($O$31*D656*$F$6/$O$30)*(1-W656^2+(E656-F656)*(F656^2*(1-W656^2)+2*F656*(1-W656)+2*LN((1-F656)/(1-F656*W656)))/(F656^3)),$F$6*F656*(LN((1-E656+E656^2)/(1+E656)^2)/(6*E656)+ATAN((2-E656)/(E656*3^0.5))/(E656*3^0.5)-LN((W656^2-E656*W656+E656^2)/(W656+E656)^2)/(6*E656)-ATAN((2*W656-E656)/(E656*3^0.5))/(E656*3^0.5)))","v":5.5647849150413204},{"$f":"IF($C$2=1,($O$31*D656*$F$6/$O$30)*(1-W656^3-(E656-F656)*(-2*F656^3*(1-W656^3)-3*F656^2*(1-W656^2)-6*F656*(1-W656)-6*LN((1-F656)/(1-F656*W656)))/(2*F656^4))/3,$F$6*F656*(LN((1+E656^3)/(E656^3+W656^3)))/3)","v":3.670674299885849},{"$f":"H656/G656","v":0.65962554814368657},{"$f":"G656*C656*$D$6","v":0.35988793591819335},{"$f":"MAX(MIN($K$6,$Q$6*$J$6*D656*(C656-$I$6)/C656),-$K$6)","v":144.31314469897774},{"$f":"K656*$H$6","v":8.704763811892785E-2},{"$f":"MIN($O$6,$Q$6*$N$6*D656*(C$6-C656-$M$6)/C656)","v":458.33333333333337},{"$f":"M656*$L$6","v":0.27646015351590181},{"$f":"(0.5*$C$6-C656+I656*C656)*J656+(0.5*$C$6-$I$6)*L656+(0.5*$C$6-$M$6)*N656","v":0.1546441132198933},{"$f":"0.1*$Q$6*D656*$B$6^2/C656+$R$6","v":2.7639760238660788E-2},{"$f":"(J656+L656-N656)","v":0.17047542052121939},{"$f":"O656-P656*Q656","v":0.14993221347010191},{"$f":"((R656-R655)*(Q656-Q657)-(R656-R657)*(Q656-Q655))/((Q656^2-Q655^2)*(Q656-Q657)-(Q656^2-Q657^2)*(Q656-Q655))","v":-4.9833015348903414E-2},{"$f":"-(S656*(Q656^2-Q655^2)-(R656-R655))/(Q656-Q655)","v":0.18580262774929265},{"$f":"R656-S656*Q656^2-T656*Q656","v":0.1197056729346325},{"$f":"S636*Q656^2+T636*Q656+U636","v":0.14993221347010191},{"$f":"IF(C656<$C$6,0,(C656-$C$6)/C656)","v":0}]
[null,{"$f":"IF(R637>$Q$29*V637,B637,IF(Q637>Q636,$U$6,-0.5)*B637)","v":1.1245780567626815E-34},{"$f":"IF(Q637>Q636,C637,(1-$T$6)*C637+$T$6*C638)","v":0.17394964462770141},{"$f":"D637+B657","v":5.4994191131377409E-4},0.11011001244867896,-3.5220738950822887E-2,6.5777984233855404,4.3289484764128705,0.65811510140269625,0.48056639323583905,186.22781758609173,0.11232997317552497,458.33333333333337,0.27646015351590181,0.18281920576960167,{"$f":"0.1*$Q$6*D657*$B$6^2/C657+$R$6","v":2.9417386315698506E-2},0.3164362128954622,0.17351047945057924,-3.591644304165513E-2,0.17902648679560904,0.12045639681187423,0.17351047945057924,0]
[null,1.9781689190826429E-34,0.19020714713826217,6.4833572344321494E-4,0.12981053655051306,-4.1522318626953582E-2,7.6144047848790857,4.9986619624952517,0.6564744196974851,0.60829196874086922,229.42791036080226,0.13838765524184715,458.33333333333337,0.27646015351590181,0.21161045333984951,3.1716403264017916E-2,0.47021947046681456,0.19669678299193105,-3.2666223709382027E-2,0.17646968328570242,0.12094001146981198,0.19669678299193105,0]
[null,4.1915779846300498E-33,0.20976979172988638,8.317346547287057E-4,0.16653088499363783,-5.3268006216457338E-2,9.4372631560026008,6.1655068557644013,0.65331513531471375,0.83145414522861427,306.97597092325702,0.18516354337557084,458.33333333333337,0.27646015351590181,0.2609669144395047,3.6893738135018082E-2,0.7401575350882833,0.23365973616129712,-3.168201295883398E-2,0.17527841722461895,0.12128255271915558,0.23365973616129709,0]
[null,4.6152151710074412E-31,0.23210975825278549,1.0081012683895029E-3,0.20184321458010143,-6.45633127417376E-2,11.058822488807907,7.1898253430757819,0.6501438421994975,1.0780814580638216,386.41552107443147,0.23308035115017711,458.33333333333337,0.27646015351590181,0.31053986444200971,4.0413044849693741E-2,1.0347016556980968,0.26872442002423014,-3.3076831574738078E-2,0.17775402386453629,0.12021434172404413,0.26872442002423014,0]
[null,6.1473998760094986E-29,0.25773794179237436,1.2225765494064118E-3,0.24478570609941303,-7.8299268719442566E-2,12.861636823717271,8.3098405789015377,0.64609510381897306,1.3922713572708783,458.33333333333337,0.27646015351590181,458.33333333333337,0.27646015351590181,0.36503088957399682,4.4137579828171451E-2,1.3922713572708783,0.3035794013999768,-4.7493487561576744E-2,0.21274285888185135,9.9445916460164763E-2,0.3035794013999768,0]
[null,-8.1303694369357016E-26,0.28728229315396503,1.5532805370088755E-3,0.31099964514025624,-9.9479030759249867E-2,15.289253107432556,9.7757723488470347,0.63938848288767902,1.8447793111921365,458.33333333333337,0.27646015351590181,458.33333333333337,0.27646015351590181,0.42308951617039597,5.0309714479396E-2,1.8447793111921365,0.33027919574682274,-3.8314314148592384E-2,0.18302940944941234,0.12302201199678059,0.33027919574682274,0]
[null,1.0688311450670571E-22,0.32152034227515802,1.9733666059115963E-3,0.39510976900023542,-0.12638322093881646,17.782577020427158,11.201545531674375,0.62991688543268853,2.4013333050596817,458.33333333333337,0.27646015351590181,458.33333333333337,0.27646015351590181,0.47874040867591322,5.7109733035400116E-2,2.4013333050596817,0.34160090469493976,-4.9262794546795496E-2,0.22951789019700833,7.4521010221433648E-2,0.3416009046949397,0]
[null,1.1457572188279585E-20,0.36142247287457469,2.3445454838367072E-3,0.4694276379027596,-0.15015517592989672,19.461921689209849,12.075560547681308,0.62047113026748457,2.9542698627983279,458.33333333333337,0.27646015351590181,397.63463384304356,0.2398475605428812,0.50083950995971604,6.0360707316859628E-2,2.9908824557713487,0.3203077294277713,-3.7125174814444779E-2,0.16406922577725305,0.16169467750980315,0.32030772942777125,0]
[null,-1.2226832925888606E-21,0.40821011767341625,2.3796898034895218E-3,0.47646427467268171,-0.15240597530094122,19.59635070543893,12.14025587488384,0.6195161567257691,3.3597600235234388,458.33333333333337,0.27646015351590181,216.34065104151506,0.13049360639709248,0.47076645754021057,5.4243461509412089E-2,3.5057265706422482,0.28060371324305455,-1.859858923221171E-2,4.3709242655093711E-2,0.35594993083953375,0.28060371324305455,0]
[null,1.2996093663497626E-22,0.46343492031952305,2.3994489083901563E-3,0.48042046575727476,-0.15367143672748471,19.67009675462722,12.175283666844999,0.61897426427152014,3.8286400833063494,458.33333333333337,0.27646015351590181,44.335803816560166,2.6742726827731916E-2,0.42134174375642836,4.8176313310380844E-2,4.0783575099945191,0.22486151456318773,-2.4546906731499958E-2,8.882178270801884E-2,0.27090322916245996,0.22486151456318776,0]
[null,1.3765354401106644E-20,0.52908775969114819,2.3625267353352903E-3,0.47302786510061384,-0.15130677567527298,19.531223437183492,12.109044744125258,0.61998393408741059,4.3401671260107975,458.33333333333337,0.27646015351590181,-113.30798989905054,-6.8345769342697663E-2,0.34290711754669134,4.1548928511208769E-2,4.6849730488693968,0.14825150726227698,-1.6454928814816326E-2,1.7909105349093228E-2,0.42551661090212539,0.14825150726227693,0]
[null,1.1913618966160379E-22,0.60775093154630122,2.2403171511680316E-3,0.44855891927712122,-0.14347992747059454,18.686793519659489,11.839550219255107,0.63357847919704779,4.7699047910583046,458.33333333333337,0.27646015351590181,-243.43681201224064,-0.14683762564434713,0.25287051851207015,3.4300044337697837E-2,5.1932025702185536,7.4743440098927388E-2,2.2414276027718043E-2,-0.366047726259765,1.3712049119524834,7.4743440098927527E-2,0.11147812044306116]
[null,1.2544160554364489E-22,0.70281369836511054,2.0897030912682734E-3,0.41840279611333081,-0.13383392963533169,17.00284435723724,11.306133936408067,0.6649554450338554,5.0189294086832268,458.33333333333337,0.27646015351590181,-342.47159833541008,-0.20657400141958632,0.18796013658025415,2.7666560966714129E-2,5.5019635636187143,3.5739726210757272E-2,2.8732284106818506E-2,-0.43361987230067062,1.5517281647138055,3.5739726210757272E-2,0.2316598249918132]
[null,-1.3174702142568607E-23,0.81878250652390949,1.9703416821976183E-3,0.39450411523762846,-0.12618949129885931,15.095467930182128,10.596192658552637,0.70194529295553898,5.191160128990842,458.33333333333337,0.27646015351590181,-421.4366220130994,-0.25420458156864989,0.13942590796289797,2.2391531587834267E-2,5.7218248640753933,1.1305485778898283E-2,3.4357211304616754E-2,-0.49675286508994038,1.7288080273553665,1.1305485778898339E-2,0.34048419977542432]
[null,-1.1315773549813696E-7,0.9617353344904862,1.9007183819557368E-3,0.38056405666300996,-0.12173050384533721,13.251508527305717,9.8011543692247365,0.73962555651899786,5.3526664741249945,458.33333333333337,0.27646015351590181,-492.16305594851156,-0.29686576145974009,0.10056658674406566,1.8389630929694992E-2,5.9259923891006361,-8.4102261836765252E-3,4.4092050100739487E-2,-0.61014248837630602,2.0588919822911755,-8.4111506735320418E-3,0.43851496286544944]
[null,1.4435785318976815E-6,1.1400001031491622,1.8042001574548152E-3,0.36123906490900415,-0.11554904518723487,11.311331300407874,8.7841496019487764,0.77657964112783351,5.4158659166721153,458.33333333333337,0.27646015351590181,-539.96067922327359,-0.3256966085904367,7.2527251478497978E-2,1.4726198040945354E-2,6.0180226787784532,-1.6095342304093985E-2,1.5673198201536089E-2,-0.27070729308039676,1.0453973843893101,-1.6102396126782104E-2,0.52631583233344303]
[null,null,{"$f":"C653","v":1.3651895295975189},{"$f":"D653+(D672-D652)","v":1.8801748486828045E-3},0.37645080641259976,-0.1204148041184243,9.934827139724046,8.04835293713802,0.81011504517848854,5.696427235595265,458.33333333333337,0.27646015351590181,-630.20212619273309,-0.38012896702536153,3.9586039489230077E-2,1.281492594769728E-2,6.3530163561365276,-4.1827394659169126E-2,null,null,null,null,0.60445052625095852]
[null,"De","hc","e0","a'","b'","N'","tN'","t","Nc","sac","Nac","sat","Nat","Mtot","u","N","Mo","a''","b''","c''",null,"x"]
[null,null,{"$f":"$C$35","v":0.12945607170440351},{"$f":"$D$35","v":3.2742931933764949E-4},{"$f":"$E$35","v":6.555828113227867E-2},{"$f":"$F$35","v":-2.097003764213403E-2},{"$f":"IF($C$2=1,0.5*($O$31*D675*$F$6/$O$30)*(1-W675^2+(E675-F675)*(F675^2*(1-W675^2)+2*F675*(1-W675)+2*LN((1-F675)/(1-F675*W675)))/(F675^3)),$F$6*F675*(LN((1-E675+E675^2)/(1+E675)^2)/(6*E675)+ATAN((2-E675)/(E675*3^0.5))/(E675*3^0.5)-LN((W675^2-E675*W675+E675^2)/(W675+E675)^2)/(6*E675)-ATAN((2*W675-E675)/(E675*3^0.5))/(E675*3^0.5)))","v":4.0789725576609177},{"$f":"IF($C$2=1,($O$31*D675*$F$6/$O$30)*(1-W675^3-(E675-F675)*(-2*F675^3*(1-W675^3)-3*F675^2*(1-W675^2)-6*F675*(1-W675)-6*LN((1-F675)/(1-F675*W675)))/(2*F675^4))/3,$F$6*F675*(LN((1+E675^3)/(E675^3+W675^3)))/3)","v":2.6990386030010254},{"$f":"$I$35","v":0.66169570028899294},{"$f":"$J$35","v":0.22178006084003529},{"$f":"$K$35","v":90.812088468865227},{"$f":"$L$35","v":5.4776561278259202E-2},{"$f":"$M$35","v":458.32747875640376},{"$f":"$N$35","v":0.27645662211829442},{"$f":"$O$35","v":0.11972660615436539},{"$f":"$P$35","v":2.3534552881082957E-2},{"$f":"$Q$35","v":1.0000000000010001E-4},{"$f":"$R$35","v":0.11972425269907729},null,null,null,null,{"$f":"IF(C675<$C$6,0,(C675-$C$6)/C675)","v":0}]
[null,{"$f":"IF(R656>$Q$29*V656,B656,IF(Q656>Q655,$U$6,-0.5)*B656)","v":-4.7016331746461235E-36},{"$f":"IF(Q656>Q655,C656,(1-$T$6)*C656+$T$6*C657)","v":0.15398187908114286},{"$f":"D656+B676","v":4.5739675128514293E-4},{"$f":"IF($C$2=1,D676/($O$31*$O$30),2^(1/3)*$O$30/D676)","v":9.1580512308429632E-2},{"$f":"IF($C$2=1,-($O$31-2)*D676/$O$30,3*($O$30/D676)^2)","v":-2.9293733106253231E-2},{"$f":"IF($C$2=1,0.5*($O$31*D676*$F$6/$O$30)*(1-W676^2+(E676-F676)*(F676^2*(1-W676^2)+2*F676*(1-W676)+2*LN((1-F676)/(1-F676*W676)))/(F676^3)),$F$6*F676*(LN((1-E676+E676^2)/(1+E676)^2)/(6*E676)+ATAN((2-E676)/(E676*3^0.5))/(E676*3^0.5)-LN((W676^2-E676*W676+E676^2)/(W676+E676)^2)/(6*E676)-ATAN((2*W676-E676)/(E676*3^0.5))/(E676*3^0.5)))","v":5.5647849150413204},{"$f":"IF($C$2=1,($O$31*D676*$F$6/$O$30)*(1-W676^3-(E676-F676)*(-2*F676^3*(1-W676^3)-3*F676^2*(1-W676^2)-6*F676*(1-W676)-6*LN((1-F676)/(1-F676*W676)))/(2*F676^4))/3,$F$6*F676*(LN((1+E676^3)/(E676^3+W676^3)))/3)","v":3.670674299885849},{"$f":"H676/G676","v":0.65962554814368657},{"$f":"G676*C676*$D$6","v":0.35988793591819335},{"$f":"MAX(MIN($K$6,$Q$6*$J$6*D676*(C676-$I$6)/C676),-$K$6)","v":144.31314469897774},{"$f":"K676*$H$6","v":8.704763811892785E-2},{"$f":"MIN($O$6,$Q$6*$N$6*D676*(C$6-C676-$M$6)/C676)","v":458.33333333333337},{"$f":"M676*$L$6","v":0.27646015351590181},{"$f":"(0.5*$C$6-C676+I676*C676)*J676+(0.5*$C$6-$I$6)*L676+(0.5*$C$6-$M$6)*N676","v":0.1546441132198933},{"$f":"0.1*$Q$6*D676*$B$6^2/C676+$R$6","v":2.7639760238660788E-2},{"$f":"(J676+L676-N676)","v":0.17047542052121939},{"$f":"O676-P676*Q676","v":0.14993221347010191},{"$f":"((R676-R675)*(Q676-Q677)-(R676-R677)*(Q676-Q675))/((Q676^2-Q675^2)*(Q676-Q677)-(Q676^2-Q677^2)*(Q676-Q675))","v":-4.9833015348903414E-2},{"$f":"-(S676*(Q676^2-Q675^2)-(R676-R675))/(Q676-Q675)","v":0.18580262774929265},{"$f":"R676-S676*Q676^2-T676*Q676","v":0.1197056729346325},{"$f":"S656*Q676^2+T656*Q676+U656","v":0.14993221347010191},{"$f":"IF(C676<$C$6,0,(C676-$C$6)/C676)","v":0}]
[null,{"$f":"IF(R657>$Q$29*V657,B657,IF(Q657>Q656,$U$6,-0.5)*B657)","v":-1.1245780567626815E-35},{"$f":"IF(Q657>Q656,C657,(1-$T$6)*C657+$T$6*C658)","v":0.17394964462770141},{"$f":"D657+B677","v":5.4994191131377409E-4},0.11011001244867896,-3.5220738950822887E-2,6.5777984233855404,4.3289484764128705,0.65811510140269625,0.48056639323583905,186.22781758609173,0.11232997317552497,458.33333333333337,0.27646015351590181,0.18281920576960167,{"$f":"0.1*$Q$6*D677*$B$6^2/C677+$R$6","v":2.9417386315698506E-2},0.3164362128954622,0.17351047945057924,-3.591644304165513E-2,0.17902648679560904,0.12045639681187423,0.17351047945057924,0]
[null,-1.978168919082643E-35,0.19020714713826217,6.4833572344321494E-4,0.12981053655051306,-4.1522318626953582E-2,7.6144047848790857,4.9986619624952517,0.6564744196974851,0.60829196874086922,229.42791036080226,0.13838765524184715,458.33333333333337,0.27646015351590181,0.21161045333984951,3.1716403264017916E-2,0.47021947046681456,0.19669678299193105,-3.2666223709382027E-2,0.17646968328570242,0.12094001146981198,0.19669678299193105,0]
[null,-4.1915779846300496E-34,0.20976979172988638,8.317346547287057E-4,0.16653088499363783,-5.3268006216457338E-2,9.4372631560026008,6.1655068557644013,0.65331513531471375,0.83145414522861427,306.97597092325702,0.18516354337557084,458.33333333333337,0.27646015351590181,0.2609669144395047,3.6893738135018082E-2,0.7401575350882833,0.23365973616129712,-3.168201295883398E-2,0.17527841722461895,0.12128255271915558,0.23365973616129709,0]
[null,-4.6152151710074412E-32,0.23210975825278549,1.0081012683895029E-3,0.20184321458010143,-6.45633127417376E-2,11.058822488807907,7.1898253430757819,0.6501438421994975,1.0780814580638216,386.41552107443147,0.23308035115017711,458.33333333333337,0.27646015351590181,0.31053986444200971,4.0413044849693741E-2,1.0347016556980968,0.26872442002423014,-3.3076831574738078E-2,0.17775402386453629,0.12021434172404413,0.26872442002423014,0]
[null,-6.1473998760094988E-30,0.25773794179237436,1.2225765494064118E-3,0.24478570609941303,-7.8299268719442566E-2,12.861636823717271,8.3098405789015377,0.64609510381897306,1.3922713572708783,458.33333333333337,0.27646015351590181,458.33333333333337,0.27646015351590181,0.36503088957399682,4.4137579828171451E-2,1.3922713572708783,0.3035794013999768,-4.7493487561576744E-2,0.21274285888185135,9.9445916460164763E-2,0.3035794013999768,0]
[null,8.1303694369357028E-27,0.28728229315396503,1.5532805370088755E-3,0.31099964514025624,-9.9479030759249867E-2,15.289253107432556,9.7757723488470347,0.63938848288767902,1.8447793111921365,458.33333333333337,0.27646015351590181,458.33333333333337,0.27646015351590181,0.42308951617039597,5.0309714479396E-2,1.8447793111921365,0.33027919574682274,-3.8314314148592384E-2,0.18302940944941234,0.12302201199678059,0.33027919574682274,0]
[null,-1.0688311450670572E-23,0.32152034227515802,1.9733666059115963E-3,0.39510976900023542,-0.12638322093881646,17.782577020427158,11.201545531674375,0.62991688543268853,2.4013333050596817,458.33333333333337,0.27646015351590181,458.33333333333337,0.27646015351590181,0.47874040867591322,5.7109733035400116E-2,2.4013333050596817,0.34160090469493976,-4.9262794546795496E-2,0.22951789019700833,7.4521010221433648E-2,0.3416009046949397,0]
[null,-1.1457572188279586E-21,0.36142247287457469,2.3445454838367072E-3,0.4694276379027596,-0.15015517592989672,19.461921689209849,12.075560547681308,0.62047113026748457,2.9542698627983279,458.33333333333337,0.27646015351590181,397.63463384304356,0.2398475605428812,0.50083950995971604,6.0360707316859628E-2,2.9908824557713487,0.3203077294277713,-3.7125174814444779E-2,0.16406922577725305,0.16169467750980315,0.32030772942777125,0]
[null,1.2226832925888606E-22,0.40821011767341625,2.3796898034895218E-3,0.47646427467268171,-0.15240597530094122,19.59635070543893,12.14025587488384,0.6195161567257691,3.3597600235234388,458.33333333333337,0.27646015351590181,216.34065104151506,0.13049360639709248,0.47076645754021057,5.4243461509412089E-2,3.5057265706422482,0.28060371324305455,-1.859858923221171E-2,4.3709242655093711E-2,0.35594993083953375,0.28060371324305455,0]
[null,-1.2996093663497626E-23,0.46343492031952305,2.3994489083901563E-3,0.48042046575727476,-0.15367143672748471,19.67009675462722,12.175283666844999,0.61897426427152014,3.8286400833063494,458.33333333333337,0.27646015351590181,44.335803816560166,2.6742726827731916E-2,0.42134174375642836,4.8176313310380844E-2,4.0783575099945191,0.22486151456318773,-2.4546906731499958E-2,8.882178270801884E-2,0.27090322916245996,0.22486151456318776,0]
[null,-1.3765354401106646E-21,0.52908775969114819,2.3625267353352903E-3,0.47302786510061384,-0.15130677567527298,19.531223437183492,12.109044744125258,0.61998393408741059,4.3401671260107975,458.33333333333337,0.27646015351590181,-113.30798989905054,-6.8345769342697663E-2,0.34290711754669134,4.1548928511208769E-2,4.6849730488693968,0.14825150726227698,-1.6454928814816326E-2,1.7909105349093228E-2,0.42551661090212539,0.14825150726227693,0]
[null,-1.191361896616038E-23,0.60775093154630122,2.2403171511680316E-3,0.44855891927712122,-0.14347992747059454,18.686793519659489,11.839550219255107,0.63357847919704779,4.7699047910583046,458.33333333333337,0.27646015351590181,-243.43681201224064,-0.14683762564434713,0.25287051851207015,3.4300044337697837E-2,5.1932025702185536,7.4743440098927388E-2,2.2414276027718043E-2,-0.366047726259765,1.3712049119524834,7.4743440098927527E-2,0.11147812044306116]
[null,-1.2544160554364489E-23,0.70281369836511054,2.0897030912682734E-3,0.41840279611333081,-0.13383392963533169,17.00284435723724,11.306133936408067,0.6649554450338554,5.0189294086832268,458.33333333333337,0.27646015351590181,-342.47159833541008,-0.20657400141958632,0.18796013658025415,2.7666560966714129E-2,5.5019635636187143,3.5739726210757272E-2,2.8732284106818506E-2,-0.43361987230067062,1.5517281647138055,3.5739726210757272E-2,0.2316598249918132]
[null,1.3174702142568607E-24,0.81878250652390949,1.9703416821976183E-3,0.39450411523762846,-0.12618949129885931,15.095467930182128,10.596192658552637,0.70194529295553898,5.191160128990842,458.33333333333337,0.27646015351590181,-421.4366220130994,-0.25420458156864989,0.13942590796289797,2.2391531587834267E-2,5.7218248640753933,1.1305485778898283E-2,3.4363654949542279E-2,-0.49682518719728769,1.7290108814934202,1.1305485778898339E-2,0.34048419977542432]
[null,-1.1315773549813696E-7,0.9617353344904862,1.9006052242202386E-3,0.38054140008890996,-0.12172325671799475,13.251101399991875,9.8008700847701746,0.73962682715386852,5.3525020236611853,458.33333333333337,0.27646015351590181,-492.13375541801975,-0.29684808779612293,0.10057361767786441,1.8388536117853106E-2,5.9258102649732098,-8.3933584071401446E-3,4.4030962229190888E-2,-0.60942645507102988,2.0567949380390385,-8.3942771709848429E-3,0.43851496286544944]
[null,1.4435785318976815E-6,1.1400001031491622,1.8056437359867128E-3,0.36152809989042273,-0.11564149841107721,11.316048042174275,8.7876805667676976,0.77656797974138192,5.4181242928342108,458.33333333333337,0.27646015351590181,-540.39271313113852,-0.32595720530423833,7.2435052612441889E-2,1.4737980782045636E-2,6.0205416516543506,-1.6295574547145225E-2,1.5279340837501855E-2,-0.26594946775227402,1.0310352011144572,-1.6301959765199214E-2,0.52631583233344303]
[null,null,{"$f":"C673","v":1.3651895295975189},{"$f":"D673+(D692-D672)","v":1.881618427214702E-3},0.37673984139401839,-0.12050725734226664,9.9383867709790259,8.0511500931350088,0.81010633603484661,5.698468255549046,458.33333333333337,0.27646015351590181,-630.68598877645252,-0.38042082605992666,3.947898032667671E-2,1.2824765113453014E-2,6.3553492351248746,-4.2026880827763083E-2,null,null,null,null,0.60445052625095852]
[null,"De","hc","e0","a'","b'","N'","tN'","t","Nc","sac","Nac","sat","Nat","Mtot","u","N","Mo","a''","b''","c''",null,"x"]
[null,null,{"$f":"$C$35","v":0.12945607170440351},{"$f":"$D$35","v":3.2742931933764949E-4},{"$f":"$E$35","v":6.555828113227867E-2},{"$f":"$F$35","v":-2.097003764213403E-2},{"$f":"IF($C$2=1,0.5*($O$31*D695*$F$6/$O$30)*(1-W695^2+(E695-F695)*(F695^2*(1-W695^2)+2*F695*(1-W695)+2*LN((1-F695)/(1-F695*W695)))/(F695^3)),$F$6*F695*(LN((1-E695+E695^2)/(1+E695)^2)/(6*E695)+ATAN((2-E695)/(E695*3^0.5))/(E695*3^0.5)-LN((W695^2-E695*W695+E695^2)/(W695+E695)^2)/(6*E695)-ATAN((2*W695-E695)/(E695*3^0.5))/(E695*3^0.5)))","v":4.0789725576609177},{"$f":"IF($C$2=1,($O$31*D695*$F$6/$O$30)*(1-W695^3-(E695-F695)*(-2*F695^3*(1-W695^3)-3*F695^2*(1-W695^2)-6*F695*(1-W695)-6*LN((1-F695)/(1-F695*W695)))/(2*F695^4))/3,$F$6*F695*(LN((1+E695^3)/(E695^3+W695^3)))/3)","v":2.6990386030010254},{"$f":"$I$35","v":0.66169570028899294},{"$f":"$J$35","v":0.22178006084003529},{"$f":"$K$35","v":90.812088468865227},{"$f":"$L$35","v":5.4776561278259202E-2},{"$f":"$M$35","v":458.32747875640376},{"$f":"$N$35","v":0.27645662211829442},{"$f":"$O$35","v":0.11972660615436539},{"$f":"$P$35","v":2.3534552881082957E-2},{"$f":"$Q$35","v":1.0000000000010001E-4},{"$f":"$R$35","v":0.11972425269907729},null,null,null,null,{"$f":"IF(C695<$C$6,0,(C695-$C$6)/C695)","v":0}]
[null,{"$f":"IF(R676>$Q$29*V676,B676,IF(Q676>Q675,$U$6,-0.5)*B676)","v":4.7016331746461237E-37},{"$f":"IF(Q676>Q675,C676,(1-$T$6)*C676+$T$6*C677)","v":0.15398187908114286},{"$f":"D676+B696","v":4.5739675128514293E-4},{"$f":"IF($C$2=1,D696/($O$31*$O$30),2^(1/3)*$O$30/D696)","v":9.1580512308429632E-2},{"$f":"IF($C$2=1,-($O$31-2)*D696/$O$30,3*($O$30/D696)^2)","v":-2.9293733106253231E-2},{"$f":"IF($C$2=1,0.5*($O$31*D696*$F$6/$O$30)*(1-W696^2+(E696-F696)*(F696^2*(1-W696^2)+2*F696*(1-W696)+2*LN((1-F696)/(1-F696*W696)))/(F696^3)),$F$6*F696*(LN((1-E696+E696^2)/(1+E696)^2)/(6*E696)+ATAN((2-E696)/(E696*3^0.5))/(E696*3^0.5)-LN((W696^2-E696*W696+E696^2)/(W696+E696)^2)/(6*E696)-ATAN((2*W696-E696)/(E696*3^0.5))/(E696*3^0.5)))","v":5.5647849150413204},{"$f":"IF($C$2=1,($O$31*D696*$F$6/$O$30)*(1-W696^3-(E696-F696)*(-2*F696^3*(1-W696^3)-3*F696^2*(1-W696^2)-6*F696*(1-W696)-6*LN((1-F696)/(1-F696*W696)))/(2*F696^4))/3,$F$6*F696*(LN((1+E696^3)/(E696^3+W696^3)))/3)","v":3.670674299885849},{"$f":"H696/G696","v":0.65962554814368657},{"$f":"G696*C696*$D$6","v":0.35988793591819335},{"$f":"MAX(MIN($K$6,$Q$6*$J$6*D696*(C696-$I$6)/C696),-$K$6)","v":144.31314469897774},{"$f":"K696*$H$6","v":8.704763811892785E-2},{"$f":"MIN($O$6,$Q$6*$N$6*D696*(C$6-C696-$M$6)/C696)","v":458.33333333333337},{"$f":"M696*$L$6","v":0.27646015351590181},{"$f":"(0.5*$C$6-C696+I696*C696)*J696+(0.5*$C$6-$I$6)*L696+(0.5*$C$6-$M$6)*N696","v":0.1546441132198933},{"$f":"0.1*$Q$6*D696*$B$6^2/C696+$R$6","v":2.7639760238660788E-2},{"$f":"(J696+L696-N696)","v":0.17047542052121939},{"$f":"O696-P696*Q696","v":0.14993221347010191},{"$f":"((R696-R695)*(Q696-Q697)-(R696-R697)*(Q696-Q695))/((Q696^2-Q695^2)*(Q696-Q697)-(Q696^2-Q697^2)*(Q696-Q695))","v":-4.9833015348903414E-2},{"$f":"-(S696*(Q696^2-Q695^2)-(R696-R695))/(Q696-Q695)","v":0.18580262774929265},{"$f":"R696-S696*Q696^2-T696*Q696","v":0.1197056729346325},{"$f":"S676*Q696^2+T676*Q696+U676","v":0.14993221347010191},{"$f":"IF(C696<$C$6,0,(C696-$C$6)/C696)","v":0}]
[null,{"$f":"IF(R677>$Q$29*V677,B677,IF(Q677>Q676,$U$6,-0.5)*B677)","v":1.1245780567626816E-36},{"$f":"IF(Q677>Q676,C677,(1-$T$6)*C677+$T$6*C678)","v":0.17394964462770141},{"$f":"D677+B697","v":5.4994191131377409E-4},0.11011001244867896,-3.5220738950822887E-2,6.5777984233855404,4.3289484764128705,0.65811510140269625,0.48056639323583905,186.22781758609173,0.11232997317552497,458.33333333333337,0.27646015351590181,0.18281920576960167,{"$f":"0.1*$Q$6*D697*$B$6^2/C697+$R$6","v":2.9417386315698506E-2},0.3164362128954622,0.17351047945057924,-3.591644304165513E-2,0.17902648679560904,0.12045639681187423,0.17351047945057924,0]
[null,1.9781689190826431E-36,0.19020714713826217,6.4833572344321494E-4,0.12981053655051306,-4.1522318626953582E-2,7.6144047848790857,4.9986619624952517,0.6564744196974851,0.60829196874086922,229.42791036080226,0.13838765524184715,458.33333333333337,0.27646015351590181,0.21161045333984951,3.1716403264017916E-2,0.47021947046681456,0.19669678299193105,-3.2666223709382027E-2,0.17646968328570242,0.12094001146981198,0.19669678299193105,0]
[null,4.1915779846300501E-35,0.20976979172988638,8.317346547287057E-4,0.16653088499363783,-5.3268006216457338E-2,9.4372631560026008,6.1655068557644013,0.65331513531471375,0.83145414522861427,306.97597092325702,0.18516354337557084,458.33333333333337,0.27646015351590181,0.2609669144395047,3.6893738135018082E-2,0.7401575350882833,0.23365973616129712,-3.168201295883398E-2,0.17527841722461895,0.12128255271915558,0.23365973616129709,0]
[null,4.6152151710074416E-33,0.23210975825278549,1.0081012683895029E-3,0.20184321458010143,-6.45633127417376E-2,11.058822488807907,7.1898253430757819,0.6501438421994975,1.0780814580638216,386.41552107443147,0.23308035115017711,458.33333333333337,0.27646015351590181,0.31053986444200971,4.0413044849693741E-2,1.0347016556980968,0.26872442002423014,-3.3076831574738078E-2,0.17775402386453629,0.12021434172404413,0.26872442002423014,0]
[null,6.147399876009499E-31,0.25773794179237436,1.2225765494064118E-3,0.24478570609941303,-7.8299268719442566E-2,12.861636823717271,8.3098405789015377,0.64609510381897306,1.3922713572708783,458.33333333333337,0.27646015351590181,458.33333333333337,0.27646015351590181,0.36503088957399682,4.4137579828171451E-2,1.3922713572708783,0.3035794013999768,-4.7493487561576744E-2,0.21274285888185135,9.9445916460164763E-2,0.3035794013999768,0]
[null,-8.1303694369357028E-28,0.28728229315396503,1.5532805370088755E-3,0.31099964514025624,-9.9479030759249867E-2,15.289253107432556,9.7757723488470347,0.63938848288767902,1.8447793111921365,458.33333333333337,0.27646015351590181,458.33333333333337,0.27646015351590181,0.42308951617039597,5.0309714479396E-2,1.8447793111921365,0.33027919574682274,-3.8314314148592384E-2,0.18302940944941234,0.12302201199678059,0.33027919574682274,0]
[null,1.0688311450670573E-24,0.32152034227515802,1.9733666059115963E-3,0.39510976900023542,-0.12638322093881646,17.782577020427158,11.201545531674375,0.62991688543268853,2.4013333050596817,458.33333333333337,0.27646015351590181,458.33333333333337,0.27646015351590181,0.47874040867591322,5.7109733035400116E-2,2.4013333050596817,0.34160090469493976,-4.9262794546795496E-2,0.22951789019700833,7.4521010221433648E-2,0.3416009046949397,0]
[null,1.1457572188279587E-22,0.36142247287457469,2.3445454838367072E-3,0.4694276379027596,-0.15015517592989672,19.461921689209849,12.075560547681308,0.62047113026748457,2.9542698627983279,458.33333333333337,0.27646015351590181,397.63463384304356,0.2398475605428812,0.50083950995971604,6.0360707316859628E-2,2.9908824557713487,0.3203077294277713,-3.7125174814444779E-2,0.16406922577725305,0.16169467750980315,0.32030772942777125,0]
[null,-1.2226832925888607E-23,0.40821011767341625,2.3796898034895218E-3,0.47646427467268171,-0.15240597530094122,19.59635070543893,12.14025587488384,0.6195161567257691,3.3597600235234388,458.33333333333337,0.27646015351590181,216.34065104151506,0.13049360639709248,0.47076645754021057,5.4243461509412089E-2,3.5057265706422482,0.28060371324305455,-1.859858923221171E-2,4.3709242655093711E-2,0.35594993083953375,0.28060371324305455,0]
[null,1.2996093663497626E-24,0.46343492031952305,2.3994489083901563E-3,0.48042046575727476,-0.15367143672748471,19.67009675462722,12.175283666844999,0.61897426427152014,3.8286400833063494,458.33333333333337,0.27646015351590181,44.335803816560166,2.6742726827731916E-2,0.42134174375642836,4.8176313310380844E-2,4.0783575099945191,0.22486151456318773,-2.4546906731499958E-2,8.882178270801884E-2,0.27090322916245996,0.22486151456318776,0]
[null,1.3765354401106647E-22,0.52908775969114819,2.3625267353352903E-3,0.47302786510061384,-0.15130677567527298,19.531223437183492,12.109044744125258,0.61998393408741059,4.3401671260107975,458.33333333333337,0.27646015351590181,-113.30798989905054,-6.8345769342697663E-2,0.34290711754669134,4.1548928511208769E-2,4.6849730488693968,0.14825150726227698,-1.6454928814816326E-2,1.7909105349093228E-2,0.42551661090212539,0.14825150726227693,0]
[null,1.191361896616038E-24,0.60775093154630122,2.2403171511680316E-3,0.44855891927712122,-0.14347992747059454,18.686793519659489,11.839550219255107,0.63357847919704779,4.7699047910583046,458.33333333333337,0.27646015351590181,-243.43681201224064,-0.14683762564434713,0.25287051851207015,3.4300044337697837E-2,5.1932025702185536,7.4743440098927388E-2,2.2414276027718043E-2,-0.366047726259765,1.3712049119524834,7.4743440098927527E-2,0.11147812044306116]
[null,1.2544160554364489E-24,0.70281369836511054,2.0897030912682734E-3,0.41840279611333081,-0.13383392963533169,17.00284435723724,11.306133936408067,0.6649554450338554,5.0189294086832268,458.33333333333337,0.27646015351590181,-342.47159833541008,-0.20657400141958632,0.18796013658025415,2.7666560966714129E-2,5.5019635636187143,3.5739726210757272E-2,2.8732284106818506E-2,-0.43361987230067062,1.5517281647138055,3.5739726210757272E-2,0.2316598249918132]
[null,-1.3174702142568609E-25,0.81878250652390949,1.9703416821976183E-3,0.39450411523762846,-0.12618949129885931,15.095467930182128,10.596192658552637,0.70194529295553898,5.191160128990842,458.33333333333337,0.27646015351590181,-421.4366220130994,-0.25420458156864989,0.13942590796289797,2.2391531587834267E-2,5.7218248640753933,1.1305485778898283E-2,3.4370059178608969E-2,-0.49689706690937474,1.729212494770104,1.1305485778898339E-2,0.34048419977542432]
[null,-1.1315773549813696E-7,0.9617353344904862,1.9004920664847404E-3,0.38051874351480997,-0.12171600959065229,13.250694231165541,9.8005857678705937,0.73962809773541405,5.3523375564292817,458.33333333333337,0.27646015351590181,-492.10445488752788,-0.29683041413250572,0.1005806476067421,1.8387441306011224E-2,5.9256281240776891,-8.3764917259858129E-3,4.3940981433326129E-2,-0.60837393392446071,2.0537185028228411,-8.3774035533670244E-3,0.43851496286544944]
[null,1.4435785318976815E-6,1.1400001031491622,1.8070873145186103E-3,0.36181713487184136,-0.11573395163491955,11.320758445233944,8.7912064275893815,0.776556312027883,5.4203796340232469,458.33333333333337,0.27646015351590181,-540.82474703900323,-0.32621780201803979,7.2342708247736323E-2,1.4749763523145921E-2,6.0230575895571885,-1.6495966884521499E-2,1.4911395351609597E-2,-0.26150853343711988,1.0176409798253734,-1.6501708383898972E-2,0.52631583233344303]
[null,0,{"$f":"C693","v":1.3651895295975189},{"$f":"D693+(D712-D692)","v":1.8830620057465996E-3},0.37702887637543697,-0.12059971056610898,9.9419407279540266,8.0539425392696398,0.81009762174744704,5.7005060219864285,458.33333333333337,0.27646015351590181,-631.16985136017206,-0.3807126850944918,3.9371797633640571E-2,1.2834604279208749E-2,6.3576788605968222,-4.2226494676410403E-2,null,null,null,null,0.60445052625095852]
[null,"De","hc","e0","a'","b'","N'","tN'","t","Nc","sac","Nac","sat","Nat","Mtot","u","N","Mo","a''","b''","c''",null,"x"]
[null,null,{"$f":"$C$35","v":0.12945607170440351},{"$f":"$D$35","v":3.2742931933764949E-4},{"$f":"$E$35","v":6.555828113227867E-2},{"$f":"$F$35","v":-2.097003764213403E-2},{"$f":"IF($C$2=1,0.5*($O$31*D715*$F$6/$O$30)*(1-W715^2+(E715-F715)*(F715^2*(1-W715^2)+2*F715*(1-W715)+2*LN((1-F715)/(1-F715*W715)))/(F715^3)),$F$6*F715*(LN((1-E715+E715^2)/(1+E715)^2)/(6*E715)+ATAN((2-E715)/(E715*3^0.5))/(E715*3^0.5)-LN((W715^2-E715*W715+E715^2)/(W715+E715)^2)/(6*E715)-ATAN((2*W715-E715)/(E715*3^0.5))/(E715*3^0.5)))","v":4.0789725576609177},{"$f":"IF($C$2=1,($O$31*D715*$F$6/$O$30)*(1-W715^3-(E715-F715)*(-2*F715^3*(1-W715^3)-3*F715^2*(1-W715^2)-6*F715*(1-W715)-6*LN((1-F715)/(1-F715*W715)))/(2*F715^4))/3,$F$6*F715*(LN((1+E715^3)/(E715^3+W715^3)))/3)","v":2.6990386030010254},{"$f":"$I$35","v":0.66169570028899294},{"$f":"$J$35","v":0.22178006084003529},{"$f":"$K$35","v":90.812088468865227},{"$f":"$L$35","v":5.4776561278259202E-2},{"$f":"$M$35","v":458.32747875640376},{"$f":"$N$35","v":0.27645662211829442},{"$f":"$O$35","v":0.11972660615436539},{"$f":"$P$35","v":2.3534552881082957E-2},{"$f":"$Q$35","v":1.0000000000010001E-4},{"$f":"$R$35","v":0.11972425269907729},null,null,null,null,{"$f":"IF(C715<$C$6,0,(C715-$C$6)/C715)","v":0}]
[null,{"$f":"IF(R696>$Q$29*V696,B696,IF(Q696>Q695,$U$6,-0.5)*B696)","v":-4.7016331746461238E-38},{"$f":"IF(Q696>Q695,C696,(1-$T$6)*C696+$T$6*C697)","v":0.15398187908114286},{"$f":"D696+B716","v":4.5739675128514293E-4},{"$f":"IF($C$2=1,D716/($O$31*$O$30),2^(1/3)*$O$30/D716)","v":9.1580512308429632E-2},{"$f":"IF($C$2=1,-($O$31-2)*D716/$O$30,3*($O$30/D716)^2)","v":-2.9293733106253231E-2},{"$f":"IF($C$2=1,0.5*($O$31*D716*$F$6/$O$30)*(1-W716^2+(E716-F716)*(F716^2*(1-W716^2)+2*F716*(1-W716)+2*LN((1-F716)/(1-F716*W716)))/(F716^3)),$F$6*F716*(LN((1-E716+E716^2)/(1+E716)^2)/(6*E716)+ATAN((2-E716)/(E716*3^0.5))/(E716*3^0.5)-LN((W716^2-E716*W716+E716^2)/(W716+E716)^2)/(6*E716)-ATAN((2*W716-E716)/(E716*3^0.5))/(E716*3^0.5)))","v":5.5647849150413204},{"$f":"IF($C$2=1,($O$31*D716*$F$6/$O$30)*(1-W716^3-(E716-F716)*(-2*F716^3*(1-W716^3)-3*F716^2*(1-W716^2)-6*F716*(1-W716)-6*LN((1-F716)/(1-F716*W716)))/(2*F716^4))/3,$F$6*F716*(LN((1+E716^3)/(E716^3+W716^3)))/3)","v":3.670674299885849},{"$f":"H716/G716","v":0.65962554814368657},{"$f":"G716*C716*$D$6","v":0.35988793591819335},{"$f":"MAX(MIN($K$6,$Q$6*$J$6*D716*(C716-$I$6)/C716),-$K$6)","v":144.31314469897774},{"$f":"K716*$H$6","v":8.704763811892785E-2},{"$f":"MIN($O$6,$Q$6*$N$6*D716*(C$6-C716-$M$6)/C716)","v":458.33333333333337},{"$f":"M716*$L$6","v":0.27646015351590181},{"$f":"(0.5*$C$6-C716+I716*C716)*J716+(0.5*$C$6-$I$6)*L716+(0.5*$C$6-$M$6)*N716","v":0.1546441132198933},{"$f":"0.1*$Q$6*D716*$B$6^2/C716+$R$6","v":2.7639760238660788E-2},{"$f":"(J716+L716-N716)","v":0.17047542052121939},{"$f":"O716-P716*Q716","v":0.14993221347010191},{"$f":"((R716-R715)*(Q716-Q717)-(R716-R717)*(Q716-Q715))/((Q716^2-Q715^2)*(Q716-Q717)-(Q716^2-Q717^2)*(Q716-Q715))","v":-4.9833015348903414E-2},{"$f":"-(S716*(Q716^2-Q715^2)-(R716-R715))/(Q716-Q715)","v":0.18580262774929265},{"$f":"R716-S716*Q716^2-T716*Q716","v":0.1197056729346325},{"$f":"S696*Q716^2+T696*Q716+U696","v":0.14993221347010191},{"$f":"IF(C716<$C$6,0,(C716-$C$6)/C716)","v":0}]
[null,{"$f":"IF(R697>$Q$29*V697,B697,IF(Q697>Q696,$U$6,-0.5)*B697)","v":-1.1245780567626817E-37},{"$f":"IF(Q697>Q696,C697,(1-$T$6)*C697+$T$6*C698)","v":0.17394964462770141},{"$f":"D697+B717","v":5.4994191131377409E-4},0.11011001244867896,-3.5220738950822887E-2,6.5777984233855404,4.3289484764128705,0.65811510140269625,0.48056639323583905,186.22781758609173,0.11232997317552497,458.33333333333337,0.27646015351590181,0.18281920576960167,{"$f":"0.1*$Q$6*D717*$B$6^2/C717+$R$6","v":2.9417386315698506E-2},0.3164362128954622,0.17351047945057924,-3.591644304165513E-2,0.17902648679560904,0.12045639681187423,0.17351047945057924,0]
[null,-1.9781689190826432E-37,0.19020714713826217,6.4833572344321494E-4,0.12981053655051306,-4.1522318626953582E-2,7.6144047848790857,4.9986619624952517,0.6564744196974851,0.60829196874086922,229.42791036080226,0.13838765524184715,458.33333333333337,0.27646015351590181,0.21161045333984951,3.1716403264017916E-2,0.47021947046681456,0.19669678299193105,-3.2666223709382027E-2,0.17646968328570242,0.12094001146981198,0.19669678299193105,0]
[null,-4.1915779846300501E-36,0.20976979172988638,8.317346547287057E-4,0.16653088499363783,-5.3268006216457338E-2,9.4372631560026008,6.1655068557644013,0.65331513531471375,0.83145414522861427,306.97597092325702,0.18516354337557084,458.33333333333337,0.27646015351590181,0.2609669144395047,3.6893738135018082E-2,0.7401575350882833,0.23365973616129712,-3.168201295883398E-2,0.17527841722461895,0.12128255271915558,0.23365973616129709,0]
[null,-4.6152151710074414E-34,0.23210975825278549,1.0081012683895029E-3,0.20184321458010143,-6.45633127417376E-2,11.058822488807907,7.1898253430757819,0.6501438421994975,1.0780814580638216,386.41552107443147,0.23308035115017711,458.33333333333337,0.27646015351590181,0.31053986444200971,4.0413044849693741E-2,1.0347016556980968,0.26872442002423014,-3.3076831574738078E-2,0.17775402386453629,0.12021434172404413,0.26872442002423014,0]
[null,-6.1473998760094998E-32,0.25773794179237436,1.2225765494064118E-3,0.24478570609941303,-7.8299268719442566E-2,12.861636823717271,8.3098405789015377,0.64609510381897306,1.3922713572708783,458.33333333333337,0.27646015351590181,458.33333333333337,0.27646015351590181,0.36503088957399682,4.4137579828171451E-2,1.3922713572708783,0.3035794013999768,-4.7493487561576744E-2,0.21274285888185135,9.9445916460164763E-2,0.3035794013999768,0]
[null,8.1303694369357028E-29,0.28728229315396503,1.5532805370088755E-3,0.31099964514025624,-9.9479030759249867E-2,15.289253107432556,9.7757723488470347,0.63938848288767902,1.8447793111921365,458.33333333333337,0.27646015351590181,458.33333333333337,0.27646015351590181,0.42308951617039597,5.0309714479396E-2,1.8447793111921365,0.33027919574682274,-3.8314314148592384E-2,0.18302940944941234,0.12302201199678059,0.33027919574682274,0]
[null,-1.0688311450670574E-25,0.32152034227515802,1.9733666059115963E-3,0.39510976900023542,-0.12638322093881646,17.782577020427158,11.201545531674375,0.62991688543268853,2.4013333050596817,458.33333333333337,0.27646015351590181,458.33333333333337,0.27646015351590181,0.47874040867591322,5.7109733035400116E-2,2.4013333050596817,0.34160090469493976,-4.9262794546795496E-2,0.22951789019700833,7.4521010221433648E-2,0.3416009046949397,0]
[null,-1.1457572188279588E-23,0.36142247287457469,2.3445454838367072E-3,0.4694276379027596,-0.15015517592989672,19.461921689209849,12.075560547681308,0.62047113026748457,2.9542698627983279,458.33333333333337,0.27646015351590181,397.63463384304356,0.2398475605428812,0.50083950995971604,6.0360707316859628E-2,2.9908824557713487,0.3203077294277713,-3.7125174814444779E-2,0.16406922577725305,0.16169467750980315,0.32030772942777125,0]
[null,1.2226832925888608E-24,0.40821011767341625,2.3796898034895218E-3,0.47646427467268171,-0.15240597530094122,19.59635070543893,12.14025587488384,0.6195161567257691,3.3597600235234388,458.33333333333337,0.27646015351590181,216.34065104151506,0.13049360639709248,0.47076645754021057,5.4243461509412089E-2,3.5057265706422482,0.28060371324305455,-1.859858923221171E-2,4.3709242655093711E-2,0.35594993083953375,0.28060371324305455,0]
[null,-1.2996093663497627E-25,0.46343492031952305,2.3994489083901563E-3,0.48042046575727476,-0.15367143672748471,19.67009675462722,12.175283666844999,0.61897426427152014,3.8286400833063494,458.33333333333337,0.27646015351590181,44.335803816560166,2.6742726827731916E-2,0.42134174375642836,4.8176313310380844E-2,4.0783575099945191,0.22486151456318773,-2.4546906731499958E-2,8.882178270801884E-2,0.27090322916245996,0.22486151456318776,0]
[null,-1.3765354401106646E-23,0.52908775969114819,2.3625267353352903E-3,0.47302786510061384,-0.15130677567527298,19.531223437183492,12.109044744125258,0.61998393408741059,4.3401671260107975,458.33333333333337,0.27646015351590181,-113.30798989905054,-6.8345769342697663E-2,0.34290711754669134,4.1548928511208769E-2,4.6849730488693968,0.14825150726227698,-1.6454928814816326E-2,1.7909105349093228E-2,0.42551661090212539,0.14825150726227693,0]
[null,-1.1913618966160381E-25,0.60775093154630122,2.2403171511680316E-3,0.44855891927712122,-0.14347992747059454,18.686793519659489,11.839550219255107,0.63357847919704779,4.7699047910583046,458.33333333333337,0.27646015351590181,-243.43681201224064,-0.14683762564434713,0.25287051851207015,3.4300044337697837E-2,5.1932025702185536,7.4743440098927388E-2,2.2414276027718043E-2,-0.366047726259765,1.3712049119524834,7.4743440098927527E-2,0.11147812044306116]
[null,-1.254416055436449E-25,0.70281369836511054,2.0897030912682734E-3,0.41840279611333081,-0.13383392963533169,17.00284435723724,11.306133936408067,0.6649554450338554,5.0189294086832268,458.33333333333337,0.27646015351590181,-342.47159833541008,-0.20657400141958632,0.18796013658025415,2.7666560966714129E-2,5.5019635636187143,3.5739726210757272E-2,2.8732284106818506E-2,-0.43361987230067062,1.5517281647138055,3.5739726210757272E-2,0.2316598249918132]
[null,1.3174702142568609E-26,0.81878250652390949,1.9703416821976183E-3,0.39450411523762846,-0.12618949129885931,15.095467930182128,10.596192658552637,0.70194529295553898,5.191160128990842,458.33333333333337,0.27646015351590181,-421.4366220130994,-0.25420458156864989,0.13942590796289797,2.2391531587834267E-2,5.7218248640753933,1.1305485778898283E-2,3.4376423929746845E-2,-0.49696850352954114,1.7294128652313756,1.1305485778898339E-2,0.34048419977542432]
[null,-1.1315773549813696E-7,0.9617353344904862,1.9003789087492422E-3,0.38049608694070997,-0.12170876246330983,13.250287020822606,9.8003014185488819,0.73962936826559844,5.3521730724276262,458.33333333333337,0.27646015351590181,-492.0751543570359,-0.29681274046888845,0.10058767654073991,1.8386346494169339E-2,5.9254459664124157,-8.3596261301968622E-3,4.3825291345580941E-2,-0.6070220213631321,2.0497707060652766,-8.3605299588538351E-3,0.43851496286544944]
[null,1.4435785318976815E-6,1.1400001031491622,1.8085308930505079E-3,0.36210616985325994,-0.11582640485876189,11.325462510881575,8.7947271854523006,0.77654463797856133,5.4226319408591257,458.33333333333337,0.27646015351590181,-541.25678094686805,-0.32647839873184137,7.225021841189809E-2,1.4761546264246203E-2,6.0255704931068683,-1.6696519190575757E-2,1.4567178927506346E-2,-0.2573578382802581,1.0051334317986038,-1.6701639688809999E-2,0.52631583233344303]
[null,0,{"$f":"C713","v":1.3651895295975189},{"$f":"D713+(D732-D712)","v":1.8845055842784972E-3},0.37731791135685555,-0.12069216378995133,9.9454890118295953,8.0567302765867108,0.81008890231578223,5.7025405355843137,458.33333333333337,0.27646015351590181,-631.65371394389149,-0.38100454412905693,3.92644914866256E-2,1.2844443444964484E-2,6.3600052332292725,-4.2426236041265941E-2,null,null,null,null,0.60445052625095852]
[null,"De","hc","e0","a'","b'","N'","tN'","t","Nc","sac","Nac","sat","Nat","Mtot","u","N","Mo","a''","b''","c''",null,"x"]
[null,null,{"$f":"$C$35","v":0.12945607170440351},{"$f":"$D$35","v":3.2742931933764949E-4},{"$f":"$E$35","v":6.555828113227867E-2},{"$f":"$F$35","v":-2.097003764213403E-2},{"$f":"IF($C$2=1,0.5*($O$31*D735*$F$6/$O$30)*(1-W735^2+(E735-F735)*(F735^2*(1-W735^2)+2*F735*(1-W735)+2*LN((1-F735)/(1-F735*W735)))/(F735^3)),$F$6*F735*(LN((1-E735+E735^2)/(1+E735)^2)/(6*E735)+ATAN((2-E735)/(E735*3^0.5))/(E735*3^0.5)-LN((W735^2-E735*W735+E735^2)/(W735+E735)^2)/(6*E735)-ATAN((2*W735-E735)/(E735*3^0.5))/(E735*3^0.5)))","v":4.0789725576609177},{"$f":"IF($C$2=1,($O$31*D735*$F$6/$O$30)*(1-W735^3-(E735-F735)*(-2*F735^3*(1-W735^3)-3*F735^2*(1-W735^2)-6*F735*(1-W735)-6*LN((1-F735)/(1-F735*W735)))/(2*F735^4))/3,$F$6*F735*(LN((1+E735^3)/(E735^3+W735^3)))/3)","v":2.6990386030010254},{"$f":"$I$35","v":0.66169570028899294},{"$f":"$J$35","v":0.22178006084003529},{"$f":"$K$35","v":90.812088468865227},{"$f":"$L$35","v":5.4776561278259202E-2},{"$f":"$M$35","v":458.32747875640376},{"$f":"$N$35","v":0.27645662211829442},{"$f":"$O$35","v":0.11972660615436539},{"$f":"$P$35","v":2.3534552881082957E-2},{"$f":"$Q$35","v":1.0000000000010001E-4},{"$f":"$R$35","v":0.11972425269907729},null,null,null,null,{"$f":"IF(C735<$C$6,0,(C735-$C$6)/C735)","v":0}]
[null,{"$f":"IF(R716>$Q$29*V716,B716,IF(Q716>Q715,$U$6,-0.5)*B716)","v":4.7016331746461241E-39},{"$f":"IF(Q716>Q715,C716,(1-$T$6)*C716+$T$6*C717)","v":0.15398187908114286},{"$f":"D716+B736","v":4.5739675128514293E-4},{"$f":"IF($C$2=1,D736/($O$31*$O$30),2^(1/3)*$O$30/D736)","v":9.1580512308429632E-2},{"$f":"IF($C$2=1,-($O$31-2)*D736/$O$30,3*($O$30/D736)^2)","v":-2.9293733106253231E-2},{"$f":"IF($C$2=1,0.5*($O$31*D736*$F$6/$O$30)*(1-W736^2+(E736-F736)*(F736^2*(1-W736^2)+2*F736*(1-W736)+2*LN((1-F736)/(1-F736*W736)))/(F736^3)),$F$6*F736*(LN((1-E736+E736^2)/(1+E736)^2)/(6*E736)+ATAN((2-E736)/(E736*3^0.5))/(E736*3^0.5)-LN((W736^2-E736*W736+E736^2)/(W736+E736)^2)/(6*E736)-ATAN((2*W736-E736)/(E736*3^0.5))/(E736*3^0.5)))","v":5.5647849150413204},{"$f":"IF($C$2=1,($O$31*D736*$F$6/$O$30)*(1-W736^3-(E736-F736)*(-2*F736^3*(1-W736^3)-3*F736^2*(1-W736^2)-6*F736*(1-W736)-6*LN((1-F736)/(1-F736*W736)))/(2*F736^4))/3,$F$6*F736*(LN((1+E736^3)/(E736^3+W736^3)))/3)","v":3.670674299885849},{"$f":"H736/G736","v":0.65962554814368657},{"$f":"G736*C736*$D$6","v":0.35988793591819335},{"$f":"MAX(MIN($K$6,$Q$6*$J$6*D736*(C736-$I$6)/C736),-$K$6)","v":144.31314469897774},{"$f":"K736*$H$6","v":8.704763811892785E-2},{"$f":"MIN($O$6,$Q$6*$N$6*D736*(C$6-C736-$M$6)/C736)","v":458.33333333333337},{"$f":"M736*$L$6","v":0.27646015351590181},{"$f":"(0.5*$C$6-C736+I736*C736)*J736+(0.5*$C$6-$I$6)*L736+(0.5*$C$6-$M$6)*N736","v":0.1546441132198933},{"$f":"0.1*$Q$6*D736*$B$6^2/C736+$R$6","v":2.7639760238660788E-2},{"$f":"(J736+L736-N736)","v":0.17047542052121939},{"$f":"O736-P736*Q736","v":0.14993221347010191},{"$f":"((R736-R735)*(Q736-Q737)-(R736-R737)*(Q736-Q735))/((Q736^2-Q735^2)*(Q736-Q737)-(Q736^2-Q737^2)*(Q736-Q735))","v":-4.9833015348903414E-2},{"$f":"-(S736*(Q736^2-Q735^2)-(R736-R735))/(Q736-Q735)","v":0.18580262774929265},{"$f":"R736-S736*Q736^2-T736*Q736","v":0.1197056729346325},{"$f":"S716*Q736^2+T716*Q736+U716","v":0.14993221347010191},{"$f":"IF(C736<$C$6,0,(C736-$C$6)/C736)","v":0}]
[null,{"$f":"IF(R717>$Q$29*V717,B717,IF(Q717>Q716,$U$6,-0.5)*B717)","v":1.1245780567626817E-38},{"$f":"IF(Q717>Q716,C717,(1-$T$6)*C717+$T$6*C718)","v":0.17394964462770141},{"$f":"D717+B737","v":5.4994191131377409E-4},0.11011001244867896,-3.5220738950822887E-2,6.5777984233855404,4.3289484764128705,0.65811510140269625,0.48056639323583905,186.22781758609173,0.11232997317552497,458.33333333333337,0.27646015351590181,0.18281920576960167,{"$f":"0.1*$Q$6*D737*$B$6^2/C737+$R$6","v":2.9417386315698506E-2},0.3164362128954622,0.17351047945057924,-3.591644304165513E-2,0.17902648679560904,0.12045639681187423,0.17351047945057924,0]
[null,1.9781689190826434E-38,0.19020714713826217,6.4833572344321494E-4,0.12981053655051306,-4.1522318626953582E-2,7.6144047848790857,4.9986619624952517,0.6564744196974851,0.60829196874086922,229.42791036080226,0.13838765524184715,458.33333333333337,0.27646015351590181,0.21161045333984951,3.1716403264017916E-2,0.47021947046681456,0.19669678299193105,-3.2666223709382027E-2,0.17646968328570242,0.12094001146981198,0.19669678299193105,0]
[null,4.1915779846300504E-37,0.20976979172988638,8.317346547287057E-4,0.16653088499363783,-5.3268006216457338E-2,9.4372631560026008,6.1655068557644013,0.65331513531471375,0.83145414522861427,306.97597092325702,0.18516354337557084,458.33333333333337,0.27646015351590181,0.2609669144395047,3.6893738135018082E-2,0.7401575350882833,0.23365973616129712,-3.168201295883398E-2,0.17527841722461895,0.12128255271915558,0.23365973616129709,0]
[null,4.6152151710074417E-35,0.23210975825278549,1.0081012683895029E-3,0.20184321458010143,-6.45633127417376E-2,11.058822488807907,7.1898253430757819,0.6501438421994975,1.0780814580638216,386.41552107443147,0.23308035115017711,458.33333333333337,0.27646015351590181,0.31053986444200971,4.0413044849693741E-2,1.0347016556980968,0.26872442002423014,-3.3076831574738078E-2,0.17775402386453629,0.12021434172404413,0.26872442002423014,0]
[null,6.1473998760095001E-33,0.25773794179237436,1.2225765494064118E-3,0.24478570609941303,-7.8299268719442566E-2,12.861636823717271,8.3098405789015377,0.64609510381897306,1.3922713572708783,458.33333333333337,0.27646015351590181,458.33333333333337,0.27646015351590181,0.36503088957399682,4.4137579828171451E-2,1.3922713572708783,0.3035794013999768,-4.7493487561576744E-2,0.21274285888185135,9.9445916460164763E-2,0.3035794013999768,0]
[null,-8.1303694369357028E-30,0.28728229315396503,1.5532805370088755E-3,0.31099964514025624,-9.9479030759249867E-2,15.289253107432556,9.7757723488470347,0.63938848288767902,1.8447793111921365,458.33333333333337,0.27646015351590181,458.33333333333337,0.27646015351590181,0.42308951617039597,5.0309714479396E-2,1.8447793111921365,0.33027919574682274,-3.8314314148592384E-2,0.18302940944941234,0.12302201199678059,0.33027919574682274,0]
[null,1.0688311450670575E-26,0.32152034227515802,1.9733666059115963E-3,0.39510976900023542,-0.12638322093881646,17.782577020427158,11.201545531674375,0.62991688543268853,2.4013333050596817,458.33333333333337,0.27646015351590181,458.33333333333337,0.27646015351590181,0.47874040867591322,5.7109733035400116E-2,2.4013333050596817,0.34160090469493976,-4.9262794546795496E-2,0.22951789019700833,7.4521010221433648E-2,0.3416009046949397,0]
[null,1.1457572188279589E-24,0.36142247287457469,2.3445454838367072E-3,0.4694276379027596,-0.15015517592989672,19.461921689209849,12.075560547681308,0.62047113026748457,2.9542698627983279,458.33333333333337,0.27646015351590181,397.63463384304356,0.2398475605428812,0.50083950995971604,6.0360707316859628E-2,2.9908824557713487,0.3203077294277713,-3.7125174814444779E-2,0.16406922577725305,0.16169467750980315,0.32030772942777125,0]
[null,-1.2226832925888608E-25,0.40821011767341625,2.3796898034895218E-3,0.47646427467268171,-0.15240597530094122,19.59635070543893,12.14025587488384,0.6195161567257691,3.3597600235234388,458.33333333333337,0.27646015351590181,216.34065104151506,0.13049360639709248,0.47076645754021057,5.4243461509412089E-2,3.5057265706422482,0.28060371324305455,-1.859858923221171E-2,4.3709242655093711E-2,0.35594993083953375,0.28060371324305455,0]
[null,1.2996093663497626E-26,0.46343492031952305,2.3994489083901563E-3,0.48042046575727476,-0.15367143672748471,19.67009675462722,12.175283666844999,0.61897426427152014,3.8286400833063494,458.33333333333337,0.27646015351590181,44.335803816560166,2.6742726827731916E-2,0.42134174375642836,4.8176313310380844E-2,4.0783575099945191,0.22486151456318773,-2.4546906731499958E-2,8.882178270801884E-2,0.27090322916245996,0.22486151456318776,0]
[null,1.3765354401106648E-24,0.52908775969114819,2.3625267353352903E-3,0.47302786510061384,-0.15130677567527298,19.531223437183492,12.109044744125258,0.61998393408741059,4.3401671260107975,458.33333333333337,0.27646015351590181,-113.30798989905054,-6.8345769342697663E-2,0.34290711754669134,4.1548928511208769E-2,4.6849730488693968,0.14825150726227698,-1.6454928814816326E-2,1.7909105349093228E-2,0.42551661090212539,0.14825150726227693,0]
[null,1.1913618966160381E-26,0.60775093154630122,2.2403171511680316E-3,0.44855891927712122,-0.14347992747059454,18.686793519659489,11.839550219255107,0.63357847919704779,4.7699047910583046,458.33333333333337,0.27646015351590181,-243.43681201224064,-0.14683762564434713,0.25287051851207015,3.4300044337697837E-2,5.1932025702185536,7.4743440098927388E-2,2.2414276027718043E-2,-0.366047726259765,1.3712049119524834,7.4743440098927527E-2,0.11147812044306116]
[null,1.2544160554364491E-26,0.70281369836511054,2.0897030912682734E-3,0.41840279611333081,-0.13383392963533169,17.00284435723724,11.306133936408067,0.6649554450338554,5.0189294086832268,458.33333333333337,0.27646015351590181,-342.47159833541008,-0.20657400141958632,0.18796013658025415,2.7666560966714129E-2,5.5019635636187143,3.5739726210757272E-2,2.8732284106818506E-2,-0.43361987230067062,1.5517281647138055,3.5739726210757272E-2,0.2316598249918132]
[null,-1.317470214256861E-27,0.81878250652390949,1.9703416821976183E-3,0.39450411523762846,-0.12618949129885931,15.095467930182128,10.596192658552637,0.70194529295553898,5.191160128990842,458.33333333333337,0.27646015351590181,-421.4366220130994,-0.25420458156864989,0.13942590796289797,2.2391531587834267E-2,5.7218248640753933,1.1305485778898283E-2,3.4382748998508829E-2,-0.49703949476311626,1.7296119864409814,1.1305485778898339E-2,0.34048419977542432]
[null,-1.1315773549813696E-7,0.9617353344904862,1.900265751013744E-3,0.38047343036660997,-0.12170151533596735,13.249879768963307,9.8000170367992165,0.73963063874397605,5.3520085716563131,458.33333333333337,0.27646015351590181,-492.04585382654403,-0.29679506680527129,0.100594704477529,1.8385251682327457E-2,5.9252637919774855,-8.3427616221590367E-3,4.368671012197832E-2,-0.60540355482063468,2.0450471734118496,-8.3436564981527184E-3,0.43851496286544944]
[null,1.4435785318976815E-6,1.1400001031491622,1.8099744715824055E-3,0.36239520483467857,-0.11591885808260423,11.330160240401716,8.7982428414858465,0.77653295759336061,5.4248812139568861,458.33333333333337,0.27646015351590181,-541.68881485473298,-0.326738995445643,7.215758318629957E-2,1.4773329005346487E-2,6.0280803629184305,-1.6897231285762856E-2,1.4244740957580207E-2,-0.25347356480075078,0.99343991071162563,-1.690175162037022E-2,0.52631583233344303]
[null,0,{"$f":"C733","v":1.3651895295975189},{"$f":"D733+(D752-D732)","v":1.8859491628103948E-3},0.37760694633827419,-0.12078461701379367,9.9490316237958591,8.0595133060400883,0.81008017772941188,5.7045717970250971,458.33333333333337,0.27646015351590181,-632.13757652761103,-0.38129640316362212,3.9157061884940905E-2,1.2854282610720219E-2,6.3623283537046209,-4.2626104835776599E-2,null,null,null,null,0.60445052625095852]
[null,"De","hc","e0","a'","b'","N'","tN'","t","Nc","sac","Nac","sat","Nat","Mtot","u","N","Mo","a''","b''","c''",null,"x"]
[null,null,{"$f":"$C$35","v":0.12945607170440351},{"$f":"$D$35","v":3.2742931933764949E-4},{"$f":"$E$35","v":6.555828113227867E-2},{"$f":"$F$35","v":-2.097003764213403E-2},{"$f":"IF($C$2=1,0.5*($O$31*D755*$F$6/$O$30)*(1-W755^2+(E755-F755)*(F755^2*(1-W755^2)+2*F755*(1-W755)+2*LN((1-F755)/(1-F755*W755)))/(F755^3)),$F$6*F755*(LN((1-E755+E755^2)/(1+E755)^2)/(6*E755)+ATAN((2-E755)/(E755*3^0.5))/(E755*3^0.5)-LN((W755^2-E755*W755+E755^2)/(W755+E755)^2)/(6*E755)-ATAN((2*W755-E755)/(E755*3^0.5))/(E755*3^0.5)))","v":4.0789725576609177},{"$f":"IF($C$2=1,($O$31*D755*$F$6/$O$30)*(1-W755^3-(E755-F755)*(-2*F755^3*(1-W755^3)-3*F755^2*(1-W755^2)-6*F755*(1-W755)-6*LN((1-F755)/(1-F755*W755)))/(2*F755^4))/3,$F$6*F755*(LN((1+E755^3)/(E755^3+W755^3)))/3)","v":2.6990386030010254},{"$f":"$I$35","v":0.66169570028899294},{"$f":"$J$35","v":0.22178006084003529},{"$f":"$K$35","v":90.812088468865227},{"$f":"$L$35","v":5.4776561278259202E-2},{"$f":"$M$35","v":458.32747875640376},{"$f":"$N$35","v":0.27645662211829442},{"$f":"$O$35","v":0.11972660615436539},{"$f":"$P$35","v":2.3534552881082957E-2},{"$f":"$Q$35","v":1.0000000000010001E-4},{"$f":"$R$35","v":0.11972425269907729},null,null,null,null,{"$f":"IF(C755<$C$6,0,(C755-$C$6)/C755)","v":0}]
[null,{"$f":"IF(R736>$Q$29*V736,B736,IF(Q736>Q735,$U$6,-0.5)*B736)","v":-4.7016331746461246E-40},{"$f":"IF(Q736>Q735,C736,(1-$T$6)*C736+$T$6*C737)","v":0.15398187908114286},{"$f":"D736+B756","v":4.5739675128514293E-4},{"$f":"IF($C$2=1,D756/($O$31*$O$30),2^(1/3)*$O$30/D756)","v":9.1580512308429632E-2},{"$f":"IF($C$2=1,-($O$31-2)*D756/$O$30,3*($O$30/D756)^2)","v":-2.9293733106253231E-2},{"$f":"IF($C$2=1,0.5*($O$31*D756*$F$6/$O$30)*(1-W756^2+(E756-F756)*(F756^2*(1-W756^2)+2*F756*(1-W756)+2*LN((1-F756)/(1-F756*W756)))/(F756^3)),$F$6*F756*(LN((1-E756+E756^2)/(1+E756)^2)/(6*E756)+ATAN((2-E756)/(E756*3^0.5))/(E756*3^0.5)-LN((W756^2-E756*W756+E756^2)/(W756+E756)^2)/(6*E756)-ATAN((2*W756-E756)/(E756*3^0.5))/(E756*3^0.5)))","v":5.5647849150413204},{"$f":"IF($C$2=1,($O$31*D756*$F$6/$O$30)*(1-W756^3-(E756-F756)*(-2*F756^3*(1-W756^3)-3*F756^2*(1-W756^2)-6*F756*(1-W756)-6*LN((1-F756)/(1-F756*W756)))/(2*F756^4))/3,$F$6*F756*(LN((1+E756^3)/(E756^3+W756^3)))/3)","v":3.670674299885849},{"$f":"H756/G756","v":0.65962554814368657},{"$f":"G756*C756*$D$6","v":0.35988793591819335},{"$f":"MAX(MIN($K$6,$Q$6*$J$6*D756*(C756-$I$6)/C756),-$K$6)","v":144.31314469897774},{"$f":"K756*$H$6","v":8.704763811892785E-2},{"$f":"MIN($O$6,$Q$6*$N$6*D756*(C$6-C756-$M$6)/C756)","v":458.33333333333337},{"$f":"M756*$L$6","v":0.27646015351590181},{"$f":"(0.5*$C$6-C756+I756*C756)*J756+(0.5*$C$6-$I$6)*L756+(0.5*$C$6-$M$6)*N756","v":0.1546441132198933},{"$f":"0.1*$Q$6*D756*$B$6^2/C756+$R$6","v":2.7639760238660788E-2},{"$f":"(J756+L756-N756)","v":0.17047542052121939},{"$f":"O756-P756*Q756","v":0.14993221347010191},{"$f":"((R756-R755)*(Q756-Q757)-(R756-R757)*(Q756-Q755))/((Q756^2-Q755^2)*(Q756-Q757)-(Q756^2-Q757^2)*(Q756-Q755))","v":-4.9833015348903414E-2},{"$f":"-(S756*(Q756^2-Q755^2)-(R756-R755))/(Q756-Q755)","v":0.18580262774929265},{"$f":"R756-S756*Q756^2-T756*Q756","v":0.1197056729346325},{"$f":"S736*Q756^2+T736*Q756+U736","v":0.14993221347010191},{"$f":"IF(C756<$C$6,0,(C756-$C$6)/C756)","v":0}]
[null,{"$f":"IF(R737>$Q$29*V737,B737,IF(Q737>Q736,$U$6,-0.5)*B737)","v":-1.1245780567626818E-39},{"$f":"IF(Q737>Q736,C737,(1-$T$6)*C737+$T$6*C738)","v":0.17394964462770141},{"$f":"D737+B757","v":5.4994191131377409E-4},0.11011001244867896,-3.5220738950822887E-2,6.5777984233855404,4.3289484764128705,0.65811510140269625,0.48056639323583905,186.22781758609173,0.11232997317552497,458.33333333333337,0.27646015351590181,0.18281920576960167,{"$f":"0.1*$Q$6*D757*$B$6^2/C757+$R$6","v":2.9417386315698506E-2},0.3164362128954622,0.17351047945057924,-3.591644304165513E-2,0.17902648679560904,0.12045639681187423,0.17351047945057924,0]
[null,-1.9781689190826435E-39,0.19020714713826217,6.4833572344321494E-4,0.12981053655051306,-4.1522318626953582E-2,7.6144047848790857,4.9986619624952517,0.6564744196974851,0.60829196874086922,229.42791036080226,0.13838765524184715,458.33333333333337,0.27646015351590181,0.21161045333984951,3.1716403264017916E-2,0.47021947046681456,0.19669678299193105,-3.2666223709382027E-2,0.17646968328570242,0.12094001146981198,0.19669678299193105,0]
[null,-4.1915779846300505E-38,0.20976979172988638,8.317346547287057E-4,0.16653088499363783,-5.3268006216457338E-2,9.4372631560026008,6.1655068557644013,0.65331513531471375,0.83145414522861427,306.97597092325702,0.18516354337557084,458.33333333333337,0.27646015351590181,0.2609669144395047,3.6893738135018082E-2,0.7401575350882833,0.23365973616129712,-3.168201295883398E-2,0.17527841722461895,0.12128255271915558,0.23365973616129709,0]
[null,-4.6152151710074421E-36,0.23210975825278549,1.0081012683895029E-3,0.20184321458010143,-6.45633127417376E-2,11.058822488807907,7.1898253430757819,0.6501438421994975,1.0780814580638216,386.41552107443147,0.23308035115017711,458.33333333333337,0.27646015351590181,0.31053986444200971,4.0413044849693741E-2,1.0347016556980968,0.26872442002423014,-3.3076831574738078E-2,0.17775402386453629,0.12021434172404413,0.26872442002423014,0]
[null,-6.1473998760095008E-34,0.25773794179237436,1.2225765494064118E-3,0.24478570609941303,-7.8299268719442566E-2,12.861636823717271,8.3098405789015377,0.64609510381897306,1.3922713572708783,458.33333333333337,0.27646015351590181,458.33333333333337,0.27646015351590181,0.36503088957399682,4.4137579828171451E-2,1.3922713572708783,0.3035794013999768,-4.7493487561576744E-2,0.21274285888185135,9.9445916460164763E-2,0.3035794013999768,0]
[null,8.1303694369357038E-31,0.28728229315396503,1.5532805370088755E-3,0.31099964514025624,-9.9479030759249867E-2,15.289253107432556,9.7757723488470347,0.63938848288767902,1.8447793111921365,458.33333333333337,0.27646015351590181,458.33333333333337,0.27646015351590181,0.42308951617039597,5.0309714479396E-2,1.8447793111921365,0.33027919574682274,-3.8314314148592384E-2,0.18302940944941234,0.12302201199678059,0.33027919574682274,0]
[null,-1.0688311450670576E-27,0.32152034227515802,1.9733666059115963E-3,0.39510976900023542,-0.12638322093881646,17.782577020427158,11.201545531674375,0.62991688543268853,2.4013333050596817,458.33333333333337,0.27646015351590181,458.33333333333337,0.27646015351590181,0.47874040867591322,5.7109733035400116E-2,2.4013333050596817,0.34160090469493976,-4.9262794546795496E-2,0.22951789019700833,7.4521010221433648E-2,0.3416009046949397,0]
[null,-1.145757218827959E-25,0.36142247287457469,2.3445454838367072E-3,0.4694276379027596,-0.15015517592989672,19.461921689209849,12.075560547681308,0.62047113026748457,2.9542698627983279,458.33333333333337,0.27646015351590181,397.63463384304356,0.2398475605428812,0.50083950995971604,6.0360707316859628E-2,2.9908824557713487,0.3203077294277713,-3.7125174814444779E-2,0.16406922577725305,0.16169467750980315,0.32030772942777125,0]
[null,1.2226832925888609E-26,0.40821011767341625,2.3796898034895218E-3,0.47646427467268171,-0.15240597530094122,19.59635070543893,12.14025587488384,0.6195161567257691,3.3597600235234388,458.33333333333337,0.27646015351590181,216.34065104151506,0.13049360639709248,0.47076645754021057,5.4243461509412089E-2,3.5057265706422482,0.28060371324305455,-1.859858923221171E-2,4.3709242655093711E-2,0.35594993083953375,0.28060371324305455,0]
[null,-1.2996093663497627E-27,0.46343492031952305,2.3994489083901563E-3,0.48042046575727476,-0.15367143672748471,19.67009675462722,12.175283666844999,0.61897426427152014,3.8286400833063494,458.33333333333337,0.27646015351590181,44.335803816560166,2.6742726827731916E-2,0.42134174375642836,4.8176313310380844E-2,4.0783575099945191,0.22486151456318773,-2.4546906731499958E-2,8.882178270801884E-2,0.27090322916245996,0.22486151456318776,0]
[null,-1.376535440110665E-25,0.52908775969114819,2.3625267353352903E-3,0.47302786510061384,-0.15130677567527298,19.531223437183492,12.109044744125258,0.61998393408741059,4.3401671260107975,458.33333333333337,0.27646015351590181,-113.30798989905054,-6.8345769342697663E-2,0.34290711754669134,4.1548928511208769E-2,4.6849730488693968,0.14825150726227698,-1.6454928814816326E-2,1.7909105349093228E-2,0.42551661090212539,0.14825150726227693,0]
[null,-1.1913618966160381E-27,0.60775093154630122,2.2403171511680316E-3,0.44855891927712122,-0.14347992747059454,18.686793519659489,11.839550219255107,0.63357847919704779,4.7699047910583046,458.33333333333337,0.27646015351590181,-243.43681201224064,-0.14683762564434713,0.25287051851207015,3.4300044337697837E-2,5.1932025702185536,7.4743440098927388E-2,2.2414276027718043E-2,-0.366047726259765,1.3712049119524834,7.4743440098927527E-2,0.11147812044306116]
[null,-1.2544160554364491E-27,0.70281369836511054,2.0897030912682734E-3,0.41840279611333081,-0.13383392963533169,17.00284435723724,11.306133936408067,0.6649554450338554,5.0189294086832268,458.33333333333337,0.27646015351590181,-342.47159833541008,-0.20657400141958632,0.18796013658025415,2.7666560966714129E-2,5.5019635636187143,3.5739726210757272E-2,2.8732284106818506E-2,-0.43361987230067062,1.5517281647138055,3.5739726210757272E-2,0.2316598249918132]
[null,1.317470214256861E-28,0.81878250652390949,1.9703416821976183E-3,0.39450411523762846,-0.12618949129885931,15.095467930182128,10.596192658552637,0.70194529295553898,5.191160128990842,458.33333333333337,0.27646015351590181,-421.4366220130994,-0.25420458156864989,0.13942590796289797,2.2391531587834267E-2,5.7218248640753933,1.1305485778898283E-2,3.4389034210361352E-2,-0.4971100386511722,1.7298098529043822,1.1305485778898339E-2,0.34048419977542432]
[null,-1.1315773549813696E-7,0.9617353344904862,1.9001525932782458E-3,0.38045077379250997,-0.12169426820862489,13.249472475587229,9.7997326226221819,0.73963190917062138,5.3518440541151771,458.33333333333337,0.27646015351590181,-492.01655329605211,-0.29677739314165408,0.1006017314174526,1.8384156870485571E-2,5.9250816007727325,-8.3258982015810834E-3,4.3527734606412266E-2,-0.60354762737424772,2.0396326254847086,-8.3267832802746966E-3,0.43851496286544944]
[null,1.4435785318976815E-6,1.1400001031491622,1.8114180501143031E-3,0.36268423981609715,-0.11601131130644655,11.334851635092319,8.80175339670018,0.77652127086077138,5.4271274539379908,458.33333333333337,0.27646015351590181,-542.12084876259769,-0.32699959215944452,7.2064802581650628E-2,1.4785111746446771E-2,6.0305871996133371,-1.709810306132406E-2,1.3942337337718743E-2,-0.24983441630190298,0.98249545696414875,-1.7102042273059226E-2,0.52631583233344303]
[null,0,{"$f":"C753","v":1.3651895295975189},{"$f":"D753+(D772-D752)","v":1.8873927413422923E-3},0.37789598131969276,-0.12087707023763601,9.9525685650388205,8.0622916286270367,0.81007144798259312,5.7065998069888089,458.33333333333337,0.27646015351590181,-632.62143911133046,-0.3815882621981872,3.9049508864453603E-2,1.2864121776475952E-2,6.3646482227028978,-4.2826100936827705E-2,null,null,null,null,0.60445052625095852]
[null,"De","hc","e0","a'","b'","N'","tN'","t","Nc","sac","Nac","sat","Nat","Mtot","u","N","Mo","a''","b''","c''",null,"x"]
[null,null,{"$f":"$C$35","v":0.12945607170440351},{"$f":"$D$35","v":3.2742931933764949E-4},{"$f":"$E$35","v":6.555828113227867E-2},{"$f":"$F$35","v":-2.097003764213403E-2},{"$f":"IF($C$2=1,0.5*($O$31*D775*$F$6/$O$30)*(1-W775^2+(E775-F775)*(F775^2*(1-W775^2)+2*F775*(1-W775)+2*LN((1-F775)/(1-F775*W775)))/(F775^3)),$F$6*F775*(LN((1-E775+E775^2)/(1+E775)^2)/(6*E775)+ATAN((2-E775)/(E775*3^0.5))/(E775*3^0.5)-LN((W775^2-E775*W775+E775^2)/(W775+E775)^2)/(6*E775)-ATAN((2*W775-E775)/(E775*3^0.5))/(E775*3^0.5)))","v":4.0789725576609177},{"$f":"IF($C$2=1,($O$31*D775*$F$6/$O$30)*(1-W775^3-(E775-F775)*(-2*F775^3*(1-W775^3)-3*F775^2*(1-W775^2)-6*F775*(1-W775)-6*LN((1-F775)/(1-F775*W775)))/(2*F775^4))/3,$F$6*F775*(LN((1+E775^3)/(E775^3+W775^3)))/3)","v":2.6990386030010254},{"$f":"$I$35","v":0.66169570028899294},{"$f":"$J$35","v":0.22178006084003529},{"$f":"$K$35","v":90.812088468865227},{"$f":"$L$35","v":5.4776561278259202E-2},{"$f":"$M$35","v":458.32747875640376},{"$f":"$N$35","v":0.27645662211829442},{"$f":"$O$35","v":0.11972660615436539},{"$f":"$P$35","v":2.3534552881082957E-2},{"$f":"$Q$35","v":1.0000000000010001E-4},{"$f":"$R$35","v":0.11972425269907729},null,null,null,null,{"$f":"IF(C775<$C$6,0,(C775-$C$6)/C775)","v":0}]
[null,{"$f":"IF(R756>$Q$29*V756,B756,IF(Q756>Q755,$U$6,-0.5)*B756)","v":4.7016331746461246E-41},{"$f":"IF(Q756>Q755,C756,(1-$T$6)*C756+$T$6*C757)","v":0.15398187908114286},{"$f":"D756+B776","v":4.5739675128514293E-4},{"$f":"IF($C$2=1,D776/($O$31*$O$30),2^(1/3)*$O$30/D776)","v":9.1580512308429632E-2},{"$f":"IF($C$2=1,-($O$31-2)*D776/$O$30,3*($O$30/D776)^2)","v":-2.9293733106253231E-2},{"$f":"IF($C$2=1,0.5*($O$31*D776*$F$6/$O$30)*(1-W776^2+(E776-F776)*(F776^2*(1-W776^2)+2*F776*(1-W776)+2*LN((1-F776)/(1-F776*W776)))/(F776^3)),$F$6*F776*(LN((1-E776+E776^2)/(1+E776)^2)/(6*E776)+ATAN((2-E776)/(E776*3^0.5))/(E776*3^0.5)-LN((W776^2-E776*W776+E776^2)/(W776+E776)^2)/(6*E776)-ATAN((2*W776-E776)/(E776*3^0.5))/(E776*3^0.5)))","v":5.5647849150413204},{"$f":"IF($C$2=1,($O$31*D776*$F$6/$O$30)*(1-W776^3-(E776-F776)*(-2*F776^3*(1-W776^3)-3*F776^2*(1-W776^2)-6*F776*(1-W776)-6*LN((1-F776)/(1-F776*W776)))/(2*F776^4))/3,$F$6*F776*(LN((1+E776^3)/(E776^3+W776^3)))/3)","v":3.670674299885849},{"$f":"H776/G776","v":0.65962554814368657},{"$f":"G776*C776*$D$6","v":0.35988793591819335},{"$f":"MAX(MIN($K$6,$Q$6*$J$6*D776*(C776-$I$6)/C776),-$K$6)","v":144.31314469897774},{"$f":"K776*$H$6","v":8.704763811892785E-2},{"$f":"MIN($O$6,$Q$6*$N$6*D776*(C$6-C776-$M$6)/C776)","v":458.33333333333337},{"$f":"M776*$L$6","v":0.27646015351590181},{"$f":"(0.5*$C$6-C776+I776*C776)*J776+(0.5*$C$6-$I$6)*L776+(0.5*$C$6-$M$6)*N776","v":0.1546441132198933},{"$f":"0.1*$Q$6*D776*$B$6^2/C776+$R$6","v":2.7639760238660788E-2},{"$f":"(J776+L776-N776)","v":0.17047542052121939},{"$f":"O776-P776*Q776","v":0.14993221347010191},{"$f":"((R776-R775)*(Q776-Q777)-(R776-R777)*(Q776-Q775))/((Q776^2-Q775^2)*(Q776-Q777)-(Q776^2-Q777^2)*(Q776-Q775))","v":-4.9833015348903414E-2},{"$f":"-(S776*(Q776^2-Q775^2)-(R776-R775))/(Q776-Q775)","v":0.18580262774929265},{"$f":"R776-S776*Q776^2-T776*Q776","v":0.1197056729346325},{"$f":"S756*Q776^2+T756*Q776+U756","v":0.14993221347010191},{"$f":"IF(C776<$C$6,0,(C776-$C$6)/C776)","v":0}]
[null,{"$f":"IF(R757>$Q$29*V757,B757,IF(Q757>Q756,$U$6,-0.5)*B757)","v":1.1245780567626818E-40},{"$f":"IF(Q757>Q756,C757,(1-$T$6)*C757+$T$6*C758)","v":0.17394964462770141},{"$f":"D757+B777","v":5.4994191131377409E-4},0.11011001244867896,-3.5220738950822887E-2,6.5777984233855404,4.3289484764128705,0.65811510140269625,0.48056639323583905,186.22781758609173,0.11232997317552497,458.33333333333337,0.27646015351590181,0.18281920576960167,{"$f":"0.1*$Q$6*D777*$B$6^2/C777+$R$6","v":2.9417386315698506E-2},0.3164362128954622,0.17351047945057924,-3.591644304165513E-2,0.17902648679560904,0.12045639681187423,0.17351047945057924,0]
[null,1.9781689190826438E-40,0.19020714713826217,6.4833572344321494E-4,0.12981053655051306,-4.1522318626953582E-2,7.6144047848790857,4.9986619624952517,0.6564744196974851,0.60829196874086922,229.42791036080226,0.13838765524184715,458.33333333333337,0.27646015351590181,0.21161045333984951,3.1716403264017916E-2,0.47021947046681456,0.19669678299193105,-3.2666223709382027E-2,0.17646968328570242,0.12094001146981198,0.19669678299193105,0]
[null,4.1915779846300507E-39,0.20976979172988638,8.317346547287057E-4,0.16653088499363783,-5.3268006216457338E-2,9.4372631560026008,6.1655068557644013,0.65331513531471375,0.83145414522861427,306.97597092325702,0.18516354337557084,458.33333333333337,0.27646015351590181,0.2609669144395047,3.6893738135018082E-2,0.7401575350882833,0.23365973616129712,-3.168201295883398E-2,0.17527841722461895,0.12128255271915558,0.23365973616129709,0]
[null,4.6152151710074426E-37,0.23210975825278549,1.0081012683895029E-3,0.20184321458010143,-6.45633127417376E-2,11.058822488807907,7.1898253430757819,0.6501438421994975,1.0780814580638216,386.41552107443147,0.23308035115017711,458.33333333333337,0.27646015351590181,0.31053986444200971,4.0413044849693741E-2,1.0347016556980968,0.26872442002423014,-3.3076831574738078E-2,0.17775402386453629,0.12021434172404413,0.26872442002423014,0]
[null,6.1473998760095008E-35,0.25773794179237436,1.2225765494064118E-3,0.24478570609941303,-7.8299268719442566E-2,12.861636823717271,8.3098405789015377,0.64609510381897306,1.3922713572708783,458.33333333333337,0.27646015351590181,458.33333333333337,0.27646015351590181,0.36503088957399682,4.4137579828171451E-2,1.3922713572708783,0.3035794013999768,-4.7493487561576744E-2,0.21274285888185135,9.9445916460164763E-2,0.3035794013999768,0]
[null,-8.1303694369357038E-32,0.28728229315396503,1.5532805370088755E-3,0.31099964514025624,-9.9479030759249867E-2,15.289253107432556,9.7757723488470347,0.63938848288767902,1.8447793111921365,458.33333333333337,0.27646015351590181,458.33333333333337,0.27646015351590181,0.42308951617039597,5.0309714479396E-2,1.8447793111921365,0.33027919574682274,-3.8314314148592384E-2,0.18302940944941234,0.12302201199678059,0.33027919574682274,0]
[null,1.0688311450670577E-28,0.32152034227515802,1.9733666059115963E-3,0.39510976900023542,-0.12638322093881646,17.782577020427158,11.201545531674375,0.62991688543268853,2.4013333050596817,458.33333333333337,0.27646015351590181,458.33333333333337,0.27646015351590181,0.47874040867591322,5.7109733035400116E-2,2.4013333050596817,0.34160090469493976,-4.9262794546795496E-2,0.22951789019700833,7.4521010221433648E-2,0.3416009046949397,0]
[null,1.145757218827959E-26,0.36142247287457469,2.3445454838367072E-3,0.4694276379027596,-0.15015517592989672,19.461921689209849,12.075560547681308,0.62047113026748457,2.9542698627983279,458.33333333333337,0.27646015351590181,397.63463384304356,0.2398475605428812,0.50083950995971604,6.0360707316859628E-2,2.9908824557713487,0.3203077294277713,-3.7125174814444779E-2,0.16406922577725305,0.16169467750980315,0.32030772942777125,0]
[null,-1.222683292588861E-27,0.40821011767341625,2.3796898034895218E-3,0.47646427467268171,-0.15240597530094122,19.59635070543893,12.14025587488384,0.6195161567257691,3.3597600235234388,458.33333333333337,0.27646015351590181,216.34065104151506,0.13049360639709248,0.47076645754021057,5.4243461509412089E-2,3.5057265706422482,0.28060371324305455,-1.859858923221171E-2,4.3709242655093711E-2,0.35594993083953375,0.28060371324305455,0]
[null,1.2996093663497629E-28,0.46343492031952305,2.3994489083901563E-3,0.48042046575727476,-0.15367143672748471,19.67009675462722,12.175283666844999,0.61897426427152014,3.8286400833063494,458.33333333333337,0.27646015351590181,44.335803816560166,2.6742726827731916E-2,0.42134174375642836,4.8176313310380844E-2,4.0783575099945191,0.22486151456318773,-2.4546906731499958E-2,8.882178270801884E-2,0.27090322916245996,0.22486151456318776,0]
[null,1.3765354401106649E-26,0.52908775969114819,2.3625267353352903E-3,0.47302786510061384,-0.15130677567527298,19.531223437183492,12.109044744125258,0.61998393408741059,4.3401671260107975,458.33333333333337,0.27646015351590181,-113.30798989905054,-6.8345769342697663E-2,0.34290711754669134,4.1548928511208769E-2,4.6849730488693968,0.14825150726227698,-1.6454928814816326E-2,1.7909105349093228E-2,0.42551661090212539,0.14825150726227693,0]
[null,1.1913618966160382E-28,0.60775093154630122,2.2403171511680316E-3,0.44855891927712122,-0.14347992747059454,18.686793519659489,11.839550219255107,0.63357847919704779,4.7699047910583046,458.33333333333337,0.27646015351590181,-243.43681201224064,-0.14683762564434713,0.25287051851207015,3.4300044337697837E-2,5.1932025702185536,7.4743440098927388E-2,2.2414276027718043E-2,-0.366047726259765,1.3712049119524834,7.4743440098927527E-2,0.11147812044306116]
[null,1.2544160554364493E-28,0.70281369836511054,2.0897030912682734E-3,0.41840279611333081,-0.13383392963533169,17.00284435723724,11.306133936408067,0.6649554450338554,5.0189294086832268,458.33333333333337,0.27646015351590181,-342.47159833541008,-0.20657400141958632,0.18796013658025415,2.7666560966714129E-2,5.5019635636187143,3.5739726210757272E-2,2.8732284106818506E-2,-0.43361987230067062,1.5517281647138055,3.5739726210757272E-2,0.2316598249918132]
[null,-1.3174702142568611E-29,0.81878250652390949,1.9703416821976183E-3,0.39450411523762846,-0.12618949129885931,15.095467930182128,10.596192658552637,0.70194529295553898,5.191160128990842,458.33333333333337,0.27646015351590181,-421.4366220130994,-0.25420458156864989,0.13942590796289797,2.2391531587834267E-2,5.7218248640753933,1.1305485778898283E-2,3.4395279365606025E-2,-0.49718013295233654,1.7300064583348198,1.1305485778898339E-2,0.34048419977542432]
[null,-1.1315773549813696E-7,0.9617353344904862,1.9000394355427476E-3,0.38042811721840997,-0.12168702108128243,13.249065140694031,9.7994481760130174,0.73963317954520147,5.3516795198040779,458.33333333333337,0.27646015351590181,-491.98725276556019,-0.29675971947803681,0.10060875735875735,1.8383062058643689E-2,5.9248993927980163,-8.309035870268891E-3,4.3350586520380451E-2,-0.60148012601959955,2.0336024455774018,-8.309910399355136E-3,0.43851496286544944]
[null,1.4435785318976815E-6,1.1400001031491622,1.8128616286462007E-3,0.36297327479751579,-0.11610376453028892,11.339536696237968,8.8052588522184632,0.77650957778016783,5.4293706614174964,458.33333333333337,0.27646015351590181,-542.55288267046262,-0.32726018887324615,7.1971876675906279E-2,1.4796894487547054E-2,6.0330910038066436,-1.7299134341189973E-2,1.3658400306598746E-2,-0.24642124842099966,0.97224167335149814,-1.7302509993271764E-2,0.52631583233344303]
[null,0,{"$f":"C773","v":1.3651895295975189},{"$f":"D773+(D792-D772)","v":1.8888363198741899E-3},0.3781850163011114,-0.12096952346147835,9.9560998367394866,8.0650652453727911,0.81006271307279409,5.7086245661526114,458.33333333333337,0.27646015351590181,-633.10530169505012,-0.38188012123275245,3.8941832486067085E-2,1.2873960942231687E-2,6.3669648409012654,-4.3026224196258192E-2,null,null,null,null,0.60445052625095852]
[null,"De","hc","e0","a'","b'","N'","tN'","t","Nc","sac","Nac","sat","Nat","Mtot","u","N","Mo","a''","b''","c''",null,"x"]
[null,null,{"$f":"$C$35","v":0.12945607170440351},{"$f":"$D$35","v":3.2742931933764949E-4},{"$f":"$E$35","v":6.555828113227867E-2},{"$f":"$F$35","v":-2.097003764213403E-2},{"$f":"IF($C$2=1,0.5*($O$31*D795*$F$6/$O$30)*(1-W795^2+(E795-F795)*(F795^2*(1-W795^2)+2*F795*(1-W795)+2*LN((1-F795)/(1-F795*W795)))/(F795^3)),$F$6*F795*(LN((1-E795+E795^2)/(1+E795)^2)/(6*E795)+ATAN((2-E795)/(E795*3^0.5))/(E795*3^0.5)-LN((W795^2-E795*W795+E795^2)/(W795+E795)^2)/(6*E795)-ATAN((2*W795-E795)/(E795*3^0.5))/(E795*3^0.5)))","v":4.0789725576609177},{"$f":"IF($C$2=1,($O$31*D795*$F$6/$O$30)*(1-W795^3-(E795-F795)*(-2*F795^3*(1-W795^3)-3*F795^2*(1-W795^2)-6*F795*(1-W795)-6*LN((1-F795)/(1-F795*W795)))/(2*F795^4))/3,$F$6*F795*(LN((1+E795^3)/(E795^3+W795^3)))/3)","v":2.6990386030010254},{"$f":"$I$35","v":0.66169570028899294},{"$f":"$J$35","v":0.22178006084003529},{"$f":"$K$35","v":90.812088468865227},{"$f":"$L$35","v":5.4776561278259202E-2},{"$f":"$M$35","v":458.32747875640376},{"$f":"$N$35","v":0.27645662211829442},{"$f":"$O$35","v":0.11972660615436539},{"$f":"$P$35","v":2.3534552881082957E-2},{"$f":"$Q$35","v":1.0000000000010001E-4},{"$f":"$R$35","v":0.11972425269907729},null,null,null,null,{"$f":"IF(C795<$C$6,0,(C795-$C$6)/C795)","v":0}]
[null,{"$f":"IF(R776>$Q$29*V776,B776,IF(Q776>Q775,$U$6,-0.5)*B776)","v":-4.7016331746461249E-42},{"$f":"IF(Q776>Q775,C776,(1-$T$6)*C776+$T$6*C777)","v":0.15398187908114286},{"$f":"D776+B796","v":4.5739675128514293E-4},{"$f":"IF($C$2=1,D796/($O$31*$O$30),2^(1/3)*$O$30/D796)","v":9.1580512308429632E-2},{"$f":"IF($C$2=1,-($O$31-2)*D796/$O$30,3*($O$30/D796)^2)","v":-2.9293733106253231E-2},{"$f":"IF($C$2=1,0.5*($O$31*D796*$F$6/$O$30)*(1-W796^2+(E796-F796)*(F796^2*(1-W796^2)+2*F796*(1-W796)+2*LN((1-F796)/(1-F796*W796)))/(F796^3)),$F$6*F796*(LN((1-E796+E796^2)/(1+E796)^2)/(6*E796)+ATAN((2-E796)/(E796*3^0.5))/(E796*3^0.5)-LN((W796^2-E796*W796+E796^2)/(W796+E796)^2)/(6*E796)-ATAN((2*W796-E796)/(E796*3^0.5))/(E796*3^0.5)))","v":5.5647849150413204},{"$f":"IF($C$2=1,($O$31*D796*$F$6/$O$30)*(1-W796^3-(E796-F796)*(-2*F796^3*(1-W796^3)-3*F796^2*(1-W796^2)-6*F796*(1-W796)-6*LN((1-F796)/(1-F796*W796)))/(2*F796^4))/3,$F$6*F796*(LN((1+E796^3)/(E796^3+W796^3)))/3)","v":3.670674299885849},{"$f":"H796/G796","v":0.65962554814368657},{"$f":"G796*C796*$D$6","v":0.35988793591819335},{"$f":"MAX(MIN($K$6,$Q$6*$J$6*D796*(C796-$I$6)/C796),-$K$6)","v":144.31314469897774},{"$f":"K796*$H$6","v":8.704763811892785E-2},{"$f":"MIN($O$6,$Q$6*$N$6*D796*(C$6-C796-$M$6)/C796)","v":458.33333333333337},{"$f":"M796*$L$6","v":0.27646015351590181},{"$f":"(0.5*$C$6-C796+I796*C796)*J796+(0.5*$C$6-$I$6)*L796+(0.5*$C$6-$M$6)*N796","v":0.1546441132198933},{"$f":"0.1*$Q$6*D796*$B$6^2/C796+$R$6","v":2.7639760238660788E-2},{"$f":"(J796+L796-N796)","v":0.17047542052121939},{"$f":"O796-P796*Q796","v":0.14993221347010191},{"$f":"((R796-R795)*(Q796-Q797)-(R796-R797)*(Q796-Q795))/((Q796^2-Q795^2)*(Q796-Q797)-(Q796^2-Q797^2)*(Q796-Q795))","v":-4.9833015348903414E-2},{"$f":"-(S796*(Q796^2-Q795^2)-(R796-R795))/(Q796-Q795)","v":0.18580262774929265},{"$f":"R796-S796*Q796^2-T796*Q796","v":0.1197056729346325},{"$f":"S776*Q796^2+T776*Q796+U776","v":0.14993221347010191},{"$f":"IF(C796<$C$6,0,(C796-$C$6)/C796)","v":0}]
[null,{"$f":"IF(R777>$Q$29*V777,B777,IF(Q777>Q776,$U$6,-0.5)*B777)","v":-1.1245780567626818E-41},{"$f":"IF(Q777>Q776,C777,(1-$T$6)*C777+$T$6*C778)","v":0.17394964462770141},{"$f":"D777+B797","v":5.4994191131377409E-4},0.11011001244867896,-3.5220738950822887E-2,6.5777984233855404,4.3289484764128705,0.65811510140269625,0.48056639323583905,186.22781758609173,0.11232997317552497,458.33333333333337,0.27646015351590181,0.18281920576960167,{"$f":"0.1*$Q$6*D797*$B$6^2/C797+$R$6","v":2.9417386315698506E-2},0.3164362128954622,0.17351047945057924,-3.591644304165513E-2,0.17902648679560904,0.12045639681187423,0.17351047945057924,0]
[null,-1.9781689190826438E-41,0.19020714713826217,6.4833572344321494E-4,0.12981053655051306,-4.1522318626953582E-2,7.6144047848790857,4.9986619624952517,0.6564744196974851,0.60829196874086922,229.42791036080226,0.13838765524184715,458.33333333333337,0.27646015351590181,0.21161045333984951,3.1716403264017916E-2,0.47021947046681456,0.19669678299193105,-3.2666223709382027E-2,0.17646968328570242,0.12094001146981198,0.19669678299193105,0]
[null,-4.1915779846300511E-40,0.20976979172988638,8.317346547287057E-4,0.16653088499363783,-5.3268006216457338E-2,9.4372631560026008,6.1655068557644013,0.65331513531471375,0.83145414522861427,306.97597092325702,0.18516354337557084,458.33333333333337,0.27646015351590181,0.2609669144395047,3.6893738135018082E-2,0.7401575350882833,0.23365973616129712,-3.168201295883398E-2,0.17527841722461895,0.12128255271915558,0.23365973616129709,0]
[null,-4.6152151710074431E-38,0.23210975825278549,1.0081012683895029E-3,0.20184321458010143,-6.45633127417376E-2,11.058822488807907,7.1898253430757819,0.6501438421994975,1.0780814580638216,386.41552107443147,0.23308035115017711,458.33333333333337,0.27646015351590181,0.31053986444200971,4.0413044849693741E-2,1.0347016556980968,0.26872442002423014,-3.3076831574738078E-2,0.17775402386453629,0.12021434172404413,0.26872442002423014,0]
[null,-6.1473998760095013E-36,0.25773794179237436,1.2225765494064118E-3,0.24478570609941303,-7.8299268719442566E-2,12.861636823717271,8.3098405789015377,0.64609510381897306,1.3922713572708783,458.33333333333337,0.27646015351590181,458.33333333333337,0.27646015351590181,0.36503088957399682,4.4137579828171451E-2,1.3922713572708783,0.3035794013999768,-4.7493487561576744E-2,0.21274285888185135,9.9445916460164763E-2,0.3035794013999768,0]
[null,8.1303694369357049E-33,0.28728229315396503,1.5532805370088755E-3,0.31099964514025624,-9.9479030759249867E-2,15.289253107432556,9.7757723488470347,0.63938848288767902,1.8447793111921365,458.33333333333337,0.27646015351590181,458.33333333333337,0.27646015351590181,0.42308951617039597,5.0309714479396E-2,1.8447793111921365,0.33027919574682274,-3.8314314148592384E-2,0.18302940944941234,0.12302201199678059,0.33027919574682274,0]
[null,-1.0688311450670577E-29,0.32152034227515802,1.9733666059115963E-3,0.39510976900023542,-0.12638322093881646,17.782577020427158,11.201545531674375,0.62991688543268853,2.4013333050596817,458.33333333333337,0.27646015351590181,458.33333333333337,0.27646015351590181,0.47874040867591322,5.7109733035400116E-2,2.4013333050596817,0.34160090469493976,-4.9262794546795496E-2,0.22951789019700833,7.4521010221433648E-2,0.3416009046949397,0]
[null,-1.145757218827959E-27,0.36142247287457469,2.3445454838367072E-3,0.4694276379027596,-0.15015517592989672,19.461921689209849,12.075560547681308,0.62047113026748457,2.9542698627983279,458.33333333333337,0.27646015351590181,397.63463384304356,0.2398475605428812,0.50083950995971604,6.0360707316859628E-2,2.9908824557713487,0.3203077294277713,-3.7125174814444779E-2,0.16406922577725305,0.16169467750980315,0.32030772942777125,0]
[null,1.2226832925888612E-28,0.40821011767341625,2.3796898034895218E-3,0.47646427467268171,-0.15240597530094122,19.59635070543893,12.14025587488384,0.6195161567257691,3.3597600235234388,458.33333333333337,0.27646015351590181,216.34065104151506,0.13049360639709248,0.47076645754021057,5.4243461509412089E-2,3.5057265706422482,0.28060371324305455,-1.859858923221171E-2,4.3709242655093711E-2,0.35594993083953375,0.28060371324305455,0]
[null,-1.2996093663497629E-29,0.46343492031952305,2.3994489083901563E-3,0.48042046575727476,-0.15367143672748471,19.67009675462722,12.175283666844999,0.61897426427152014,3.8286400833063494,458.33333333333337,0.27646015351590181,44.335803816560166,2.6742726827731916E-2,0.42134174375642836,4.8176313310380844E-2,4.0783575099945191,0.22486151456318773,-2.4546906731499958E-2,8.882178270801884E-2,0.27090322916245996,0.22486151456318776,0]
[null,-1.3765354401106651E-27,0.52908775969114819,2.3625267353352903E-3,0.47302786510061384,-0.15130677567527298,19.531223437183492,12.109044744125258,0.61998393408741059,4.3401671260107975,458.33333333333337,0.27646015351590181,-113.30798989905054,-6.8345769342697663E-2,0.34290711754669134,4.1548928511208769E-2,4.6849730488693968,0.14825150726227698,-1.6454928814816326E-2,1.7909105349093228E-2,0.42551661090212539,0.14825150726227693,0]
[null,-1.1913618966160382E-29,0.60775093154630122,2.2403171511680316E-3,0.44855891927712122,-0.14347992747059454,18.686793519659489,11.839550219255107,0.63357847919704779,4.7699047910583046,458.33333333333337,0.27646015351590181,-243.43681201224064,-0.14683762564434713,0.25287051851207015,3.4300044337697837E-2,5.1932025702185536,7.4743440098927388E-2,2.2414276027718043E-2,-0.366047726259765,1.3712049119524834,7.4743440098927527E-2,0.11147812044306116]
[null,-1.2544160554364494E-29,0.70281369836511054,2.0897030912682734E-3,0.41840279611333081,-0.13383392963533169,17.00284435723724,11.306133936408067,0.6649554450338554,5.0189294086832268,458.33333333333337,0.27646015351590181,-342.47159833541008,-0.20657400141958632,0.18796013658025415,2.7666560966714129E-2,5.5019635636187143,3.5739726210757272E-2,2.8732284106818506E-2,-0.43361987230067062,1.5517281647138055,3.5739726210757272E-2,0.2316598249918132]
[null,1.3174702142568612E-30,0.81878250652390949,1.9703416821976183E-3,0.39450411523762846,-0.12618949129885931,15.095467930182128,10.596192658552637,0.70194529295553898,5.191160128990842,458.33333333333337,0.27646015351590181,-421.4366220130994,-0.25420458156864989,0.13942590796289797,2.2391531587834267E-2,5.7218248640753933,1.1305485778898283E-2,3.4401484269313734E-2,-0.49724977547876609,1.7302017965956771,1.1305485778898339E-2,0.34048419977542432]
[null,-1.1315773549813696E-7,0.9617353344904862,1.8999262778072493E-3,0.38040546064430997,-0.12167977395393997,13.248657764283093,9.799163696968046,0.73963444986748017,5.3515149687227668,458.33333333333337,0.27646015351590181,-491.95795223506832,-0.29674204581441965,0.10061578230018553,1.8381967246801804E-2,5.9247171680530881,-8.292174629530677E-3,4.3157243807211636E-2,-0.59922409696010359,2.0270237435896217,-8.2930379411472188E-3,0.43851496286544944]
[null,1.4435785318976815E-6,1.1400001031491622,1.8143052071780982E-3,0.36326230977893437,-0.11619621775413126,11.344215425132957,8.8087592090706544,0.77649787834202855,5.4316108370151133,458.33333333333337,0.27646015351590181,-542.98491657832744,-0.32752078558704772,7.1878805492105222E-2,1.480867722864734E-2,6.0355917761180624,-1.7500325004305484E-2,1.339151959513243E-2,-0.24321683943663996,0.96262602584450696,-1.750315321776752E-2,0.52631583233344303]
[null,0,{"$f":"C793","v":1.3651895295975189},{"$f":"D793+(D812-D792)","v":1.8902798984060875E-3},0.37847405128252998,-0.12106197668532069,9.9596254400827711,8.0678341572712569,0.81005397299400927,5.7106460751959132,458.33333333333337,0.27646015351590181,-633.58916427876943,-0.38217198026731747,3.8834032783702385E-2,1.2883800107987422E-2,6.3692782089791322,-4.3226474492944894E-2,null,null,null,null,0.60445052625095852]
[null,"De","hc","e0","a'","b'","N'","tN'","t","Nc","sac","Nac","sat","Nat","Mtot","u","N","Mo","a''","b''","c''",null,"x"]
[null,null,{"$f":"$C$35","v":0.12945607170440351},{"$f":"$D$35","v":3.2742931933764949E-4},{"$f":"$E$35","v":6.555828113227867E-2},{"$f":"$F$35","v":-2.097003764213403E-2},{"$f":"IF($C$2=1,0.5*($O$31*D815*$F$6/$O$30)*(1-W815^2+(E815-F815)*(F815^2*(1-W815^2)+2*F815*(1-W815)+2*LN((1-F815)/(1-F815*W815)))/(F815^3)),$F$6*F815*(LN((1-E815+E815^2)/(1+E815)^2)/(6*E815)+ATAN((2-E815)/(E815*3^0.5))/(E815*3^0.5)-LN((W815^2-E815*W815+E815^2)/(W815+E815)^2)/(6*E815)-ATAN((2*W815-E815)/(E815*3^0.5))/(E815*3^0.5)))","v":4.0789725576609177},{"$f":"IF($C$2=1,($O$31*D815*$F$6/$O$30)*(1-W815^3-(E815-F815)*(-2*F815^3*(1-W815^3)-3*F815^2*(1-W815^2)-6*F815*(1-W815)-6*LN((1-F815)/(1-F815*W815)))/(2*F815^4))/3,$F$6*F815*(LN((1+E815^3)/(E815^3+W815^3)))/3)","v":2.6990386030010254},{"$f":"$I$35","v":0.66169570028899294},{"$f":"$J$35","v":0.22178006084003529},{"$f":"$K$35","v":90.812088468865227},{"$f":"$L$35","v":5.4776561278259202E-2},{"$f":"$M$35","v":458.32747875640376},{"$f":"$N$35","v":0.27645662211829442},{"$f":"$O$35","v":0.11972660615436539},{"$f":"$P$35","v":2.3534552881082957E-2},{"$f":"$Q$35","v":1.0000000000010001E-4},{"$f":"$R$35","v":0.11972425269907729},null,null,null,null,{"$f":"IF(C815<$C$6,0,(C815-$C$6)/C815)","v":0}]
[null,{"$f":"IF(R796>$Q$29*V796,B796,IF(Q796>Q795,$U$6,-0.5)*B796)","v":4.7016331746461249E-43},{"$f":"IF(Q796>Q795,C796,(1-$T$6)*C796+$T$6*C797)","v":0.15398187908114286},{"$f":"D796+B816","v":4.5739675128514293E-4},{"$f":"IF($C$2=1,D816/($O$31*$O$30),2^(1/3)*$O$30/D816)","v":9.1580512308429632E-2},{"$f":"IF($C$2=1,-($O$31-2)*D816/$O$30,3*($O$30/D816)^2)","v":-2.9293733106253231E-2},{"$f":"IF($C$2=1,0.5*($O$31*D816*$F$6/$O$30)*(1-W816^2+(E816-F816)*(F816^2*(1-W816^2)+2*F816*(1-W816)+2*LN((1-F816)/(1-F816*W816)))/(F816^3)),$F$6*F816*(LN((1-E816+E816^2)/(1+E816)^2)/(6*E816)+ATAN((2-E816)/(E816*3^0.5))/(E816*3^0.5)-LN((W816^2-E816*W816+E816^2)/(W816+E816)^2)/(6*E816)-ATAN((2*W816-E816)/(E816*3^0.5))/(E816*3^0.5)))","v":5.5647849150413204},{"$f":"IF($C$2=1,($O$31*D816*$F$6/$O$30)*(1-W816^3-(E816-F816)*(-2*F816^3*(1-W816^3)-3*F816^2*(1-W816^2)-6*F816*(1-W816)-6*LN((1-F816)/(1-F816*W816)))/(2*F816^4))/3,$F$6*F816*(LN((1+E816^3)/(E816^3+W816^3)))/3)","v":3.670674299885849},{"$f":"H816/G816","v":0.65962554814368657},{"$f":"G816*C816*$D$6","v":0.35988793591819335},{"$f":"MAX(MIN($K$6,$Q$6*$J$6*D816*(C816-$I$6)/C816),-$K$6)","v":144.31314469897774},{"$f":"K816*$H$6","v":8.704763811892785E-2},{"$f":"MIN($O$6,$Q$6*$N$6*D816*(C$6-C816-$M$6)/C816)","v":458.33333333333337},{"$f":"M816*$L$6","v":0.27646015351590181},{"$f":"(0.5*$C$6-C816+I816*C816)*J816+(0.5*$C$6-$I$6)*L816+(0.5*$C$6-$M$6)*N816","v":0.1546441132198933},{"$f":"0.1*$Q$6*D816*$B$6^2/C816+$R$6","v":2.7639760238660788E-2},{"$f":"(J816+L816-N816)","v":0.17047542052121939},{"$f":"O816-P816*Q816","v":0.14993221347010191},{"$f":"((R816-R815)*(Q816-Q817)-(R816-R817)*(Q816-Q815))/((Q816^2-Q815^2)*(Q816-Q817)-(Q816^2-Q817^2)*(Q816-Q815))","v":-4.9833015348903414E-2},{"$f":"-(S816*(Q816^2-Q815^2)-(R816-R815))/(Q816-Q815)","v":0.18580262774929265},{"$f":"R816-S816*Q816^2-T816*Q816","v":0.1197056729346325},{"$f":"S796*Q816^2+T796*Q816+U796","v":0.14993221347010191},{"$f":"IF(C816<$C$6,0,(C816-$C$6)/C816)","v":0}]
[null,{"$f":"IF(R797>$Q$29*V797,B797,IF(Q797>Q796,$U$6,-0.5)*B797)","v":1.1245780567626819E-42},{"$f":"IF(Q797>Q796,C797,(1-$T$6)*C797+$T$6*C798)","v":0.17394964462770141},{"$f":"D797+B817","v":5.4994191131377409E-4},0.11011001244867896,-3.5220738950822887E-2,6.5777984233855404,4.3289484764128705,0.65811510140269625,0.48056639323583905,186.22781758609173,0.11232997317552497,458.33333333333337,0.27646015351590181,0.18281920576960167,{"$f":"0.1*$Q$6*D817*$B$6^2/C817+$R$6","v":2.9417386315698506E-2},0.3164362128954622,0.17351047945057924,-3.591644304165513E-2,0.17902648679560904,0.12045639681187423,0.17351047945057924,0]
[null,1.9781689190826438E-42,0.19020714713826217,6.4833572344321494E-4,0.12981053655051306,-4.1522318626953582E-2,7.6144047848790857,4.9986619624952517,0.6564744196974851,0.60829196874086922,229.42791036080226,0.13838765524184715,458.33333333333337,0.27646015351590181,0.21161045333984951,3.1716403264017916E-2,0.47021947046681456,0.19669678299193105,-3.2666223709382027E-2,0.17646968328570242,0.12094001146981198,0.19669678299193105,0]
[null,4.1915779846300513E-41,0.20976979172988638,8.317346547287057E-4,0.16653088499363783,-5.3268006216457338E-2,9.4372631560026008,6.1655068557644013,0.65331513531471375,0.83145414522861427,306.97597092325702,0.18516354337557084,458.33333333333337,0.27646015351590181,0.2609669144395047,3.6893738135018082E-2,0.7401575350882833,0.23365973616129712,-3.168201295883398E-2,0.17527841722461895,0.12128255271915558,0.23365973616129709,0]
[null,4.6152151710074436E-39,0.23210975825278549,1.0081012683895029E-3,0.20184321458010143,-6.45633127417376E-2,11.058822488807907,7.1898253430757819,0.6501438421994975,1.0780814580638216,386.41552107443147,0.23308035115017711,458.33333333333337,0.27646015351590181,0.31053986444200971,4.0413044849693741E-2,1.0347016556980968,0.26872442002423014,-3.3076831574738078E-2,0.17775402386453629,0.12021434172404413,0.26872442002423014,0]
[null,6.1473998760095017E-37,0.25773794179237436,1.2225765494064118E-3,0.24478570609941303,-7.8299268719442566E-2,12.861636823717271,8.3098405789015377,0.64609510381897306,1.3922713572708783,458.33333333333337,0.27646015351590181,458.33333333333337,0.27646015351590181,0.36503088957399682,4.4137579828171451E-2,1.3922713572708783,0.3035794013999768,-4.7493487561576744E-2,0.21274285888185135,9.9445916460164763E-2,0.3035794013999768,0]
[null,-8.1303694369357056E-34,0.28728229315396503,1.5532805370088755E-3,0.31099964514025624,-9.9479030759249867E-2,15.289253107432556,9.7757723488470347,0.63938848288767902,1.8447793111921365,458.33333333333337,0.27646015351590181,458.33333333333337,0.27646015351590181,0.42308951617039597,5.0309714479396E-2,1.8447793111921365,0.33027919574682274,-3.8314314148592384E-2,0.18302940944941234,0.12302201199678059,0.33027919574682274,0]
[null,1.0688311450670577E-30,0.32152034227515802,1.9733666059115963E-3,0.39510976900023542,-0.12638322093881646,17.782577020427158,11.201545531674375,0.62991688543268853,2.4013333050596817,458.33333333333337,0.27646015351590181,458.33333333333337,0.27646015351590181,0.47874040867591322,5.7109733035400116E-2,2.4013333050596817,0.34160090469493976,-4.9262794546795496E-2,0.22951789019700833,7.4521010221433648E-2,0.3416009046949397,0]
[null,1.1457572188279591E-28,0.36142247287457469,2.3445454838367072E-3,0.4694276379027596,-0.15015517592989672,19.461921689209849,12.075560547681308,0.62047113026748457,2.9542698627983279,458.33333333333337,0.27646015351590181,397.63463384304356,0.2398475605428812,0.50083950995971604,6.0360707316859628E-2,2.9908824557713487,0.3203077294277713,-3.7125174814444779E-2,0.16406922577725305,0.16169467750980315,0.32030772942777125,0]
[null,-1.2226832925888613E-29,0.40821011767341625,2.3796898034895218E-3,0.47646427467268171,-0.15240597530094122,19.59635070543893,12.14025587488384,0.6195161567257691,3.3597600235234388,458.33333333333337,0.27646015351590181,216.34065104151506,0.13049360639709248,0.47076645754021057,5.4243461509412089E-2,3.5057265706422482,0.28060371324305455,-1.859858923221171E-2,4.3709242655093711E-2,0.35594993083953375,0.28060371324305455,0]
[null,1.299609366349763E-30,0.46343492031952305,2.3994489083901563E-3,0.48042046575727476,-0.15367143672748471,19.67009675462722,12.175283666844999,0.61897426427152014,3.8286400833063494,458.33333333333337,0.27646015351590181,44.335803816560166,2.6742726827731916E-2,0.42134174375642836,4.8176313310380844E-2,4.0783575099945191,0.22486151456318773,-2.4546906731499958E-2,8.882178270801884E-2,0.27090322916245996,0.22486151456318776,0]
[null,1.3765354401106652E-28,0.52908775969114819,2.3625267353352903E-3,0.47302786510061384,-0.15130677567527298,19.531223437183492,12.109044744125258,0.61998393408741059,4.3401671260107975,458.33333333333337,0.27646015351590181,-113.30798989905054,-6.8345769342697663E-2,0.34290711754669134,4.1548928511208769E-2,4.6849730488693968,0.14825150726227698,-1.6454928814816326E-2,1.7909105349093228E-2,0.42551661090212539,0.14825150726227693,0]
[null,1.1913618966160383E-30,0.60775093154630122,2.2403171511680316E-3,0.44855891927712122,-0.14347992747059454,18.686793519659489,11.839550219255107,0.63357847919704779,4.7699047910583046,458.33333333333337,0.27646015351590181,-243.43681201224064,-0.14683762564434713,0.25287051851207015,3.4300044337697837E-2,5.1932025702185536,7.4743440098927388E-2,2.2414276027718043E-2,-0.366047726259765,1.3712049119524834,7.4743440098927527E-2,0.11147812044306116]
[null,1.2544160554364495E-30,0.70281369836511054,2.0897030912682734E-3,0.41840279611333081,-0.13383392963533169,17.00284435723724,11.306133936408067,0.6649554450338554,5.0189294086832268,458.33333333333337,0.27646015351590181,-342.47159833541008,-0.20657400141958632,0.18796013658025415,2.7666560966714129E-2,5.5019635636187143,3.5739726210757272E-2,2.8732284106818506E-2,-0.43361987230067062,1.5517281647138055,3.5739726210757272E-2,0.2316598249918132]
[null,-1.3174702142568613E-31,0.81878250652390949,1.9703416821976183E-3,0.39450411523762846,-0.12618949129885931,15.095467930182128,10.596192658552637,0.70194529295553898,5.191160128990842,458.33333333333337,0.27646015351590181,-421.4366220130994,-0.25420458156864989,0.13942590796289797,2.2391531587834267E-2,5.7218248640753933,1.1305485778898283E-2,3.4407648734209276E-2,-0.49731896412852361,1.730395861791292,1.1305485778898339E-2,0.34048419977542432]
[null,-1.1315773549813696E-7,0.9617353344904862,1.8998131200717511E-3,0.38038280407021002,-0.12167252682659752,13.248250346354174,9.7988791854857045,0.73963572013736045,5.3513504008711452,458.33333333333337,0.27646015351590181,-491.9286517045764,-0.29672437215080238,0.1006228062412001,1.8380872434959918E-2,5.9245349265378486,-8.275314479956733E-3,4.2949472682724865E-2,-0.59680011910101283,2.0199564437792779,-8.2761659816590338E-3,0.43851496286544944]
[null,1.4435785318976815E-6,1.1400001031491622,1.8157487857099958E-3,0.363551344760353,-0.1162886709779736,11.348887823071232,8.8122544682955706,0.77648617253763652,5.4338479813503797,458.33333333333337,0.27646015351590181,-543.41695048619215,-0.32778138230084919,7.1785589058266361E-2,1.482045996974762E-2,6.0380895171671307,-1.7701674924661834E-2,1.314042205043859E-2,-0.2402056413635861,0.95360108409310884,-1.7703970577275241E-2,0.52631583233344303]
[null,0,{"$f":"C813","v":1.3651895295975189},{"$f":"D813+(D832-D812)","v":1.8917234769379851E-3},0.37876308626394861,-0.12115442990916302,9.9631453762521129,8.070598365327065,0.81004522774142462,5.7126643347972728,458.33333333333337,0.27646015351590181,-634.07302686248886,-0.3824638393018826,3.8726109800606798E-2,1.2893639273743157E-2,6.3715883276150569,-4.3426851696454175E-2,null,null,null,null,0.60445052625095852]
[null,"De","hc","e0","a'","b'","N'","tN'","t","Nc","sac","Nac","sat","Nat","Mtot","u","N","Mo","a''","b''","c''",null,"x"]
[null,null,{"$f":"$C$35","v":0.12945607170440351},{"$f":"$D$35","v":3.2742931933764949E-4},{"$f":"$E$35","v":6.555828113227867E-2},{"$f":"$F$35","v":-2.097003764213403E-2},{"$f":"IF($C$2=1,0.5*($O$31*D835*$F$6/$O$30)*(1-W835^2+(E835-F835)*(F835^2*(1-W835^2)+2*F835*(1-W835)+2*LN((1-F835)/(1-F835*W835)))/(F835^3)),$F$6*F835*(LN((1-E835+E835^2)/(1+E835)^2)/(6*E835)+ATAN((2-E835)/(E835*3^0.5))/(E835*3^0.5)-LN((W835^2-E835*W835+E835^2)/(W835+E835)^2)/(6*E835)-ATAN((2*W835-E835)/(E835*3^0.5))/(E835*3^0.5)))","v":4.0789725576609177},{"$f":"IF($C$2=1,($O$31*D835*$F$6/$O$30)*(1-W835^3-(E835-F835)*(-2*F835^3*(1-W835^3)-3*F835^2*(1-W835^2)-6*F835*(1-W835)-6*LN((1-F835)/(1-F835*W835)))/(2*F835^4))/3,$F$6*F835*(LN((1+E835^3)/(E835^3+W835^3)))/3)","v":2.6990386030010254},{"$f":"$I$35","v":0.66169570028899294},{"$f":"$J$35","v":0.22178006084003529},{"$f":"$K$35","v":90.812088468865227},{"$f":"$L$35","v":5.4776561278259202E-2},{"$f":"$M$35","v":458.32747875640376},{"$f":"$N$35","v":0.27645662211829442},{"$f":"$O$35","v":0.11972660615436539},{"$f":"$P$35","v":2.3534552881082957E-2},{"$f":"$Q$35","v":1.0000000000010001E-4},{"$f":"$R$35","v":0.11972425269907729},null,null,null,null,{"$f":"IF(C835<$C$6,0,(C835-$C$6)/C835)","v":0}]
[null,{"$f":"IF(R816>$Q$29*V816,B816,IF(Q816>Q815,$U$6,-0.5)*B816)","v":-4.7016331746461251E-44},{"$f":"IF(Q816>Q815,C816,(1-$T$6)*C816+$T$6*C817)","v":0.15398187908114286},{"$f":"D816+B836","v":4.5739675128514293E-4},{"$f":"IF($C$2=1,D836/($O$31*$O$30),2^(1/3)*$O$30/D836)","v":9.1580512308429632E-2},{"$f":"IF($C$2=1,-($O$31-2)*D836/$O$30,3*($O$30/D836)^2)","v":-2.9293733106253231E-2},{"$f":"IF($C$2=1,0.5*($O$31*D836*$F$6/$O$30)*(1-W836^2+(E836-F836)*(F836^2*(1-W836^2)+2*F836*(1-W836)+2*LN((1-F836)/(1-F836*W836)))/(F836^3)),$F$6*F836*(LN((1-E836+E836^2)/(1+E836)^2)/(6*E836)+ATAN((2-E836)/(E836*3^0.5))/(E836*3^0.5)-LN((W836^2-E836*W836+E836^2)/(W836+E836)^2)/(6*E836)-ATAN((2*W836-E836)/(E836*3^0.5))/(E836*3^0.5)))","v":5.5647849150413204},{"$f":"IF($C$2=1,($O$31*D836*$F$6/$O$30)*(1-W836^3-(E836-F836)*(-2*F836^3*(1-W836^3)-3*F836^2*(1-W836^2)-6*F836*(1-W836)-6*LN((1-F836)/(1-F836*W836)))/(2*F836^4))/3,$F$6*F836*(LN((1+E836^3)/(E836^3+W836^3)))/3)","v":3.670674299885849},{"$f":"H836/G836","v":0.65962554814368657},{"$f":"G836*C836*$D$6","v":0.35988793591819335},{"$f":"MAX(MIN($K$6,$Q$6*$J$6*D836*(C836-$I$6)/C836),-$K$6)","v":144.31314469897774},{"$f":"K836*$H$6","v":8.704763811892785E-2},{"$f":"MIN($O$6,$Q$6*$N$6*D836*(C$6-C836-$M$6)/C836)","v":458.33333333333337},{"$f":"M836*$L$6","v":0.27646015351590181},{"$f":"(0.5*$C$6-C836+I836*C836)*J836+(0.5*$C$6-$I$6)*L836+(0.5*$C$6-$M$6)*N836","v":0.1546441132198933},{"$f":"0.1*$Q$6*D836*$B$6^2/C836+$R$6","v":2.7639760238660788E-2},{"$f":"(J836+L836-N836)","v":0.17047542052121939},{"$f":"O836-P836*Q836","v":0.14993221347010191},{"$f":"((R836-R835)*(Q836-Q837)-(R836-R837)*(Q836-Q835))/((Q836^2-Q835^2)*(Q836-Q837)-(Q836^2-Q837^2)*(Q836-Q835))","v":-4.9833015348903414E-2},{"$f":"-(S836*(Q836^2-Q835^2)-(R836-R835))/(Q836-Q835)","v":0.18580262774929265},{"$f":"R836-S836*Q836^2-T836*Q836","v":0.1197056729346325},{"$f":"S816*Q836^2+T816*Q836+U816","v":0.14993221347010191},{"$f":"IF(C836<$C$6,0,(C836-$C$6)/C836)","v":0}]
[null,{"$f":"IF(R817>$Q$29*V817,B817,IF(Q817>Q816,$U$6,-0.5)*B817)","v":-1.124578056762682E-43},{"$f":"IF(Q817>Q816,C817,(1-$T$6)*C817+$T$6*C818)","v":0.17394964462770141},{"$f":"D817+B837","v":5.4994191131377409E-4},0.11011001244867896,-3.5220738950822887E-2,6.5777984233855404,4.3289484764128705,0.65811510140269625,0.48056639323583905,186.22781758609173,0.11232997317552497,458.33333333333337,0.27646015351590181,0.18281920576960167,{"$f":"0.1*$Q$6*D837*$B$6^2/C837+$R$6","v":2.9417386315698506E-2},0.3164362128954622,0.17351047945057924,-3.591644304165513E-2,0.17902648679560904,0.12045639681187423,0.17351047945057924,0]
[null,-1.9781689190826437E-43,0.19020714713826217,6.4833572344321494E-4,0.12981053655051306,-4.1522318626953582E-2,7.6144047848790857,4.9986619624952517,0.6564744196974851,0.60829196874086922,229.42791036080226,0.13838765524184715,458.33333333333337,0.27646015351590181,0.21161045333984951,3.1716403264017916E-2,0.47021947046681456,0.19669678299193105,-3.2666223709382027E-2,0.17646968328570242,0.12094001146981198,0.19669678299193105,0]
[null,-4.1915779846300518E-42,0.20976979172988638,8.317346547287057E-4,0.16653088499363783,-5.3268006216457338E-2,9.4372631560026008,6.1655068557644013,0.65331513531471375,0.83145414522861427,306.97597092325702,0.18516354337557084,458.33333333333337,0.27646015351590181,0.2609669144395047,3.6893738135018082E-2,0.7401575350882833,0.23365973616129712,-3.168201295883398E-2,0.17527841722461895,0.12128255271915558,0.23365973616129709,0]
[null,-4.6152151710074441E-40,0.23210975825278549,1.0081012683895029E-3,0.20184321458010143,-6.45633127417376E-2,11.058822488807907,7.1898253430757819,0.6501438421994975,1.0780814580638216,386.41552107443147,0.23308035115017711,458.33333333333337,0.27646015351590181,0.31053986444200971,4.0413044849693741E-2,1.0347016556980968,0.26872442002423014,-3.3076831574738078E-2,0.17775402386453629,0.12021434172404413,0.26872442002423014,0]
[null,-6.1473998760095021E-38,0.25773794179237436,1.2225765494064118E-3,0.24478570609941303,-7.8299268719442566E-2,12.861636823717271,8.3098405789015377,0.64609510381897306,1.3922713572708783,458.33333333333337,0.27646015351590181,458.33333333333337,0.27646015351590181,0.36503088957399682,4.4137579828171451E-2,1.3922713572708783,0.3035794013999768,-4.7493487561576744E-2,0.21274285888185135,9.9445916460164763E-2,0.3035794013999768,0]
[null,8.130369436935706E-35,0.28728229315396503,1.5532805370088755E-3,0.31099964514025624,-9.9479030759249867E-2,15.289253107432556,9.7757723488470347,0.63938848288767902,1.8447793111921365,458.33333333333337,0.27646015351590181,458.33333333333337,0.27646015351590181,0.42308951617039597,5.0309714479396E-2,1.8447793111921365,0.33027919574682274,-3.8314314148592384E-2,0.18302940944941234,0.12302201199678059,0.33027919574682274,0]
[null,-1.0688311450670577E-31,0.32152034227515802,1.9733666059115963E-3,0.39510976900023542,-0.12638322093881646,17.782577020427158,11.201545531674375,0.62991688543268853,2.4013333050596817,458.33333333333337,0.27646015351590181,458.33333333333337,0.27646015351590181,0.47874040867591322,5.7109733035400116E-2,2.4013333050596817,0.34160090469493976,-4.9262794546795496E-2,0.22951789019700833,7.4521010221433648E-2,0.3416009046949397,0]
[null,-1.1457572188279592E-29,0.36142247287457469,2.3445454838367072E-3,0.4694276379027596,-0.15015517592989672,19.461921689209849,12.075560547681308,0.62047113026748457,2.9542698627983279,458.33333333333337,0.27646015351590181,397.63463384304356,0.2398475605428812,0.50083950995971604,6.0360707316859628E-2,2.9908824557713487,0.3203077294277713,-3.7125174814444779E-2,0.16406922577725305,0.16169467750980315,0.32030772942777125,0]
[null,1.2226832925888614E-30,0.40821011767341625,2.3796898034895218E-3,0.47646427467268171,-0.15240597530094122,19.59635070543893,12.14025587488384,0.6195161567257691,3.3597600235234388,458.33333333333337,0.27646015351590181,216.34065104151506,0.13049360639709248,0.47076645754021057,5.4243461509412089E-2,3.5057265706422482,0.28060371324305455,-1.859858923221171E-2,4.3709242655093711E-2,0.35594993083953375,0.28060371324305455,0]
[null,-1.299609366349763E-31,0.46343492031952305,2.3994489083901563E-3,0.48042046575727476,-0.15367143672748471,19.67009675462722,12.175283666844999,0.61897426427152014,3.8286400833063494,458.33333333333337,0.27646015351590181,44.335803816560166,2.6742726827731916E-2,0.42134174375642836,4.8176313310380844E-2,4.0783575099945191,0.22486151456318773,-2.4546906731499958E-2,8.882178270801884E-2,0.27090322916245996,0.22486151456318776,0]
[null,-1.3765354401106653E-29,0.52908775969114819,2.3625267353352903E-3,0.47302786510061384,-0.15130677567527298,19.531223437183492,12.109044744125258,0.61998393408741059,4.3401671260107975,458.33333333333337,0.27646015351590181,-113.30798989905054,-6.8345769342697663E-2,0.34290711754669134,4.1548928511208769E-2,4.6849730488693968,0.14825150726227698,-1.6454928814816326E-2,1.7909105349093228E-2,0.42551661090212539,0.14825150726227693,0]
[null,-1.1913618966160384E-31,0.60775093154630122,2.2403171511680316E-3,0.44855891927712122,-0.14347992747059454,18.686793519659489,11.839550219255107,0.63357847919704779,4.7699047910583046,458.33333333333337,0.27646015351590181,-243.43681201224064,-0.14683762564434713,0.25287051851207015,3.4300044337697837E-2,5.1932025702185536,7.4743440098927388E-2,2.2414276027718043E-2,-0.366047726259765,1.3712049119524834,7.4743440098927527E-2,0.11147812044306116]
[null,-1.2544160554364495E-31,0.70281369836511054,2.0897030912682734E-3,0.41840279611333081,-0.13383392963533169,17.00284435723724,11.306133936408067,0.6649554450338554,5.0189294086832268,458.33333333333337,0.27646015351590181,-342.47159833541008,-0.20657400141958632,0.18796013658025415,2.7666560966714129E-2,5.5019635636187143,3.5739726210757272E-2,2.8732284106818506E-2,-0.43361987230067062,1.5517281647138055,3.5739726210757272E-2,0.2316598249918132]
[null,1.3174702142568614E-32,0.81878250652390949,1.9703416821976183E-3,0.39450411523762846,-0.12618949129885931,15.095467930182128,10.596192658552637,0.70194529295553898,5.191160128990842,458.33333333333337,0.27646015351590181,-421.4366220130994,-0.25420458156864989,0.13942590796289797,2.2391531587834267E-2,5.7218248640753933,1.1305485778898283E-2,3.4413772567279378E-2,-0.49738769673526895,1.7305886478453616,1.1305485778898339E-2,0.34048419977542432]
[null,-1.1315773549813696E-7,0.9617353344904862,1.8996999623362529E-3,0.38036014749611002,-0.12166527969925503,13.247842886907035,9.7985946415633638,0.73963699035466401,5.3511858162491173,458.33333333333337,0.27646015351590181,-491.89935117408447,-0.29670669848718517,0.10062982918084465,1.8379777623118036E-2,5.9243526682522036,-8.2584554225568346E-3,4.2728855230045701E-2,-0.59422662562182482,2.0124542213090688,-8.2592945881199142E-3,0.43851496286544944]
[null,1.4435785318976815E-6,1.1400001031491622,1.8171923642418934E-3,0.36384037974177158,-0.11638112420181593,11.353553891331668,8.8157446310488989,0.77647446036959733,5.4360820950356228,458.33333333333337,0.27646015351590181,-543.84898439405708,-0.32804197901465082,7.1692227472477318E-2,1.4832242710847904E-2,6.0405842275661747,-1.7903183906103889E-2,1.2903953465319086E-2,-0.23737355808288865,0.94512384469431931,-1.79049608185331E-2,0.52631583233344303]
[null,0,{"$f":"C833","v":1.3651895295975189},{"$f":"D833+(D852-D832)","v":1.8931670554698827E-3},0.37905212124536719,-0.12124688313300536,9.9666596464349375,8.0733578705030009,0.81003647730569706,5.7146793456375358,458.33333333333337,0.27646015351590181,-634.5568894462084,-0.38275569833644779,3.8618063544766337E-2,1.2903478439498888E-2,6.373895197489885,-4.3627355711669896E-2,null,null,null,null,0.60445052625095852]
[null,"De","hc","e0","a'","b'","N'","tN'","t","Nc","sac","Nac","sat","Nat","Mtot","u","N","Mo","a''","b''","c''",null,"x"]
[null,null,{"$f":"$C$35","v":0.12945607170440351},{"$f":"$D$35","v":3.2742931933764949E-4},{"$f":"$E$35","v":6.555828113227867E-2},{"$f":"$F$35","v":-2.097003764213403E-2},{"$f":"IF($C$2=1,0.5*($O$31*D855*$F$6/$O$30)*(1-W855^2+(E855-F855)*(F855^2*(1-W855^2)+2*F855*(1-W855)+2*LN((1-F855)/(1-F855*W855)))/(F855^3)),$F$6*F855*(LN((1-E855+E855^2)/(1+E855)^2)/(6*E855)+ATAN((2-E855)/(E855*3^0.5))/(E855*3^0.5)-LN((W855^2-E855*W855+E855^2)/(W855+E855)^2)/(6*E855)-ATAN((2*W855-E855)/(E855*3^0.5))/(E855*3^0.5)))","v":4.0789725576609177},{"$f":"IF($C$2=1,($O$31*D855*$F$6/$O$30)*(1-W855^3-(E855-F855)*(-2*F855^3*(1-W855^3)-3*F855^2*(1-W855^2)-6*F855*(1-W855)-6*LN((1-F855)/(1-F855*W855)))/(2*F855^4))/3,$F$6*F855*(LN((1+E855^3)/(E855^3+W855^3)))/3)","v":2.6990386030010254},{"$f":"$I$35","v":0.66169570028899294},{"$f":"$J$35","v":0.22178006084003529},{"$f":"$K$35","v":90.812088468865227},{"$f":"$L$35","v":5.4776561278259202E-2},{"$f":"$M$35","v":458.32747875640376},{"$f":"$N$35","v":0.27645662211829442},{"$f":"$O$35","v":0.11972660615436539},{"$f":"$P$35","v":2.3534552881082957E-2},{"$f":"$Q$35","v":1.0000000000010001E-4},{"$f":"$R$35","v":0.11972425269907729},null,null,null,null,{"$f":"IF(C855<$C$6,0,(C855-$C$6)/C855)","v":0}]
[null,{"$f":"IF(R836>$Q$29*V836,B836,IF(Q836>Q835,$U$6,-0.5)*B836)","v":4.7016331746461251E-45},{"$f":"IF(Q836>Q835,C836,(1-$T$6)*C836+$T$6*C837)","v":0.15398187908114286},{"$f":"D836+B856","v":4.5739675128514293E-4},{"$f":"IF($C$2=1,D856/($O$31*$O$30),2^(1/3)*$O$30/D856)","v":9.1580512308429632E-2},{"$f":"IF($C$2=1,-($O$31-2)*D856/$O$30,3*($O$30/D856)^2)","v":-2.9293733106253231E-2},{"$f":"IF($C$2=1,0.5*($O$31*D856*$F$6/$O$30)*(1-W856^2+(E856-F856)*(F856^2*(1-W856^2)+2*F856*(1-W856)+2*LN((1-F856)/(1-F856*W856)))/(F856^3)),$F$6*F856*(LN((1-E856+E856^2)/(1+E856)^2)/(6*E856)+ATAN((2-E856)/(E856*3^0.5))/(E856*3^0.5)-LN((W856^2-E856*W856+E856^2)/(W856+E856)^2)/(6*E856)-ATAN((2*W856-E856)/(E856*3^0.5))/(E856*3^0.5)))","v":5.5647849150413204},{"$f":"IF($C$2=1,($O$31*D856*$F$6/$O$30)*(1-W856^3-(E856-F856)*(-2*F856^3*(1-W856^3)-3*F856^2*(1-W856^2)-6*F856*(1-W856)-6*LN((1-F856)/(1-F856*W856)))/(2*F856^4))/3,$F$6*F856*(LN((1+E856^3)/(E856^3+W856^3)))/3)","v":3.670674299885849},{"$f":"H856/G856","v":0.65962554814368657},{"$f":"G856*C856*$D$6","v":0.35988793591819335},{"$f":"MAX(MIN($K$6,$Q$6*$J$6*D856*(C856-$I$6)/C856),-$K$6)","v":144.31314469897774},{"$f":"K856*$H$6","v":8.704763811892785E-2},{"$f":"MIN($O$6,$Q$6*$N$6*D856*(C$6-C856-$M$6)/C856)","v":458.33333333333337},{"$f":"M856*$L$6","v":0.27646015351590181},{"$f":"(0.5*$C$6-C856+I856*C856)*J856+(0.5*$C$6-$I$6)*L856+(0.5*$C$6-$M$6)*N856","v":0.1546441132198933},{"$f":"0.1*$Q$6*D856*$B$6^2/C856+$R$6","v":2.7639760238660788E-2},{"$f":"(J856+L856-N856)","v":0.17047542052121939},{"$f":"O856-P856*Q856","v":0.14993221347010191},{"$f":"((R856-R855)*(Q856-Q857)-(R856-R857)*(Q856-Q855))/((Q856^2-Q855^2)*(Q856-Q857)-(Q856^2-Q857^2)*(Q856-Q855))","v":-4.9833015348903414E-2},{"$f":"-(S856*(Q856^2-Q855^2)-(R856-R855))/(Q856-Q855)","v":0.18580262774929265},{"$f":"R856-S856*Q856^2-T856*Q856","v":0.1197056729346325},{"$f":"S836*Q856^2+T836*Q856+U836","v":0.14993221347010191},{"$f":"IF(C856<$C$6,0,(C856-$C$6)/C856)","v":0}]
[null,{"$f":"IF(R837>$Q$29*V837,B837,IF(Q837>Q836,$U$6,-0.5)*B837)","v":1.124578056762682E-44},{"$f":"IF(Q837>Q836,C837,(1-$T$6)*C837+$T$6*C838)","v":0.17394964462770141},{"$f":"D837+B857","v":5.4994191131377409E-4},0.11011001244867896,-3.5220738950822887E-2,6.5777984233855404,4.3289484764128705,0.65811510140269625,0.48056639323583905,186.22781758609173,0.11232997317552497,458.33333333333337,0.27646015351590181,0.18281920576960167,{"$f":"0.1*$Q$6*D857*$B$6^2/C857+$R$6","v":2.9417386315698506E-2},0.3164362128954622,0.17351047945057924,-3.591644304165513E-2,0.17902648679560904,0.12045639681187423,0.17351047945057924,0]
[null,1.9781689190826438E-44,0.19020714713826217,6.4833572344321494E-4,0.12981053655051306,-4.1522318626953582E-2,7.6144047848790857,4.9986619624952517,0.6564744196974851,0.60829196874086922,229.42791036080226,0.13838765524184715,458.33333333333337,0.27646015351590181,0.21161045333984951,3.1716403264017916E-2,0.47021947046681456,0.19669678299193105,-3.2666223709382027E-2,0.17646968328570242,0.12094001146981198,0.19669678299193105,0]
[null,4.1915779846300519E-43,0.20976979172988638,8.317346547287057E-4,0.16653088499363783,-5.3268006216457338E-2,9.4372631560026008,6.1655068557644013,0.65331513531471375,0.83145414522861427,306.97597092325702,0.18516354337557084,458.33333333333337,0.27646015351590181,0.2609669144395047,3.6893738135018082E-2,0.7401575350882833,0.23365973616129712,-3.168201295883398E-2,0.17527841722461895,0.12128255271915558,0.23365973616129709,0]
[null,4.6152151710074445E-41,0.23210975825278549,1.0081012683895029E-3,0.20184321458010143,-6.45633127417376E-2,11.058822488807907,7.1898253430757819,0.6501438421994975,1.0780814580638216,386.41552107443147,0.23308035115017711,458.33333333333337,0.27646015351590181,0.31053986444200971,4.0413044849693741E-2,1.0347016556980968,0.26872442002423014,-3.3076831574738078E-2,0.17775402386453629,0.12021434172404413,0.26872442002423014,0]
[null,6.1473998760095021E-39,0.25773794179237436,1.2225765494064118E-3,0.24478570609941303,-7.8299268719442566E-2,12.861636823717271,8.3098405789015377,0.64609510381897306,1.3922713572708783,458.33333333333337,0.27646015351590181,458.33333333333337,0.27646015351590181,0.36503088957399682,4.4137579828171451E-2,1.3922713572708783,0.3035794013999768,-4.7493487561576744E-2,0.21274285888185135,9.9445916460164763E-2,0.3035794013999768,0]
[null,-8.1303694369357063E-36,0.28728229315396503,1.5532805370088755E-3,0.31099964514025624,-9.9479030759249867E-2,15.289253107432556,9.7757723488470347,0.63938848288767902,1.8447793111921365,458.33333333333337,0.27646015351590181,458.33333333333337,0.27646015351590181,0.42308951617039597,5.0309714479396E-2,1.8447793111921365,0.33027919574682274,-3.8314314148592384E-2,0.18302940944941234,0.12302201199678059,0.33027919574682274,0]
[null,1.0688311450670578E-32,0.32152034227515802,1.9733666059115963E-3,0.39510976900023542,-0.12638322093881646,17.782577020427158,11.201545531674375,0.62991688543268853,2.4013333050596817,458.33333333333337,0.27646015351590181,458.33333333333337,0.27646015351590181,0.47874040867591322,5.7109733035400116E-2,2.4013333050596817,0.34160090469493976,-4.9262794546795496E-2,0.22951789019700833,7.4521010221433648E-2,0.3416009046949397,0]
[null,1.1457572188279593E-30,0.36142247287457469,2.3445454838367072E-3,0.4694276379027596,-0.15015517592989672,19.461921689209849,12.075560547681308,0.62047113026748457,2.9542698627983279,458.33333333333337,0.27646015351590181,397.63463384304356,0.2398475605428812,0.50083950995971604,6.0360707316859628E-2,2.9908824557713487,0.3203077294277713,-3.7125174814444779E-2,0.16406922577725305,0.16169467750980315,0.32030772942777125,0]
[null,-1.2226832925888616E-31,0.40821011767341625,2.3796898034895218E-3,0.47646427467268171,-0.15240597530094122,19.59635070543893,12.14025587488384,0.6195161567257691,3.3597600235234388,458.33333333333337,0.27646015351590181,216.34065104151506,0.13049360639709248,0.47076645754021057,5.4243461509412089E-2,3.5057265706422482,0.28060371324305455,-1.859858923221171E-2,4.3709242655093711E-2,0.35594993083953375,0.28060371324305455,0]
[null,1.2996093663497631E-32,0.46343492031952305,2.3994489083901563E-3,0.48042046575727476,-0.15367143672748471,19.67009675462722,12.175283666844999,0.61897426427152014,3.8286400833063494,458.33333333333337,0.27646015351590181,44.335803816560166,2.6742726827731916E-2,0.42134174375642836,4.8176313310380844E-2,4.0783575099945191,0.22486151456318773,-2.4546906731499958E-2,8.882178270801884E-2,0.27090322916245996,0.22486151456318776,0]
[null,1.3765354401106653E-30,0.52908775969114819,2.3625267353352903E-3,0.47302786510061384,-0.15130677567527298,19.531223437183492,12.109044744125258,0.61998393408741059,4.3401671260107975,458.33333333333337,0.27646015351590181,-113.30798989905054,-6.8345769342697663E-2,0.34290711754669134,4.1548928511208769E-2,4.6849730488693968,0.14825150726227698,-1.6454928814816326E-2,1.7909105349093228E-2,0.42551661090212539,0.14825150726227693,0]
[null,1.1913618966160385E-32,0.60775093154630122,2.2403171511680316E-3,0.44855891927712122,-0.14347992747059454,18.686793519659489,11.839550219255107,0.63357847919704779,4.7699047910583046,458.33333333333337,0.27646015351590181,-243.43681201224064,-0.14683762564434713,0.25287051851207015,3.4300044337697837E-2,5.1932025702185536,7.4743440098927388E-2,2.2414276027718043E-2,-0.366047726259765,1.3712049119524834,7.4743440098927527E-2,0.11147812044306116]
[null,1.2544160554364495E-32,0.70281369836511054,2.0897030912682734E-3,0.41840279611333081,-0.13383392963533169,17.00284435723724,11.306133936408067,0.6649554450338554,5.0189294086832268,458.33333333333337,0.27646015351590181,-342.47159833541008,-0.20657400141958632,0.18796013658025415,2.7666560966714129E-2,5.5019635636187143,3.5739726210757272E-2,2.8732284106818506E-2,-0.43361987230067062,1.5517281647138055,3.5739726210757272E-2,0.2316598249918132]
[null,-1.3174702142568615E-33,0.81878250652390949,1.9703416821976183E-3,0.39450411523762846,-0.12618949129885931,15.095467930182128,10.596192658552637,0.70194529295553898,5.191160128990842,458.33333333333337,0.27646015351590181,-421.4366220130994,-0.25420458156864989,0.13942590796289797,2.2391531587834267E-2,5.7218248640753933,1.1305485778898283E-2,3.4419855690856566E-2,-0.49745597242727885,1.7307801523128155,1.1305485778898339E-2,0.34048419977542432]
[null,-1.1315773549813696E-7,0.9617353344904862,1.8995868046007547E-3,0.38033749092201002,-0.12165803257191257,13.24743538593815,9.7983100652218251,0.73963826052116532,5.3510212148552583,458.33333333333337,0.27646015351590181,-491.87005064359255,-0.29668902482356796,0.10063685112818706,1.8378682811276151E-2,5.9241703931947276,-8.2415974482919624E-3,4.2496805963562902E-2,-0.59152009699642316,2.0045650643819126,-8.2424238210565548E-3,0.43851496286544944]
[null,1.4435785318976815E-6,1.1400001031491622,1.818635942773791E-3,0.36412941472319016,-0.11647357742565827,11.358213631216866,8.8192296982854117,0.77646274182118546,5.4383131786945276,458.33333333333337,0.27646015351590181,-544.2810183019219,-0.32830257572845239,7.159872071327654E-2,1.4844025451948187E-2,6.0430759079388814,-1.8104851872223118E-2,1.2681070654005753E-2,-0.2347078488975454,0.93715543791999867,-1.8106122726006424E-2,0.52631583233344303]
[null,0,{"$f":"C853","v":1.3651895295975189},{"$f":"D853+(D872-D852)","v":1.8946106340017802E-3},0.37934115622678583,-0.1213393363568477,9.970168251805422,8.0761126738764428,0.81002772169005277,5.7166911083899521,458.33333333333337,0.27646015351590181,-635.04075202992783,-0.38304755737101287,3.8509894122184765E-2,1.2913317605254623E-2,6.3761988192768664,-4.3827986345386941E-2,null,null,null,null,0.60445052625095852]
[null,"De","hc","e0","a'","b'","N'","tN'","t","Nc","sac","Nac","sat","Nat","Mtot","u","N","Mo","a''","b''","c''",null,"x"]
[null,null,{"$f":"$C$35","v":0.12945607170440351},{"$f":"$D$35","v":3.2742931933764949E-4},{"$f":"$E$35","v":6.555828113227867E-2},{"$f":"$F$35","v":-2.097003764213403E-2},{"$f":"IF($C$2=1,0.5*($O$31*D875*$F$6/$O$30)*(1-W875^2+(E875-F875)*(F875^2*(1-W875^2)+2*F875*(1-W875)+2*LN((1-F875)/(1-F875*W875)))/(F875^3)),$F$6*F875*(LN((1-E875+E875^2)/(1+E875)^2)/(6*E875)+ATAN((2-E875)/(E875*3^0.5))/(E875*3^0.5)-LN((W875^2-E875*W875+E875^2)/(W875+E875)^2)/(6*E875)-ATAN((2*W875-E875)/(E875*3^0.5))/(E875*3^0.5)))","v":4.0789725576609177},{"$f":"IF($C$2=1,($O$31*D875*$F$6/$O$30)*(1-W875^3-(E875-F875)*(-2*F875^3*(1-W875^3)-3*F875^2*(1-W875^2)-6*F875*(1-W875)-6*LN((1-F875)/(1-F875*W875)))/(2*F875^4))/3,$F$6*F875*(LN((1+E875^3)/(E875^3+W875^3)))/3)","v":2.6990386030010254},{"$f":"$I$35","v":0.66169570028899294},{"$f":"$J$35","v":0.22178006084003529},{"$f":"$K$35","v":90.812088468865227},{"$f":"$L$35","v":5.4776561278259202E-2},{"$f":"$M$35","v":458.32747875640376},{"$f":"$N$35","v":0.27645662211829442},{"$f":"$O$35","v":0.11972660615436539},{"$f":"$P$35","v":2.3534552881082957E-2},{"$f":"$Q$35","v":1.0000000000010001E-4},{"$f":"$R$35","v":0.11972425269907729},null,null,null,null,{"$f":"IF(C875<$C$6,0,(C875-$C$6)/C875)","v":0}]
[null,{"$f":"IF(R856>$Q$29*V856,B856,IF(Q856>Q855,$U$6,-0.5)*B856)","v":-4.7016331746461255E-46},{"$f":"IF(Q856>Q855,C856,(1-$T$6)*C856+$T$6*C857)","v":0.15398187908114286},{"$f":"D856+B876","v":4.5739675128514293E-4},{"$f":"IF($C$2=1,D876/($O$31*$O$30),2^(1/3)*$O$30/D876)","v":9.1580512308429632E-2},{"$f":"IF($C$2=1,-($O$31-2)*D876/$O$30,3*($O$30/D876)^2)","v":-2.9293733106253231E-2},{"$f":"IF($C$2=1,0.5*($O$31*D876*$F$6/$O$30)*(1-W876^2+(E876-F876)*(F876^2*(1-W876^2)+2*F876*(1-W876)+2*LN((1-F876)/(1-F876*W876)))/(F876^3)),$F$6*F876*(LN((1-E876+E876^2)/(1+E876)^2)/(6*E876)+ATAN((2-E876)/(E876*3^0.5))/(E876*3^0.5)-LN((W876^2-E876*W876+E876^2)/(W876+E876)^2)/(6*E876)-ATAN((2*W876-E876)/(E876*3^0.5))/(E876*3^0.5)))","v":5.5647849150413204},{"$f":"IF($C$2=1,($O$31*D876*$F$6/$O$30)*(1-W876^3-(E876-F876)*(-2*F876^3*(1-W876^3)-3*F876^2*(1-W876^2)-6*F876*(1-W876)-6*LN((1-F876)/(1-F876*W876)))/(2*F876^4))/3,$F$6*F876*(LN((1+E876^3)/(E876^3+W876^3)))/3)","v":3.670674299885849},{"$f":"H876/G876","v":0.65962554814368657},{"$f":"G876*C876*$D$6","v":0.35988793591819335},{"$f":"MAX(MIN($K$6,$Q$6*$J$6*D876*(C876-$I$6)/C876),-$K$6)","v":144.31314469897774},{"$f":"K876*$H$6","v":8.704763811892785E-2},{"$f":"MIN($O$6,$Q$6*$N$6*D876*(C$6-C876-$M$6)/C876)","v":458.33333333333337},{"$f":"M876*$L$6","v":0.27646015351590181},{"$f":"(0.5*$C$6-C876+I876*C876)*J876+(0.5*$C$6-$I$6)*L876+(0.5*$C$6-$M$6)*N876","v":0.1546441132198933},{"$f":"0.1*$Q$6*D876*$B$6^2/C876+$R$6","v":2.7639760238660788E-2},{"$f":"(J876+L876-N876)","v":0.17047542052121939},{"$f":"O876-P876*Q876","v":0.14993221347010191},{"$f":"((R876-R875)*(Q876-Q877)-(R876-R877)*(Q876-Q875))/((Q876^2-Q875^2)*(Q876-Q877)-(Q876^2-Q877^2)*(Q876-Q875))","v":-4.9833015348903414E-2},{"$f":"-(S876*(Q876^2-Q875^2)-(R876-R875))/(Q876-Q875)","v":0.18580262774929265},{"$f":"R876-S876*Q876^2-T876*Q876","v":0.1197056729346325},{"$f":"S856*Q876^2+T856*Q876+U856","v":0.14993221347010191},{"$f":"IF(C876<$C$6,0,(C876-$C$6)/C876)","v":0}]
[null,{"$f":"IF(R857>$Q$29*V857,B857,IF(Q857>Q856,$U$6,-0.5)*B857)","v":-1.124578056762682E-45},{"$f":"IF(Q857>Q856,C857,(1-$T$6)*C857+$T$6*C858)","v":0.17394964462770141},{"$f":"D857+B877","v":5.4994191131377409E-4},0.11011001244867896,-3.5220738950822887E-2,6.5777984233855404,4.3289484764128705,0.65811510140269625,0.48056639323583905,186.22781758609173,0.11232997317552497,458.33333333333337,0.27646015351590181,0.18281920576960167,{"$f":"0.1*$Q$6*D877*$B$6^2/C877+$R$6","v":2.9417386315698506E-2},0.3164362128954622,0.17351047945057924,-3.591644304165513E-2,0.17902648679560904,0.12045639681187423,0.17351047945057924,0]
[null,-1.9781689190826439E-45,0.19020714713826217,6.4833572344321494E-4,0.12981053655051306,-4.1522318626953582E-2,7.6144047848790857,4.9986619624952517,0.6564744196974851,0.60829196874086922,229.42791036080226,0.13838765524184715,458.33333333333337,0.27646015351590181,0.21161045333984951,3.1716403264017916E-2,0.47021947046681456,0.19669678299193105,-3.2666223709382027E-2,0.17646968328570242,0.12094001146981198,0.19669678299193105,0]
[null,-4.1915779846300521E-44,0.20976979172988638,8.317346547287057E-4,0.16653088499363783,-5.3268006216457338E-2,9.4372631560026008,6.1655068557644013,0.65331513531471375,0.83145414522861427,306.97597092325702,0.18516354337557084,458.33333333333337,0.27646015351590181,0.2609669144395047,3.6893738135018082E-2,0.7401575350882833,0.23365973616129712,-3.168201295883398E-2,0.17527841722461895,0.12128255271915558,0.23365973616129709,0]
[null,-4.6152151710074447E-42,0.23210975825278549,1.0081012683895029E-3,0.20184321458010143,-6.45633127417376E-2,11.058822488807907,7.1898253430757819,0.6501438421994975,1.0780814580638216,386.41552107443147,0.23308035115017711,458.33333333333337,0.27646015351590181,0.31053986444200971,4.0413044849693741E-2,1.0347016556980968,0.26872442002423014,-3.3076831574738078E-2,0.17775402386453629,0.12021434172404413,0.26872442002423014,0]
[null,-6.1473998760095021E-40,0.25773794179237436,1.2225765494064118E-3,0.24478570609941303,-7.8299268719442566E-2,12.861636823717271,8.3098405789015377,0.64609510381897306,1.3922713572708783,458.33333333333337,0.27646015351590181,458.33333333333337,0.27646015351590181,0.36503088957399682,4.4137579828171451E-2,1.3922713572708783,0.3035794013999768,-4.7493487561576744E-2,0.21274285888185135,9.9445916460164763E-2,0.3035794013999768,0]
[null,8.1303694369357073E-37,0.28728229315396503,1.5532805370088755E-3,0.31099964514025624,-9.9479030759249867E-2,15.289253107432556,9.7757723488470347,0.63938848288767902,1.8447793111921365,458.33333333333337,0.27646015351590181,458.33333333333337,0.27646015351590181,0.42308951617039597,5.0309714479396E-2,1.8447793111921365,0.33027919574682274,-3.8314314148592384E-2,0.18302940944941234,0.12302201199678059,0.33027919574682274,0]
[null,-1.0688311450670579E-33,0.32152034227515802,1.9733666059115963E-3,0.39510976900023542,-0.12638322093881646,17.782577020427158,11.201545531674375,0.62991688543268853,2.4013333050596817,458.33333333333337,0.27646015351590181,458.33333333333337,0.27646015351590181,0.47874040867591322,5.7109733035400116E-2,2.4013333050596817,0.34160090469493976,-4.9262794546795496E-2,0.22951789019700833,7.4521010221433648E-2,0.3416009046949397,0]
[null,-1.1457572188279593E-31,0.36142247287457469,2.3445454838367072E-3,0.4694276379027596,-0.15015517592989672,19.461921689209849,12.075560547681308,0.62047113026748457,2.9542698627983279,458.33333333333337,0.27646015351590181,397.63463384304356,0.2398475605428812,0.50083950995971604,6.0360707316859628E-2,2.9908824557713487,0.3203077294277713,-3.7125174814444779E-2,0.16406922577725305,0.16169467750980315,0.32030772942777125,0]
[null,1.2226832925888617E-32,0.40821011767341625,2.3796898034895218E-3,0.47646427467268171,-0.15240597530094122,19.59635070543893,12.14025587488384,0.6195161567257691,3.3597600235234388,458.33333333333337,0.27646015351590181,216.34065104151506,0.13049360639709248,0.47076645754021057,5.4243461509412089E-2,3.5057265706422482,0.28060371324305455,-1.859858923221171E-2,4.3709242655093711E-2,0.35594993083953375,0.28060371324305455,0]
[null,-1.2996093663497631E-33,0.46343492031952305,2.3994489083901563E-3,0.48042046575727476,-0.15367143672748471,19.67009675462722,12.175283666844999,0.61897426427152014,3.8286400833063494,458.33333333333337,0.27646015351590181,44.335803816560166,2.6742726827731916E-2,0.42134174375642836,4.8176313310380844E-2,4.0783575099945191,0.22486151456318773,-2.4546906731499958E-2,8.882178270801884E-2,0.27090322916245996,0.22486151456318776,0]
[null,-1.3765354401106653E-31,0.52908775969114819,2.3625267353352903E-3,0.47302786510061384,-0.15130677567527298,19.531223437183492,12.109044744125258,0.61998393408741059,4.3401671260107975,458.33333333333337,0.27646015351590181,-113.30798989905054,-6.8345769342697663E-2,0.34290711754669134,4.1548928511208769E-2,4.6849730488693968,0.14825150726227698,-1.6454928814816326E-2,1.7909105349093228E-2,0.42551661090212539,0.14825150726227693,0]
[null,-1.1913618966160386E-33,0.60775093154630122,2.2403171511680316E-3,0.44855891927712122,-0.14347992747059454,18.686793519659489,11.839550219255107,0.63357847919704779,4.7699047910583046,458.33333333333337,0.27646015351590181,-243.43681201224064,-0.14683762564434713,0.25287051851207015,3.4300044337697837E-2,5.1932025702185536,7.4743440098927388E-2,2.2414276027718043E-2,-0.366047726259765,1.3712049119524834,7.4743440098927527E-2,0.11147812044306116]
[null,-1.2544160554364496E-33,0.70281369836511054,2.0897030912682734E-3,0.41840279611333081,-0.13383392963533169,17.00284435723724,11.306133936408067,0.6649554450338554,5.0189294086832268,458.33333333333337,0.27646015351590181,-342.47159833541008,-0.20657400141958632,0.18796013658025415,2.7666560966714129E-2,5.5019635636187143,3.5739726210757272E-2,2.8732284106818506E-2,-0.43361987230067062,1.5517281647138055,3.5739726210757272E-2,0.2316598249918132]
[null,1.3174702142568616E-34,0.81878250652390949,1.9703416821976183E-3,0.39450411523762846,-0.12618949129885931,15.095467930182128,10.596192658552637,0.70194529295553898,5.191160128990842,458.33333333333337,0.27646015351590181,-421.4366220130994,-0.25420458156864989,0.13942590796289797,2.2391531587834267E-2,5.7218248640753933,1.1305485778898283E-2,3.4425897894953858E-2,-0.49752378884770376,1.7309703685829958,1.1305485778898339E-2,0.34048419977542432]
[null,-1.1315773549813696E-7,0.9617353344904862,1.8994736468652565E-3,0.38031483434791002,-0.12165078544457011,13.247027843447663,9.7980254564552673,0.73963953063642385,5.3508565966896269,458.33333333333337,0.27646015351590181,-491.84075011310074,-0.2966713511599508,0.10064387208092296,1.8377587999434269E-2,5.9239881013654792,-8.2247405595226725E-3,4.2254597925509868E-2,-0.5886953651661001,1.9963321602824338,-8.2255537248423494E-3,0.43851496286544944]
[null,1.4435785318976815E-6,1.1400001031491622,1.8200795213056886E-3,0.36441844970460879,-0.11656603064950061,11.362867044009281,8.8227096711267095,0.77645101689174556,5.4405412329411345,458.33333333333337,0.27646015351590181,-544.71305220978672,-0.32856317244225397,7.1505068858656887E-2,1.4855808193048471E-2,6.0455645588992901,-1.8306678647042648E-2,1.2470821419916676E-2,-0.23219688386084594,0.92966038123226891,-1.8307455298751441E-2,0.52631583233344303]
[null,0,{"$f":"C873","v":1.3651895295975189},{"$f":"D873+(D892-D872)","v":1.8960542125336778E-3},0.3796301912082044,-0.12143178958069004,9.9736711935621685,8.0788627763160097,0.81001896087478553,5.7186996237417738,458.33333333333337,0.27646015351590181,-635.52461461364737,-0.38333941640557806,3.8401601460122087E-2,1.292315677101036E-2,6.3784991936632531,-4.4028743583351307E-2,null,null,null,null,0.60445052625095852]
[null,"De","hc","e0","a'","b'","N'","tN'","t","Nc","sac","Nac","sat","Nat","Mtot","u","N","Mo","a''","b''","c''",null,"x"]
[null,null,{"$f":"$C$35","v":0.12945607170440351},{"$f":"$D$35","v":3.2742931933764949E-4},{"$f":"$E$35","v":6.555828113227867E-2},{"$f":"$F$35","v":-2.097003764213403E-2},{"$f":"IF($C$2=1,0.5*($O$31*D895*$F$6/$O$30)*(1-W895^2+(E895-F895)*(F895^2*(1-W895^2)+2*F895*(1-W895)+2*LN((1-F895)/(1-F895*W895)))/(F895^3)),$F$6*F895*(LN((1-E895+E895^2)/(1+E895)^2)/(6*E895)+ATAN((2-E895)/(E895*3^0.5))/(E895*3^0.5)-LN((W895^2-E895*W895+E895^2)/(W895+E895)^2)/(6*E895)-ATAN((2*W895-E895)/(E895*3^0.5))/(E895*3^0.5)))","v":4.0789725576609177},{"$f":"IF($C$2=1,($O$31*D895*$F$6/$O$30)*(1-W895^3-(E895-F895)*(-2*F895^3*(1-W895^3)-3*F895^2*(1-W895^2)-6*F895*(1-W895)-6*LN((1-F895)/(1-F895*W895)))/(2*F895^4))/3,$F$6*F895*(LN((1+E895^3)/(E895^3+W895^3)))/3)","v":2.6990386030010254},{"$f":"$I$35","v":0.66169570028899294},{"$f":"$J$35","v":0.22178006084003529},{"$f":"$K$35","v":90.812088468865227},{"$f":"$L$35","v":5.4776561278259202E-2},{"$f":"$M$35","v":458.32747875640376},{"$f":"$N$35","v":0.27645662211829442},{"$f":"$O$35","v":0.11972660615436539},{"$f":"$P$35","v":2.3534552881082957E-2},{"$f":"$Q$35","v":1.0000000000010001E-4},{"$f":"$R$35","v":0.11972425269907729},null,null,null,null,{"$f":"IF(C895<$C$6,0,(C895-$C$6)/C895)","v":0}]
[null,{"$f":"IF(R876>$Q$29*V876,B876,IF(Q876>Q875,$U$6,-0.5)*B876)","v":4.7016331746461256E-47},{"$f":"IF(Q876>Q875,C876,(1-$T$6)*C876+$T$6*C877)","v":0.15398187908114286},{"$f":"D876+B896","v":4.5739675128514293E-4},{"$f":"IF($C$2=1,D896/($O$31*$O$30),2^(1/3)*$O$30/D896)","v":9.1580512308429632E-2},{"$f":"IF($C$2=1,-($O$31-2)*D896/$O$30,3*($O$30/D896)^2)","v":-2.9293733106253231E-2},{"$f":"IF($C$2=1,0.5*($O$31*D896*$F$6/$O$30)*(1-W896^2+(E896-F896)*(F896^2*(1-W896^2)+2*F896*(1-W896)+2*LN((1-F896)/(1-F896*W896)))/(F896^3)),$F$6*F896*(LN((1-E896+E896^2)/(1+E896)^2)/(6*E896)+ATAN((2-E896)/(E896*3^0.5))/(E896*3^0.5)-LN((W896^2-E896*W896+E896^2)/(W896+E896)^2)/(6*E896)-ATAN((2*W896-E896)/(E896*3^0.5))/(E896*3^0.5)))","v":5.5647849150413204},{"$f":"IF($C$2=1,($O$31*D896*$F$6/$O$30)*(1-W896^3-(E896-F896)*(-2*F896^3*(1-W896^3)-3*F896^2*(1-W896^2)-6*F896*(1-W896)-6*LN((1-F896)/(1-F896*W896)))/(2*F896^4))/3,$F$6*F896*(LN((1+E896^3)/(E896^3+W896^3)))/3)","v":3.670674299885849},{"$f":"H896/G896","v":0.65962554814368657},{"$f":"G896*C896*$D$6","v":0.35988793591819335},{"$f":"MAX(MIN($K$6,$Q$6*$J$6*D896*(C896-$I$6)/C896),-$K$6)","v":144.31314469897774},{"$f":"K896*$H$6","v":8.704763811892785E-2},{"$f":"MIN($O$6,$Q$6*$N$6*D896*(C$6-C896-$M$6)/C896)","v":458.33333333333337},{"$f":"M896*$L$6","v":0.27646015351590181},{"$f":"(0.5*$C$6-C896+I896*C896)*J896+(0.5*$C$6-$I$6)*L896+(0.5*$C$6-$M$6)*N896","v":0.1546441132198933},{"$f":"0.1*$Q$6*D896*$B$6^2/C896+$R$6","v":2.7639760238660788E-2},{"$f":"(J896+L896-N896)","v":0.17047542052121939},{"$f":"O896-P896*Q896","v":0.14993221347010191},{"$f":"((R896-R895)*(Q896-Q897)-(R896-R897)*(Q896-Q895))/((Q896^2-Q895^2)*(Q896-Q897)-(Q896^2-Q897^2)*(Q896-Q895))","v":-4.9833015348903414E-2},{"$f":"-(S896*(Q896^2-Q895^2)-(R896-R895))/(Q896-Q895)","v":0.18580262774929265},{"$f":"R896-S896*Q896^2-T896*Q896","v":0.1197056729346325},{"$f":"S876*Q896^2+T876*Q896+U876","v":0.14993221347010191},{"$f":"IF(C896<$C$6,0,(C896-$C$6)/C896)","v":0}]
[null,{"$f":"IF(R877>$Q$29*V877,B877,IF(Q877>Q876,$U$6,-0.5)*B877)","v":1.124578056762682E-46},{"$f":"IF(Q877>Q876,C877,(1-$T$6)*C877+$T$6*C878)","v":0.17394964462770141},{"$f":"D877+B897","v":5.4994191131377409E-4},0.11011001244867896,-3.5220738950822887E-2,6.5777984233855404,4.3289484764128705,0.65811510140269625,0.48056639323583905,186.22781758609173,0.11232997317552497,458.33333333333337,0.27646015351590181,0.18281920576960167,{"$f":"0.1*$Q$6*D897*$B$6^2/C897+$R$6","v":2.9417386315698506E-2},0.3164362128954622,0.17351047945057924,-3.591644304165513E-2,0.17902648679560904,0.12045639681187423,0.17351047945057924,0]
[null,1.9781689190826438E-46,0.19020714713826217,6.4833572344321494E-4,0.12981053655051306,-4.1522318626953582E-2,7.6144047848790857,4.9986619624952517,0.6564744196974851,0.60829196874086922,229.42791036080226,0.13838765524184715,458.33333333333337,0.27646015351590181,0.21161045333984951,3.1716403264017916E-2,0.47021947046681456,0.19669678299193105,-3.2666223709382027E-2,0.17646968328570242,0.12094001146981198,0.19669678299193105,0]
[null,4.1915779846300521E-45,0.20976979172988638,8.317346547287057E-4,0.16653088499363783,-5.3268006216457338E-2,9.4372631560026008,6.1655068557644013,0.65331513531471375,0.83145414522861427,306.97597092325702,0.18516354337557084,458.33333333333337,0.27646015351590181,0.2609669144395047,3.6893738135018082E-2,0.7401575350882833,0.23365973616129712,-3.168201295883398E-2,0.17527841722461895,0.12128255271915558,0.23365973616129709,0]
[null,4.6152151710074451E-43,0.23210975825278549,1.0081012683895029E-3,0.20184321458010143,-6.45633127417376E-2,11.058822488807907,7.1898253430757819,0.6501438421994975,1.0780814580638216,386.41552107443147,0.23308035115017711,458.33333333333337,0.27646015351590181,0.31053986444200971,4.0413044849693741E-2,1.0347016556980968,0.26872442002423014,-3.3076831574738078E-2,0.17775402386453629,0.12021434172404413,0.26872442002423014,0]
[null,6.1473998760095029E-41,0.25773794179237436,1.2225765494064118E-3,0.24478570609941303,-7.8299268719442566E-2,12.861636823717271,8.3098405789015377,0.64609510381897306,1.3922713572708783,458.33333333333337,0.27646015351590181,458.33333333333337,0.27646015351590181,0.36503088957399682,4.4137579828171451E-2,1.3922713572708783,0.3035794013999768,-4.7493487561576744E-2,0.21274285888185135,9.9445916460164763E-2,0.3035794013999768,0]
[null,-8.1303694369357079E-38,0.28728229315396503,1.5532805370088755E-3,0.31099964514025624,-9.9479030759249867E-2,15.289253107432556,9.7757723488470347,0.63938848288767902,1.8447793111921365,458.33333333333337,0.27646015351590181,458.33333333333337,0.27646015351590181,0.42308951617039597,5.0309714479396E-2,1.8447793111921365,0.33027919574682274,-3.8314314148592384E-2,0.18302940944941234,0.12302201199678059,0.33027919574682274,0]
[null,1.068831145067058E-34,0.32152034227515802,1.9733666059115963E-3,0.39510976900023542,-0.12638322093881646,17.782577020427158,11.201545531674375,0.62991688543268853,2.4013333050596817,458.33333333333337,0.27646015351590181,458.33333333333337,0.27646015351590181,0.47874040867591322,5.7109733035400116E-2,2.4013333050596817,0.34160090469493976,-4.9262794546795496E-2,0.22951789019700833,7.4521010221433648E-2,0.3416009046949397,0]
[null,1.1457572188279593E-32,0.36142247287457469,2.3445454838367072E-3,0.4694276379027596,-0.15015517592989672,19.461921689209849,12.075560547681308,0.62047113026748457,2.9542698627983279,458.33333333333337,0.27646015351590181,397.63463384304356,0.2398475605428812,0.50083950995971604,6.0360707316859628E-2,2.9908824557713487,0.3203077294277713,-3.7125174814444779E-2,0.16406922577725305,0.16169467750980315,0.32030772942777125,0]
[null,-1.2226832925888618E-33,0.40821011767341625,2.3796898034895218E-3,0.47646427467268171,-0.15240597530094122,19.59635070543893,12.14025587488384,0.6195161567257691,3.3597600235234388,458.33333333333337,0.27646015351590181,216.34065104151506,0.13049360639709248,0.47076645754021057,5.4243461509412089E-2,3.5057265706422482,0.28060371324305455,-1.859858923221171E-2,4.3709242655093711E-2,0.35594993083953375,0.28060371324305455,0]
[null,1.2996093663497633E-34,0.46343492031952305,2.3994489083901563E-3,0.48042046575727476,-0.15367143672748471,19.67009675462722,12.175283666844999,0.61897426427152014,3.8286400833063494,458.33333333333337,0.27646015351590181,44.335803816560166,2.6742726827731916E-2,0.42134174375642836,4.8176313310380844E-2,4.0783575099945191,0.22486151456318773,-2.4546906731499958E-2,8.882178270801884E-2,0.27090322916245996,0.22486151456318776,0]
[null,1.3765354401106653E-32,0.52908775969114819,2.3625267353352903E-3,0.47302786510061384,-0.15130677567527298,19.531223437183492,12.109044744125258,0.61998393408741059,4.3401671260107975,458.33333333333337,0.27646015351590181,-113.30798989905054,-6.8345769342697663E-2,0.34290711754669134,4.1548928511208769E-2,4.6849730488693968,0.14825150726227698,-1.6454928814816326E-2,1.7909105349093228E-2,0.42551661090212539,0.14825150726227693,0]
[null,1.1913618966160386E-34,0.60775093154630122,2.2403171511680316E-3,0.44855891927712122,-0.14347992747059454,18.686793519659489,11.839550219255107,0.63357847919704779,4.7699047910583046,458.33333333333337,0.27646015351590181,-243.43681201224064,-0.14683762564434713,0.25287051851207015,3.4300044337697837E-2,5.1932025702185536,7.4743440098927388E-2,2.2414276027718043E-2,-0.366047726259765,1.3712049119524834,7.4743440098927527E-2,0.11147812044306116]
[null,1.2544160554364496E-34,0.70281369836511054,2.0897030912682734E-3,0.41840279611333081,-0.13383392963533169,17.00284435723724,11.306133936408067,0.6649554450338554,5.0189294086832268,458.33333333333337,0.27646015351590181,-342.47159833541008,-0.20657400141958632,0.18796013658025415,2.7666560966714129E-2,5.5019635636187143,3.5739726210757272E-2,2.8732284106818506E-2,-0.43361987230067062,1.5517281647138055,3.5739726210757272E-2,0.2316598249918132]
[null,-1.3174702142568617E-35,0.81878250652390949,1.9703416821976183E-3,0.39450411523762846,-0.12618949129885931,15.095467930182128,10.596192658552637,0.70194529295553898,5.191160128990842,458.33333333333337,0.27646015351590181,-421.4366220130994,-0.25420458156864989,0.13942590796289797,2.2391531587834267E-2,5.7218248640753933,1.1305485778898283E-2,3.4431898769565379E-2,-0.4975911413947246,1.731159283748396,1.1305485778898339E-2,0.34048419977542432]
[null,-1.1315773549813696E-7,0.9617353344904862,1.8993604891297583E-3,0.38029217777381003,-0.12164353831722766,13.246620259440771,9.7977408152174554,0.73964080069666649,5.3506919617543227,458.33333333333337,0.27646015351590181,-491.81144958260882,-0.29665367749633359,0.10065089201964181,1.8376493187592383E-2,5.9238057927665579,-8.2078847757531409E-3,4.2003375285112235E-2,-0.585765760421736,1.9877943233240483,-8.2086843499111772E-3,0.43851496286544944]
[null,1.4435785318976815E-6,1.1400001031491622,1.8215230998375861E-3,0.36470748468602737,-0.11665848387334295,11.367514131001775,8.8261845506007344,0.77643928557165709,5.4427662583944638,458.33333333333337,0.27646015351590181,-545.14508611765154,-0.32882376915605555,7.1411271931151127E-2,1.4867590934148755E-2,6.0480501810664204,-1.8508664110148718E-2,1.2272340751308277E-2,-0.22983009702998194,0.922606435832386,-1.850895752042081E-2,0.52631583233344303]
[null,0,{"$f":"C893","v":1.3651895295975189},{"$f":"D893+(D912-D892)","v":1.8974977910655754E-3},0.37991922618962298,-0.12152424280453239,9.9771684728698187,8.0816081789661123,0.81001019487060244,5.7207048923607848,458.33333333333337,0.27646015351590181,-636.0084771973668,-0.38363127544014314,3.8293185723041134E-2,1.2932995936766094E-2,6.3807963213168293,-4.4229627173881458E-2,null,null,null,null,0.60445052625095852]
[null,"De","hc","e0","a'","b'","N'","tN'","t","Nc","sac","Nac","sat","Nat","Mtot","u","N","Mo","a''","b''","c''",null,"x"]
[null,null,{"$f":"$C$35","v":0.12945607170440351},{"$f":"$D$35","v":3.2742931933764949E-4},{"$f":"$E$35","v":6.555828113227867E-2},{"$f":"$F$35","v":-2.097003764213403E-2},{"$f":"IF($C$2=1,0.5*($O$31*D915*$F$6/$O$30)*(1-W915^2+(E915-F915)*(F915^2*(1-W915^2)+2*F915*(1-W915)+2*LN((1-F915)/(1-F915*W915)))/(F915^3)),$F$6*F915*(LN((1-E915+E915^2)/(1+E915)^2)/(6*E915)+ATAN((2-E915)/(E915*3^0.5))/(E915*3^0.5)-LN((W915^2-E915*W915+E915^2)/(W915+E915)^2)/(6*E915)-ATAN((2*W915-E915)/(E915*3^0.5))/(E915*3^0.5)))","v":4.0789725576609177},{"$f":"IF($C$2=1,($O$31*D915*$F$6/$O$30)*(1-W915^3-(E915-F915)*(-2*F915^3*(1-W915^3)-3*F915^2*(1-W915^2)-6*F915*(1-W915)-6*LN((1-F915)/(1-F915*W915)))/(2*F915^4))/3,$F$6*F915*(LN((1+E915^3)/(E915^3+W915^3)))/3)","v":2.6990386030010254},{"$f":"$I$35","v":0.66169570028899294},{"$f":"$J$35","v":0.22178006084003529},{"$f":"$K$35","v":90.812088468865227},{"$f":"$L$35","v":5.4776561278259202E-2},{"$f":"$M$35","v":458.32747875640376},{"$f":"$N$35","v":0.27645662211829442},{"$f":"$O$35","v":0.11972660615436539},{"$f":"$P$35","v":2.3534552881082957E-2},{"$f":"$Q$35","v":1.0000000000010001E-4},{"$f":"$R$35","v":0.11972425269907729},null,null,null,null,{"$f":"IF(C915<$C$6,0,(C915-$C$6)/C915)","v":0}]
[null,{"$f":"IF(R896>$Q$29*V896,B896,IF(Q896>Q895,$U$6,-0.5)*B896)","v":-4.7016331746461259E-48},{"$f":"IF(Q896>Q895,C896,(1-$T$6)*C896+$T$6*C897)","v":0.15398187908114286},{"$f":"D896+B916","v":4.5739675128514293E-4},{"$f":"IF($C$2=1,D916/($O$31*$O$30),2^(1/3)*$O$30/D916)","v":9.1580512308429632E-2},{"$f":"IF($C$2=1,-($O$31-2)*D916/$O$30,3*($O$30/D916)^2)","v":-2.9293733106253231E-2},{"$f":"IF($C$2=1,0.5*($O$31*D916*$F$6/$O$30)*(1-W916^2+(E916-F916)*(F916^2*(1-W916^2)+2*F916*(1-W916)+2*LN((1-F916)/(1-F916*W916)))/(F916^3)),$F$6*F916*(LN((1-E916+E916^2)/(1+E916)^2)/(6*E916)+ATAN((2-E916)/(E916*3^0.5))/(E916*3^0.5)-LN((W916^2-E916*W916+E916^2)/(W916+E916)^2)/(6*E916)-ATAN((2*W916-E916)/(E916*3^0.5))/(E916*3^0.5)))","v":5.5647849150413204},{"$f":"IF($C$2=1,($O$31*D916*$F$6/$O$30)*(1-W916^3-(E916-F916)*(-2*F916^3*(1-W916^3)-3*F916^2*(1-W916^2)-6*F916*(1-W916)-6*LN((1-F916)/(1-F916*W916)))/(2*F916^4))/3,$F$6*F916*(LN((1+E916^3)/(E916^3+W916^3)))/3)","v":3.670674299885849},{"$f":"H916/G916","v":0.65962554814368657},{"$f":"G916*C916*$D$6","v":0.35988793591819335},{"$f":"MAX(MIN($K$6,$Q$6*$J$6*D916*(C916-$I$6)/C916),-$K$6)","v":144.31314469897774},{"$f":"K916*$H$6","v":8.704763811892785E-2},{"$f":"MIN($O$6,$Q$6*$N$6*D916*(C$6-C916-$M$6)/C916)","v":458.33333333333337},{"$f":"M916*$L$6","v":0.27646015351590181},{"$f":"(0.5*$C$6-C916+I916*C916)*J916+(0.5*$C$6-$I$6)*L916+(0.5*$C$6-$M$6)*N916","v":0.1546441132198933},{"$f":"0.1*$Q$6*D916*$B$6^2/C916+$R$6","v":2.7639760238660788E-2},{"$f":"(J916+L916-N916)","v":0.17047542052121939},{"$f":"O916-P916*Q916","v":0.14993221347010191},{"$f":"((R916-R915)*(Q916-Q917)-(R916-R917)*(Q916-Q915))/((Q916^2-Q915^2)*(Q916-Q917)-(Q916^2-Q917^2)*(Q916-Q915))","v":-4.9833015348903414E-2},{"$f":"-(S916*(Q916^2-Q915^2)-(R916-R915))/(Q916-Q915)","v":0.18580262774929265},{"$f":"R916-S916*Q916^2-T916*Q916","v":0.1197056729346325},{"$f":"S896*Q916^2+T896*Q916+U896","v":0.14993221347010191},{"$f":"IF(C916<$C$6,0,(C916-$C$6)/C916)","v":0}]
[null,{"$f":"IF(R897>$Q$29*V897,B897,IF(Q897>Q896,$U$6,-0.5)*B897)","v":-1.124578056762682E-47},{"$f":"IF(Q897>Q896,C897,(1-$T$6)*C897+$T$6*C898)","v":0.17394964462770141},{"$f":"D897+B917","v":5.4994191131377409E-4},0.11011001244867896,-3.5220738950822887E-2,6.5777984233855404,4.3289484764128705,0.65811510140269625,0.48056639323583905,186.22781758609173,0.11232997317552497,458.33333333333337,0.27646015351590181,0.18281920576960167,{"$f":"0.1*$Q$6*D917*$B$6^2/C917+$R$6","v":2.9417386315698506E-2},0.3164362128954622,0.17351047945057924,-3.591644304165513E-2,0.17902648679560904,0.12045639681187423,0.17351047945057924,0]
[null,-1.9781689190826438E-47,0.19020714713826217,6.4833572344321494E-4,0.12981053655051306,-4.1522318626953582E-2,7.6144047848790857,4.9986619624952517,0.6564744196974851,0.60829196874086922,229.42791036080226,0.13838765524184715,458.33333333333337,0.27646015351590181,0.21161045333984951,3.1716403264017916E-2,0.47021947046681456,0.19669678299193105,-3.2666223709382027E-2,0.17646968328570242,0.12094001146981198,0.19669678299193105,0]
[null,-4.1915779846300523E-46,0.20976979172988638,8.317346547287057E-4,0.16653088499363783,-5.3268006216457338E-2,9.4372631560026008,6.1655068557644013,0.65331513531471375,0.83145414522861427,306.97597092325702,0.18516354337557084,458.33333333333337,0.27646015351590181,0.2609669144395047,3.6893738135018082E-2,0.7401575350882833,0.23365973616129712,-3.168201295883398E-2,0.17527841722461895,0.12128255271915558,0.23365973616129709,0]
[null,-4.6152151710074449E-44,0.23210975825278549,1.0081012683895029E-3,0.20184321458010143,-6.45633127417376E-2,11.058822488807907,7.1898253430757819,0.6501438421994975,1.0780814580638216,386.41552107443147,0.23308035115017711,458.33333333333337,0.27646015351590181,0.31053986444200971,4.0413044849693741E-2,1.0347016556980968,0.26872442002423014,-3.3076831574738078E-2,0.17775402386453629,0.12021434172404413,0.26872442002423014,0]
[null,-6.1473998760095034E-42,0.25773794179237436,1.2225765494064118E-3,0.24478570609941303,-7.8299268719442566E-2,12.861636823717271,8.3098405789015377,0.64609510381897306,1.3922713572708783,458.33333333333337,0.27646015351590181,458.33333333333337,0.27646015351590181,0.36503088957399682,4.4137579828171451E-2,1.3922713572708783,0.3035794013999768,-4.7493487561576744E-2,0.21274285888185135,9.9445916460164763E-2,0.3035794013999768,0]
[null,8.1303694369357079E-39,0.28728229315396503,1.5532805370088755E-3,0.31099964514025624,-9.9479030759249867E-2,15.289253107432556,9.7757723488470347,0.63938848288767902,1.8447793111921365,458.33333333333337,0.27646015351590181,458.33333333333337,0.27646015351590181,0.42308951617039597,5.0309714479396E-2,1.8447793111921365,0.33027919574682274,-3.8314314148592384E-2,0.18302940944941234,0.12302201199678059,0.33027919574682274,0]
[null,-1.068831145067058E-35,0.32152034227515802,1.9733666059115963E-3,0.39510976900023542,-0.12638322093881646,17.782577020427158,11.201545531674375,0.62991688543268853,2.4013333050596817,458.33333333333337,0.27646015351590181,458.33333333333337,0.27646015351590181,0.47874040867591322,5.7109733035400116E-2,2.4013333050596817,0.34160090469493976,-4.9262794546795496E-2,0.22951789019700833,7.4521010221433648E-2,0.3416009046949397,0]
[null,-1.1457572188279594E-33,0.36142247287457469,2.3445454838367072E-3,0.4694276379027596,-0.15015517592989672,19.461921689209849,12.075560547681308,0.62047113026748457,2.9542698627983279,458.33333333333337,0.27646015351590181,397.63463384304356,0.2398475605428812,0.50083950995971604,6.0360707316859628E-2,2.9908824557713487,0.3203077294277713,-3.7125174814444779E-2,0.16406922577725305,0.16169467750980315,0.32030772942777125,0]
[null,1.222683292588862E-34,0.40821011767341625,2.3796898034895218E-3,0.47646427467268171,-0.15240597530094122,19.59635070543893,12.14025587488384,0.6195161567257691,3.3597600235234388,458.33333333333337,0.27646015351590181,216.34065104151506,0.13049360639709248,0.47076645754021057,5.4243461509412089E-2,3.5057265706422482,0.28060371324305455,-1.859858923221171E-2,4.3709242655093711E-2,0.35594993083953375,0.28060371324305455,0]
[null,-1.2996093663497633E-35,0.46343492031952305,2.3994489083901563E-3,0.48042046575727476,-0.15367143672748471,19.67009675462722,12.175283666844999,0.61897426427152014,3.8286400833063494,458.33333333333337,0.27646015351590181,44.335803816560166,2.6742726827731916E-2,0.42134174375642836,4.8176313310380844E-2,4.0783575099945191,0.22486151456318773,-2.4546906731499958E-2,8.882178270801884E-2,0.27090322916245996,0.22486151456318776,0]
[null,-1.3765354401106654E-33,0.52908775969114819,2.3625267353352903E-3,0.47302786510061384,-0.15130677567527298,19.531223437183492,12.109044744125258,0.61998393408741059,4.3401671260107975,458.33333333333337,0.27646015351590181,-113.30798989905054,-6.8345769342697663E-2,0.34290711754669134,4.1548928511208769E-2,4.6849730488693968,0.14825150726227698,-1.6454928814816326E-2,1.7909105349093228E-2,0.42551661090212539,0.14825150726227693,0]
[null,-1.1913618966160387E-35,0.60775093154630122,2.2403171511680316E-3,0.44855891927712122,-0.14347992747059454,18.686793519659489,11.839550219255107,0.63357847919704779,4.7699047910583046,458.33333333333337,0.27646015351590181,-243.43681201224064,-0.14683762564434713,0.25287051851207015,3.4300044337697837E-2,5.1932025702185536,7.4743440098927388E-2,2.2414276027718043E-2,-0.366047726259765,1.3712049119524834,7.4743440098927527E-2,0.11147812044306116]
[null,-1.2544160554364496E-35,0.70281369836511054,2.0897030912682734E-3,0.41840279611333081,-0.13383392963533169,17.00284435723724,11.306133936408067,0.6649554450338554,5.0189294086832268,458.33333333333337,0.27646015351590181,-342.47159833541008,-0.20657400141958632,0.18796013658025415,2.7666560966714129E-2,5.5019635636187143,3.5739726210757272E-2,2.8732284106818506E-2,-0.43361987230067062,1.5517281647138055,3.5739726210757272E-2,0.2316598249918132]
[null,1.3174702142568617E-36,0.81878250652390949,1.9703416821976183E-3,0.39450411523762846,-0.12618949129885931,15.095467930182128,10.596192658552637,0.70194529295553898,5.191160128990842,458.33333333333337,0.27646015351590181,-421.4366220130994,-0.25420458156864989,0.13942590796289797,2.2391531587834267E-2,5.7218248640753933,1.1305485778898283E-2,3.4437858344875595E-2,-0.49765803040712536,1.7313468987592622,1.1305485778898339E-2,0.34048419977542432]
[null,-1.1315773549813696E-7,0.9617353344904862,1.8992473313942601E-3,0.38026952119971003,-0.1216362911898852,13.246212633911034,9.7974561415515229,0.73964207070551591,5.3505273100467434,458.33333333333337,0.27646015351590181,-491.78214905211689,-0.29663600383271638,0.10065791096289725,1.8375398375750498E-2,5.9236234673953616,-8.1910300784370088E-3,4.1744168428033412E-2,-0.58274328697424338,1.9789865054147189,-8.1918157583380502E-3,0.43851496286544944]
[null,1.4435785318976815E-6,1.1400001031491622,1.8229666783694837E-3,0.36499651966744601,-0.11675093709718529,11.372154893476749,8.8296543378296413,0.77642754786029811,5.4449882556685321,458.33333333333337,0.27646015351590181,-545.57712002551648,-0.32908436586985718,7.1317330009076155E-2,1.4879373675249039E-2,6.0505327750542905,-1.8710808085298167E-2,1.2084836915843836E-2,-0.22759781740067545,0.9159640931401728,-1.8710628504349902E-2,0.52631583233344303]
[null,0,{"$f":"C913","v":1.3651895295975189},{"$f":"D913+(D932-D912)","v":1.898941369597473E-3},0.38020826117104162,-0.12161669602837473,9.9806600909232586,8.0843488827189436,0.8100014236604568,5.7227069149321066,458.33333333333337,0.27646015351590181,-636.49233978108634,-0.38392313447470833,3.8184646858986857E-2,1.2942835102521829E-2,6.3830902029227161,-4.4430637081964458E-2,null,null,null,null,0.60445052625095852]
[null,"De","hc","e0","a'","b'","N'","tN'","t","Nc","sac","Nac","sat","Nat","Mtot","u","N","Mo","a''","b''","c''",null,"x"]
[null,null,{"$f":"$C$35","v":0.12945607170440351},{"$f":"$D$35","v":3.2742931933764949E-4},{"$f":"$E$35","v":6.555828113227867E-2},{"$f":"$F$35","v":-2.097003764213403E-2},{"$f":"IF($C$2=1,0.5*($O$31*D935*$F$6/$O$30)*(1-W935^2+(E935-F935)*(F935^2*(1-W935^2)+2*F935*(1-W935)+2*LN((1-F935)/(1-F935*W935)))/(F935^3)),$F$6*F935*(LN((1-E935+E935^2)/(1+E935)^2)/(6*E935)+ATAN((2-E935)/(E935*3^0.5))/(E935*3^0.5)-LN((W935^2-E935*W935+E935^2)/(W935+E935)^2)/(6*E935)-ATAN((2*W935-E935)/(E935*3^0.5))/(E935*3^0.5)))","v":4.0789725576609177},{"$f":"IF($C$2=1,($O$31*D935*$F$6/$O$30)*(1-W935^3-(E935-F935)*(-2*F935^3*(1-W935^3)-3*F935^2*(1-W935^2)-6*F935*(1-W935)-6*LN((1-F935)/(1-F935*W935)))/(2*F935^4))/3,$F$6*F935*(LN((1+E935^3)/(E935^3+W935^3)))/3)","v":2.6990386030010254},{"$f":"$I$35","v":0.66169570028899294},{"$f":"$J$35","v":0.22178006084003529},{"$f":"$K$35","v":90.812088468865227},{"$f":"$L$35","v":5.4776561278259202E-2},{"$f":"$M$35","v":458.32747875640376},{"$f":"$N$35","v":0.27645662211829442},{"$f":"$O$35","v":0.11972660615436539},{"$f":"$P$35","v":2.3534552881082957E-2},{"$f":"$Q$35","v":1.0000000000010001E-4},{"$f":"$R$35","v":0.11972425269907729},null,null,null,null,{"$f":"IF(C935<$C$6,0,(C935-$C$6)/C935)","v":0}]
[null,{"$f":"IF(R916>$Q$29*V916,B916,IF(Q916>Q915,$U$6,-0.5)*B916)","v":4.7016331746461259E-49},{"$f":"IF(Q916>Q915,C916,(1-$T$6)*C916+$T$6*C917)","v":0.15398187908114286},{"$f":"D916+B936","v":4.5739675128514293E-4},{"$f":"IF($C$2=1,D936/($O$31*$O$30),2^(1/3)*$O$30/D936)","v":9.1580512308429632E-2},{"$f":"IF($C$2=1,-($O$31-2)*D936/$O$30,3*($O$30/D936)^2)","v":-2.9293733106253231E-2},{"$f":"IF($C$2=1,0.5*($O$31*D936*$F$6/$O$30)*(1-W936^2+(E936-F936)*(F936^2*(1-W936^2)+2*F936*(1-W936)+2*LN((1-F936)/(1-F936*W936)))/(F936^3)),$F$6*F936*(LN((1-E936+E936^2)/(1+E936)^2)/(6*E936)+ATAN((2-E936)/(E936*3^0.5))/(E936*3^0.5)-LN((W936^2-E936*W936+E936^2)/(W936+E936)^2)/(6*E936)-ATAN((2*W936-E936)/(E936*3^0.5))/(E936*3^0.5)))","v":5.5647849150413204},{"$f":"IF($C$2=1,($O$31*D936*$F$6/$O$30)*(1-W936^3-(E936-F936)*(-2*F936^3*(1-W936^3)-3*F936^2*(1-W936^2)-6*F936*(1-W936)-6*LN((1-F936)/(1-F936*W936)))/(2*F936^4))/3,$F$6*F936*(LN((1+E936^3)/(E936^3+W936^3)))/3)","v":3.670674299885849},{"$f":"H936/G936","v":0.65962554814368657},{"$f":"G936*C936*$D$6","v":0.35988793591819335},{"$f":"MAX(MIN($K$6,$Q$6*$J$6*D936*(C936-$I$6)/C936),-$K$6)","v":144.31314469897774},{"$f":"K936*$H$6","v":8.704763811892785E-2},{"$f":"MIN($O$6,$Q$6*$N$6*D936*(C$6-C936-$M$6)/C936)","v":458.33333333333337},{"$f":"M936*$L$6","v":0.27646015351590181},{"$f":"(0.5*$C$6-C936+I936*C936)*J936+(0.5*$C$6-$I$6)*L936+(0.5*$C$6-$M$6)*N936","v":0.1546441132198933},{"$f":"0.1*$Q$6*D936*$B$6^2/C936+$R$6","v":2.7639760238660788E-2},{"$f":"(J936+L936-N936)","v":0.17047542052121939},{"$f":"O936-P936*Q936","v":0.14993221347010191},{"$f":"((R936-R935)*(Q936-Q937)-(R936-R937)*(Q936-Q935))/((Q936^2-Q935^2)*(Q936-Q937)-(Q936^2-Q937^2)*(Q936-Q935))","v":-4.9833015348903414E-2},{"$f":"-(S936*(Q936^2-Q935^2)-(R936-R935))/(Q936-Q935)","v":0.18580262774929265},{"$f":"R936-S936*Q936^2-T936*Q936","v":0.1197056729346325},{"$f":"S916*Q936^2+T916*Q936+U916","v":0.14993221347010191},{"$f":"IF(C936<$C$6,0,(C936-$C$6)/C936)","v":0}]
[null,{"$f":"IF(R917>$Q$29*V917,B917,IF(Q917>Q916,$U$6,-0.5)*B917)","v":1.1245780567626821E-48},{"$f":"IF(Q917>Q916,C917,(1-$T$6)*C917+$T$6*C918)","v":0.17394964462770141},{"$f":"D917+B937","v":5.4994191131377409E-4},0.11011001244867896,-3.5220738950822887E-2,6.5777984233855404,4.3289484764128705,0.65811510140269625,0.48056639323583905,186.22781758609173,0.11232997317552497,458.33333333333337,0.27646015351590181,0.18281920576960167,{"$f":"0.1*$Q$6*D937*$B$6^2/C937+$R$6","v":2.9417386315698506E-2},0.3164362128954622,0.17351047945057924,-3.591644304165513E-2,0.17902648679560904,0.12045639681187423,0.17351047945057924,0]
[null,1.9781689190826438E-48,0.19020714713826217,6.4833572344321494E-4,0.12981053655051306,-4.1522318626953582E-2,7.6144047848790857,4.9986619624952517,0.6564744196974851,0.60829196874086922,229.42791036080226,0.13838765524184715,458.33333333333337,0.27646015351590181,0.21161045333984951,3.1716403264017916E-2,0.47021947046681456,0.19669678299193105,-3.2666223709382027E-2,0.17646968328570242,0.12094001146981198,0.19669678299193105,0]
[null,4.1915779846300523E-47,0.20976979172988638,8.317346547287057E-4,0.16653088499363783,-5.3268006216457338E-2,9.4372631560026008,6.1655068557644013,0.65331513531471375,0.83145414522861427,306.97597092325702,0.18516354337557084,458.33333333333337,0.27646015351590181,0.2609669144395047,3.6893738135018082E-2,0.7401575350882833,0.23365973616129712,-3.168201295883398E-2,0.17527841722461895,0.12128255271915558,0.23365973616129709,0]
[null,4.615215171007445E-45,0.23210975825278549,1.0081012683895029E-3,0.20184321458010143,-6.45633127417376E-2,11.058822488807907,7.1898253430757819,0.6501438421994975,1.0780814580638216,386.41552107443147,0.23308035115017711,458.33333333333337,0.27646015351590181,0.31053986444200971,4.0413044849693741E-2,1.0347016556980968,0.26872442002423014,-3.3076831574738078E-2,0.17775402386453629,0.12021434172404413,0.26872442002423014,0]
[null,6.1473998760095034E-43,0.25773794179237436,1.2225765494064118E-3,0.24478570609941303,-7.8299268719442566E-2,12.861636823717271,8.3098405789015377,0.64609510381897306,1.3922713572708783,458.33333333333337,0.27646015351590181,458.33333333333337,0.27646015351590181,0.36503088957399682,4.4137579828171451E-2,1.3922713572708783,0.3035794013999768,-4.7493487561576744E-2,0.21274285888185135,9.9445916460164763E-2,0.3035794013999768,0]
[null,-8.1303694369357079E-40,0.28728229315396503,1.5532805370088755E-3,0.31099964514025624,-9.9479030759249867E-2,15.289253107432556,9.7757723488470347,0.63938848288767902,1.8447793111921365,458.33333333333337,0.27646015351590181,458.33333333333337,0.27646015351590181,0.42308951617039597,5.0309714479396E-2,1.8447793111921365,0.33027919574682274,-3.8314314148592384E-2,0.18302940944941234,0.12302201199678059,0.33027919574682274,0]
[null,1.0688311450670581E-36,0.32152034227515802,1.9733666059115963E-3,0.39510976900023542,-0.12638322093881646,17.782577020427158,11.201545531674375,0.62991688543268853,2.4013333050596817,458.33333333333337,0.27646015351590181,458.33333333333337,0.27646015351590181,0.47874040867591322,5.7109733035400116E-2,2.4013333050596817,0.34160090469493976,-4.9262794546795496E-2,0.22951789019700833,7.4521010221433648E-2,0.3416009046949397,0]
[null,1.1457572188279595E-34,0.36142247287457469,2.3445454838367072E-3,0.4694276379027596,-0.15015517592989672,19.461921689209849,12.075560547681308,0.62047113026748457,2.9542698627983279,458.33333333333337,0.27646015351590181,397.63463384304356,0.2398475605428812,0.50083950995971604,6.0360707316859628E-2,2.9908824557713487,0.3203077294277713,-3.7125174814444779E-2,0.16406922577725305,0.16169467750980315,0.32030772942777125,0]
[null,-1.2226832925888621E-35,0.40821011767341625,2.3796898034895218E-3,0.47646427467268171,-0.15240597530094122,19.59635070543893,12.14025587488384,0.6195161567257691,3.3597600235234388,458.33333333333337,0.27646015351590181,216.34065104151506,0.13049360639709248,0.47076645754021057,5.4243461509412089E-2,3.5057265706422482,0.28060371324305455,-1.859858923221171E-2,4.3709242655093711E-2,0.35594993083953375,0.28060371324305455,0]
[null,1.2996093663497633E-36,0.46343492031952305,2.3994489083901563E-3,0.48042046575727476,-0.15367143672748471,19.67009675462722,12.175283666844999,0.61897426427152014,3.8286400833063494,458.33333333333337,0.27646015351590181,44.335803816560166,2.6742726827731916E-2,0.42134174375642836,4.8176313310380844E-2,4.0783575099945191,0.22486151456318773,-2.4546906731499958E-2,8.882178270801884E-2,0.27090322916245996,0.22486151456318776,0]
[null,1.3765354401106654E-34,0.52908775969114819,2.3625267353352903E-3,0.47302786510061384,-0.15130677567527298,19.531223437183492,12.109044744125258,0.61998393408741059,4.3401671260107975,458.33333333333337,0.27646015351590181,-113.30798989905054,-6.8345769342697663E-2,0.34290711754669134,4.1548928511208769E-2,4.6849730488693968,0.14825150726227698,-1.6454928814816326E-2,1.7909105349093228E-2,0.42551661090212539,0.14825150726227693,0]
[null,1.1913618966160387E-36,0.60775093154630122,2.2403171511680316E-3,0.44855891927712122,-0.14347992747059454,18.686793519659489,11.839550219255107,0.63357847919704779,4.7699047910583046,458.33333333333337,0.27646015351590181,-243.43681201224064,-0.14683762564434713,0.25287051851207015,3.4300044337697837E-2,5.1932025702185536,7.4743440098927388E-2,2.2414276027718043E-2,-0.366047726259765,1.3712049119524834,7.4743440098927527E-2,0.11147812044306116]
[null,1.2544160554364497E-36,0.70281369836511054,2.0897030912682734E-3,0.41840279611333081,-0.13383392963533169,17.00284435723724,11.306133936408067,0.6649554450338554,5.0189294086832268,458.33333333333337,0.27646015351590181,-342.47159833541008,-0.20657400141958632,0.18796013658025415,2.7666560966714129E-2,5.5019635636187143,3.5739726210757272E-2,2.8732284106818506E-2,-0.43361987230067062,1.5517281647138055,3.5739726210757272E-2,0.2316598249918132]
[null,-1.3174702142568618E-37,0.81878250652390949,1.9703416821976183E-3,0.39450411523762846,-0.12618949129885931,15.095467930182128,10.596192658552637,0.70194529295553898,5.191160128990842,458.33333333333337,0.27646015351590181,-421.4366220130994,-0.25420458156864989,0.13942590796289797,2.2391531587834267E-2,5.7218248640753933,1.1305485778898283E-2,3.4443776433739241E-2,-0.49772445378442726,1.7315332077240229,1.1305485778898339E-2,0.34048419977542432]
[null,-1.1315773549813696E-7,0.9617353344904862,1.8991341736587619E-3,0.38024686462561003,-0.12162904406254271,13.245804966858199,9.7971714354569794,0.73964334066295645,5.3503626415667869,458.33333333333337,0.27646015351590181,-491.75284852162503,-0.29661833016909916,0.10066492891057069,1.8374303563908616E-2,5.9234411252517871,-8.1741764677460832E-3,4.1477905888899193E-2,-0.57963876229312594,1.9699402026655224,-8.1749479704957828E-3,0.43851496286544944]
[null,1.4435785318976815E-6,1.1400001031491622,1.8244102569013813E-3,0.36528555464886459,-0.11684339032102764,11.376789332727,8.8331190338283445,0.77641580374689578,5.4472072253823294,458.33333333333337,0.27646015351590181,-546.0091539333813,-0.3293449625836587,7.1223243107881362E-2,1.4891156416349322E-2,6.0530123414818897,-1.8913110459218313E-2,1.1907587645393616E-2,-0.22549122185327627,0.90970642985754502,-1.8912467375965636E-2,0.52631583233344303]
[null,0,{"$f":"C933","v":1.3651895295975189},{"$f":"D933+(D952-D932)","v":1.9003849481293706E-3},0.3804972961524602,-0.12170914925221707,9.984146048898511,8.087084888622444,0.80999264724444231,5.7247056921300477,458.33333333333337,0.27646015351590181,-636.97620236480577,-0.38421499350927346,3.8075984949761457E-2,1.2952674268277561E-2,6.3853808391552223,-4.4631773138716968E-2,null,null,null,null,0.60445052625095852]
[null,"De","hc","e0","a'","b'","N'","tN'","t","Nc","sac","Nac","sat","Nat","Mtot","u","N","Mo","a''","b''","c''",null,"x"]
[null,null,{"$f":"$C$35","v":0.12945607170440351},{"$f":"$D$35","v":3.2742931933764949E-4},{"$f":"$E$35","v":6.555828113227867E-2},{"$f":"$F$35","v":-2.097003764213403E-2},{"$f":"IF($C$2=1,0.5*($O$31*D955*$F$6/$O$30)*(1-W955^2+(E955-F955)*(F955^2*(1-W955^2)+2*F955*(1-W955)+2*LN((1-F955)/(1-F955*W955)))/(F955^3)),$F$6*F955*(LN((1-E955+E955^2)/(1+E955)^2)/(6*E955)+ATAN((2-E955)/(E955*3^0.5))/(E955*3^0.5)-LN((W955^2-E955*W955+E955^2)/(W955+E955)^2)/(6*E955)-ATAN((2*W955-E955)/(E955*3^0.5))/(E955*3^0.5)))","v":4.0789725576609177},{"$f":"IF($C$2=1,($O$31*D955*$F$6/$O$30)*(1-W955^3-(E955-F955)*(-2*F955^3*(1-W955^3)-3*F955^2*(1-W955^2)-6*F955*(1-W955)-6*LN((1-F955)/(1-F955*W955)))/(2*F955^4))/3,$F$6*F955*(LN((1+E955^3)/(E955^3+W955^3)))/3)","v":2.6990386030010254},{"$f":"$I$35","v":0.66169570028899294},{"$f":"$J$35","v":0.22178006084003529},{"$f":"$K$35","v":90.812088468865227},{"$f":"$L$35","v":5.4776561278259202E-2},{"$f":"$M$35","v":458.32747875640376},{"$f":"$N$35","v":0.27645662211829442},{"$f":"$O$35","v":0.11972660615436539},{"$f":"$P$35","v":2.3534552881082957E-2},{"$f":"$Q$35","v":1.0000000000010001E-4},{"$f":"$R$35","v":0.11972425269907729},null,null,null,null,{"$f":"IF(C955<$C$6,0,(C955-$C$6)/C955)","v":0}]
[null,0,{"$f":"C936","v":0.15398187908114286},{"$f":"IF(R936>$Q$29*V936,D936+B956,D936-0.5*B936)","v":4.5739675128514293E-4},{"$f":"IF($C$2=1,D956/($O$31*$O$30),2^(1/3)*$O$30/D956)","v":9.1580512308429632E-2},{"$f":"IF($C$2=1,-($O$31-2)*D956/$O$30,3*($O$30/D956)^2)","v":-2.9293733106253231E-2},{"$f":"IF($C$2=1,0.5*($O$31*D956*$F$6/$O$30)*(1-W956^2+(E956-F956)*(F956^2*(1-W956^2)+2*F956*(1-W956)+2*LN((1-F956)/(1-F956*W956)))/(F956^3)),$F$6*F956*(LN((1-E956+E956^2)/(1+E956)^2)/(6*E956)+ATAN((2-E956)/(E956*3^0.5))/(E956*3^0.5)-LN((W956^2-E956*W956+E956^2)/(W956+E956)^2)/(6*E956)-ATAN((2*W956-E956)/(E956*3^0.5))/(E956*3^0.5)))","v":5.5647849150413204},{"$f":"IF($C$2=1,($O$31*D956*$F$6/$O$30)*(1-W956^3-(E956-F956)*(-2*F956^3*(1-W956^3)-3*F956^2*(1-W956^2)-6*F956*(1-W956)-6*LN((1-F956)/(1-F956*W956)))/(2*F956^4))/3,$F$6*F956*(LN((1+E956^3)/(E956^3+W956^3)))/3)","v":3.670674299885849},{"$f":"H956/G956","v":0.65962554814368657},{"$f":"G956*C956*$D$6","v":0.35988793591819335},{"$f":"MAX(MIN($K$6,$Q$6*$J$6*D956*(C956-$I$6)/C956),-$K$6)","v":144.31314469897774},{"$f":"K956*$H$6","v":8.704763811892785E-2},{"$f":"MIN($O$6,$Q$6*$N$6*D956*(C$6-C956-$M$6)/C956)","v":458.33333333333337},{"$f":"M956*$L$6","v":0.27646015351590181},{"$f":"(0.5*$C$6-C956+I956*C956)*J956+(0.5*$C$6-$I$6)*L956+(0.5*$C$6-$M$6)*N956","v":0.1546441132198933},{"$f":"0.1*$Q$6*D956*$B$6^2/C956+$R$6","v":2.7639760238660788E-2},{"$f":"(J956+L956-N956)","v":0.17047542052121939},{"$f":"O956-P956*Q956","v":0.14993221347010191},{"$f":"((R956-R955)*(Q956-Q957)-(R956-R957)*(Q956-Q955))/((Q956^2-Q955^2)*(Q956-Q957)-(Q956^2-Q957^2)*(Q956-Q955))","v":-4.9833015348903414E-2},{"$f":"-(S956*(Q956^2-Q955^2)-(R956-R955))/(Q956-Q955)","v":0.18580262774929265},{"$f":"R956-S956*Q956^2-T956*Q956","v":0.1197056729346325},{"$f":"S936*Q956^2+T936*Q956+U936","v":0.14993221347010191},{"$f":"IF(C956<$C$6,0,(C956-$C$6)/C956)","v":0}]
[null,0,0.17394964462770141,{"$f":"IF(R937>$Q$29*V937,D937+B957,D937-0.5*B937)","v":5.4994191131377409E-4},0.11011001244867896,-3.5220738950822887E-2,6.5777984233855404,4.3289484764128705,0.65811510140269625,0.48056639323583905,186.22781758609173,0.11232997317552497,458.33333333333337,0.27646015351590181,0.18281920576960167,{"$f":"0.1*$Q$6*D957*$B$6^2/C957+$R$6","v":2.9417386315698506E-2},0.3164362128954622,0.17351047945057924,-3.591644304165513E-2,0.17902648679560904,0.12045639681187423,0.17351047945057924,0]
[null,0,0.19020714713826217,6.4833572344321494E-4,0.12981053655051306,-4.1522318626953582E-2,7.6144047848790857,4.9986619624952517,0.6564744196974851,0.60829196874086922,229.42791036080226,0.13838765524184715,458.33333333333337,0.27646015351590181,0.21161045333984951,3.1716403264017916E-2,0.47021947046681456,0.19669678299193105,-3.2666223709382027E-2,0.17646968328570242,0.12094001146981198,0.19669678299193105,0]
[null,0,0.20976979172988638,8.317346547287057E-4,0.16653088499363783,-5.3268006216457338E-2,9.4372631560026008,6.1655068557644013,0.65331513531471375,0.83145414522861427,306.97597092325702,0.18516354337557084,458.33333333333337,0.27646015351590181,0.2609669144395047,3.6893738135018082E-2,0.7401575350882833,0.23365973616129712,-3.168201295883398E-2,0.17527841722461895,0.12128255271915558,0.23365973616129709,0]
[null,0,0.23210975825278549,1.0081012683895029E-3,0.20184321458010143,-6.45633127417376E-2,11.058822488807907,7.1898253430757819,0.6501438421994975,1.0780814580638216,386.41552107443147,0.23308035115017711,458.33333333333337,0.27646015351590181,0.31053986444200971,4.0413044849693741E-2,1.0347016556980968,0.26872442002423014,-3.3076831574738078E-2,0.17775402386453629,0.12021434172404413,0.26872442002423014,0]
[null,0,0.25773794179237436,1.2225765494064118E-3,0.24478570609941303,-7.8299268719442566E-2,12.861636823717271,8.3098405789015377,0.64609510381897306,1.3922713572708783,458.33333333333337,0.27646015351590181,458.33333333333337,0.27646015351590181,0.36503088957399682,4.4137579828171451E-2,1.3922713572708783,0.3035794013999768,-4.7493487561576744E-2,0.21274285888185135,9.9445916460164763E-2,0.3035794013999768,0]
[null,0,0.28728229315396503,1.5532805370088755E-3,0.31099964514025624,-9.9479030759249867E-2,15.289253107432556,9.7757723488470347,0.63938848288767902,1.8447793111921365,458.33333333333337,0.27646015351590181,458.33333333333337,0.27646015351590181,0.42308951617039597,5.0309714479396E-2,1.8447793111921365,0.33027919574682274,-3.8314314148592384E-2,0.18302940944941234,0.12302201199678059,0.33027919574682274,0]
[null,0,0.32152034227515802,1.9733666059115963E-3,0.39510976900023542,-0.12638322093881646,17.782577020427158,11.201545531674375,0.62991688543268853,2.4013333050596817,458.33333333333337,0.27646015351590181,458.33333333333337,0.27646015351590181,0.47874040867591322,5.7109733035400116E-2,2.4013333050596817,0.34160090469493976,-4.9262794546795496E-2,0.22951789019700833,7.4521010221433648E-2,0.3416009046949397,0]
[null,0,0.36142247287457469,2.3445454838367072E-3,0.4694276379027596,-0.15015517592989672,19.461921689209849,12.075560547681308,0.62047113026748457,2.9542698627983279,458.33333333333337,0.27646015351590181,397.63463384304356,0.2398475605428812,0.50083950995971604,6.0360707316859628E-2,2.9908824557713487,0.3203077294277713,-3.7125174814444779E-2,0.16406922577725305,0.16169467750980315,0.32030772942777125,0]
[null,0,0.40821011767341625,2.3796898034895218E-3,0.47646427467268171,-0.15240597530094122,19.59635070543893,12.14025587488384,0.6195161567257691,3.3597600235234388,458.33333333333337,0.27646015351590181,216.34065104151506,0.13049360639709248,0.47076645754021057,5.4243461509412089E-2,3.5057265706422482,0.28060371324305455,-1.859858923221171E-2,4.3709242655093711E-2,0.35594993083953375,0.28060371324305455,0]
[null,0,0.46343492031952305,2.3994489083901563E-3,0.48042046575727476,-0.15367143672748471,19.67009675462722,12.175283666844999,0.61897426427152014,3.8286400833063494,458.33333333333337,0.27646015351590181,44.335803816560166,2.6742726827731916E-2,0.42134174375642836,4.8176313310380844E-2,4.0783575099945191,0.22486151456318773,-2.4546906731499958E-2,8.882178270801884E-2,0.27090322916245996,0.22486151456318776,0]
[null,0,0.52908775969114819,2.3625267353352903E-3,0.47302786510061384,-0.15130677567527298,19.531223437183492,12.109044744125258,0.61998393408741059,4.3401671260107975,458.33333333333337,0.27646015351590181,-113.30798989905054,-6.8345769342697663E-2,0.34290711754669134,4.1548928511208769E-2,4.6849730488693968,0.14825150726227698,-1.6454928814816326E-2,1.7909105349093228E-2,0.42551661090212539,0.14825150726227693,0]
[null,0,0.60775093154630122,2.2403171511680316E-3,0.44855891927712122,-0.14347992747059454,18.686793519659489,11.839550219255107,0.63357847919704779,4.7699047910583046,458.33333333333337,0.27646015351590181,-243.43681201224064,-0.14683762564434713,0.25287051851207015,3.4300044337697837E-2,5.1932025702185536,7.4743440098927388E-2,{"$f":"((R968-R967)*(Q968-Q969)-(R968-R969)*(Q968-Q967))/((Q968^2-Q967^2)*(Q968-Q969)-(Q968^2-Q969^2)*(Q968-Q967))","v":2.2414276027718043E-2},-0.366047726259765,1.3712049119524834,7.4743440098927527E-2,0.11147812044306116]
[null,0,0.70281369836511054,2.0897030912682734E-3,0.41840279611333081,-0.13383392963533169,17.00284435723724,11.306133936408067,0.6649554450338554,5.0189294086832268,458.33333333333337,0.27646015351590181,-342.47159833541008,-0.20657400141958632,0.18796013658025415,2.7666560966714129E-2,5.5019635636187143,3.5739726210757272E-2,2.8732284106818506E-2,-0.43361987230067062,1.5517281647138055,3.5739726210757272E-2,0.2316598249918132]
[null,0,0.81878250652390949,1.9703416821976183E-3,0.39450411523762846,-0.12618949129885931,15.095467930182128,10.596192658552637,0.70194529295553898,5.191160128990842,458.33333333333337,0.27646015351590181,-421.4366220130994,-0.25420458156864989,0.13942590796289797,2.2391531587834267E-2,5.7218248640753933,1.1305485778898283E-2,3.4443776433739241E-2,-0.49772445378442726,1.7315332077240229,1.1305485778898339E-2,0.34048419977542432]
[null,0,0.9617353344904862,1.8991341736587619E-3,0.38024686462561003,-0.12162904406254271,13.245804966858199,9.7971714354569794,0.73964334066295645,5.3503626415667869,458.33333333333337,0.27646015351590181,-491.75284852162503,-0.29661833016909916,0.10066492891057069,1.8374303563908616E-2,5.9234411252517871,-8.1741764677460832E-3,4.1477905888899193E-2,-0.57963876229312594,1.9699402026655224,-8.1741764677460971E-3,0.43851496286544944]
[null,0,1.1400001031491622,1.8244102569013813E-3,0.36528555464886459,-0.11684339032102764,11.376789332727,8.8331190338283445,0.77641580374689578,5.4472072253823294,458.33333333333337,0.27646015351590181,-546.0091539333813,-0.3293449625836587,7.1223243107881362E-2,1.4891156416349322E-2,6.0530123414818897,-1.8913110459218313E-2,1.1907587645393616E-2,-0.22549122185327627,0.90970642985754502,-1.8913110459218396E-2,0.52631583233344303]
[null,0,1.3651895295975189,{"$f":"D953+(D972-D952)","v":1.9003849481293706E-3},0.3804972961524602,-0.12170914925221707,9.984146048898511,8.087084888622444,0.80999264724444231,5.7247056921300477,458.33333333333337,0.27646015351590181,-636.97620236480577,-0.38421499350927346,3.8075984949761457E-2,1.2952674268277561E-2,6.3853808391552223,-4.4631773138716968E-2,null,null,null,null,0.60445052625095852]

{"sheet":"Makro","index":4,"n_rows":20,"n_cols":8,"rows_kept":20,"cut":false,"hidden":false,"merged":[]}
["Indeks",1,1,1,1,1,1]
["Indeks",1,1,1,1,1,1,1]
[2,1]
["Brand, trykside",2]
["Brand, trækside",2]
["Brand, sider",2]
[]
[]
[]
[]
[]
[]
[]
[]
[]
[]
[]
[]
[]
[{"$f":"IF(E20=1,0,1000000)","v":0},1,null,null,1]